{"text_format":"3","workbook":"xlsx","n_sheets":7,"sheets":["Instruções","VENDAS","PAGAMENTOS","DESPESAS","PARAMETROS","CALC_BASE","RELATORIO_FINANCEIRO"],"not_rendered":{"charts":4,"images":6,"macros":1,"defined_names":6,"comments":2},"read":"whole","date_system":"1900"}

{"sheet":"Instruções","index":0,"n_rows":48,"n_cols":4,"rows_kept":48,"merged":[[14,2,14,3],[20,2,20,3],[28,2,28,3],[34,2,34,3],[38,2,38,3],[44,2,44,3]]}
["http://authenticator.sapphirebusinesstech.com:8080/access/v1/validate"]
["123456789",null,null,"Any use for this file other than sample using and technical analysis without authorization is stricly prohibited and protected by copyright"]
["contact@sapphirebusinesstech.com",null,null,"Qualquer uso desse arquivo sem autorização outro que uso de exemplo e análise técnica é extritamente proibida e protegida por direitos autorais."]
[{"$nulls":3},"Cualquier uso de este archivo sin autorización que no sea para fines de ejemplo o análisis técnico está estrictamente prohibido y está protegido por derechos de autor."]
[200]
[]
[{"$f":"IF(A12=\"\",0,TODAY()-A12)","v":0}]
[]
[]
[]
[]
[null,null,"📖  GUIA DE USO DA FERRAMENTA"]
[null,null,"Siga as instruções abaixo para utilizar corretamente o sistema de controle financeiro."]
[]
[null,null,"PASSO 1 — CONFIGURAR PARÂMETROS"]
[null,null,"1. Acesse a aba PARAMETROS"]
[null,null,"2. A tabela 'tb_formas_pagamento' já está pré-preenchida com as condições de pagamento. Adicione novas se necessário."]
[null,null,"3. A tabela 'tb_categorias_despesa' já está pré-preenchida. Adicione novas categorias se necessário."]
[null,null,"4. Verifique a 'Taxa Padrão (%)' na célula J8 — atualmente configurada em 11%. Altere se necessário."]
[]
[null,null,"PASSO 2 — REGISTRAR VENDAS"]
[null,null,"1. Acesse a aba VENDAS."]
[null,null,"2. Preencha as colunas: N° Pedido/Empresa, Descrição, Preço de Venda, Custo MP, Tubo, Ponteira, Usinagem, Hora/Dobra, Custos Extras, Frete."]
[null,null,"3. A coluna 'Rendimento' é calculada automaticamente (Preço Venda - todos os custos)."]
[null,null,"4. Preencha: Cond. Pagamento, Data Fechamento, Status (Entregue ou Cancelado)."]
[null,null,"5. Selecione a 'Forma_Pagamento' na lista suspensa — 'Qtd_Parcelas' será preenchido automaticamente."]
[null,null,"ATENÇÃO: Após preencher Forma_Pagamento, registre as parcelas manualmente na aba PAGAMENTOS."]
[]
[null,null,"PASSO 3 — REGISTRAR PARCELAS (ABA PAGAMENTOS)"]
[null,null,"1. Acesse a aba PAGAMENTOS."]
[null,null,"2. Para cada parcela de uma venda, adicione uma linha informando: Nr_Pedido (igual ao N° Pedido/Empresa da venda), Nr_Parcela (1, 2, 3...)."]
[null,null,"3. As colunas ID_Parcela, Qtd_Total_Parcelas, Valor_Parcela, Data_Vencimento e Status_Parcela são calculadas automaticamente."]
[null,null,"4. Quando receber o pagamento de uma parcela, marque 'Sim' na coluna 'Pago' e preencha a 'Data_Pagamento'."]
[]
[null,null,"PASSO 4 — REGISTRAR DESPESAS"]
[null,null,"1. Acesse a aba DESPESAS."]
[null,null,"2. Preencha: Data, Valor (positivo), Descrição e selecione a Categoria na lista suspensa."]
[]
[null,null,"PASSO 5 — VISUALIZAR RELATÓRIO"]
[null,null,"1. Acesse a aba RELATORIO_FINANCEIRO."]
[null,null,"2. Use os filtros de Período (data inicial/final) e Status para filtrar os indicadores de RECEITAS."]
[null,null,"3. Use os filtros de Período e Categoria para filtrar os indicadores de DESPESAS."]
[null,null,"4. Os cartões de KPI e gráficos atualizam automaticamente conforme os filtros."]
[]
[null,null,"LEGENDA DE CORES — ABA PAGAMENTOS"]
[null,null,"Verde","Parcela paga (Pago = Sim)"]
[null,null,"Vermelho/Laranja","Parcela em atraso (Data vencida e não paga)"]
[null,null,"Amarelo","Parcela a vencer em até 7 dias"]

{"sheet":"VENDAS","index":1,"n_rows":63,"n_cols":24,"rows_kept":63,"hidden":true}
[]
[]
[]
[null,null,"Faturamento Total",null,null,"Total Rendimento","A Receber","Total Vendas","Entregues","Canceladas"]
[null,null,{"$f":"SUMIF(tb_vendas[Status],\"Entregue\",tb_vendas[Preço de Venda])","v":{"v":152261.38,"d":"R$ 152,261.38"}},null,null,{"$f":"SUMIF(tb_vendas[Status],\"Entregue\",tb_vendas[Rendimento/Saldo final])","v":{"v":71394.61,"d":"R$ 71,394.61"}},{"$f":"SUMIF(tb_vendas[Status],\"Entregue\",tb_vendas[Valor_Restante])","v":{"v":45524.5,"d":"R$ 45,524.50"}},{"$f":"COUNTA(tb_vendas[N° Pedido/Empresa])","v":55},{"$f":"COUNTIF(tb_vendas[Status],\"Entregue\")","v":49},{"$f":"COUNTIF(tb_vendas[Status],\"Cancelado\")","v":1}]
[null,null,"📋  CONTROLE DE VENDAS"]
[]
[null,null,"N° Pedido/Empresa","Cliente","Descrição","Preço de Venda","Custo 1","Custo 2","Custo 3","Custo 4","Custo 5","Custo 6","Custos Extras","Imposto (%)","Rendimento/Saldo final","Data Fechamento","Status","Forma_Pagamento","Qtd_Parcelas","Status_Pagamento","Valor_Recebido","Valor_Restante","Qtd_Parcelas_Restantes","R$_Taxas"]
[null,null,"PED-001","Grupo Mota","Exemplo de Venda",{"v":1230,"d":"R$ 1,230.00"},{"v":75,"d":"R$ 75.00"},{"v":126,"d":"R$ 126.00"},{"v":85,"d":"R$ 85.00"},{"v":50,"d":"R$ 50.00"},{"v":10,"d":"R$ 10.00"},{"v":25,"d":"R$ 25.00"},0,{"v":0.11,"d":"11%"},{"$f":"F9-G9-H9-I9-J9-K9-L9-M9-(tb_vendas[[#This Row],[Preço de Venda]]*tb_vendas[[#This Row],[Imposto (%)]])","v":{"v":723.7,"d":"R$ 723.70"}},"2026-01-11","Entregue","30/45/60/75",{"$f":"IFERROR(INDEX(tb_formas_pagamento[Qtd_Parcelas],MATCH(tb_vendas[[#This Row],[Forma_Pagamento]],tb_formas_pagamento[Nome_Forma],0)),\"\")","v":4},{"$f":"IF(S9=0,\"\",IF(W9=0,\"Pago Total\",IF(AND(U9>0,COUNTIFS(tb_pagamentos[Nr_Pedido],C9,tb_pagamentos[Status_Parcela],\"Em Atraso\")>0),\"Pago Parcialmente / Em Atraso\",IF(AND(U9=0,COUNTIFS(tb_pagamentos[Nr_Pedido],C9,tb_pagamentos[Status_Parcela],\"Em Atraso\")>0),\"Em Atraso\",IF(U9>0,\"Pago Parcialmente\",\"Sem Pagamentos\")))))","v":"Pago Parcialmente / Em Atraso"},{"$f":"SUMIFS(tb_pagamentos[Valor_Parcela],tb_pagamentos[Nr_Pedido],tb_vendas[[#This Row],[N° Pedido/Empresa]],tb_pagamentos[Status_Parcela],\"Pago\")","v":{"v":307.5,"d":"R$ 307.50"}},{"$f":"MAX(0,F9-U9)","v":{"v":922.5,"d":"R$ 922.50"}},{"$f":"IFERROR(COUNTIFS(tb_pagamentos[Nr_Pedido],C9,tb_pagamentos[Status_Parcela],\"<>Pago\"),0)","v":3},{"$f":"tb_vendas[[#This Row],[Preço de Venda]]*tb_vendas[[#This Row],[Imposto (%)]]","v":{"v":135.3,"d":"R$ 135.30"}}]
[null,null,"PED-002","Tornearia Central","Venda Desc 2",{"v":860,"d":"R$ 860.00"},{"v":50,"d":"R$ 50.00"},{"v":25,"d":"R$ 25.00"},{"v":85,"d":"R$ 85.00"},{"v":120,"d":"R$ 120.00"},{"v":45,"d":"R$ 45.00"},{"v":20,"d":"R$ 20.00"},{"v":50,"d":"R$ 50.00"},{"v":0.05,"d":"5%"},{"$f":"F10-G10-H10-I10-J10-K10-L10-M10-(tb_vendas[[#This Row],[Preço de Venda]]*tb_vendas[[#This Row],[Imposto (%)]])","v":{"v":422,"d":"R$ 422.00"}},"2026-04-11",null,"21/35/49",{"$f":"IFERROR(INDEX(tb_formas_pagamento[Qtd_Parcelas],MATCH(tb_vendas[[#This Row],[Forma_Pagamento]],tb_formas_pagamento[Nome_Forma],0)),\"\")","v":3},{"$f":"IF(S10=0,\"\",IF(W10=0,\"Pago Total\",IF(AND(U10>0,COUNTIFS(tb_pagamentos[Nr_Pedido],C10,tb_pagamentos[Status_Parcela],\"Em Atraso\")>0),\"Pago Parcialmente / Em Atraso\",IF(AND(U10=0,COUNTIFS(tb_pagamentos[Nr_Pedido],C10,tb_pagamentos[Status_Parcela],\"Em Atraso\")>0),\"Em Atraso\",IF(U10>0,\"Pago Parcialmente\",\"Sem Pagamentos\")))))","v":"Pago Parcialmente / Em Atraso"},{"$f":"SUMIFS(tb_pagamentos[Valor_Parcela],tb_pagamentos[Nr_Pedido],tb_vendas[[#This Row],[N° Pedido/Empresa]],tb_pagamentos[Status_Parcela],\"Pago\")","v":{"v":286.6666666666667,"d":"R$ 286.67"}},{"v":573.3333333333333,"d":"R$ 573.33"},{"$f":"IFERROR(COUNTIFS(tb_pagamentos[Nr_Pedido],C10,tb_pagamentos[Status_Parcela],\"<>Pago\"),0)","v":2},{"$f":"tb_vendas[[#This Row],[Preço de Venda]]*tb_vendas[[#This Row],[Imposto (%)]]","v":{"v":43,"d":"R$ 43.00"}}]
[null,null,"PED-003","Construções Silva","Tubos retangulares cortados",{"v":6406.56,"d":"R$ 6,406.56"},{"v":381.78,"d":"R$ 381.78"},{"v":354.6,"d":"R$ 354.60"},{"v":180.66,"d":"R$ 180.66"},{"v":602.64,"d":"R$ 602.64"},{"v":238.76,"d":"R$ 238.76"},{"v":147.62,"d":"R$ 147.62"},0,{"v":0.03,"d":"3%"},{"v":4308.3,"d":"R$ 4,308.30"},"2025-11-28","Entregue","28/42",2,"Pago",{"v":6406.56,"d":"R$ 6,406.56"},0,0,{"v":192.2,"d":"R$ 192.20"}]
[null,null,"PED-004","Metalúrgica Sousa","Barras com ponteira",{"v":1847.25,"d":"R$ 1,847.25"},{"v":122.08,"d":"R$ 122.08"},{"v":232.65,"d":"R$ 232.65"},{"v":131.72,"d":"R$ 131.72"},{"v":78.57,"d":"R$ 78.57"},{"v":89.1,"d":"R$ 89.10"},{"v":179.17,"d":"R$ 179.17"},0,{"v":0.06,"d":"6%"},{"v":905.91,"d":"R$ 905.91"},"2026-04-27","Entregue","A VISTA",1,"Pago",{"v":1847.25,"d":"R$ 1,847.25"},0,0,{"v":110.84,"d":"R$ 110.84"}]
[null,null,"PED-005","Ferragens Norte","Peças usinadas em aço",{"v":3921.17,"d":"R$ 3,921.17"},{"v":271.31,"d":"R$ 271.31"},{"v":415.84,"d":"R$ 415.84"},{"v":313.69,"d":"R$ 313.69"},{"v":251.17,"d":"R$ 251.17"},{"v":196.06,"d":"R$ 196.06"},{"v":130.25,"d":"R$ 130.25"},0,{"v":0.12,"d":"12%"},{"v":2029.32,"d":"R$ 2,029.32"},"2026-11-13","Em Produção","28/42/56",3,"A vencer",0,{"v":3921.17,"d":"R$ 3,921.17"},3,{"v":470.54,"d":"R$ 470.54"}]
[null,null,"PED-006","Indústria Beta Ltda","Lote de perfis dobrados",{"v":7203.44,"d":"R$ 7,203.44"},{"v":607.22,"d":"R$ 607.22"},{"v":847.3,"d":"R$ 847.30"},{"v":324.15,"d":"R$ 324.15"},{"v":676.71,"d":"R$ 676.71"},{"v":292.98,"d":"R$ 292.98"},{"v":109.27,"d":"R$ 109.27"},{"v":80,"d":"R$ 80.00"},{"v":0.11,"d":"11%"},{"v":3473.18,"d":"R$ 3,473.18"},"2024-08-17","Entregue","30/45/60/75",4,"Pago",{"v":7203.44,"d":"R$ 7,203.44"},0,0,{"v":792.38,"d":"R$ 792.38"}]
[null,null,"PED-007","Grupo Mota","Peças torneadas sob medida",{"v":512.88,"d":"R$ 512.88"},{"v":40.31,"d":"R$ 40.31"},{"v":72.84,"d":"R$ 72.84"},{"v":51.29,"d":"R$ 51.29"},{"v":30.77,"d":"R$ 30.77"},{"v":26.36,"d":"R$ 26.36"},{"v":67,"d":"R$ 67.00"},0,{"v":0.05,"d":"5%"},{"v":199.39,"d":"R$ 199.39"},"2025-01-15","Entregue","14/28",2,"Pago",{"v":512.88,"d":"R$ 512.88"},0,0,{"v":25.64,"d":"R$ 25.64"}]
[null,null,"PED-008","Usinagem Rápida","Estrutura metálica dobrada",{"v":4850,"d":"R$ 4,850.00"},{"v":306.72,"d":"R$ 306.72"},{"v":538.35,"d":"R$ 538.35"},{"v":242.5,"d":"R$ 242.50"},{"v":485,"d":"R$ 485.00"},{"v":194,"d":"R$ 194.00"},{"v":58.12,"d":"R$ 58.12"},{"v":150,"d":"R$ 150.00"},{"v":0.1,"d":"10%"},{"v":2125.31,"d":"R$ 2,125.31"},"2025-06-12","Entregue","28/56/84",3,"Em Atraso",0,{"v":4850,"d":"R$ 4,850.00"},3,{"v":485,"d":"R$ 485.00"}]
[null,null,"PED-009","Metalmax Ind.","Conjunto de tubos e flanges",{"v":2100.5,"d":"R$ 2,100.50"},{"v":147.04,"d":"R$ 147.04"},{"v":273.07,"d":"R$ 273.07"},{"v":168.04,"d":"R$ 168.04"},{"v":147.04,"d":"R$ 147.04"},{"v":84.02,"d":"R$ 84.02"},{"v":45,"d":"R$ 45.00"},{"v":50,"d":"R$ 50.00"},{"v":0.08,"d":"8%"},{"v":1060.29,"d":"R$ 1,060.29"},"2025-02-12","Entregue","15/30/45",3,"Pago Parcialmente / Em Atraso",{"v":700.17,"d":"R$ 700.17"},{"v":1400.33,"d":"R$ 1,400.33"},2,{"v":168.04,"d":"R$ 168.04"}]
[null,null,"PED-010","Tornearia Central","Tubos com usinagem especial",{"v":950,"d":"R$ 950.00"},{"v":76,"d":"R$ 76.00"},{"v":123.5,"d":"R$ 123.50"},{"v":57,"d":"R$ 57.00"},{"v":95,"d":"R$ 95.00"},{"v":47.5,"d":"R$ 47.50"},{"v":22,"d":"R$ 22.00"},0,{"v":0.04,"d":"4%"},{"v":491.5,"d":"R$ 491.50"},"2025-04-21","Entregue","A VISTA",1,"Pago",{"v":950,"d":"R$ 950.00"},0,0,{"v":38,"d":"R$ 38.00"}]
[null,null,"PED-011","Fábrica ABC","Kit de conexões metálicas",{"v":3350.75,"d":"R$ 3,350.75"},{"v":234.55,"d":"R$ 234.55"},{"v":435.6,"d":"R$ 435.60"},{"v":268.06,"d":"R$ 268.06"},{"v":301.57,"d":"R$ 301.57"},{"v":167.54,"d":"R$ 167.54"},{"v":88,"d":"R$ 88.00"},0,{"v":0.06,"d":"6%"},{"v":1655.43,"d":"R$ 1,655.43"},"2025-07-29","Entregue","30/60",2,"Pago",{"v":3350.75,"d":"R$ 3,350.75"},0,0,{"v":201.05,"d":"R$ 201.05"}]
[null,null,"PED-012","Ferragens Norte","Chapas cortadas e dobradas",{"v":1560,"d":"R$ 1,560.00"},{"v":109.2,"d":"R$ 109.20"},{"v":202.8,"d":"R$ 202.80"},{"v":109.2,"d":"R$ 109.20"},{"v":140.4,"d":"R$ 140.40"},{"v":62.4,"d":"R$ 62.40"},{"v":30,"d":"R$ 30.00"},{"v":80,"d":"R$ 80.00"},{"v":0.05,"d":"5%"},{"v":749.2,"d":"R$ 749.20"},"2025-10-15","Entregue","28 DIAS",1,"Pago",{"v":1560,"d":"R$ 1,560.00"},0,0,{"v":78,"d":"R$ 78.00"}]
[null,null,"PED-013","AçoTech","Estrutura para galpão",{"v":8200,"d":"R$ 8,200.00"},{"v":770.8,"d":"R$ 770.80"},{"v":902,"d":"R$ 902.00"},{"v":369,"d":"R$ 369.00"},{"v":738,"d":"R$ 738.00"},{"v":328,"d":"R$ 328.00"},{"v":200,"d":"R$ 200.00"},{"v":200,"d":"R$ 200.00"},{"v":0.12,"d":"12%"},{"v":3484.2,"d":"R$ 3,484.20"},"2024-11-04","Entregue","28/42/56/70",4,"Pago Parcialmente / Em Atraso",{"v":2050,"d":"R$ 2,050.00"},{"v":6150,"d":"R$ 6,150.00"},3,{"v":984,"d":"R$ 984.00"}]
[null,null,"PED-014","Hidráulica Total","Peças de reposição industrial",{"v":620,"d":"R$ 620.00"},{"v":43.4,"d":"R$ 43.40"},{"v":80.6,"d":"R$ 80.60"},{"v":43.4,"d":"R$ 43.40"},{"v":55.8,"d":"R$ 55.80"},{"v":24.8,"d":"R$ 24.80"},0,0,{"v":0.04,"d":"4%"},{"v":334,"d":"R$ 334.00"},"2025-12-29","Entregue","A VISTA",1,"Pago",{"v":620,"d":"R$ 620.00"},0,0,{"v":24.8,"d":"R$ 24.80"}]
[null,null,"PED-015","CNC Express","Tubos galvanizados com ponteira",{"v":2750,"d":"R$ 2,750.00"},{"v":192.5,"d":"R$ 192.50"},{"v":330,"d":"R$ 330.00"},{"v":247.5,"d":"R$ 247.50"},{"v":247.5,"d":"R$ 247.50"},{"v":110,"d":"R$ 110.00"},{"v":50,"d":"R$ 50.00"},0,{"v":0.08,"d":"8%"},{"v":1322.5,"d":"R$ 1,322.50"},"2026-03-19","Entregue","21/35/49",3,"Pago",{"v":2750,"d":"R$ 2,750.00"},0,0,{"v":220,"d":"R$ 220.00"}]
[null,null,"PED-016","Construções Silva","Barras chatas cortadas",{"v":440,"d":"R$ 440.00"},{"v":30.8,"d":"R$ 30.80"},{"v":57.2,"d":"R$ 57.20"},{"v":35.2,"d":"R$ 35.20"},{"v":35.2,"d":"R$ 35.20"},{"v":17.6,"d":"R$ 17.60"},{"v":15,"d":"R$ 15.00"},0,{"v":0.03,"d":"3%"},{"v":231,"d":"R$ 231.00"},"2025-08-21","Entregue","14/28",2,"Pago",{"v":440,"d":"R$ 440.00"},0,0,{"v":13.2,"d":"R$ 13.20"}]
[null,null,"PED-017","Peças & Cia","Suportes metálicos usinados",{"v":1890,"d":"R$ 1,890.00"},{"v":132.3,"d":"R$ 132.30"},{"v":245.7,"d":"R$ 245.70"},{"v":151.2,"d":"R$ 151.20"},{"v":189,"d":"R$ 189.00"},{"v":75.6,"d":"R$ 75.60"},{"v":40,"d":"R$ 40.00"},{"v":50,"d":"R$ 50.00"},{"v":0.06,"d":"6%"},{"v":862.2,"d":"R$ 862.20"},"2025-11-19","Entregue","30/45/60/75",4,"Em Atraso",0,{"v":1890,"d":"R$ 1,890.00"},4,{"v":113.4,"d":"R$ 113.40"}]
[null,null,"PED-018","Bobinas SA","Conjunto de perfis U",{"v":5600,"d":"R$ 5,600.00"},{"v":392,"d":"R$ 392.00"},{"v":616,"d":"R$ 616.00"},{"v":280,"d":"R$ 280.00"},{"v":560,"d":"R$ 560.00"},{"v":224,"d":"R$ 224.00"},{"v":120,"d":"R$ 120.00"},0,{"v":0.1,"d":"10%"},{"v":2688,"d":"R$ 2,688.00"},"2025-03-14","Entregue","28/42/56",3,"Pago",{"v":5600,"d":"R$ 5,600.00"},0,0,{"v":560,"d":"R$ 560.00"}]
[null,null,"PED-019","Estruturas Fortes","Peças para automação",{"v":3100,"d":"R$ 3,100.00"},{"v":217,"d":"R$ 217.00"},{"v":403,"d":"R$ 403.00"},{"v":248,"d":"R$ 248.00"},{"v":279,"d":"R$ 279.00"},{"v":124,"d":"R$ 124.00"},{"v":60,"d":"R$ 60.00"},0,{"v":0.06,"d":"6%"},{"v":1459,"d":"R$ 1,459.00"},"2026-06-27","Em Produção","28/56",2,"A vencer",0,{"v":3100,"d":"R$ 3,100.00"},2,{"v":186,"d":"R$ 186.00"}]
[null,null,"PED-020","Maquinados Alfa","Tubos quadrados furados",{"v":780,"d":"R$ 780.00"},{"v":54.6,"d":"R$ 54.60"},{"v":101.4,"d":"R$ 101.40"},{"v":62.4,"d":"R$ 62.40"},{"v":70.2,"d":"R$ 70.20"},{"v":31.2,"d":"R$ 31.20"},0,{"v":30,"d":"R$ 30.00"},{"v":0.04,"d":"4%"},{"v":391.2,"d":"R$ 391.20"},"2024-12-14","Cancelado","15/30/45",3,"Cancelado",0,0,0,{"v":31.2,"d":"R$ 31.20"}]
[null,null,"PED-021","Industrial Leste","Estrutura para estante",{"v":2340,"d":"R$ 2,340.00"},{"v":163.8,"d":"R$ 163.80"},{"v":304.2,"d":"R$ 304.20"},{"v":187.2,"d":"R$ 187.20"},{"v":210.6,"d":"R$ 210.60"},{"v":93.6,"d":"R$ 93.60"},{"v":80,"d":"R$ 80.00"},0,{"v":0.08,"d":"8%"},{"v":1068.6,"d":"R$ 1,068.60"},"2025-05-23","Entregue","28/42",2,"Pago Parcialmente / Em Atraso",{"v":1170,"d":"R$ 1,170.00"},{"v":1170,"d":"R$ 1,170.00"},1,{"v":187.2,"d":"R$ 187.20"}]
[null,null,"PED-022","Ferramentaria Rex","Componentes de fixação",{"v":1100,"d":"R$ 1,100.00"},{"v":77,"d":"R$ 77.00"},{"v":143,"d":"R$ 143.00"},{"v":88,"d":"R$ 88.00"},{"v":99,"d":"R$ 99.00"},{"v":44,"d":"R$ 44.00"},{"v":20,"d":"R$ 20.00"},0,{"v":0.05,"d":"5%"},{"v":545,"d":"R$ 545.00"},"2026-02-27","Entregue","A VISTA",1,"Pago",{"v":1100,"d":"R$ 1,100.00"},0,0,{"v":55,"d":"R$ 55.00"}]
[null,null,"PED-023","Soldagem Plus","Peças para manutenção industrial",{"v":4200,"d":"R$ 4,200.00"},{"v":336,"d":"R$ 336.00"},{"v":546,"d":"R$ 546.00"},{"v":336,"d":"R$ 336.00"},{"v":420,"d":"R$ 420.00"},{"v":168,"d":"R$ 168.00"},{"v":100,"d":"R$ 100.00"},{"v":80,"d":"R$ 80.00"},{"v":0.11,"d":"11%"},{"v":1886,"d":"R$ 1,886.00"},"2025-07-12","Entregue","30/60",2,"Pago",{"v":4200,"d":"R$ 4,200.00"},0,0,{"v":462,"d":"R$ 462.00"}]
[null,null,"PED-024","Corte & Dobra","Perfis L dobrados",{"v":980,"d":"R$ 980.00"},{"v":68.6,"d":"R$ 68.60"},{"v":127.4,"d":"R$ 127.40"},{"v":78.4,"d":"R$ 78.40"},{"v":88.2,"d":"R$ 88.20"},{"v":39.2,"d":"R$ 39.20"},0,0,{"v":0.04,"d":"4%"},{"v":541.2,"d":"R$ 541.20"},"2026-05-08","Entregue","28 DIAS",1,"Pago",{"v":980,"d":"R$ 980.00"},0,0,{"v":39.2,"d":"R$ 39.20"}]
[null,null,"PED-025","AutoPeças Lima","Tubos redondos com rosca",{"v":3600,"d":"R$ 3,600.00"},{"v":252,"d":"R$ 252.00"},{"v":468,"d":"R$ 468.00"},{"v":288,"d":"R$ 288.00"},{"v":324,"d":"R$ 324.00"},{"v":144,"d":"R$ 144.00"},{"v":70,"d":"R$ 70.00"},0,{"v":0.06,"d":"6%"},{"v":1690,"d":"R$ 1,690.00"},"2024-09-25","Entregue","28/42/56/70",4,"Pago",{"v":3600,"d":"R$ 3,600.00"},0,0,{"v":216,"d":"R$ 216.00"}]
[null,null,"PED-026","Metaforma","Chapa dobrada em canaleta",{"v":2200,"d":"R$ 2,200.00"},{"v":176,"d":"R$ 176.00"},{"v":286,"d":"R$ 286.00"},{"v":176,"d":"R$ 176.00"},{"v":198,"d":"R$ 198.00"},{"v":88,"d":"R$ 88.00"},{"v":50,"d":"R$ 50.00"},{"v":50,"d":"R$ 50.00"},{"v":0.08,"d":"8%"},{"v":990,"d":"R$ 990.00"},"2025-10-20","Entregue","21/35/49",3,"Pago Parcialmente / Em Atraso",{"v":733.33,"d":"R$ 733.33"},{"v":1466.67,"d":"R$ 1,466.67"},2,{"v":176,"d":"R$ 176.00"}]
[null,null,"PED-027","Distribuidora Ouro","Kit suporte para tubulação",{"v":650,"d":"R$ 650.00"},{"v":45.5,"d":"R$ 45.50"},{"v":84.5,"d":"R$ 84.50"},{"v":52,"d":"R$ 52.00"},{"v":58.5,"d":"R$ 58.50"},{"v":26,"d":"R$ 26.00"},0,0,{"v":0.03,"d":"3%"},{"v":357.5,"d":"R$ 357.50"},"2026-01-28","Entregue","A VISTA",1,"Pago",{"v":650,"d":"R$ 650.00"},0,0,{"v":19.5,"d":"R$ 19.50"}]
[null,null,"PED-028","Chapas & Dobras","Tubos retangulares cortados",{"v":5100,"d":"R$ 5,100.00"},{"v":357,"d":"R$ 357.00"},{"v":612,"d":"R$ 612.00"},{"v":408,"d":"R$ 408.00"},{"v":459,"d":"R$ 459.00"},{"v":204,"d":"R$ 204.00"},{"v":150,"d":"R$ 150.00"},0,{"v":0.1,"d":"10%"},{"v":2298,"d":"R$ 2,298.00"},"2025-02-12","Entregue","30/45/60/75",4,"Pago",{"v":5100,"d":"R$ 5,100.00"},0,0,{"v":510,"d":"R$ 510.00"}]
[null,null,"PED-029","Rolamentos OK","Peças usinadas em aço",{"v":1450,"d":"R$ 1,450.00"},{"v":101.5,"d":"R$ 101.50"},{"v":188.5,"d":"R$ 188.50"},{"v":116,"d":"R$ 116.00"},{"v":130.5,"d":"R$ 130.50"},{"v":58,"d":"R$ 58.00"},{"v":30,"d":"R$ 30.00"},0,{"v":0.05,"d":"5%"},{"v":738,"d":"R$ 738.00"},"2025-08-01","Entregue","28/42",2,"Em Atraso",0,{"v":1450,"d":"R$ 1,450.00"},2,{"v":72.5,"d":"R$ 72.50"}]
[null,null,"PED-030","Mecânica Precisa","Conjunto de tubos e flanges",{"v":7800,"d":"R$ 7,800.00"},{"v":624,"d":"R$ 624.00"},{"v":936,"d":"R$ 936.00"},{"v":546,"d":"R$ 546.00"},{"v":702,"d":"R$ 702.00"},{"v":312,"d":"R$ 312.00"},{"v":200,"d":"R$ 200.00"},{"v":150,"d":"R$ 150.00"},{"v":0.12,"d":"12%"},{"v":3238,"d":"R$ 3,238.00"},"2024-11-24","Entregue","28/42/56",3,"Pago",{"v":7800,"d":"R$ 7,800.00"},0,0,{"v":936,"d":"R$ 936.00"}]
[null,null,"PED-031","Perfis & Tubos","Estrutura metálica dobrada",{"v":3250,"d":"R$ 3,250.00"},{"v":227.5,"d":"R$ 227.50"},{"v":422.5,"d":"R$ 422.50"},{"v":260,"d":"R$ 260.00"},{"v":292.5,"d":"R$ 292.50"},{"v":130,"d":"R$ 130.00"},{"v":80,"d":"R$ 80.00"},0,{"v":0.06,"d":"6%"},{"v":1531,"d":"R$ 1,531.00"},"2025-12-19","Entregue","15/30/45",3,"Pago Parcialmente",{"v":975,"d":"R$ 975.00"},{"v":2275,"d":"R$ 2,275.00"},2,{"v":195,"d":"R$ 195.00"}]
[null,null,"PED-032","Indústria Verde","Lote de perfis dobrados",{"v":900,"d":"R$ 900.00"},{"v":63,"d":"R$ 63.00"},{"v":117,"d":"R$ 117.00"},{"v":72,"d":"R$ 72.00"},{"v":81,"d":"R$ 81.00"},{"v":36,"d":"R$ 36.00"},0,0,{"v":0.04,"d":"4%"},{"v":486,"d":"R$ 486.00"},"2025-04-03","Entregue","A VISTA",1,"Pago",{"v":900,"d":"R$ 900.00"},0,0,{"v":36,"d":"R$ 36.00"}]
[null,null,"PED-033","Montagem Pro","Barras com ponteira",{"v":4500,"d":"R$ 4,500.00"},{"v":360,"d":"R$ 360.00"},{"v":585,"d":"R$ 585.00"},{"v":360,"d":"R$ 360.00"},{"v":405,"d":"R$ 405.00"},{"v":180,"d":"R$ 180.00"},{"v":100,"d":"R$ 100.00"},{"v":80,"d":"R$ 80.00"},{"v":0.11,"d":"11%"},{"v":2026,"d":"R$ 2,026.00"},"2025-08-31","Entregue","30/60",2,"Pago Parcialmente / Em Atraso",{"v":2250,"d":"R$ 2,250.00"},{"v":2250,"d":"R$ 2,250.00"},1,{"v":495,"d":"R$ 495.00"}]
[null,null,"PED-034","Metalúrgica Sousa","Peças torneadas sob medida",{"v":2050,"d":"R$ 2,050.00"},{"v":143.5,"d":"R$ 143.50"},{"v":266.5,"d":"R$ 266.50"},{"v":164,"d":"R$ 164.00"},{"v":184.5,"d":"R$ 184.50"},{"v":82,"d":"R$ 82.00"},{"v":45,"d":"R$ 45.00"},0,{"v":0.05,"d":"5%"},{"v":1041,"d":"R$ 1,041.00"},"2026-02-17","Entregue","28 DIAS",1,"Em Atraso",0,{"v":2050,"d":"R$ 2,050.00"},1,{"v":102.5,"d":"R$ 102.50"}]
[null,null,"PED-035","Tornearia Central","Kit de conexões metálicas",{"v":6700,"d":"R$ 6,700.00"},{"v":536,"d":"R$ 536.00"},{"v":804,"d":"R$ 804.00"},{"v":536,"d":"R$ 536.00"},{"v":603,"d":"R$ 603.00"},{"v":268,"d":"R$ 268.00"},{"v":180,"d":"R$ 180.00"},0,{"v":0.1,"d":"10%"},{"v":2973,"d":"R$ 2,973.00"},"2025-01-23","Entregue","28/42/56/70",4,"Pago",{"v":6700,"d":"R$ 6,700.00"},0,0,{"v":670,"d":"R$ 670.00"}]
[null,null,"PED-036","Grupo Mota","Chapas cortadas e dobradas",{"v":1350,"d":"R$ 1,350.00"},{"v":94.5,"d":"R$ 94.50"},{"v":175.5,"d":"R$ 175.50"},{"v":108,"d":"R$ 108.00"},{"v":121.5,"d":"R$ 121.50"},{"v":54,"d":"R$ 54.00"},0,{"v":50,"d":"R$ 50.00"},{"v":0.06,"d":"6%"},{"v":651,"d":"R$ 651.00"},"2025-11-24","Entregue","14/28",2,"Pago",{"v":1350,"d":"R$ 1,350.00"},0,0,{"v":81,"d":"R$ 81.00"}]
[null,null,"PED-037","Fábrica ABC","Suportes metálicos usinados",{"v":3800,"d":"R$ 3,800.00"},{"v":304,"d":"R$ 304.00"},{"v":494,"d":"R$ 494.00"},{"v":304,"d":"R$ 304.00"},{"v":342,"d":"R$ 342.00"},{"v":152,"d":"R$ 152.00"},{"v":90,"d":"R$ 90.00"},0,{"v":0.08,"d":"8%"},{"v":1762,"d":"R$ 1,762.00"},"2026-05-18","Aguardando Retirada","21/35/49",3,"A vencer",0,{"v":3800,"d":"R$ 3,800.00"},3,{"v":304,"d":"R$ 304.00"}]
[null,null,"PED-038","Usinagem Rápida","Tubos com usinagem especial",{"v":560,"d":"R$ 560.00"},{"v":39.2,"d":"R$ 39.20"},{"v":72.8,"d":"R$ 72.80"},{"v":44.8,"d":"R$ 44.80"},{"v":50.4,"d":"R$ 50.40"},{"v":22.4,"d":"R$ 22.40"},0,0,{"v":0.03,"d":"3%"},{"v":297.4,"d":"R$ 297.40"},"2024-10-15","Entregue","A VISTA",1,"Pago",{"v":560,"d":"R$ 560.00"},0,0,{"v":16.8,"d":"R$ 16.80"}]
[null,null,"PED-039","Estruturas Fortes","Estrutura para galpão",{"v":9500,"d":"R$ 9,500.00"},{"v":760,"d":"R$ 760.00"},{"v":1140,"d":"R$ 1,140.00"},{"v":760,"d":"R$ 760.00"},{"v":855,"d":"R$ 855.00"},{"v":380,"d":"R$ 380.00"},{"v":250,"d":"R$ 250.00"},{"v":200,"d":"R$ 200.00"},{"v":0.12,"d":"12%"},{"v":4155,"d":"R$ 4,155.00"},"2025-05-03","Entregue","30/45/60/75",4,"Pago Parcialmente / Em Atraso",{"v":2375,"d":"R$ 2,375.00"},{"v":7125,"d":"R$ 7,125.00"},3,{"v":1140,"d":"R$ 1,140.00"}]
[null,null,"PED-040","AçoTech","Peças de reposição industrial",{"v":730,"d":"R$ 730.00"},{"v":51.1,"d":"R$ 51.10"},{"v":94.9,"d":"R$ 94.90"},{"v":58.4,"d":"R$ 58.40"},{"v":65.7,"d":"R$ 65.70"},{"v":29.2,"d":"R$ 29.20"},0,0,{"v":0.04,"d":"4%"},{"v":394.7,"d":"R$ 394.70"},"2025-07-02","Entregue","28/42",2,"Pago",{"v":730,"d":"R$ 730.00"},0,0,{"v":29.2,"d":"R$ 29.20"}]
[null,null,"PED-041","Hidráulica Total","Tubos galvanizados com ponteira",{"v":2900,"d":"R$ 2,900.00"},{"v":203,"d":"R$ 203.00"},{"v":377,"d":"R$ 377.00"},{"v":232,"d":"R$ 232.00"},{"v":261,"d":"R$ 261.00"},{"v":116,"d":"R$ 116.00"},{"v":60,"d":"R$ 60.00"},0,{"v":0.06,"d":"6%"},{"v":1356,"d":"R$ 1,356.00"},"2026-07-27","Em Produção","28/56/84",3,"A vencer",0,{"v":2900,"d":"R$ 2,900.00"},3,{"v":174,"d":"R$ 174.00"}]
[null,null,"PED-042","CNC Express","Barras chatas cortadas",{"v":4100,"d":"R$ 4,100.00"},{"v":287,"d":"R$ 287.00"},{"v":533,"d":"R$ 533.00"},{"v":328,"d":"R$ 328.00"},{"v":369,"d":"R$ 369.00"},{"v":164,"d":"R$ 164.00"},{"v":100,"d":"R$ 100.00"},0,{"v":0.1,"d":"10%"},{"v":1908,"d":"R$ 1,908.00"},"2025-09-10","Entregue","28/42/56",3,"Pago",{"v":4100,"d":"R$ 4,100.00"},0,0,{"v":410,"d":"R$ 410.00"}]
[null,null,"PED-043","Peças & Cia","Conjunto de perfis U",{"v":1750,"d":"R$ 1,750.00"},{"v":122.5,"d":"R$ 122.50"},{"v":227.5,"d":"R$ 227.50"},{"v":140,"d":"R$ 140.00"},{"v":157.5,"d":"R$ 157.50"},{"v":70,"d":"R$ 70.00"},{"v":30,"d":"R$ 30.00"},0,{"v":0.05,"d":"5%"},{"v":897.5,"d":"R$ 897.50"},"2026-01-08","Entregue","A VISTA",1,"Pago",{"v":1750,"d":"R$ 1,750.00"},0,0,{"v":87.5,"d":"R$ 87.50"}]
[null,null,"PED-044","Chapas & Dobras","Peças para automação",{"v":6000,"d":"R$ 6,000.00"},{"v":480,"d":"R$ 480.00"},{"v":780,"d":"R$ 780.00"},{"v":480,"d":"R$ 480.00"},{"v":540,"d":"R$ 540.00"},{"v":240,"d":"R$ 240.00"},{"v":150,"d":"R$ 150.00"},0,{"v":0.11,"d":"11%"},{"v":2538,"d":"R$ 2,538.00"},"2025-07-22","Entregue","30/60",2,"Pago",{"v":6000,"d":"R$ 6,000.00"},0,0,{"v":660,"d":"R$ 660.00"}]
[null,null,"PED-045","Distribuidora Ouro","Tubos quadrados furados",{"v":830,"d":"R$ 830.00"},{"v":58.1,"d":"R$ 58.10"},{"v":107.9,"d":"R$ 107.90"},{"v":66.4,"d":"R$ 66.40"},{"v":74.7,"d":"R$ 74.70"},{"v":33.2,"d":"R$ 33.20"},0,{"v":30,"d":"R$ 30.00"},{"v":0.04,"d":"4%"},{"v":418.7,"d":"R$ 418.70"},"2025-10-30","Entregue","28 DIAS",1,"Pago",{"v":830,"d":"R$ 830.00"},0,0,{"v":33.2,"d":"R$ 33.20"}]
[null,null,"PED-046","Ferramentaria Rex","Estrutura para estante",{"v":3500,"d":"R$ 3,500.00"},{"v":280,"d":"R$ 280.00"},{"v":455,"d":"R$ 455.00"},{"v":280,"d":"R$ 280.00"},{"v":315,"d":"R$ 315.00"},{"v":140,"d":"R$ 140.00"},{"v":80,"d":"R$ 80.00"},{"v":80,"d":"R$ 80.00"},{"v":0.08,"d":"8%"},{"v":1590,"d":"R$ 1,590.00"},"2025-03-04","Entregue","15/30/45",3,"Pago",{"v":3500,"d":"R$ 3,500.00"},0,0,{"v":280,"d":"R$ 280.00"}]
[null,null,"PED-047","Corte & Dobra","Componentes de fixação",{"v":1200,"d":"R$ 1,200.00"},{"v":84,"d":"R$ 84.00"},{"v":156,"d":"R$ 156.00"},{"v":96,"d":"R$ 96.00"},{"v":108,"d":"R$ 108.00"},{"v":48,"d":"R$ 48.00"},0,0,{"v":0.05,"d":"5%"},{"v":620,"d":"R$ 620.00"},"2026-03-29","Entregue","14/28",2,"Em Atraso",0,{"v":1200,"d":"R$ 1,200.00"},2,{"v":60,"d":"R$ 60.00"}]
[null,null,"PED-048","AutoPeças Lima","Peças para manutenção industrial",{"v":5400,"d":"R$ 5,400.00"},{"v":432,"d":"R$ 432.00"},{"v":702,"d":"R$ 702.00"},{"v":432,"d":"R$ 432.00"},{"v":486,"d":"R$ 486.00"},{"v":216,"d":"R$ 216.00"},{"v":130,"d":"R$ 130.00"},0,{"v":0.1,"d":"10%"},{"v":2218,"d":"R$ 2,218.00"},"2025-06-12","Entregue","28/42/56/70",4,"Pago Parcialmente / Em Atraso",{"v":1350,"d":"R$ 1,350.00"},{"v":4050,"d":"R$ 4,050.00"},3,{"v":540,"d":"R$ 540.00"}]
[null,null,"PED-049","Metaforma","Perfis L dobrados",{"v":2600,"d":"R$ 2,600.00"},{"v":182,"d":"R$ 182.00"},{"v":338,"d":"R$ 338.00"},{"v":208,"d":"R$ 208.00"},{"v":234,"d":"R$ 234.00"},{"v":104,"d":"R$ 104.00"},{"v":50,"d":"R$ 50.00"},0,{"v":0.06,"d":"6%"},{"v":1218,"d":"R$ 1,218.00"},"2026-02-02","Entregue","30/45/60/75",4,"Pago Parcialmente",{"v":650,"d":"R$ 650.00"},{"v":1950,"d":"R$ 1,950.00"},3,{"v":156,"d":"R$ 156.00"}]
[null,null,"PED-050","Soldagem Plus","Tubos redondos com rosca",{"v":990,"d":"R$ 990.00"},{"v":69.3,"d":"R$ 69.30"},{"v":128.7,"d":"R$ 128.70"},{"v":79.2,"d":"R$ 79.20"},{"v":89.1,"d":"R$ 89.10"},{"v":39.6,"d":"R$ 39.60"},0,0,{"v":0.04,"d":"4%"},{"v":546.1,"d":"R$ 546.10"},"2025-01-23","Entregue","A VISTA",1,"Pago",{"v":990,"d":"R$ 990.00"},0,0,{"v":39.6,"d":"R$ 39.60"}]
[null,null,"PED-051","Rolamentos OK","Chapa dobrada em canaleta",{"v":4750,"d":"R$ 4,750.00"},{"v":380,"d":"R$ 380.00"},{"v":617.5,"d":"R$ 617.50"},{"v":380,"d":"R$ 380.00"},{"v":427.5,"d":"R$ 427.50"},{"v":190,"d":"R$ 190.00"},{"v":110,"d":"R$ 110.00"},{"v":80,"d":"R$ 80.00"},{"v":0.11,"d":"11%"},{"v":2183.5,"d":"R$ 2,183.50"},"2025-08-31","Entregue","21/35/49",3,"Pago",{"v":4750,"d":"R$ 4,750.00"},0,0,{"v":522.5,"d":"R$ 522.50"}]
[null,null,"PED-052","Indústria Beta Ltda","Kit suporte para tubulação",{"v":1600,"d":"R$ 1,600.00"},{"v":112,"d":"R$ 112.00"},{"v":208,"d":"R$ 208.00"},{"v":128,"d":"R$ 128.00"},{"v":144,"d":"R$ 144.00"},{"v":64,"d":"R$ 64.00"},{"v":40,"d":"R$ 40.00"},0,{"v":0.05,"d":"5%"},{"v":816,"d":"R$ 816.00"},"2026-01-03","Entregue","28/42",2,"Pago",{"v":1600,"d":"R$ 1,600.00"},0,0,{"v":80,"d":"R$ 80.00"}]
[null,null,"PED-053","Mecânica Precisa","Tubos retangulares cortados",{"v":3100,"d":"R$ 3,100.00"},{"v":248,"d":"R$ 248.00"},{"v":403,"d":"R$ 403.00"},{"v":248,"d":"R$ 248.00"},{"v":279,"d":"R$ 279.00"},{"v":124,"d":"R$ 124.00"},{"v":70,"d":"R$ 70.00"},0,{"v":0.06,"d":"6%"},{"v":1462,"d":"R$ 1,462.00"},"2025-04-23","Entregue","30/60",2,"Pago",{"v":3100,"d":"R$ 3,100.00"},0,0,{"v":186,"d":"R$ 186.00"}]
[null,null,"PED-054","Metalmax Ind.","Conjunto de tubos e flanges",{"v":870,"d":"R$ 870.00"},{"v":60.9,"d":"R$ 60.90"},{"v":113.1,"d":"R$ 113.10"},{"v":69.6,"d":"R$ 69.60"},{"v":78.3,"d":"R$ 78.30"},{"v":34.8,"d":"R$ 34.80"},0,0,{"v":0.03,"d":"3%"},{"v":476.3,"d":"R$ 476.30"},"2026-03-09","Entregue","A VISTA",1,"Pago",{"v":870,"d":"R$ 870.00"},0,0,{"v":26.1,"d":"R$ 26.10"}]
[null,null,"PED-055","Montagem Pro","Estrutura metálica dobrada",{"v":7100,"d":"R$ 7,100.00"},{"v":568,"d":"R$ 568.00"},{"v":923,"d":"R$ 923.00"},{"v":568,"d":"R$ 568.00"},{"v":639,"d":"R$ 639.00"},{"v":284,"d":"R$ 284.00"},{"v":180,"d":"R$ 180.00"},{"v":150,"d":"R$ 150.00"},{"v":0.12,"d":"12%"},{"v":2981,"d":"R$ 2,981.00"},"2024-12-14","Entregue","28/42/56/70",4,"Pago Parcialmente / Em Atraso",{"v":1775,"d":"R$ 1,775.00"},{"v":5325,"d":"R$ 5,325.00"},3,{"v":852,"d":"R$ 852.00"}]

{"sheet":"PAGAMENTOS","index":2,"n_rows":1002,"n_cols":10,"rows_kept":1002,"hidden":true}
[]
[]
[null,null,"Total Parcelas","Pagas","Em Atraso","A Vencer","Total Recebido","Total em Aberto"]
[null,null,{"$f":"COUNTA(tb_pagamentos[Nr_Pedido])-COUNTBLANK(tb_pagamentos[Nr_Pedido])","v":133},{"$f":"COUNTIF(tb_pagamentos[Status_Parcela],\"Pago\")","v":79},{"$f":"COUNTIF(tb_pagamentos[Status_Parcela],\"Em Atraso\")","v":47},{"$f":"COUNTIF(tb_pagamentos[Status_Parcela],\"A Vencer\")","v":7},{"$f":"SUMIF(tb_pagamentos[Status_Parcela],\"Pago\",tb_pagamentos[Valor_Parcela])","v":{"v":107131.88000000002,"d":"R$ 107,131.88"}},{"$f":"SUMIF(tb_pagamentos[Status_Parcela],\"<>Pago\",tb_pagamentos[Valor_Parcela])","v":{"v":60490.66999999998,"d":"R$ 60,490.67"}}]
[null,null,"💳  CONTROLE DE PAGAMENTOS / PARCELAS"]
[]
[null,null,"ID_Parcela","Nr_Pedido","Nr_Parcela","Qtd_Total_Parcelas","Valor_Parcela","Data_Vencimento","Data_Pagamento","Status_Parcela"]
[null,null,{"$f":"IF(OR(D8=\"\",E8=\"\"),\"\",D8&\"-\"&E8)","v":"PED-001-1"},{"$f":"IFERROR(INDEX(CALC_BASE!$N$3:$N$135,MATCH(ROW()-7,CALC_BASE!$M$3:$M$135,0)),\"\")","v":"PED-001"},{"$f":"IFERROR(INDEX(CALC_BASE!$O$3:$O$135,MATCH(ROW()-7,CALC_BASE!$M$3:$M$135,0)),\"\")","v":1},{"$f":"IFERROR(INDEX(CALC_BASE!$P$3:$P$135,MATCH(ROW()-7,CALC_BASE!$M$3:$M$135,0)),\"\")","v":4},{"$f":"IFERROR(IF(D8=\"\",\"\",INDEX(tb_vendas[Preço de Venda],MATCH(D8,tb_vendas[N° Pedido/Empresa],0))/F8),\"\")","v":{"v":307.5,"d":"R$ 307.50"}},{"$f":"IFERROR(IF(D8=\"\",\"\",INDEX(tb_vendas[Data Fechamento],MATCH(D8,tb_vendas[N° Pedido/Empresa],0))+E8*INDEX(tb_formas_pagamento[Dias_Intervalo],MATCH(INDEX(tb_vendas[Forma_Pagamento],MATCH(D8,tb_vendas[N° Pedido/Empresa],0)),tb_formas_pagamento[Nome_Forma],0))),\"\")","v":"2026-01-26"},"2026-01-25",{"$f":"IF(OR(tb_pagamentos[[#This Row],[Data_Vencimento]]=\"\",tb_pagamentos[[#This Row],[Valor_Parcela]]=\"\",tb_pagamentos[[#This Row],[Qtd_Total_Parcelas]]=\"\",tb_pagamentos[[#This Row],[Nr_Pedido]]=\"\"),\"\",IF(tb_pagamentos[[#This Row],[Data_Pagamento]]<>\"\",\"Pago\",IF(AND(tb_pagamentos[[#This Row],[Data_Pagamento]]=\"\",tb_pagamentos[[#This Row],[Data_Vencimento]]<TODAY()),\"Em Atraso\",\"A vencer\")))","v":"Pago"}]
[null,null,"PED-001-2",{"$f":"IFERROR(INDEX(CALC_BASE!$N$3:$N$135,MATCH(ROW()-7,CALC_BASE!$M$3:$M$135,0)),\"\")","v":"PED-001"},{"$f":"IFERROR(INDEX(CALC_BASE!$O$3:$O$135,MATCH(ROW()-7,CALC_BASE!$M$3:$M$135,0)),\"\")","v":2},{"$f":"IFERROR(INDEX(CALC_BASE!$P$3:$P$135,MATCH(ROW()-7,CALC_BASE!$M$3:$M$135,0)),\"\")","v":4},{"$f":"IFERROR(IF(D9=\"\",\"\",INDEX(tb_vendas[Preço de Venda],MATCH(D9,tb_vendas[N° Pedido/Empresa],0))/F9),\"\")","v":{"v":307.5,"d":"R$ 307.50"}},{"$f":"IFERROR(IF(D9=\"\",\"\",INDEX(tb_vendas[Data Fechamento],MATCH(D9,tb_vendas[N° Pedido/Empresa],0))+E9*INDEX(tb_formas_pagamento[Dias_Intervalo],MATCH(INDEX(tb_vendas[Forma_Pagamento],MATCH(D9,tb_vendas[N° Pedido/Empresa],0)),tb_formas_pagamento[Nome_Forma],0))),\"\")","v":"2026-02-10"},null,{"$f":"IF(OR(tb_pagamentos[[#This Row],[Data_Vencimento]]=\"\",tb_pagamentos[[#This Row],[Valor_Parcela]]=\"\",tb_pagamentos[[#This Row],[Qtd_Total_Parcelas]]=\"\",tb_pagamentos[[#This Row],[Nr_Pedido]]=\"\"),\"\",IF(tb_pagamentos[[#This Row],[Data_Pagamento]]<>\"\",\"Pago\",IF(AND(tb_pagamentos[[#This Row],[Data_Pagamento]]=\"\",tb_pagamentos[[#This Row],[Data_Vencimento]]<TODAY()),\"Em Atraso\",\"A vencer\")))","v":"Em Atraso"}]
[null,null,"PED-001-3",{"$f":"IFERROR(INDEX(CALC_BASE!$N$3:$N$135,MATCH(ROW()-7,CALC_BASE!$M$3:$M$135,0)),\"\")","v":"PED-001"},{"$f":"IFERROR(INDEX(CALC_BASE!$O$3:$O$135,MATCH(ROW()-7,CALC_BASE!$M$3:$M$135,0)),\"\")","v":3},{"$f":"IFERROR(INDEX(CALC_BASE!$P$3:$P$135,MATCH(ROW()-7,CALC_BASE!$M$3:$M$135,0)),\"\")","v":4},{"$f":"IFERROR(IF(D10=\"\",\"\",INDEX(tb_vendas[Preço de Venda],MATCH(D10,tb_vendas[N° Pedido/Empresa],0))/F10),\"\")","v":{"v":307.5,"d":"R$ 307.50"}},{"$f":"IFERROR(IF(D10=\"\",\"\",INDEX(tb_vendas[Data Fechamento],MATCH(D10,tb_vendas[N° Pedido/Empresa],0))+E10*INDEX(tb_formas_pagamento[Dias_Intervalo],MATCH(INDEX(tb_vendas[Forma_Pagamento],MATCH(D10,tb_vendas[N° Pedido/Empresa],0)),tb_formas_pagamento[Nome_Forma],0))),\"\")","v":"2026-02-25"},null,{"$f":"IF(OR(tb_pagamentos[[#This Row],[Data_Vencimento]]=\"\",tb_pagamentos[[#This Row],[Valor_Parcela]]=\"\",tb_pagamentos[[#This Row],[Qtd_Total_Parcelas]]=\"\",tb_pagamentos[[#This Row],[Nr_Pedido]]=\"\"),\"\",IF(tb_pagamentos[[#This Row],[Data_Pagamento]]<>\"\",\"Pago\",IF(AND(tb_pagamentos[[#This Row],[Data_Pagamento]]=\"\",tb_pagamentos[[#This Row],[Data_Vencimento]]<TODAY()),\"Em Atraso\",\"A vencer\")))","v":"Em Atraso"}]
[null,null,"PED-001-4",{"$f":"IFERROR(INDEX(CALC_BASE!$N$3:$N$135,MATCH(ROW()-7,CALC_BASE!$M$3:$M$135,0)),\"\")","v":"PED-001"},{"$f":"IFERROR(INDEX(CALC_BASE!$O$3:$O$135,MATCH(ROW()-7,CALC_BASE!$M$3:$M$135,0)),\"\")","v":4},{"$f":"IFERROR(INDEX(CALC_BASE!$P$3:$P$135,MATCH(ROW()-7,CALC_BASE!$M$3:$M$135,0)),\"\")","v":4},{"$f":"IFERROR(IF(D11=\"\",\"\",INDEX(tb_vendas[Preço de Venda],MATCH(D11,tb_vendas[N° Pedido/Empresa],0))/F11),\"\")","v":{"v":307.5,"d":"R$ 307.50"}},{"$f":"IFERROR(IF(D11=\"\",\"\",INDEX(tb_vendas[Data Fechamento],MATCH(D11,tb_vendas[N° Pedido/Empresa],0))+E11*INDEX(tb_formas_pagamento[Dias_Intervalo],MATCH(INDEX(tb_vendas[Forma_Pagamento],MATCH(D11,tb_vendas[N° Pedido/Empresa],0)),tb_formas_pagamento[Nome_Forma],0))),\"\")","v":"2026-03-12"},null,{"$f":"IF(OR(tb_pagamentos[[#This Row],[Data_Vencimento]]=\"\",tb_pagamentos[[#This Row],[Valor_Parcela]]=\"\",tb_pagamentos[[#This Row],[Qtd_Total_Parcelas]]=\"\",tb_pagamentos[[#This Row],[Nr_Pedido]]=\"\"),\"\",IF(tb_pagamentos[[#This Row],[Data_Pagamento]]<>\"\",\"Pago\",IF(AND(tb_pagamentos[[#This Row],[Data_Pagamento]]=\"\",tb_pagamentos[[#This Row],[Data_Vencimento]]<TODAY()),\"Em Atraso\",\"A vencer\")))","v":"Em Atraso"}]
[null,null,"PED-002-1",{"$f":"IFERROR(INDEX(CALC_BASE!$N$3:$N$135,MATCH(ROW()-7,CALC_BASE!$M$3:$M$135,0)),\"\")","v":"PED-002"},{"$f":"IFERROR(INDEX(CALC_BASE!$O$3:$O$135,MATCH(ROW()-7,CALC_BASE!$M$3:$M$135,0)),\"\")","v":1},{"$f":"IFERROR(INDEX(CALC_BASE!$P$3:$P$135,MATCH(ROW()-7,CALC_BASE!$M$3:$M$135,0)),\"\")","v":3},{"$f":"IFERROR(IF(D12=\"\",\"\",INDEX(tb_vendas[Preço de Venda],MATCH(D12,tb_vendas[N° Pedido/Empresa],0))/F12),\"\")","v":{"v":286.6666666666667,"d":"R$ 286.67"}},{"$f":"IFERROR(IF(D12=\"\",\"\",INDEX(tb_vendas[Data Fechamento],MATCH(D12,tb_vendas[N° Pedido/Empresa],0))+E12*INDEX(tb_formas_pagamento[Dias_Intervalo],MATCH(INDEX(tb_vendas[Forma_Pagamento],MATCH(D12,tb_vendas[N° Pedido/Empresa],0)),tb_formas_pagamento[Nome_Forma],0))),\"\")","v":"2026-04-25"},"2026-04-26",{"$f":"IF(OR(tb_pagamentos[[#This Row],[Data_Vencimento]]=\"\",tb_pagamentos[[#This Row],[Valor_Parcela]]=\"\",tb_pagamentos[[#This Row],[Qtd_Total_Parcelas]]=\"\",tb_pagamentos[[#This Row],[Nr_Pedido]]=\"\"),\"\",IF(tb_pagamentos[[#This Row],[Data_Pagamento]]<>\"\",\"Pago\",IF(AND(tb_pagamentos[[#This Row],[Data_Pagamento]]=\"\",tb_pagamentos[[#This Row],[Data_Vencimento]]<TODAY()),\"Em Atraso\",\"A vencer\")))","v":"Pago"}]
[null,null,"PED-002-2",{"$f":"IFERROR(INDEX(CALC_BASE!$N$3:$N$135,MATCH(ROW()-7,CALC_BASE!$M$3:$M$135,0)),\"\")","v":"PED-002"},{"$f":"IFERROR(INDEX(CALC_BASE!$O$3:$O$135,MATCH(ROW()-7,CALC_BASE!$M$3:$M$135,0)),\"\")","v":2},{"$f":"IFERROR(INDEX(CALC_BASE!$P$3:$P$135,MATCH(ROW()-7,CALC_BASE!$M$3:$M$135,0)),\"\")","v":3},{"$f":"IFERROR(IF(D13=\"\",\"\",INDEX(tb_vendas[Preço de Venda],MATCH(D13,tb_vendas[N° Pedido/Empresa],0))/F13),\"\")","v":{"v":286.6666666666667,"d":"R$ 286.67"}},{"$f":"IFERROR(IF(D13=\"\",\"\",INDEX(tb_vendas[Data Fechamento],MATCH(D13,tb_vendas[N° Pedido/Empresa],0))+E13*INDEX(tb_formas_pagamento[Dias_Intervalo],MATCH(INDEX(tb_vendas[Forma_Pagamento],MATCH(D13,tb_vendas[N° Pedido/Empresa],0)),tb_formas_pagamento[Nome_Forma],0))),\"\")","v":"2026-05-09"},null,{"$f":"IF(OR(tb_pagamentos[[#This Row],[Data_Vencimento]]=\"\",tb_pagamentos[[#This Row],[Valor_Parcela]]=\"\",tb_pagamentos[[#This Row],[Qtd_Total_Parcelas]]=\"\",tb_pagamentos[[#This Row],[Nr_Pedido]]=\"\"),\"\",IF(tb_pagamentos[[#This Row],[Data_Pagamento]]<>\"\",\"Pago\",IF(AND(tb_pagamentos[[#This Row],[Data_Pagamento]]=\"\",tb_pagamentos[[#This Row],[Data_Vencimento]]<TODAY()),\"Em Atraso\",\"A vencer\")))","v":"Em Atraso"}]
[null,null,"PED-002-3",{"$f":"IFERROR(INDEX(CALC_BASE!$N$3:$N$135,MATCH(ROW()-7,CALC_BASE!$M$3:$M$135,0)),\"\")","v":"PED-002"},{"$f":"IFERROR(INDEX(CALC_BASE!$O$3:$O$135,MATCH(ROW()-7,CALC_BASE!$M$3:$M$135,0)),\"\")","v":3},{"$f":"IFERROR(INDEX(CALC_BASE!$P$3:$P$135,MATCH(ROW()-7,CALC_BASE!$M$3:$M$135,0)),\"\")","v":3},{"$f":"IFERROR(IF(D14=\"\",\"\",INDEX(tb_vendas[Preço de Venda],MATCH(D14,tb_vendas[N° Pedido/Empresa],0))/F14),\"\")","v":{"v":286.6666666666667,"d":"R$ 286.67"}},{"$f":"IFERROR(IF(D14=\"\",\"\",INDEX(tb_vendas[Data Fechamento],MATCH(D14,tb_vendas[N° Pedido/Empresa],0))+E14*INDEX(tb_formas_pagamento[Dias_Intervalo],MATCH(INDEX(tb_vendas[Forma_Pagamento],MATCH(D14,tb_vendas[N° Pedido/Empresa],0)),tb_formas_pagamento[Nome_Forma],0))),\"\")","v":"2026-05-23"},null,{"$f":"IF(OR(tb_pagamentos[[#This Row],[Data_Vencimento]]=\"\",tb_pagamentos[[#This Row],[Valor_Parcela]]=\"\",tb_pagamentos[[#This Row],[Qtd_Total_Parcelas]]=\"\",tb_pagamentos[[#This Row],[Nr_Pedido]]=\"\"),\"\",IF(tb_pagamentos[[#This Row],[Data_Pagamento]]<>\"\",\"Pago\",IF(AND(tb_pagamentos[[#This Row],[Data_Pagamento]]=\"\",tb_pagamentos[[#This Row],[Data_Vencimento]]<TODAY()),\"Em Atraso\",\"A vencer\")))","v":"Em Atraso"}]
[null,null,"PED-003-1",{"$f":"IFERROR(INDEX(CALC_BASE!$N$3:$N$135,MATCH(ROW()-7,CALC_BASE!$M$3:$M$135,0)),\"\")","v":"PED-003"},{"$f":"IFERROR(INDEX(CALC_BASE!$O$3:$O$135,MATCH(ROW()-7,CALC_BASE!$M$3:$M$135,0)),\"\")","v":1},{"$f":"IFERROR(INDEX(CALC_BASE!$P$3:$P$135,MATCH(ROW()-7,CALC_BASE!$M$3:$M$135,0)),\"\")","v":2},{"$f":"IFERROR(IF(D15=\"\",\"\",INDEX(tb_vendas[Preço de Venda],MATCH(D15,tb_vendas[N° Pedido/Empresa],0))/F15),\"\")","v":{"v":3203.28,"d":"R$ 3,203.28"}},{"$f":"IFERROR(IF(D15=\"\",\"\",INDEX(tb_vendas[Data Fechamento],MATCH(D15,tb_vendas[N° Pedido/Empresa],0))+E15*INDEX(tb_formas_pagamento[Dias_Intervalo],MATCH(INDEX(tb_vendas[Forma_Pagamento],MATCH(D15,tb_vendas[N° Pedido/Empresa],0)),tb_formas_pagamento[Nome_Forma],0))),\"\")","v":"2025-12-12"},"2025-12-23",{"$f":"IF(OR(tb_pagamentos[[#This Row],[Data_Vencimento]]=\"\",tb_pagamentos[[#This Row],[Valor_Parcela]]=\"\",tb_pagamentos[[#This Row],[Qtd_Total_Parcelas]]=\"\",tb_pagamentos[[#This Row],[Nr_Pedido]]=\"\"),\"\",IF(tb_pagamentos[[#This Row],[Data_Pagamento]]<>\"\",\"Pago\",IF(AND(tb_pagamentos[[#This Row],[Data_Pagamento]]=\"\",tb_pagamentos[[#This Row],[Data_Vencimento]]<TODAY()),\"Em Atraso\",\"A vencer\")))","v":"Pago"}]
[null,null,"PED-003-2",{"$f":"IFERROR(INDEX(CALC_BASE!$N$3:$N$135,MATCH(ROW()-7,CALC_BASE!$M$3:$M$135,0)),\"\")","v":"PED-003"},{"$f":"IFERROR(INDEX(CALC_BASE!$O$3:$O$135,MATCH(ROW()-7,CALC_BASE!$M$3:$M$135,0)),\"\")","v":2},{"$f":"IFERROR(INDEX(CALC_BASE!$P$3:$P$135,MATCH(ROW()-7,CALC_BASE!$M$3:$M$135,0)),\"\")","v":2},{"$f":"IFERROR(IF(D16=\"\",\"\",INDEX(tb_vendas[Preço de Venda],MATCH(D16,tb_vendas[N° Pedido/Empresa],0))/F16),\"\")","v":{"v":3203.28,"d":"R$ 3,203.28"}},{"$f":"IFERROR(IF(D16=\"\",\"\",INDEX(tb_vendas[Data Fechamento],MATCH(D16,tb_vendas[N° Pedido/Empresa],0))+E16*INDEX(tb_formas_pagamento[Dias_Intervalo],MATCH(INDEX(tb_vendas[Forma_Pagamento],MATCH(D16,tb_vendas[N° Pedido/Empresa],0)),tb_formas_pagamento[Nome_Forma],0))),\"\")","v":"2025-12-26"},"2026-01-07",{"$f":"IF(OR(tb_pagamentos[[#This Row],[Data_Vencimento]]=\"\",tb_pagamentos[[#This Row],[Valor_Parcela]]=\"\",tb_pagamentos[[#This Row],[Qtd_Total_Parcelas]]=\"\",tb_pagamentos[[#This Row],[Nr_Pedido]]=\"\"),\"\",IF(tb_pagamentos[[#This Row],[Data_Pagamento]]<>\"\",\"Pago\",IF(AND(tb_pagamentos[[#This Row],[Data_Pagamento]]=\"\",tb_pagamentos[[#This Row],[Data_Vencimento]]<TODAY()),\"Em Atraso\",\"A vencer\")))","v":"Pago"}]
[null,null,"PED-004-1",{"$f":"IFERROR(INDEX(CALC_BASE!$N$3:$N$135,MATCH(ROW()-7,CALC_BASE!$M$3:$M$135,0)),\"\")","v":"PED-004"},{"$f":"IFERROR(INDEX(CALC_BASE!$O$3:$O$135,MATCH(ROW()-7,CALC_BASE!$M$3:$M$135,0)),\"\")","v":1},{"$f":"IFERROR(INDEX(CALC_BASE!$P$3:$P$135,MATCH(ROW()-7,CALC_BASE!$M$3:$M$135,0)),\"\")","v":1},{"$f":"IFERROR(IF(D17=\"\",\"\",INDEX(tb_vendas[Preço de Venda],MATCH(D17,tb_vendas[N° Pedido/Empresa],0))/F17),\"\")","v":{"v":1847.25,"d":"R$ 1,847.25"}},{"$f":"IFERROR(IF(D17=\"\",\"\",INDEX(tb_vendas[Data Fechamento],MATCH(D17,tb_vendas[N° Pedido/Empresa],0))+E17*INDEX(tb_formas_pagamento[Dias_Intervalo],MATCH(INDEX(tb_vendas[Forma_Pagamento],MATCH(D17,tb_vendas[N° Pedido/Empresa],0)),tb_formas_pagamento[Nome_Forma],0))),\"\")","v":"2026-04-27"},"2026-04-25",{"$f":"IF(OR(tb_pagamentos[[#This Row],[Data_Vencimento]]=\"\",tb_pagamentos[[#This Row],[Valor_Parcela]]=\"\",tb_pagamentos[[#This Row],[Qtd_Total_Parcelas]]=\"\",tb_pagamentos[[#This Row],[Nr_Pedido]]=\"\"),\"\",IF(tb_pagamentos[[#This Row],[Data_Pagamento]]<>\"\",\"Pago\",IF(AND(tb_pagamentos[[#This Row],[Data_Pagamento]]=\"\",tb_pagamentos[[#This Row],[Data_Vencimento]]<TODAY()),\"Em Atraso\",\"A vencer\")))","v":"Pago"}]
[null,null,"PED-005-1",{"$f":"IFERROR(INDEX(CALC_BASE!$N$3:$N$135,MATCH(ROW()-7,CALC_BASE!$M$3:$M$135,0)),\"\")","v":"PED-005"},{"$f":"IFERROR(INDEX(CALC_BASE!$O$3:$O$135,MATCH(ROW()-7,CALC_BASE!$M$3:$M$135,0)),\"\")","v":1},{"$f":"IFERROR(INDEX(CALC_BASE!$P$3:$P$135,MATCH(ROW()-7,CALC_BASE!$M$3:$M$135,0)),\"\")","v":3},{"$f":"IFERROR(IF(D18=\"\",\"\",INDEX(tb_vendas[Preço de Venda],MATCH(D18,tb_vendas[N° Pedido/Empresa],0))/F18),\"\")","v":{"v":1307.0566666666666,"d":"R$ 1,307.06"}},{"$f":"IFERROR(IF(D18=\"\",\"\",INDEX(tb_vendas[Data Fechamento],MATCH(D18,tb_vendas[N° Pedido/Empresa],0))+E18*INDEX(tb_formas_pagamento[Dias_Intervalo],MATCH(INDEX(tb_vendas[Forma_Pagamento],MATCH(D18,tb_vendas[N° Pedido/Empresa],0)),tb_formas_pagamento[Nome_Forma],0))),\"\")","v":"2026-11-27"},null,{"$f":"IF(OR(tb_pagamentos[[#This Row],[Data_Vencimento]]=\"\",tb_pagamentos[[#This Row],[Valor_Parcela]]=\"\",tb_pagamentos[[#This Row],[Qtd_Total_Parcelas]]=\"\",tb_pagamentos[[#This Row],[Nr_Pedido]]=\"\"),\"\",IF(tb_pagamentos[[#This Row],[Data_Pagamento]]<>\"\",\"Pago\",IF(AND(tb_pagamentos[[#This Row],[Data_Pagamento]]=\"\",tb_pagamentos[[#This Row],[Data_Vencimento]]<TODAY()),\"Em Atraso\",\"A vencer\")))","v":"A vencer"}]
[null,null,"PED-005-2",{"$f":"IFERROR(INDEX(CALC_BASE!$N$3:$N$135,MATCH(ROW()-7,CALC_BASE!$M$3:$M$135,0)),\"\")","v":"PED-005"},{"$f":"IFERROR(INDEX(CALC_BASE!$O$3:$O$135,MATCH(ROW()-7,CALC_BASE!$M$3:$M$135,0)),\"\")","v":2},{"$f":"IFERROR(INDEX(CALC_BASE!$P$3:$P$135,MATCH(ROW()-7,CALC_BASE!$M$3:$M$135,0)),\"\")","v":3},{"$f":"IFERROR(IF(D19=\"\",\"\",INDEX(tb_vendas[Preço de Venda],MATCH(D19,tb_vendas[N° Pedido/Empresa],0))/F19),\"\")","v":{"v":1307.0566666666666,"d":"R$ 1,307.06"}},{"$f":"IFERROR(IF(D19=\"\",\"\",INDEX(tb_vendas[Data Fechamento],MATCH(D19,tb_vendas[N° Pedido/Empresa],0))+E19*INDEX(tb_formas_pagamento[Dias_Intervalo],MATCH(INDEX(tb_vendas[Forma_Pagamento],MATCH(D19,tb_vendas[N° Pedido/Empresa],0)),tb_formas_pagamento[Nome_Forma],0))),\"\")","v":"2026-12-11"},null,{"$f":"IF(OR(tb_pagamentos[[#This Row],[Data_Vencimento]]=\"\",tb_pagamentos[[#This Row],[Valor_Parcela]]=\"\",tb_pagamentos[[#This Row],[Qtd_Total_Parcelas]]=\"\",tb_pagamentos[[#This Row],[Nr_Pedido]]=\"\"),\"\",IF(tb_pagamentos[[#This Row],[Data_Pagamento]]<>\"\",\"Pago\",IF(AND(tb_pagamentos[[#This Row],[Data_Pagamento]]=\"\",tb_pagamentos[[#This Row],[Data_Vencimento]]<TODAY()),\"Em Atraso\",\"A vencer\")))","v":"A vencer"}]
[null,null,"PED-005-3",{"$f":"IFERROR(INDEX(CALC_BASE!$N$3:$N$135,MATCH(ROW()-7,CALC_BASE!$M$3:$M$135,0)),\"\")","v":"PED-005"},{"$f":"IFERROR(INDEX(CALC_BASE!$O$3:$O$135,MATCH(ROW()-7,CALC_BASE!$M$3:$M$135,0)),\"\")","v":3},{"$f":"IFERROR(INDEX(CALC_BASE!$P$3:$P$135,MATCH(ROW()-7,CALC_BASE!$M$3:$M$135,0)),\"\")","v":3},{"$f":"IFERROR(IF(D20=\"\",\"\",INDEX(tb_vendas[Preço de Venda],MATCH(D20,tb_vendas[N° Pedido/Empresa],0))/F20),\"\")","v":{"v":1307.0566666666666,"d":"R$ 1,307.06"}},{"$f":"IFERROR(IF(D20=\"\",\"\",INDEX(tb_vendas[Data Fechamento],MATCH(D20,tb_vendas[N° Pedido/Empresa],0))+E20*INDEX(tb_formas_pagamento[Dias_Intervalo],MATCH(INDEX(tb_vendas[Forma_Pagamento],MATCH(D20,tb_vendas[N° Pedido/Empresa],0)),tb_formas_pagamento[Nome_Forma],0))),\"\")","v":"2026-12-25"},null,{"$f":"IF(OR(tb_pagamentos[[#This Row],[Data_Vencimento]]=\"\",tb_pagamentos[[#This Row],[Valor_Parcela]]=\"\",tb_pagamentos[[#This Row],[Qtd_Total_Parcelas]]=\"\",tb_pagamentos[[#This Row],[Nr_Pedido]]=\"\"),\"\",IF(tb_pagamentos[[#This Row],[Data_Pagamento]]<>\"\",\"Pago\",IF(AND(tb_pagamentos[[#This Row],[Data_Pagamento]]=\"\",tb_pagamentos[[#This Row],[Data_Vencimento]]<TODAY()),\"Em Atraso\",\"A vencer\")))","v":"A vencer"}]
[null,null,"PED-006-1",{"$f":"IFERROR(INDEX(CALC_BASE!$N$3:$N$135,MATCH(ROW()-7,CALC_BASE!$M$3:$M$135,0)),\"\")","v":"PED-006"},{"$f":"IFERROR(INDEX(CALC_BASE!$O$3:$O$135,MATCH(ROW()-7,CALC_BASE!$M$3:$M$135,0)),\"\")","v":1},{"$f":"IFERROR(INDEX(CALC_BASE!$P$3:$P$135,MATCH(ROW()-7,CALC_BASE!$M$3:$M$135,0)),\"\")","v":4},{"$f":"IFERROR(IF(D21=\"\",\"\",INDEX(tb_vendas[Preço de Venda],MATCH(D21,tb_vendas[N° Pedido/Empresa],0))/F21),\"\")","v":{"v":1800.86,"d":"R$ 1,800.86"}},{"$f":"IFERROR(IF(D21=\"\",\"\",INDEX(tb_vendas[Data Fechamento],MATCH(D21,tb_vendas[N° Pedido/Empresa],0))+E21*INDEX(tb_formas_pagamento[Dias_Intervalo],MATCH(INDEX(tb_vendas[Forma_Pagamento],MATCH(D21,tb_vendas[N° Pedido/Empresa],0)),tb_formas_pagamento[Nome_Forma],0))),\"\")","v":"2024-09-01"},"2024-09-14",{"$f":"IF(OR(tb_pagamentos[[#This Row],[Data_Vencimento]]=\"\",tb_pagamentos[[#This Row],[Valor_Parcela]]=\"\",tb_pagamentos[[#This Row],[Qtd_Total_Parcelas]]=\"\",tb_pagamentos[[#This Row],[Nr_Pedido]]=\"\"),\"\",IF(tb_pagamentos[[#This Row],[Data_Pagamento]]<>\"\",\"Pago\",IF(AND(tb_pagamentos[[#This Row],[Data_Pagamento]]=\"\",tb_pagamentos[[#This Row],[Data_Vencimento]]<TODAY()),\"Em Atraso\",\"A vencer\")))","v":"Pago"}]
[null,null,"PED-006-2",{"$f":"IFERROR(INDEX(CALC_BASE!$N$3:$N$135,MATCH(ROW()-7,CALC_BASE!$M$3:$M$135,0)),\"\")","v":"PED-006"},{"$f":"IFERROR(INDEX(CALC_BASE!$O$3:$O$135,MATCH(ROW()-7,CALC_BASE!$M$3:$M$135,0)),\"\")","v":2},{"$f":"IFERROR(INDEX(CALC_BASE!$P$3:$P$135,MATCH(ROW()-7,CALC_BASE!$M$3:$M$135,0)),\"\")","v":4},{"$f":"IFERROR(IF(D22=\"\",\"\",INDEX(tb_vendas[Preço de Venda],MATCH(D22,tb_vendas[N° Pedido/Empresa],0))/F22),\"\")","v":{"v":1800.86,"d":"R$ 1,800.86"}},{"$f":"IFERROR(IF(D22=\"\",\"\",INDEX(tb_vendas[Data Fechamento],MATCH(D22,tb_vendas[N° Pedido/Empresa],0))+E22*INDEX(tb_formas_pagamento[Dias_Intervalo],MATCH(INDEX(tb_vendas[Forma_Pagamento],MATCH(D22,tb_vendas[N° Pedido/Empresa],0)),tb_formas_pagamento[Nome_Forma],0))),\"\")","v":"2024-09-16"},"2024-09-29",{"$f":"IF(OR(tb_pagamentos[[#This Row],[Data_Vencimento]]=\"\",tb_pagamentos[[#This Row],[Valor_Parcela]]=\"\",tb_pagamentos[[#This Row],[Qtd_Total_Parcelas]]=\"\",tb_pagamentos[[#This Row],[Nr_Pedido]]=\"\"),\"\",IF(tb_pagamentos[[#This Row],[Data_Pagamento]]<>\"\",\"Pago\",IF(AND(tb_pagamentos[[#This Row],[Data_Pagamento]]=\"\",tb_pagamentos[[#This Row],[Data_Vencimento]]<TODAY()),\"Em Atraso\",\"A vencer\")))","v":"Pago"}]
[null,null,"PED-006-3",{"$f":"IFERROR(INDEX(CALC_BASE!$N$3:$N$135,MATCH(ROW()-7,CALC_BASE!$M$3:$M$135,0)),\"\")","v":"PED-006"},{"$f":"IFERROR(INDEX(CALC_BASE!$O$3:$O$135,MATCH(ROW()-7,CALC_BASE!$M$3:$M$135,0)),\"\")","v":3},{"$f":"IFERROR(INDEX(CALC_BASE!$P$3:$P$135,MATCH(ROW()-7,CALC_BASE!$M$3:$M$135,0)),\"\")","v":4},{"$f":"IFERROR(IF(D23=\"\",\"\",INDEX(tb_vendas[Preço de Venda],MATCH(D23,tb_vendas[N° Pedido/Empresa],0))/F23),\"\")","v":{"v":1800.86,"d":"R$ 1,800.86"}},{"$f":"IFERROR(IF(D23=\"\",\"\",INDEX(tb_vendas[Data Fechamento],MATCH(D23,tb_vendas[N° Pedido/Empresa],0))+E23*INDEX(tb_formas_pagamento[Dias_Intervalo],MATCH(INDEX(tb_vendas[Forma_Pagamento],MATCH(D23,tb_vendas[N° Pedido/Empresa],0)),tb_formas_pagamento[Nome_Forma],0))),\"\")","v":"2024-10-01"},"2024-10-14",{"$f":"IF(OR(tb_pagamentos[[#This Row],[Data_Vencimento]]=\"\",tb_pagamentos[[#This Row],[Valor_Parcela]]=\"\",tb_pagamentos[[#This Row],[Qtd_Total_Parcelas]]=\"\",tb_pagamentos[[#This Row],[Nr_Pedido]]=\"\"),\"\",IF(tb_pagamentos[[#This Row],[Data_Pagamento]]<>\"\",\"Pago\",IF(AND(tb_pagamentos[[#This Row],[Data_Pagamento]]=\"\",tb_pagamentos[[#This Row],[Data_Vencimento]]<TODAY()),\"Em Atraso\",\"A vencer\")))","v":"Pago"}]
[null,null,"PED-006-4",{"$f":"IFERROR(INDEX(CALC_BASE!$N$3:$N$135,MATCH(ROW()-7,CALC_BASE!$M$3:$M$135,0)),\"\")","v":"PED-006"},{"$f":"IFERROR(INDEX(CALC_BASE!$O$3:$O$135,MATCH(ROW()-7,CALC_BASE!$M$3:$M$135,0)),\"\")","v":4},{"$f":"IFERROR(INDEX(CALC_BASE!$P$3:$P$135,MATCH(ROW()-7,CALC_BASE!$M$3:$M$135,0)),\"\")","v":4},{"$f":"IFERROR(IF(D24=\"\",\"\",INDEX(tb_vendas[Preço de Venda],MATCH(D24,tb_vendas[N° Pedido/Empresa],0))/F24),\"\")","v":{"v":1800.86,"d":"R$ 1,800.86"}},{"$f":"IFERROR(IF(D24=\"\",\"\",INDEX(tb_vendas[Data Fechamento],MATCH(D24,tb_vendas[N° Pedido/Empresa],0))+E24*INDEX(tb_formas_pagamento[Dias_Intervalo],MATCH(INDEX(tb_vendas[Forma_Pagamento],MATCH(D24,tb_vendas[N° Pedido/Empresa],0)),tb_formas_pagamento[Nome_Forma],0))),\"\")","v":"2024-10-16"},"2024-10-30",{"$f":"IF(OR(tb_pagamentos[[#This Row],[Data_Vencimento]]=\"\",tb_pagamentos[[#This Row],[Valor_Parcela]]=\"\",tb_pagamentos[[#This Row],[Qtd_Total_Parcelas]]=\"\",tb_pagamentos[[#This Row],[Nr_Pedido]]=\"\"),\"\",IF(tb_pagamentos[[#This Row],[Data_Pagamento]]<>\"\",\"Pago\",IF(AND(tb_pagamentos[[#This Row],[Data_Pagamento]]=\"\",tb_pagamentos[[#This Row],[Data_Vencimento]]<TODAY()),\"Em Atraso\",\"A vencer\")))","v":"Pago"}]
[null,null,"PED-007-1",{"$f":"IFERROR(INDEX(CALC_BASE!$N$3:$N$135,MATCH(ROW()-7,CALC_BASE!$M$3:$M$135,0)),\"\")","v":"PED-007"},{"$f":"IFERROR(INDEX(CALC_BASE!$O$3:$O$135,MATCH(ROW()-7,CALC_BASE!$M$3:$M$135,0)),\"\")","v":1},{"$f":"IFERROR(INDEX(CALC_BASE!$P$3:$P$135,MATCH(ROW()-7,CALC_BASE!$M$3:$M$135,0)),\"\")","v":2},{"$f":"IFERROR(IF(D25=\"\",\"\",INDEX(tb_vendas[Preço de Venda],MATCH(D25,tb_vendas[N° Pedido/Empresa],0))/F25),\"\")","v":{"v":256.44,"d":"R$ 256.44"}},{"$f":"IFERROR(IF(D25=\"\",\"\",INDEX(tb_vendas[Data Fechamento],MATCH(D25,tb_vendas[N° Pedido/Empresa],0))+E25*INDEX(tb_formas_pagamento[Dias_Intervalo],MATCH(INDEX(tb_vendas[Forma_Pagamento],MATCH(D25,tb_vendas[N° Pedido/Empresa],0)),tb_formas_pagamento[Nome_Forma],0))),\"\")","v":"2025-01-29"},"2025-01-28",{"$f":"IF(OR(tb_pagamentos[[#This Row],[Data_Vencimento]]=\"\",tb_pagamentos[[#This Row],[Valor_Parcela]]=\"\",tb_pagamentos[[#This Row],[Qtd_Total_Parcelas]]=\"\",tb_pagamentos[[#This Row],[Nr_Pedido]]=\"\"),\"\",IF(tb_pagamentos[[#This Row],[Data_Pagamento]]<>\"\",\"Pago\",IF(AND(tb_pagamentos[[#This Row],[Data_Pagamento]]=\"\",tb_pagamentos[[#This Row],[Data_Vencimento]]<TODAY()),\"Em Atraso\",\"A vencer\")))","v":"Pago"}]
[null,null,"PED-007-2",{"$f":"IFERROR(INDEX(CALC_BASE!$N$3:$N$135,MATCH(ROW()-7,CALC_BASE!$M$3:$M$135,0)),\"\")","v":"PED-007"},{"$f":"IFERROR(INDEX(CALC_BASE!$O$3:$O$135,MATCH(ROW()-7,CALC_BASE!$M$3:$M$135,0)),\"\")","v":2},{"$f":"IFERROR(INDEX(CALC_BASE!$P$3:$P$135,MATCH(ROW()-7,CALC_BASE!$M$3:$M$135,0)),\"\")","v":2},{"$f":"IFERROR(IF(D26=\"\",\"\",INDEX(tb_vendas[Preço de Venda],MATCH(D26,tb_vendas[N° Pedido/Empresa],0))/F26),\"\")","v":{"v":256.44,"d":"R$ 256.44"}},{"$f":"IFERROR(IF(D26=\"\",\"\",INDEX(tb_vendas[Data Fechamento],MATCH(D26,tb_vendas[N° Pedido/Empresa],0))+E26*INDEX(tb_formas_pagamento[Dias_Intervalo],MATCH(INDEX(tb_vendas[Forma_Pagamento],MATCH(D26,tb_vendas[N° Pedido/Empresa],0)),tb_formas_pagamento[Nome_Forma],0))),\"\")","v":"2025-02-12"},"2025-02-11",{"$f":"IF(OR(tb_pagamentos[[#This Row],[Data_Vencimento]]=\"\",tb_pagamentos[[#This Row],[Valor_Parcela]]=\"\",tb_pagamentos[[#This Row],[Qtd_Total_Parcelas]]=\"\",tb_pagamentos[[#This Row],[Nr_Pedido]]=\"\"),\"\",IF(tb_pagamentos[[#This Row],[Data_Pagamento]]<>\"\",\"Pago\",IF(AND(tb_pagamentos[[#This Row],[Data_Pagamento]]=\"\",tb_pagamentos[[#This Row],[Data_Vencimento]]<TODAY()),\"Em Atraso\",\"A vencer\")))","v":"Pago"}]
[null,null,"PED-008-1",{"$f":"IFERROR(INDEX(CALC_BASE!$N$3:$N$135,MATCH(ROW()-7,CALC_BASE!$M$3:$M$135,0)),\"\")","v":"PED-008"},{"$f":"IFERROR(INDEX(CALC_BASE!$O$3:$O$135,MATCH(ROW()-7,CALC_BASE!$M$3:$M$135,0)),\"\")","v":1},{"$f":"IFERROR(INDEX(CALC_BASE!$P$3:$P$135,MATCH(ROW()-7,CALC_BASE!$M$3:$M$135,0)),\"\")","v":3},{"$f":"IFERROR(IF(D27=\"\",\"\",INDEX(tb_vendas[Preço de Venda],MATCH(D27,tb_vendas[N° Pedido/Empresa],0))/F27),\"\")","v":{"v":1616.6666666666667,"d":"R$ 1,616.67"}},{"$f":"IFERROR(IF(D27=\"\",\"\",INDEX(tb_vendas[Data Fechamento],MATCH(D27,tb_vendas[N° Pedido/Empresa],0))+E27*INDEX(tb_formas_pagamento[Dias_Intervalo],MATCH(INDEX(tb_vendas[Forma_Pagamento],MATCH(D27,tb_vendas[N° Pedido/Empresa],0)),tb_formas_pagamento[Nome_Forma],0))),\"\")","v":"2025-07-10"},null,{"$f":"IF(OR(tb_pagamentos[[#This Row],[Data_Vencimento]]=\"\",tb_pagamentos[[#This Row],[Valor_Parcela]]=\"\",tb_pagamentos[[#This Row],[Qtd_Total_Parcelas]]=\"\",tb_pagamentos[[#This Row],[Nr_Pedido]]=\"\"),\"\",IF(tb_pagamentos[[#This Row],[Data_Pagamento]]<>\"\",\"Pago\",IF(AND(tb_pagamentos[[#This Row],[Data_Pagamento]]=\"\",tb_pagamentos[[#This Row],[Data_Vencimento]]<TODAY()),\"Em Atraso\",\"A vencer\")))","v":"Em Atraso"}]
[null,null,"PED-008-2",{"$f":"IFERROR(INDEX(CALC_BASE!$N$3:$N$135,MATCH(ROW()-7,CALC_BASE!$M$3:$M$135,0)),\"\")","v":"PED-008"},{"$f":"IFERROR(INDEX(CALC_BASE!$O$3:$O$135,MATCH(ROW()-7,CALC_BASE!$M$3:$M$135,0)),\"\")","v":2},{"$f":"IFERROR(INDEX(CALC_BASE!$P$3:$P$135,MATCH(ROW()-7,CALC_BASE!$M$3:$M$135,0)),\"\")","v":3},{"$f":"IFERROR(IF(D28=\"\",\"\",INDEX(tb_vendas[Preço de Venda],MATCH(D28,tb_vendas[N° Pedido/Empresa],0))/F28),\"\")","v":{"v":1616.6666666666667,"d":"R$ 1,616.67"}},{"$f":"IFERROR(IF(D28=\"\",\"\",INDEX(tb_vendas[Data Fechamento],MATCH(D28,tb_vendas[N° Pedido/Empresa],0))+E28*INDEX(tb_formas_pagamento[Dias_Intervalo],MATCH(INDEX(tb_vendas[Forma_Pagamento],MATCH(D28,tb_vendas[N° Pedido/Empresa],0)),tb_formas_pagamento[Nome_Forma],0))),\"\")","v":"2025-08-07"},null,{"$f":"IF(OR(tb_pagamentos[[#This Row],[Data_Vencimento]]=\"\",tb_pagamentos[[#This Row],[Valor_Parcela]]=\"\",tb_pagamentos[[#This Row],[Qtd_Total_Parcelas]]=\"\",tb_pagamentos[[#This Row],[Nr_Pedido]]=\"\"),\"\",IF(tb_pagamentos[[#This Row],[Data_Pagamento]]<>\"\",\"Pago\",IF(AND(tb_pagamentos[[#This Row],[Data_Pagamento]]=\"\",tb_pagamentos[[#This Row],[Data_Vencimento]]<TODAY()),\"Em Atraso\",\"A vencer\")))","v":"Em Atraso"}]
[null,null,"PED-008-3",{"$f":"IFERROR(INDEX(CALC_BASE!$N$3:$N$135,MATCH(ROW()-7,CALC_BASE!$M$3:$M$135,0)),\"\")","v":"PED-008"},{"$f":"IFERROR(INDEX(CALC_BASE!$O$3:$O$135,MATCH(ROW()-7,CALC_BASE!$M$3:$M$135,0)),\"\")","v":3},{"$f":"IFERROR(INDEX(CALC_BASE!$P$3:$P$135,MATCH(ROW()-7,CALC_BASE!$M$3:$M$135,0)),\"\")","v":3},{"$f":"IFERROR(IF(D29=\"\",\"\",INDEX(tb_vendas[Preço de Venda],MATCH(D29,tb_vendas[N° Pedido/Empresa],0))/F29),\"\")","v":{"v":1616.6666666666667,"d":"R$ 1,616.67"}},{"$f":"IFERROR(IF(D29=\"\",\"\",INDEX(tb_vendas[Data Fechamento],MATCH(D29,tb_vendas[N° Pedido/Empresa],0))+E29*INDEX(tb_formas_pagamento[Dias_Intervalo],MATCH(INDEX(tb_vendas[Forma_Pagamento],MATCH(D29,tb_vendas[N° Pedido/Empresa],0)),tb_formas_pagamento[Nome_Forma],0))),\"\")","v":"2025-09-04"},null,{"$f":"IF(OR(tb_pagamentos[[#This Row],[Data_Vencimento]]=\"\",tb_pagamentos[[#This Row],[Valor_Parcela]]=\"\",tb_pagamentos[[#This Row],[Qtd_Total_Parcelas]]=\"\",tb_pagamentos[[#This Row],[Nr_Pedido]]=\"\"),\"\",IF(tb_pagamentos[[#This Row],[Data_Pagamento]]<>\"\",\"Pago\",IF(AND(tb_pagamentos[[#This Row],[Data_Pagamento]]=\"\",tb_pagamentos[[#This Row],[Data_Vencimento]]<TODAY()),\"Em Atraso\",\"A vencer\")))","v":"Em Atraso"}]
[null,null,"PED-009-1",{"$f":"IFERROR(INDEX(CALC_BASE!$N$3:$N$135,MATCH(ROW()-7,CALC_BASE!$M$3:$M$135,0)),\"\")","v":"PED-009"},{"$f":"IFERROR(INDEX(CALC_BASE!$O$3:$O$135,MATCH(ROW()-7,CALC_BASE!$M$3:$M$135,0)),\"\")","v":1},{"$f":"IFERROR(INDEX(CALC_BASE!$P$3:$P$135,MATCH(ROW()-7,CALC_BASE!$M$3:$M$135,0)),\"\")","v":3},{"$f":"IFERROR(IF(D30=\"\",\"\",INDEX(tb_vendas[Preço de Venda],MATCH(D30,tb_vendas[N° Pedido/Empresa],0))/F30),\"\")","v":{"v":700.1666666666666,"d":"R$ 700.17"}},{"$f":"IFERROR(IF(D30=\"\",\"\",INDEX(tb_vendas[Data Fechamento],MATCH(D30,tb_vendas[N° Pedido/Empresa],0))+E30*INDEX(tb_formas_pagamento[Dias_Intervalo],MATCH(INDEX(tb_vendas[Forma_Pagamento],MATCH(D30,tb_vendas[N° Pedido/Empresa],0)),tb_formas_pagamento[Nome_Forma],0))),\"\")","v":"2025-02-27"},"2025-02-25",{"$f":"IF(OR(tb_pagamentos[[#This Row],[Data_Vencimento]]=\"\",tb_pagamentos[[#This Row],[Valor_Parcela]]=\"\",tb_pagamentos[[#This Row],[Qtd_Total_Parcelas]]=\"\",tb_pagamentos[[#This Row],[Nr_Pedido]]=\"\"),\"\",IF(tb_pagamentos[[#This Row],[Data_Pagamento]]<>\"\",\"Pago\",IF(AND(tb_pagamentos[[#This Row],[Data_Pagamento]]=\"\",tb_pagamentos[[#This Row],[Data_Vencimento]]<TODAY()),\"Em Atraso\",\"A vencer\")))","v":"Pago"}]
[null,null,"PED-009-2",{"$f":"IFERROR(INDEX(CALC_BASE!$N$3:$N$135,MATCH(ROW()-7,CALC_BASE!$M$3:$M$135,0)),\"\")","v":"PED-009"},{"$f":"IFERROR(INDEX(CALC_BASE!$O$3:$O$135,MATCH(ROW()-7,CALC_BASE!$M$3:$M$135,0)),\"\")","v":2},{"$f":"IFERROR(INDEX(CALC_BASE!$P$3:$P$135,MATCH(ROW()-7,CALC_BASE!$M$3:$M$135,0)),\"\")","v":3},{"$f":"IFERROR(IF(D31=\"\",\"\",INDEX(tb_vendas[Preço de Venda],MATCH(D31,tb_vendas[N° Pedido/Empresa],0))/F31),\"\")","v":{"v":700.1666666666666,"d":"R$ 700.17"}},{"$f":"IFERROR(IF(D31=\"\",\"\",INDEX(tb_vendas[Data Fechamento],MATCH(D31,tb_vendas[N° Pedido/Empresa],0))+E31*INDEX(tb_formas_pagamento[Dias_Intervalo],MATCH(INDEX(tb_vendas[Forma_Pagamento],MATCH(D31,tb_vendas[N° Pedido/Empresa],0)),tb_formas_pagamento[Nome_Forma],0))),\"\")","v":"2025-03-14"},null,{"$f":"IF(OR(tb_pagamentos[[#This Row],[Data_Vencimento]]=\"\",tb_pagamentos[[#This Row],[Valor_Parcela]]=\"\",tb_pagamentos[[#This Row],[Qtd_Total_Parcelas]]=\"\",tb_pagamentos[[#This Row],[Nr_Pedido]]=\"\"),\"\",IF(tb_pagamentos[[#This Row],[Data_Pagamento]]<>\"\",\"Pago\",IF(AND(tb_pagamentos[[#This Row],[Data_Pagamento]]=\"\",tb_pagamentos[[#This Row],[Data_Vencimento]]<TODAY()),\"Em Atraso\",\"A vencer\")))","v":"Em Atraso"}]
[null,null,"PED-009-3",{"$f":"IFERROR(INDEX(CALC_BASE!$N$3:$N$135,MATCH(ROW()-7,CALC_BASE!$M$3:$M$135,0)),\"\")","v":"PED-009"},{"$f":"IFERROR(INDEX(CALC_BASE!$O$3:$O$135,MATCH(ROW()-7,CALC_BASE!$M$3:$M$135,0)),\"\")","v":3},{"$f":"IFERROR(INDEX(CALC_BASE!$P$3:$P$135,MATCH(ROW()-7,CALC_BASE!$M$3:$M$135,0)),\"\")","v":3},{"$f":"IFERROR(IF(D32=\"\",\"\",INDEX(tb_vendas[Preço de Venda],MATCH(D32,tb_vendas[N° Pedido/Empresa],0))/F32),\"\")","v":{"v":700.1666666666666,"d":"R$ 700.17"}},{"$f":"IFERROR(IF(D32=\"\",\"\",INDEX(tb_vendas[Data Fechamento],MATCH(D32,tb_vendas[N° Pedido/Empresa],0))+E32*INDEX(tb_formas_pagamento[Dias_Intervalo],MATCH(INDEX(tb_vendas[Forma_Pagamento],MATCH(D32,tb_vendas[N° Pedido/Empresa],0)),tb_formas_pagamento[Nome_Forma],0))),\"\")","v":"2025-03-29"},null,{"$f":"IF(OR(tb_pagamentos[[#This Row],[Data_Vencimento]]=\"\",tb_pagamentos[[#This Row],[Valor_Parcela]]=\"\",tb_pagamentos[[#This Row],[Qtd_Total_Parcelas]]=\"\",tb_pagamentos[[#This Row],[Nr_Pedido]]=\"\"),\"\",IF(tb_pagamentos[[#This Row],[Data_Pagamento]]<>\"\",\"Pago\",IF(AND(tb_pagamentos[[#This Row],[Data_Pagamento]]=\"\",tb_pagamentos[[#This Row],[Data_Vencimento]]<TODAY()),\"Em Atraso\",\"A vencer\")))","v":"Em Atraso"}]
[null,null,"PED-010-1",{"$f":"IFERROR(INDEX(CALC_BASE!$N$3:$N$135,MATCH(ROW()-7,CALC_BASE!$M$3:$M$135,0)),\"\")","v":"PED-010"},{"$f":"IFERROR(INDEX(CALC_BASE!$O$3:$O$135,MATCH(ROW()-7,CALC_BASE!$M$3:$M$135,0)),\"\")","v":1},{"$f":"IFERROR(INDEX(CALC_BASE!$P$3:$P$135,MATCH(ROW()-7,CALC_BASE!$M$3:$M$135,0)),\"\")","v":1},{"$f":"IFERROR(IF(D33=\"\",\"\",INDEX(tb_vendas[Preço de Venda],MATCH(D33,tb_vendas[N° Pedido/Empresa],0))/F33),\"\")","v":{"v":950,"d":"R$ 950.00"}},{"$f":"IFERROR(IF(D33=\"\",\"\",INDEX(tb_vendas[Data Fechamento],MATCH(D33,tb_vendas[N° Pedido/Empresa],0))+E33*INDEX(tb_formas_pagamento[Dias_Intervalo],MATCH(INDEX(tb_vendas[Forma_Pagamento],MATCH(D33,tb_vendas[N° Pedido/Empresa],0)),tb_formas_pagamento[Nome_Forma],0))),\"\")","v":"2025-04-21"},"2025-04-21",{"$f":"IF(OR(tb_pagamentos[[#This Row],[Data_Vencimento]]=\"\",tb_pagamentos[[#This Row],[Valor_Parcela]]=\"\",tb_pagamentos[[#This Row],[Qtd_Total_Parcelas]]=\"\",tb_pagamentos[[#This Row],[Nr_Pedido]]=\"\"),\"\",IF(tb_pagamentos[[#This Row],[Data_Pagamento]]<>\"\",\"Pago\",IF(AND(tb_pagamentos[[#This Row],[Data_Pagamento]]=\"\",tb_pagamentos[[#This Row],[Data_Vencimento]]<TODAY()),\"Em Atraso\",\"A vencer\")))","v":"Pago"}]
[null,null,"PED-011-1",{"$f":"IFERROR(INDEX(CALC_BASE!$N$3:$N$135,MATCH(ROW()-7,CALC_BASE!$M$3:$M$135,0)),\"\")","v":"PED-011"},{"$f":"IFERROR(INDEX(CALC_BASE!$O$3:$O$135,MATCH(ROW()-7,CALC_BASE!$M$3:$M$135,0)),\"\")","v":1},{"$f":"IFERROR(INDEX(CALC_BASE!$P$3:$P$135,MATCH(ROW()-7,CALC_BASE!$M$3:$M$135,0)),\"\")","v":2},{"$f":"IFERROR(IF(D34=\"\",\"\",INDEX(tb_vendas[Preço de Venda],MATCH(D34,tb_vendas[N° Pedido/Empresa],0))/F34),\"\")","v":{"v":1675.375,"d":"R$ 1,675.38"}},{"$f":"IFERROR(IF(D34=\"\",\"\",INDEX(tb_vendas[Data Fechamento],MATCH(D34,tb_vendas[N° Pedido/Empresa],0))+E34*INDEX(tb_formas_pagamento[Dias_Intervalo],MATCH(INDEX(tb_vendas[Forma_Pagamento],MATCH(D34,tb_vendas[N° Pedido/Empresa],0)),tb_formas_pagamento[Nome_Forma],0))),\"\")","v":"2025-08-28"},"2025-08-26",{"$f":"IF(OR(tb_pagamentos[[#This Row],[Data_Vencimento]]=\"\",tb_pagamentos[[#This Row],[Valor_Parcela]]=\"\",tb_pagamentos[[#This Row],[Qtd_Total_Parcelas]]=\"\",tb_pagamentos[[#This Row],[Nr_Pedido]]=\"\"),\"\",IF(tb_pagamentos[[#This Row],[Data_Pagamento]]<>\"\",\"Pago\",IF(AND(tb_pagamentos[[#This Row],[Data_Pagamento]]=\"\",tb_pagamentos[[#This Row],[Data_Vencimento]]<TODAY()),\"Em Atraso\",\"A vencer\")))","v":"Pago"}]
[null,null,"PED-011-2",{"$f":"IFERROR(INDEX(CALC_BASE!$N$3:$N$135,MATCH(ROW()-7,CALC_BASE!$M$3:$M$135,0)),\"\")","v":"PED-011"},{"$f":"IFERROR(INDEX(CALC_BASE!$O$3:$O$135,MATCH(ROW()-7,CALC_BASE!$M$3:$M$135,0)),\"\")","v":2},{"$f":"IFERROR(INDEX(CALC_BASE!$P$3:$P$135,MATCH(ROW()-7,CALC_BASE!$M$3:$M$135,0)),\"\")","v":2},{"$f":"IFERROR(IF(D35=\"\",\"\",INDEX(tb_vendas[Preço de Venda],MATCH(D35,tb_vendas[N° Pedido/Empresa],0))/F35),\"\")","v":{"v":1675.375,"d":"R$ 1,675.38"}},{"$f":"IFERROR(IF(D35=\"\",\"\",INDEX(tb_vendas[Data Fechamento],MATCH(D35,tb_vendas[N° Pedido/Empresa],0))+E35*INDEX(tb_formas_pagamento[Dias_Intervalo],MATCH(INDEX(tb_vendas[Forma_Pagamento],MATCH(D35,tb_vendas[N° Pedido/Empresa],0)),tb_formas_pagamento[Nome_Forma],0))),\"\")","v":"2025-09-27"},"2025-09-25",{"$f":"IF(OR(tb_pagamentos[[#This Row],[Data_Vencimento]]=\"\",tb_pagamentos[[#This Row],[Valor_Parcela]]=\"\",tb_pagamentos[[#This Row],[Qtd_Total_Parcelas]]=\"\",tb_pagamentos[[#This Row],[Nr_Pedido]]=\"\"),\"\",IF(tb_pagamentos[[#This Row],[Data_Pagamento]]<>\"\",\"Pago\",IF(AND(tb_pagamentos[[#This Row],[Data_Pagamento]]=\"\",tb_pagamentos[[#This Row],[Data_Vencimento]]<TODAY()),\"Em Atraso\",\"A vencer\")))","v":"Pago"}]
[null,null,"PED-012-1",{"$f":"IFERROR(INDEX(CALC_BASE!$N$3:$N$135,MATCH(ROW()-7,CALC_BASE!$M$3:$M$135,0)),\"\")","v":"PED-012"},{"$f":"IFERROR(INDEX(CALC_BASE!$O$3:$O$135,MATCH(ROW()-7,CALC_BASE!$M$3:$M$135,0)),\"\")","v":1},{"$f":"IFERROR(INDEX(CALC_BASE!$P$3:$P$135,MATCH(ROW()-7,CALC_BASE!$M$3:$M$135,0)),\"\")","v":1},{"$f":"IFERROR(IF(D36=\"\",\"\",INDEX(tb_vendas[Preço de Venda],MATCH(D36,tb_vendas[N° Pedido/Empresa],0))/F36),\"\")","v":{"v":1560,"d":"R$ 1,560.00"}},{"$f":"IFERROR(IF(D36=\"\",\"\",INDEX(tb_vendas[Data Fechamento],MATCH(D36,tb_vendas[N° Pedido/Empresa],0))+E36*INDEX(tb_formas_pagamento[Dias_Intervalo],MATCH(INDEX(tb_vendas[Forma_Pagamento],MATCH(D36,tb_vendas[N° Pedido/Empresa],0)),tb_formas_pagamento[Nome_Forma],0))),\"\")","v":"2025-11-12"},"2025-11-10",{"$f":"IF(OR(tb_pagamentos[[#This Row],[Data_Vencimento]]=\"\",tb_pagamentos[[#This Row],[Valor_Parcela]]=\"\",tb_pagamentos[[#This Row],[Qtd_Total_Parcelas]]=\"\",tb_pagamentos[[#This Row],[Nr_Pedido]]=\"\"),\"\",IF(tb_pagamentos[[#This Row],[Data_Pagamento]]<>\"\",\"Pago\",IF(AND(tb_pagamentos[[#This Row],[Data_Pagamento]]=\"\",tb_pagamentos[[#This Row],[Data_Vencimento]]<TODAY()),\"Em Atraso\",\"A vencer\")))","v":"Pago"}]
[null,null,"PED-013-1",{"$f":"IFERROR(INDEX(CALC_BASE!$N$3:$N$135,MATCH(ROW()-7,CALC_BASE!$M$3:$M$135,0)),\"\")","v":"PED-013"},{"$f":"IFERROR(INDEX(CALC_BASE!$O$3:$O$135,MATCH(ROW()-7,CALC_BASE!$M$3:$M$135,0)),\"\")","v":1},{"$f":"IFERROR(INDEX(CALC_BASE!$P$3:$P$135,MATCH(ROW()-7,CALC_BASE!$M$3:$M$135,0)),\"\")","v":4},{"$f":"IFERROR(IF(D37=\"\",\"\",INDEX(tb_vendas[Preço de Venda],MATCH(D37,tb_vendas[N° Pedido/Empresa],0))/F37),\"\")","v":{"v":2050,"d":"R$ 2,050.00"}},{"$f":"IFERROR(IF(D37=\"\",\"\",INDEX(tb_vendas[Data Fechamento],MATCH(D37,tb_vendas[N° Pedido/Empresa],0))+E37*INDEX(tb_formas_pagamento[Dias_Intervalo],MATCH(INDEX(tb_vendas[Forma_Pagamento],MATCH(D37,tb_vendas[N° Pedido/Empresa],0)),tb_formas_pagamento[Nome_Forma],0))),\"\")","v":"2024-11-18"},"2024-12-02",{"$f":"IF(OR(tb_pagamentos[[#This Row],[Data_Vencimento]]=\"\",tb_pagamentos[[#This Row],[Valor_Parcela]]=\"\",tb_pagamentos[[#This Row],[Qtd_Total_Parcelas]]=\"\",tb_pagamentos[[#This Row],[Nr_Pedido]]=\"\"),\"\",IF(tb_pagamentos[[#This Row],[Data_Pagamento]]<>\"\",\"Pago\",IF(AND(tb_pagamentos[[#This Row],[Data_Pagamento]]=\"\",tb_pagamentos[[#This Row],[Data_Vencimento]]<TODAY()),\"Em Atraso\",\"A vencer\")))","v":"Pago"}]
[null,null,"PED-013-2",{"$f":"IFERROR(INDEX(CALC_BASE!$N$3:$N$135,MATCH(ROW()-7,CALC_BASE!$M$3:$M$135,0)),\"\")","v":"PED-013"},{"$f":"IFERROR(INDEX(CALC_BASE!$O$3:$O$135,MATCH(ROW()-7,CALC_BASE!$M$3:$M$135,0)),\"\")","v":2},{"$f":"IFERROR(INDEX(CALC_BASE!$P$3:$P$135,MATCH(ROW()-7,CALC_BASE!$M$3:$M$135,0)),\"\")","v":4},{"$f":"IFERROR(IF(D38=\"\",\"\",INDEX(tb_vendas[Preço de Venda],MATCH(D38,tb_vendas[N° Pedido/Empresa],0))/F38),\"\")","v":{"v":2050,"d":"R$ 2,050.00"}},{"$f":"IFERROR(IF(D38=\"\",\"\",INDEX(tb_vendas[Data Fechamento],MATCH(D38,tb_vendas[N° Pedido/Empresa],0))+E38*INDEX(tb_formas_pagamento[Dias_Intervalo],MATCH(INDEX(tb_vendas[Forma_Pagamento],MATCH(D38,tb_vendas[N° Pedido/Empresa],0)),tb_formas_pagamento[Nome_Forma],0))),\"\")","v":"2024-12-02"},null,{"$f":"IF(OR(tb_pagamentos[[#This Row],[Data_Vencimento]]=\"\",tb_pagamentos[[#This Row],[Valor_Parcela]]=\"\",tb_pagamentos[[#This Row],[Qtd_Total_Parcelas]]=\"\",tb_pagamentos[[#This Row],[Nr_Pedido]]=\"\"),\"\",IF(tb_pagamentos[[#This Row],[Data_Pagamento]]<>\"\",\"Pago\",IF(AND(tb_pagamentos[[#This Row],[Data_Pagamento]]=\"\",tb_pagamentos[[#This Row],[Data_Vencimento]]<TODAY()),\"Em Atraso\",\"A vencer\")))","v":"Em Atraso"}]
[null,null,"PED-013-3",{"$f":"IFERROR(INDEX(CALC_BASE!$N$3:$N$135,MATCH(ROW()-7,CALC_BASE!$M$3:$M$135,0)),\"\")","v":"PED-013"},{"$f":"IFERROR(INDEX(CALC_BASE!$O$3:$O$135,MATCH(ROW()-7,CALC_BASE!$M$3:$M$135,0)),\"\")","v":3},{"$f":"IFERROR(INDEX(CALC_BASE!$P$3:$P$135,MATCH(ROW()-7,CALC_BASE!$M$3:$M$135,0)),\"\")","v":4},{"$f":"IFERROR(IF(D39=\"\",\"\",INDEX(tb_vendas[Preço de Venda],MATCH(D39,tb_vendas[N° Pedido/Empresa],0))/F39),\"\")","v":{"v":2050,"d":"R$ 2,050.00"}},{"$f":"IFERROR(IF(D39=\"\",\"\",INDEX(tb_vendas[Data Fechamento],MATCH(D39,tb_vendas[N° Pedido/Empresa],0))+E39*INDEX(tb_formas_pagamento[Dias_Intervalo],MATCH(INDEX(tb_vendas[Forma_Pagamento],MATCH(D39,tb_vendas[N° Pedido/Empresa],0)),tb_formas_pagamento[Nome_Forma],0))),\"\")","v":"2024-12-16"},null,{"$f":"IF(OR(tb_pagamentos[[#This Row],[Data_Vencimento]]=\"\",tb_pagamentos[[#This Row],[Valor_Parcela]]=\"\",tb_pagamentos[[#This Row],[Qtd_Total_Parcelas]]=\"\",tb_pagamentos[[#This Row],[Nr_Pedido]]=\"\"),\"\",IF(tb_pagamentos[[#This Row],[Data_Pagamento]]<>\"\",\"Pago\",IF(AND(tb_pagamentos[[#This Row],[Data_Pagamento]]=\"\",tb_pagamentos[[#This Row],[Data_Vencimento]]<TODAY()),\"Em Atraso\",\"A vencer\")))","v":"Em Atraso"}]
[null,null,{"$f":"IF(OR(D40=\"\",E40=\"\"),\"\",D40&\"-\"&E40)","v":"PED-013-4"},{"$f":"IFERROR(INDEX(CALC_BASE!$N$3:$N$135,MATCH(ROW()-7,CALC_BASE!$M$3:$M$135,0)),\"\")","v":"PED-013"},{"$f":"IFERROR(INDEX(CALC_BASE!$O$3:$O$135,MATCH(ROW()-7,CALC_BASE!$M$3:$M$135,0)),\"\")","v":4},{"$f":"IFERROR(INDEX(CALC_BASE!$P$3:$P$135,MATCH(ROW()-7,CALC_BASE!$M$3:$M$135,0)),\"\")","v":4},{"$f":"IFERROR(IF(D40=\"\",\"\",INDEX(tb_vendas[Preço de Venda],MATCH(D40,tb_vendas[N° Pedido/Empresa],0))/F40),\"\")","v":{"v":2050,"d":"R$ 2,050.00"}},{"$f":"IFERROR(IF(D40=\"\",\"\",INDEX(tb_vendas[Data Fechamento],MATCH(D40,tb_vendas[N° Pedido/Empresa],0))+E40*INDEX(tb_formas_pagamento[Dias_Intervalo],MATCH(INDEX(tb_vendas[Forma_Pagamento],MATCH(D40,tb_vendas[N° Pedido/Empresa],0)),tb_formas_pagamento[Nome_Forma],0))),\"\")","v":"2024-12-30"},null,{"$f":"IF(OR(tb_pagamentos[[#This Row],[Data_Vencimento]]=\"\",tb_pagamentos[[#This Row],[Valor_Parcela]]=\"\",tb_pagamentos[[#This Row],[Qtd_Total_Parcelas]]=\"\",tb_pagamentos[[#This Row],[Nr_Pedido]]=\"\"),\"\",IF(tb_pagamentos[[#This Row],[Data_Pagamento]]<>\"\",\"Pago\",IF(AND(tb_pagamentos[[#This Row],[Data_Pagamento]]=\"\",tb_pagamentos[[#This Row],[Data_Vencimento]]<TODAY()),\"Em Atraso\",\"A vencer\")))","v":"Em Atraso"}]
[null,null,"PED-014-1",{"$f":"IFERROR(INDEX(CALC_BASE!$N$3:$N$135,MATCH(ROW()-7,CALC_BASE!$M$3:$M$135,0)),\"\")","v":"PED-014"},{"$f":"IFERROR(INDEX(CALC_BASE!$O$3:$O$135,MATCH(ROW()-7,CALC_BASE!$M$3:$M$135,0)),\"\")","v":1},{"$f":"IFERROR(INDEX(CALC_BASE!$P$3:$P$135,MATCH(ROW()-7,CALC_BASE!$M$3:$M$135,0)),\"\")","v":1},{"$f":"IFERROR(IF(D41=\"\",\"\",INDEX(tb_vendas[Preço de Venda],MATCH(D41,tb_vendas[N° Pedido/Empresa],0))/F41),\"\")","v":{"v":620,"d":"R$ 620.00"}},{"$f":"IFERROR(IF(D41=\"\",\"\",INDEX(tb_vendas[Data Fechamento],MATCH(D41,tb_vendas[N° Pedido/Empresa],0))+E41*INDEX(tb_formas_pagamento[Dias_Intervalo],MATCH(INDEX(tb_vendas[Forma_Pagamento],MATCH(D41,tb_vendas[N° Pedido/Empresa],0)),tb_formas_pagamento[Nome_Forma],0))),\"\")","v":"2025-12-29"},"2025-12-27",{"$f":"IF(OR(tb_pagamentos[[#This Row],[Data_Vencimento]]=\"\",tb_pagamentos[[#This Row],[Valor_Parcela]]=\"\",tb_pagamentos[[#This Row],[Qtd_Total_Parcelas]]=\"\",tb_pagamentos[[#This Row],[Nr_Pedido]]=\"\"),\"\",IF(tb_pagamentos[[#This Row],[Data_Pagamento]]<>\"\",\"Pago\",IF(AND(tb_pagamentos[[#This Row],[Data_Pagamento]]=\"\",tb_pagamentos[[#This Row],[Data_Vencimento]]<TODAY()),\"Em Atraso\",\"A vencer\")))","v":"Pago"}]
[null,null,"PED-015-1",{"$f":"IFERROR(INDEX(CALC_BASE!$N$3:$N$135,MATCH(ROW()-7,CALC_BASE!$M$3:$M$135,0)),\"\")","v":"PED-015"},{"$f":"IFERROR(INDEX(CALC_BASE!$O$3:$O$135,MATCH(ROW()-7,CALC_BASE!$M$3:$M$135,0)),\"\")","v":1},{"$f":"IFERROR(INDEX(CALC_BASE!$P$3:$P$135,MATCH(ROW()-7,CALC_BASE!$M$3:$M$135,0)),\"\")","v":3},{"$f":"IFERROR(IF(D42=\"\",\"\",INDEX(tb_vendas[Preço de Venda],MATCH(D42,tb_vendas[N° Pedido/Empresa],0))/F42),\"\")","v":{"v":916.6666666666666,"d":"R$ 916.67"}},{"$f":"IFERROR(IF(D42=\"\",\"\",INDEX(tb_vendas[Data Fechamento],MATCH(D42,tb_vendas[N° Pedido/Empresa],0))+E42*INDEX(tb_formas_pagamento[Dias_Intervalo],MATCH(INDEX(tb_vendas[Forma_Pagamento],MATCH(D42,tb_vendas[N° Pedido/Empresa],0)),tb_formas_pagamento[Nome_Forma],0))),\"\")","v":"2026-04-02"},"2026-04-07",{"$f":"IF(OR(tb_pagamentos[[#This Row],[Data_Vencimento]]=\"\",tb_pagamentos[[#This Row],[Valor_Parcela]]=\"\",tb_pagamentos[[#This Row],[Qtd_Total_Parcelas]]=\"\",tb_pagamentos[[#This Row],[Nr_Pedido]]=\"\"),\"\",IF(tb_pagamentos[[#This Row],[Data_Pagamento]]<>\"\",\"Pago\",IF(AND(tb_pagamentos[[#This Row],[Data_Pagamento]]=\"\",tb_pagamentos[[#This Row],[Data_Vencimento]]<TODAY()),\"Em Atraso\",\"A vencer\")))","v":"Pago"}]
[null,null,"PED-015-2",{"$f":"IFERROR(INDEX(CALC_BASE!$N$3:$N$135,MATCH(ROW()-7,CALC_BASE!$M$3:$M$135,0)),\"\")","v":"PED-015"},{"$f":"IFERROR(INDEX(CALC_BASE!$O$3:$O$135,MATCH(ROW()-7,CALC_BASE!$M$3:$M$135,0)),\"\")","v":2},{"$f":"IFERROR(INDEX(CALC_BASE!$P$3:$P$135,MATCH(ROW()-7,CALC_BASE!$M$3:$M$135,0)),\"\")","v":3},{"$f":"IFERROR(IF(D43=\"\",\"\",INDEX(tb_vendas[Preço de Venda],MATCH(D43,tb_vendas[N° Pedido/Empresa],0))/F43),\"\")","v":{"v":916.6666666666666,"d":"R$ 916.67"}},{"$f":"IFERROR(IF(D43=\"\",\"\",INDEX(tb_vendas[Data Fechamento],MATCH(D43,tb_vendas[N° Pedido/Empresa],0))+E43*INDEX(tb_formas_pagamento[Dias_Intervalo],MATCH(INDEX(tb_vendas[Forma_Pagamento],MATCH(D43,tb_vendas[N° Pedido/Empresa],0)),tb_formas_pagamento[Nome_Forma],0))),\"\")","v":"2026-04-16"},"2026-04-21",{"$f":"IF(OR(tb_pagamentos[[#This Row],[Data_Vencimento]]=\"\",tb_pagamentos[[#This Row],[Valor_Parcela]]=\"\",tb_pagamentos[[#This Row],[Qtd_Total_Parcelas]]=\"\",tb_pagamentos[[#This Row],[Nr_Pedido]]=\"\"),\"\",IF(tb_pagamentos[[#This Row],[Data_Pagamento]]<>\"\",\"Pago\",IF(AND(tb_pagamentos[[#This Row],[Data_Pagamento]]=\"\",tb_pagamentos[[#This Row],[Data_Vencimento]]<TODAY()),\"Em Atraso\",\"A vencer\")))","v":"Pago"}]
[null,null,"PED-015-3",{"$f":"IFERROR(INDEX(CALC_BASE!$N$3:$N$135,MATCH(ROW()-7,CALC_BASE!$M$3:$M$135,0)),\"\")","v":"PED-015"},{"$f":"IFERROR(INDEX(CALC_BASE!$O$3:$O$135,MATCH(ROW()-7,CALC_BASE!$M$3:$M$135,0)),\"\")","v":3},{"$f":"IFERROR(INDEX(CALC_BASE!$P$3:$P$135,MATCH(ROW()-7,CALC_BASE!$M$3:$M$135,0)),\"\")","v":3},{"$f":"IFERROR(IF(D44=\"\",\"\",INDEX(tb_vendas[Preço de Venda],MATCH(D44,tb_vendas[N° Pedido/Empresa],0))/F44),\"\")","v":{"v":916.6666666666666,"d":"R$ 916.67"}},{"$f":"IFERROR(IF(D44=\"\",\"\",INDEX(tb_vendas[Data Fechamento],MATCH(D44,tb_vendas[N° Pedido/Empresa],0))+E44*INDEX(tb_formas_pagamento[Dias_Intervalo],MATCH(INDEX(tb_vendas[Forma_Pagamento],MATCH(D44,tb_vendas[N° Pedido/Empresa],0)),tb_formas_pagamento[Nome_Forma],0))),\"\")","v":"2026-04-30"},"2026-05-05",{"$f":"IF(OR(tb_pagamentos[[#This Row],[Data_Vencimento]]=\"\",tb_pagamentos[[#This Row],[Valor_Parcela]]=\"\",tb_pagamentos[[#This Row],[Qtd_Total_Parcelas]]=\"\",tb_pagamentos[[#This Row],[Nr_Pedido]]=\"\"),\"\",IF(tb_pagamentos[[#This Row],[Data_Pagamento]]<>\"\",\"Pago\",IF(AND(tb_pagamentos[[#This Row],[Data_Pagamento]]=\"\",tb_pagamentos[[#This Row],[Data_Vencimento]]<TODAY()),\"Em Atraso\",\"A vencer\")))","v":"Pago"}]
[null,null,"PED-016-1",{"$f":"IFERROR(INDEX(CALC_BASE!$N$3:$N$135,MATCH(ROW()-7,CALC_BASE!$M$3:$M$135,0)),\"\")","v":"PED-016"},{"$f":"IFERROR(INDEX(CALC_BASE!$O$3:$O$135,MATCH(ROW()-7,CALC_BASE!$M$3:$M$135,0)),\"\")","v":1},{"$f":"IFERROR(INDEX(CALC_BASE!$P$3:$P$135,MATCH(ROW()-7,CALC_BASE!$M$3:$M$135,0)),\"\")","v":2},{"$f":"IFERROR(IF(D45=\"\",\"\",INDEX(tb_vendas[Preço de Venda],MATCH(D45,tb_vendas[N° Pedido/Empresa],0))/F45),\"\")","v":{"v":220,"d":"R$ 220.00"}},{"$f":"IFERROR(IF(D45=\"\",\"\",INDEX(tb_vendas[Data Fechamento],MATCH(D45,tb_vendas[N° Pedido/Empresa],0))+E45*INDEX(tb_formas_pagamento[Dias_Intervalo],MATCH(INDEX(tb_vendas[Forma_Pagamento],MATCH(D45,tb_vendas[N° Pedido/Empresa],0)),tb_formas_pagamento[Nome_Forma],0))),\"\")","v":"2025-09-04"},"2025-09-02",{"$f":"IF(OR(tb_pagamentos[[#This Row],[Data_Vencimento]]=\"\",tb_pagamentos[[#This Row],[Valor_Parcela]]=\"\",tb_pagamentos[[#This Row],[Qtd_Total_Parcelas]]=\"\",tb_pagamentos[[#This Row],[Nr_Pedido]]=\"\"),\"\",IF(tb_pagamentos[[#This Row],[Data_Pagamento]]<>\"\",\"Pago\",IF(AND(tb_pagamentos[[#This Row],[Data_Pagamento]]=\"\",tb_pagamentos[[#This Row],[Data_Vencimento]]<TODAY()),\"Em Atraso\",\"A vencer\")))","v":"Pago"}]
[null,null,"PED-016-2",{"$f":"IFERROR(INDEX(CALC_BASE!$N$3:$N$135,MATCH(ROW()-7,CALC_BASE!$M$3:$M$135,0)),\"\")","v":"PED-016"},{"$f":"IFERROR(INDEX(CALC_BASE!$O$3:$O$135,MATCH(ROW()-7,CALC_BASE!$M$3:$M$135,0)),\"\")","v":2},{"$f":"IFERROR(INDEX(CALC_BASE!$P$3:$P$135,MATCH(ROW()-7,CALC_BASE!$M$3:$M$135,0)),\"\")","v":2},{"$f":"IFERROR(IF(D46=\"\",\"\",INDEX(tb_vendas[Preço de Venda],MATCH(D46,tb_vendas[N° Pedido/Empresa],0))/F46),\"\")","v":{"v":220,"d":"R$ 220.00"}},{"$f":"IFERROR(IF(D46=\"\",\"\",INDEX(tb_vendas[Data Fechamento],MATCH(D46,tb_vendas[N° Pedido/Empresa],0))+E46*INDEX(tb_formas_pagamento[Dias_Intervalo],MATCH(INDEX(tb_vendas[Forma_Pagamento],MATCH(D46,tb_vendas[N° Pedido/Empresa],0)),tb_formas_pagamento[Nome_Forma],0))),\"\")","v":"2025-09-18"},"2025-09-16",{"$f":"IF(OR(tb_pagamentos[[#This Row],[Data_Vencimento]]=\"\",tb_pagamentos[[#This Row],[Valor_Parcela]]=\"\",tb_pagamentos[[#This Row],[Qtd_Total_Parcelas]]=\"\",tb_pagamentos[[#This Row],[Nr_Pedido]]=\"\"),\"\",IF(tb_pagamentos[[#This Row],[Data_Pagamento]]<>\"\",\"Pago\",IF(AND(tb_pagamentos[[#This Row],[Data_Pagamento]]=\"\",tb_pagamentos[[#This Row],[Data_Vencimento]]<TODAY()),\"Em Atraso\",\"A vencer\")))","v":"Pago"}]
[null,null,"PED-017-1",{"$f":"IFERROR(INDEX(CALC_BASE!$N$3:$N$135,MATCH(ROW()-7,CALC_BASE!$M$3:$M$135,0)),\"\")","v":"PED-017"},{"$f":"IFERROR(INDEX(CALC_BASE!$O$3:$O$135,MATCH(ROW()-7,CALC_BASE!$M$3:$M$135,0)),\"\")","v":1},{"$f":"IFERROR(INDEX(CALC_BASE!$P$3:$P$135,MATCH(ROW()-7,CALC_BASE!$M$3:$M$135,0)),\"\")","v":4},{"$f":"IFERROR(IF(D47=\"\",\"\",INDEX(tb_vendas[Preço de Venda],MATCH(D47,tb_vendas[N° Pedido/Empresa],0))/F47),\"\")","v":{"v":472.5,"d":"R$ 472.50"}},{"$f":"IFERROR(IF(D47=\"\",\"\",INDEX(tb_vendas[Data Fechamento],MATCH(D47,tb_vendas[N° Pedido/Empresa],0))+E47*INDEX(tb_formas_pagamento[Dias_Intervalo],MATCH(INDEX(tb_vendas[Forma_Pagamento],MATCH(D47,tb_vendas[N° Pedido/Empresa],0)),tb_formas_pagamento[Nome_Forma],0))),\"\")","v":"2025-12-04"},null,{"$f":"IF(OR(tb_pagamentos[[#This Row],[Data_Vencimento]]=\"\",tb_pagamentos[[#This Row],[Valor_Parcela]]=\"\",tb_pagamentos[[#This Row],[Qtd_Total_Parcelas]]=\"\",tb_pagamentos[[#This Row],[Nr_Pedido]]=\"\"),\"\",IF(tb_pagamentos[[#This Row],[Data_Pagamento]]<>\"\",\"Pago\",IF(AND(tb_pagamentos[[#This Row],[Data_Pagamento]]=\"\",tb_pagamentos[[#This Row],[Data_Vencimento]]<TODAY()),\"Em Atraso\",\"A vencer\")))","v":"Em Atraso"}]
[null,null,"PED-017-2",{"$f":"IFERROR(INDEX(CALC_BASE!$N$3:$N$135,MATCH(ROW()-7,CALC_BASE!$M$3:$M$135,0)),\"\")","v":"PED-017"},{"$f":"IFERROR(INDEX(CALC_BASE!$O$3:$O$135,MATCH(ROW()-7,CALC_BASE!$M$3:$M$135,0)),\"\")","v":2},{"$f":"IFERROR(INDEX(CALC_BASE!$P$3:$P$135,MATCH(ROW()-7,CALC_BASE!$M$3:$M$135,0)),\"\")","v":4},{"$f":"IFERROR(IF(D48=\"\",\"\",INDEX(tb_vendas[Preço de Venda],MATCH(D48,tb_vendas[N° Pedido/Empresa],0))/F48),\"\")","v":{"v":472.5,"d":"R$ 472.50"}},{"$f":"IFERROR(IF(D48=\"\",\"\",INDEX(tb_vendas[Data Fechamento],MATCH(D48,tb_vendas[N° Pedido/Empresa],0))+E48*INDEX(tb_formas_pagamento[Dias_Intervalo],MATCH(INDEX(tb_vendas[Forma_Pagamento],MATCH(D48,tb_vendas[N° Pedido/Empresa],0)),tb_formas_pagamento[Nome_Forma],0))),\"\")","v":"2025-12-19"},null,{"$f":"IF(OR(tb_pagamentos[[#This Row],[Data_Vencimento]]=\"\",tb_pagamentos[[#This Row],[Valor_Parcela]]=\"\",tb_pagamentos[[#This Row],[Qtd_Total_Parcelas]]=\"\",tb_pagamentos[[#This Row],[Nr_Pedido]]=\"\"),\"\",IF(tb_pagamentos[[#This Row],[Data_Pagamento]]<>\"\",\"Pago\",IF(AND(tb_pagamentos[[#This Row],[Data_Pagamento]]=\"\",tb_pagamentos[[#This Row],[Data_Vencimento]]<TODAY()),\"Em Atraso\",\"A vencer\")))","v":"Em Atraso"}]
[null,null,"PED-017-3",{"$f":"IFERROR(INDEX(CALC_BASE!$N$3:$N$135,MATCH(ROW()-7,CALC_BASE!$M$3:$M$135,0)),\"\")","v":"PED-017"},{"$f":"IFERROR(INDEX(CALC_BASE!$O$3:$O$135,MATCH(ROW()-7,CALC_BASE!$M$3:$M$135,0)),\"\")","v":3},{"$f":"IFERROR(INDEX(CALC_BASE!$P$3:$P$135,MATCH(ROW()-7,CALC_BASE!$M$3:$M$135,0)),\"\")","v":4},{"$f":"IFERROR(IF(D49=\"\",\"\",INDEX(tb_vendas[Preço de Venda],MATCH(D49,tb_vendas[N° Pedido/Empresa],0))/F49),\"\")","v":{"v":472.5,"d":"R$ 472.50"}},{"$f":"IFERROR(IF(D49=\"\",\"\",INDEX(tb_vendas[Data Fechamento],MATCH(D49,tb_vendas[N° Pedido/Empresa],0))+E49*INDEX(tb_formas_pagamento[Dias_Intervalo],MATCH(INDEX(tb_vendas[Forma_Pagamento],MATCH(D49,tb_vendas[N° Pedido/Empresa],0)),tb_formas_pagamento[Nome_Forma],0))),\"\")","v":"2026-01-03"},null,{"$f":"IF(OR(tb_pagamentos[[#This Row],[Data_Vencimento]]=\"\",tb_pagamentos[[#This Row],[Valor_Parcela]]=\"\",tb_pagamentos[[#This Row],[Qtd_Total_Parcelas]]=\"\",tb_pagamentos[[#This Row],[Nr_Pedido]]=\"\"),\"\",IF(tb_pagamentos[[#This Row],[Data_Pagamento]]<>\"\",\"Pago\",IF(AND(tb_pagamentos[[#This Row],[Data_Pagamento]]=\"\",tb_pagamentos[[#This Row],[Data_Vencimento]]<TODAY()),\"Em Atraso\",\"A vencer\")))","v":"Em Atraso"}]
[null,null,"PED-017-4",{"$f":"IFERROR(INDEX(CALC_BASE!$N$3:$N$135,MATCH(ROW()-7,CALC_BASE!$M$3:$M$135,0)),\"\")","v":"PED-017"},{"$f":"IFERROR(INDEX(CALC_BASE!$O$3:$O$135,MATCH(ROW()-7,CALC_BASE!$M$3:$M$135,0)),\"\")","v":4},{"$f":"IFERROR(INDEX(CALC_BASE!$P$3:$P$135,MATCH(ROW()-7,CALC_BASE!$M$3:$M$135,0)),\"\")","v":4},{"$f":"IFERROR(IF(D50=\"\",\"\",INDEX(tb_vendas[Preço de Venda],MATCH(D50,tb_vendas[N° Pedido/Empresa],0))/F50),\"\")","v":{"v":472.5,"d":"R$ 472.50"}},{"$f":"IFERROR(IF(D50=\"\",\"\",INDEX(tb_vendas[Data Fechamento],MATCH(D50,tb_vendas[N° Pedido/Empresa],0))+E50*INDEX(tb_formas_pagamento[Dias_Intervalo],MATCH(INDEX(tb_vendas[Forma_Pagamento],MATCH(D50,tb_vendas[N° Pedido/Empresa],0)),tb_formas_pagamento[Nome_Forma],0))),\"\")","v":"2026-01-18"},null,{"$f":"IF(OR(tb_pagamentos[[#This Row],[Data_Vencimento]]=\"\",tb_pagamentos[[#This Row],[Valor_Parcela]]=\"\",tb_pagamentos[[#This Row],[Qtd_Total_Parcelas]]=\"\",tb_pagamentos[[#This Row],[Nr_Pedido]]=\"\"),\"\",IF(tb_pagamentos[[#This Row],[Data_Pagamento]]<>\"\",\"Pago\",IF(AND(tb_pagamentos[[#This Row],[Data_Pagamento]]=\"\",tb_pagamentos[[#This Row],[Data_Vencimento]]<TODAY()),\"Em Atraso\",\"A vencer\")))","v":"Em Atraso"}]
[null,null,"PED-018-1",{"$f":"IFERROR(INDEX(CALC_BASE!$N$3:$N$135,MATCH(ROW()-7,CALC_BASE!$M$3:$M$135,0)),\"\")","v":"PED-018"},{"$f":"IFERROR(INDEX(CALC_BASE!$O$3:$O$135,MATCH(ROW()-7,CALC_BASE!$M$3:$M$135,0)),\"\")","v":1},{"$f":"IFERROR(INDEX(CALC_BASE!$P$3:$P$135,MATCH(ROW()-7,CALC_BASE!$M$3:$M$135,0)),\"\")","v":3},{"$f":"IFERROR(IF(D51=\"\",\"\",INDEX(tb_vendas[Preço de Venda],MATCH(D51,tb_vendas[N° Pedido/Empresa],0))/F51),\"\")","v":{"v":1866.6666666666667,"d":"R$ 1,866.67"}},{"$f":"IFERROR(IF(D51=\"\",\"\",INDEX(tb_vendas[Data Fechamento],MATCH(D51,tb_vendas[N° Pedido/Empresa],0))+E51*INDEX(tb_formas_pagamento[Dias_Intervalo],MATCH(INDEX(tb_vendas[Forma_Pagamento],MATCH(D51,tb_vendas[N° Pedido/Empresa],0)),tb_formas_pagamento[Nome_Forma],0))),\"\")","v":"2025-03-28"},"2025-04-09",{"$f":"IF(OR(tb_pagamentos[[#This Row],[Data_Vencimento]]=\"\",tb_pagamentos[[#This Row],[Valor_Parcela]]=\"\",tb_pagamentos[[#This Row],[Qtd_Total_Parcelas]]=\"\",tb_pagamentos[[#This Row],[Nr_Pedido]]=\"\"),\"\",IF(tb_pagamentos[[#This Row],[Data_Pagamento]]<>\"\",\"Pago\",IF(AND(tb_pagamentos[[#This Row],[Data_Pagamento]]=\"\",tb_pagamentos[[#This Row],[Data_Vencimento]]<TODAY()),\"Em Atraso\",\"A vencer\")))","v":"Pago"}]
[null,null,"PED-018-2",{"$f":"IFERROR(INDEX(CALC_BASE!$N$3:$N$135,MATCH(ROW()-7,CALC_BASE!$M$3:$M$135,0)),\"\")","v":"PED-018"},{"$f":"IFERROR(INDEX(CALC_BASE!$O$3:$O$135,MATCH(ROW()-7,CALC_BASE!$M$3:$M$135,0)),\"\")","v":2},{"$f":"IFERROR(INDEX(CALC_BASE!$P$3:$P$135,MATCH(ROW()-7,CALC_BASE!$M$3:$M$135,0)),\"\")","v":3},{"$f":"IFERROR(IF(D52=\"\",\"\",INDEX(tb_vendas[Preço de Venda],MATCH(D52,tb_vendas[N° Pedido/Empresa],0))/F52),\"\")","v":{"v":1866.6666666666667,"d":"R$ 1,866.67"}},{"$f":"IFERROR(IF(D52=\"\",\"\",INDEX(tb_vendas[Data Fechamento],MATCH(D52,tb_vendas[N° Pedido/Empresa],0))+E52*INDEX(tb_formas_pagamento[Dias_Intervalo],MATCH(INDEX(tb_vendas[Forma_Pagamento],MATCH(D52,tb_vendas[N° Pedido/Empresa],0)),tb_formas_pagamento[Nome_Forma],0))),\"\")","v":"2025-04-11"},"2025-04-23",{"$f":"IF(OR(tb_pagamentos[[#This Row],[Data_Vencimento]]=\"\",tb_pagamentos[[#This Row],[Valor_Parcela]]=\"\",tb_pagamentos[[#This Row],[Qtd_Total_Parcelas]]=\"\",tb_pagamentos[[#This Row],[Nr_Pedido]]=\"\"),\"\",IF(tb_pagamentos[[#This Row],[Data_Pagamento]]<>\"\",\"Pago\",IF(AND(tb_pagamentos[[#This Row],[Data_Pagamento]]=\"\",tb_pagamentos[[#This Row],[Data_Vencimento]]<TODAY()),\"Em Atraso\",\"A vencer\")))","v":"Pago"}]
[null,null,"PED-018-3",{"$f":"IFERROR(INDEX(CALC_BASE!$N$3:$N$135,MATCH(ROW()-7,CALC_BASE!$M$3:$M$135,0)),\"\")","v":"PED-018"},{"$f":"IFERROR(INDEX(CALC_BASE!$O$3:$O$135,MATCH(ROW()-7,CALC_BASE!$M$3:$M$135,0)),\"\")","v":3},{"$f":"IFERROR(INDEX(CALC_BASE!$P$3:$P$135,MATCH(ROW()-7,CALC_BASE!$M$3:$M$135,0)),\"\")","v":3},{"$f":"IFERROR(IF(D53=\"\",\"\",INDEX(tb_vendas[Preço de Venda],MATCH(D53,tb_vendas[N° Pedido/Empresa],0))/F53),\"\")","v":{"v":1866.6666666666667,"d":"R$ 1,866.67"}},{"$f":"IFERROR(IF(D53=\"\",\"\",INDEX(tb_vendas[Data Fechamento],MATCH(D53,tb_vendas[N° Pedido/Empresa],0))+E53*INDEX(tb_formas_pagamento[Dias_Intervalo],MATCH(INDEX(tb_vendas[Forma_Pagamento],MATCH(D53,tb_vendas[N° Pedido/Empresa],0)),tb_formas_pagamento[Nome_Forma],0))),\"\")","v":"2025-04-25"},"2025-05-07",{"$f":"IF(OR(tb_pagamentos[[#This Row],[Data_Vencimento]]=\"\",tb_pagamentos[[#This Row],[Valor_Parcela]]=\"\",tb_pagamentos[[#This Row],[Qtd_Total_Parcelas]]=\"\",tb_pagamentos[[#This Row],[Nr_Pedido]]=\"\"),\"\",IF(tb_pagamentos[[#This Row],[Data_Pagamento]]<>\"\",\"Pago\",IF(AND(tb_pagamentos[[#This Row],[Data_Pagamento]]=\"\",tb_pagamentos[[#This Row],[Data_Vencimento]]<TODAY()),\"Em Atraso\",\"A vencer\")))","v":"Pago"}]
[null,null,"PED-019-1",{"$f":"IFERROR(INDEX(CALC_BASE!$N$3:$N$135,MATCH(ROW()-7,CALC_BASE!$M$3:$M$135,0)),\"\")","v":"PED-019"},{"$f":"IFERROR(INDEX(CALC_BASE!$O$3:$O$135,MATCH(ROW()-7,CALC_BASE!$M$3:$M$135,0)),\"\")","v":1},{"$f":"IFERROR(INDEX(CALC_BASE!$P$3:$P$135,MATCH(ROW()-7,CALC_BASE!$M$3:$M$135,0)),\"\")","v":2},{"$f":"IFERROR(IF(D54=\"\",\"\",INDEX(tb_vendas[Preço de Venda],MATCH(D54,tb_vendas[N° Pedido/Empresa],0))/F54),\"\")","v":{"v":1550,"d":"R$ 1,550.00"}},{"$f":"IFERROR(IF(D54=\"\",\"\",INDEX(tb_vendas[Data Fechamento],MATCH(D54,tb_vendas[N° Pedido/Empresa],0))+E54*INDEX(tb_formas_pagamento[Dias_Intervalo],MATCH(INDEX(tb_vendas[Forma_Pagamento],MATCH(D54,tb_vendas[N° Pedido/Empresa],0)),tb_formas_pagamento[Nome_Forma],0))),\"\")","v":"2026-07-25"},null,{"$f":"IF(OR(tb_pagamentos[[#This Row],[Data_Vencimento]]=\"\",tb_pagamentos[[#This Row],[Valor_Parcela]]=\"\",tb_pagamentos[[#This Row],[Qtd_Total_Parcelas]]=\"\",tb_pagamentos[[#This Row],[Nr_Pedido]]=\"\"),\"\",IF(tb_pagamentos[[#This Row],[Data_Pagamento]]<>\"\",\"Pago\",IF(AND(tb_pagamentos[[#This Row],[Data_Pagamento]]=\"\",tb_pagamentos[[#This Row],[Data_Vencimento]]<TODAY()),\"Em Atraso\",\"A vencer\")))","v":"Em Atraso"}]
[null,null,"PED-019-2",{"$f":"IFERROR(INDEX(CALC_BASE!$N$3:$N$135,MATCH(ROW()-7,CALC_BASE!$M$3:$M$135,0)),\"\")","v":"PED-019"},{"$f":"IFERROR(INDEX(CALC_BASE!$O$3:$O$135,MATCH(ROW()-7,CALC_BASE!$M$3:$M$135,0)),\"\")","v":2},{"$f":"IFERROR(INDEX(CALC_BASE!$P$3:$P$135,MATCH(ROW()-7,CALC_BASE!$M$3:$M$135,0)),\"\")","v":2},{"$f":"IFERROR(IF(D55=\"\",\"\",INDEX(tb_vendas[Preço de Venda],MATCH(D55,tb_vendas[N° Pedido/Empresa],0))/F55),\"\")","v":{"v":1550,"d":"R$ 1,550.00"}},{"$f":"IFERROR(IF(D55=\"\",\"\",INDEX(tb_vendas[Data Fechamento],MATCH(D55,tb_vendas[N° Pedido/Empresa],0))+E55*INDEX(tb_formas_pagamento[Dias_Intervalo],MATCH(INDEX(tb_vendas[Forma_Pagamento],MATCH(D55,tb_vendas[N° Pedido/Empresa],0)),tb_formas_pagamento[Nome_Forma],0))),\"\")","v":"2026-08-22"},null,{"$f":"IF(OR(tb_pagamentos[[#This Row],[Data_Vencimento]]=\"\",tb_pagamentos[[#This Row],[Valor_Parcela]]=\"\",tb_pagamentos[[#This Row],[Qtd_Total_Parcelas]]=\"\",tb_pagamentos[[#This Row],[Nr_Pedido]]=\"\"),\"\",IF(tb_pagamentos[[#This Row],[Data_Pagamento]]<>\"\",\"Pago\",IF(AND(tb_pagamentos[[#This Row],[Data_Pagamento]]=\"\",tb_pagamentos[[#This Row],[Data_Vencimento]]<TODAY()),\"Em Atraso\",\"A vencer\")))","v":"A vencer"}]
[null,null,"PED-020-1",{"$f":"IFERROR(INDEX(CALC_BASE!$N$3:$N$135,MATCH(ROW()-7,CALC_BASE!$M$3:$M$135,0)),\"\")","v":"PED-020"},{"$f":"IFERROR(INDEX(CALC_BASE!$O$3:$O$135,MATCH(ROW()-7,CALC_BASE!$M$3:$M$135,0)),\"\")","v":1},{"$f":"IFERROR(INDEX(CALC_BASE!$P$3:$P$135,MATCH(ROW()-7,CALC_BASE!$M$3:$M$135,0)),\"\")","v":3},{"$f":"IFERROR(IF(D56=\"\",\"\",INDEX(tb_vendas[Preço de Venda],MATCH(D56,tb_vendas[N° Pedido/Empresa],0))/F56),\"\")","v":{"v":260,"d":"R$ 260.00"}},{"$f":"IFERROR(IF(D56=\"\",\"\",INDEX(tb_vendas[Data Fechamento],MATCH(D56,tb_vendas[N° Pedido/Empresa],0))+E56*INDEX(tb_formas_pagamento[Dias_Intervalo],MATCH(INDEX(tb_vendas[Forma_Pagamento],MATCH(D56,tb_vendas[N° Pedido/Empresa],0)),tb_formas_pagamento[Nome_Forma],0))),\"\")","v":"2024-12-29"},null,{"$f":"IF(OR(tb_pagamentos[[#This Row],[Data_Vencimento]]=\"\",tb_pagamentos[[#This Row],[Valor_Parcela]]=\"\",tb_pagamentos[[#This Row],[Qtd_Total_Parcelas]]=\"\",tb_pagamentos[[#This Row],[Nr_Pedido]]=\"\"),\"\",IF(tb_pagamentos[[#This Row],[Data_Pagamento]]<>\"\",\"Pago\",IF(AND(tb_pagamentos[[#This Row],[Data_Pagamento]]=\"\",tb_pagamentos[[#This Row],[Data_Vencimento]]<TODAY()),\"Em Atraso\",\"A vencer\")))","v":"Em Atraso"}]
[null,null,"PED-020-2",{"$f":"IFERROR(INDEX(CALC_BASE!$N$3:$N$135,MATCH(ROW()-7,CALC_BASE!$M$3:$M$135,0)),\"\")","v":"PED-020"},{"$f":"IFERROR(INDEX(CALC_BASE!$O$3:$O$135,MATCH(ROW()-7,CALC_BASE!$M$3:$M$135,0)),\"\")","v":2},{"$f":"IFERROR(INDEX(CALC_BASE!$P$3:$P$135,MATCH(ROW()-7,CALC_BASE!$M$3:$M$135,0)),\"\")","v":3},{"$f":"IFERROR(IF(D57=\"\",\"\",INDEX(tb_vendas[Preço de Venda],MATCH(D57,tb_vendas[N° Pedido/Empresa],0))/F57),\"\")","v":{"v":260,"d":"R$ 260.00"}},{"$f":"IFERROR(IF(D57=\"\",\"\",INDEX(tb_vendas[Data Fechamento],MATCH(D57,tb_vendas[N° Pedido/Empresa],0))+E57*INDEX(tb_formas_pagamento[Dias_Intervalo],MATCH(INDEX(tb_vendas[Forma_Pagamento],MATCH(D57,tb_vendas[N° Pedido/Empresa],0)),tb_formas_pagamento[Nome_Forma],0))),\"\")","v":"2025-01-13"},null,{"$f":"IF(OR(tb_pagamentos[[#This Row],[Data_Vencimento]]=\"\",tb_pagamentos[[#This Row],[Valor_Parcela]]=\"\",tb_pagamentos[[#This Row],[Qtd_Total_Parcelas]]=\"\",tb_pagamentos[[#This Row],[Nr_Pedido]]=\"\"),\"\",IF(tb_pagamentos[[#This Row],[Data_Pagamento]]<>\"\",\"Pago\",IF(AND(tb_pagamentos[[#This Row],[Data_Pagamento]]=\"\",tb_pagamentos[[#This Row],[Data_Vencimento]]<TODAY()),\"Em Atraso\",\"A vencer\")))","v":"Em Atraso"}]
[null,null,"PED-020-3",{"$f":"IFERROR(INDEX(CALC_BASE!$N$3:$N$135,MATCH(ROW()-7,CALC_BASE!$M$3:$M$135,0)),\"\")","v":"PED-020"},{"$f":"IFERROR(INDEX(CALC_BASE!$O$3:$O$135,MATCH(ROW()-7,CALC_BASE!$M$3:$M$135,0)),\"\")","v":3},{"$f":"IFERROR(INDEX(CALC_BASE!$P$3:$P$135,MATCH(ROW()-7,CALC_BASE!$M$3:$M$135,0)),\"\")","v":3},{"$f":"IFERROR(IF(D58=\"\",\"\",INDEX(tb_vendas[Preço de Venda],MATCH(D58,tb_vendas[N° Pedido/Empresa],0))/F58),\"\")","v":{"v":260,"d":"R$ 260.00"}},{"$f":"IFERROR(IF(D58=\"\",\"\",INDEX(tb_vendas[Data Fechamento],MATCH(D58,tb_vendas[N° Pedido/Empresa],0))+E58*INDEX(tb_formas_pagamento[Dias_Intervalo],MATCH(INDEX(tb_vendas[Forma_Pagamento],MATCH(D58,tb_vendas[N° Pedido/Empresa],0)),tb_formas_pagamento[Nome_Forma],0))),\"\")","v":"2025-01-28"},null,{"$f":"IF(OR(tb_pagamentos[[#This Row],[Data_Vencimento]]=\"\",tb_pagamentos[[#This Row],[Valor_Parcela]]=\"\",tb_pagamentos[[#This Row],[Qtd_Total_Parcelas]]=\"\",tb_pagamentos[[#This Row],[Nr_Pedido]]=\"\"),\"\",IF(tb_pagamentos[[#This Row],[Data_Pagamento]]<>\"\",\"Pago\",IF(AND(tb_pagamentos[[#This Row],[Data_Pagamento]]=\"\",tb_pagamentos[[#This Row],[Data_Vencimento]]<TODAY()),\"Em Atraso\",\"A vencer\")))","v":"Em Atraso"}]
[null,null,"PED-021-1",{"$f":"IFERROR(INDEX(CALC_BASE!$N$3:$N$135,MATCH(ROW()-7,CALC_BASE!$M$3:$M$135,0)),\"\")","v":"PED-021"},{"$f":"IFERROR(INDEX(CALC_BASE!$O$3:$O$135,MATCH(ROW()-7,CALC_BASE!$M$3:$M$135,0)),\"\")","v":1},{"$f":"IFERROR(INDEX(CALC_BASE!$P$3:$P$135,MATCH(ROW()-7,CALC_BASE!$M$3:$M$135,0)),\"\")","v":2},{"$f":"IFERROR(IF(D59=\"\",\"\",INDEX(tb_vendas[Preço de Venda],MATCH(D59,tb_vendas[N° Pedido/Empresa],0))/F59),\"\")","v":{"v":1170,"d":"R$ 1,170.00"}},{"$f":"IFERROR(IF(D59=\"\",\"\",INDEX(tb_vendas[Data Fechamento],MATCH(D59,tb_vendas[N° Pedido/Empresa],0))+E59*INDEX(tb_formas_pagamento[Dias_Intervalo],MATCH(INDEX(tb_vendas[Forma_Pagamento],MATCH(D59,tb_vendas[N° Pedido/Empresa],0)),tb_formas_pagamento[Nome_Forma],0))),\"\")","v":"2025-06-06"},"2025-06-18",{"$f":"IF(OR(tb_pagamentos[[#This Row],[Data_Vencimento]]=\"\",tb_pagamentos[[#This Row],[Valor_Parcela]]=\"\",tb_pagamentos[[#This Row],[Qtd_Total_Parcelas]]=\"\",tb_pagamentos[[#This Row],[Nr_Pedido]]=\"\"),\"\",IF(tb_pagamentos[[#This Row],[Data_Pagamento]]<>\"\",\"Pago\",IF(AND(tb_pagamentos[[#This Row],[Data_Pagamento]]=\"\",tb_pagamentos[[#This Row],[Data_Vencimento]]<TODAY()),\"Em Atraso\",\"A vencer\")))","v":"Pago"}]
[null,null,"PED-021-2",{"$f":"IFERROR(INDEX(CALC_BASE!$N$3:$N$135,MATCH(ROW()-7,CALC_BASE!$M$3:$M$135,0)),\"\")","v":"PED-021"},{"$f":"IFERROR(INDEX(CALC_BASE!$O$3:$O$135,MATCH(ROW()-7,CALC_BASE!$M$3:$M$135,0)),\"\")","v":2},{"$f":"IFERROR(INDEX(CALC_BASE!$P$3:$P$135,MATCH(ROW()-7,CALC_BASE!$M$3:$M$135,0)),\"\")","v":2},{"$f":"IFERROR(IF(D60=\"\",\"\",INDEX(tb_vendas[Preço de Venda],MATCH(D60,tb_vendas[N° Pedido/Empresa],0))/F60),\"\")","v":{"v":1170,"d":"R$ 1,170.00"}},{"$f":"IFERROR(IF(D60=\"\",\"\",INDEX(tb_vendas[Data Fechamento],MATCH(D60,tb_vendas[N° Pedido/Empresa],0))+E60*INDEX(tb_formas_pagamento[Dias_Intervalo],MATCH(INDEX(tb_vendas[Forma_Pagamento],MATCH(D60,tb_vendas[N° Pedido/Empresa],0)),tb_formas_pagamento[Nome_Forma],0))),\"\")","v":"2025-06-20"},null,{"$f":"IF(OR(tb_pagamentos[[#This Row],[Data_Vencimento]]=\"\",tb_pagamentos[[#This Row],[Valor_Parcela]]=\"\",tb_pagamentos[[#This Row],[Qtd_Total_Parcelas]]=\"\",tb_pagamentos[[#This Row],[Nr_Pedido]]=\"\"),\"\",IF(tb_pagamentos[[#This Row],[Data_Pagamento]]<>\"\",\"Pago\",IF(AND(tb_pagamentos[[#This Row],[Data_Pagamento]]=\"\",tb_pagamentos[[#This Row],[Data_Vencimento]]<TODAY()),\"Em Atraso\",\"A vencer\")))","v":"Em Atraso"}]
[null,null,"PED-022-1",{"$f":"IFERROR(INDEX(CALC_BASE!$N$3:$N$135,MATCH(ROW()-7,CALC_BASE!$M$3:$M$135,0)),\"\")","v":"PED-022"},{"$f":"IFERROR(INDEX(CALC_BASE!$O$3:$O$135,MATCH(ROW()-7,CALC_BASE!$M$3:$M$135,0)),\"\")","v":1},{"$f":"IFERROR(INDEX(CALC_BASE!$P$3:$P$135,MATCH(ROW()-7,CALC_BASE!$M$3:$M$135,0)),\"\")","v":1},{"$f":"IFERROR(IF(D61=\"\",\"\",INDEX(tb_vendas[Preço de Venda],MATCH(D61,tb_vendas[N° Pedido/Empresa],0))/F61),\"\")","v":{"v":1100,"d":"R$ 1,100.00"}},{"$f":"IFERROR(IF(D61=\"\",\"\",INDEX(tb_vendas[Data Fechamento],MATCH(D61,tb_vendas[N° Pedido/Empresa],0))+E61*INDEX(tb_formas_pagamento[Dias_Intervalo],MATCH(INDEX(tb_vendas[Forma_Pagamento],MATCH(D61,tb_vendas[N° Pedido/Empresa],0)),tb_formas_pagamento[Nome_Forma],0))),\"\")","v":"2026-02-27"},"2026-02-26",{"$f":"IF(OR(tb_pagamentos[[#This Row],[Data_Vencimento]]=\"\",tb_pagamentos[[#This Row],[Valor_Parcela]]=\"\",tb_pagamentos[[#This Row],[Qtd_Total_Parcelas]]=\"\",tb_pagamentos[[#This Row],[Nr_Pedido]]=\"\"),\"\",IF(tb_pagamentos[[#This Row],[Data_Pagamento]]<>\"\",\"Pago\",IF(AND(tb_pagamentos[[#This Row],[Data_Pagamento]]=\"\",tb_pagamentos[[#This Row],[Data_Vencimento]]<TODAY()),\"Em Atraso\",\"A vencer\")))","v":"Pago"}]
[null,null,"PED-023-1",{"$f":"IFERROR(INDEX(CALC_BASE!$N$3:$N$135,MATCH(ROW()-7,CALC_BASE!$M$3:$M$135,0)),\"\")","v":"PED-023"},{"$f":"IFERROR(INDEX(CALC_BASE!$O$3:$O$135,MATCH(ROW()-7,CALC_BASE!$M$3:$M$135,0)),\"\")","v":1},{"$f":"IFERROR(INDEX(CALC_BASE!$P$3:$P$135,MATCH(ROW()-7,CALC_BASE!$M$3:$M$135,0)),\"\")","v":2},{"$f":"IFERROR(IF(D62=\"\",\"\",INDEX(tb_vendas[Preço de Venda],MATCH(D62,tb_vendas[N° Pedido/Empresa],0))/F62),\"\")","v":{"v":2100,"d":"R$ 2,100.00"}},{"$f":"IFERROR(IF(D62=\"\",\"\",INDEX(tb_vendas[Data Fechamento],MATCH(D62,tb_vendas[N° Pedido/Empresa],0))+E62*INDEX(tb_formas_pagamento[Dias_Intervalo],MATCH(INDEX(tb_vendas[Forma_Pagamento],MATCH(D62,tb_vendas[N° Pedido/Empresa],0)),tb_formas_pagamento[Nome_Forma],0))),\"\")","v":"2025-08-11"},"2025-08-09",{"$f":"IF(OR(tb_pagamentos[[#This Row],[Data_Vencimento]]=\"\",tb_pagamentos[[#This Row],[Valor_Parcela]]=\"\",tb_pagamentos[[#This Row],[Qtd_Total_Parcelas]]=\"\",tb_pagamentos[[#This Row],[Nr_Pedido]]=\"\"),\"\",IF(tb_pagamentos[[#This Row],[Data_Pagamento]]<>\"\",\"Pago\",IF(AND(tb_pagamentos[[#This Row],[Data_Pagamento]]=\"\",tb_pagamentos[[#This Row],[Data_Vencimento]]<TODAY()),\"Em Atraso\",\"A vencer\")))","v":"Pago"}]
[null,null,"PED-023-2",{"$f":"IFERROR(INDEX(CALC_BASE!$N$3:$N$135,MATCH(ROW()-7,CALC_BASE!$M$3:$M$135,0)),\"\")","v":"PED-023"},{"$f":"IFERROR(INDEX(CALC_BASE!$O$3:$O$135,MATCH(ROW()-7,CALC_BASE!$M$3:$M$135,0)),\"\")","v":2},{"$f":"IFERROR(INDEX(CALC_BASE!$P$3:$P$135,MATCH(ROW()-7,CALC_BASE!$M$3:$M$135,0)),\"\")","v":2},{"$f":"IFERROR(IF(D63=\"\",\"\",INDEX(tb_vendas[Preço de Venda],MATCH(D63,tb_vendas[N° Pedido/Empresa],0))/F63),\"\")","v":{"v":2100,"d":"R$ 2,100.00"}},{"$f":"IFERROR(IF(D63=\"\",\"\",INDEX(tb_vendas[Data Fechamento],MATCH(D63,tb_vendas[N° Pedido/Empresa],0))+E63*INDEX(tb_formas_pagamento[Dias_Intervalo],MATCH(INDEX(tb_vendas[Forma_Pagamento],MATCH(D63,tb_vendas[N° Pedido/Empresa],0)),tb_formas_pagamento[Nome_Forma],0))),\"\")","v":"2025-09-10"},"2025-09-08",{"$f":"IF(OR(tb_pagamentos[[#This Row],[Data_Vencimento]]=\"\",tb_pagamentos[[#This Row],[Valor_Parcela]]=\"\",tb_pagamentos[[#This Row],[Qtd_Total_Parcelas]]=\"\",tb_pagamentos[[#This Row],[Nr_Pedido]]=\"\"),\"\",IF(tb_pagamentos[[#This Row],[Data_Pagamento]]<>\"\",\"Pago\",IF(AND(tb_pagamentos[[#This Row],[Data_Pagamento]]=\"\",tb_pagamentos[[#This Row],[Data_Vencimento]]<TODAY()),\"Em Atraso\",\"A vencer\")))","v":"Pago"}]
[null,null,"PED-024-1",{"$f":"IFERROR(INDEX(CALC_BASE!$N$3:$N$135,MATCH(ROW()-7,CALC_BASE!$M$3:$M$135,0)),\"\")","v":"PED-024"},{"$f":"IFERROR(INDEX(CALC_BASE!$O$3:$O$135,MATCH(ROW()-7,CALC_BASE!$M$3:$M$135,0)),\"\")","v":1},{"$f":"IFERROR(INDEX(CALC_BASE!$P$3:$P$135,MATCH(ROW()-7,CALC_BASE!$M$3:$M$135,0)),\"\")","v":1},{"$f":"IFERROR(IF(D64=\"\",\"\",INDEX(tb_vendas[Preço de Venda],MATCH(D64,tb_vendas[N° Pedido/Empresa],0))/F64),\"\")","v":{"v":980,"d":"R$ 980.00"}},{"$f":"IFERROR(IF(D64=\"\",\"\",INDEX(tb_vendas[Data Fechamento],MATCH(D64,tb_vendas[N° Pedido/Empresa],0))+E64*INDEX(tb_formas_pagamento[Dias_Intervalo],MATCH(INDEX(tb_vendas[Forma_Pagamento],MATCH(D64,tb_vendas[N° Pedido/Empresa],0)),tb_formas_pagamento[Nome_Forma],0))),\"\")","v":"2026-06-05"},"2026-06-03",{"$f":"IF(OR(tb_pagamentos[[#This Row],[Data_Vencimento]]=\"\",tb_pagamentos[[#This Row],[Valor_Parcela]]=\"\",tb_pagamentos[[#This Row],[Qtd_Total_Parcelas]]=\"\",tb_pagamentos[[#This Row],[Nr_Pedido]]=\"\"),\"\",IF(tb_pagamentos[[#This Row],[Data_Pagamento]]<>\"\",\"Pago\",IF(AND(tb_pagamentos[[#This Row],[Data_Pagamento]]=\"\",tb_pagamentos[[#This Row],[Data_Vencimento]]<TODAY()),\"Em Atraso\",\"A vencer\")))","v":"Pago"}]
[null,null,"PED-025-1",{"$f":"IFERROR(INDEX(CALC_BASE!$N$3:$N$135,MATCH(ROW()-7,CALC_BASE!$M$3:$M$135,0)),\"\")","v":"PED-025"},{"$f":"IFERROR(INDEX(CALC_BASE!$O$3:$O$135,MATCH(ROW()-7,CALC_BASE!$M$3:$M$135,0)),\"\")","v":1},{"$f":"IFERROR(INDEX(CALC_BASE!$P$3:$P$135,MATCH(ROW()-7,CALC_BASE!$M$3:$M$135,0)),\"\")","v":4},{"$f":"IFERROR(IF(D65=\"\",\"\",INDEX(tb_vendas[Preço de Venda],MATCH(D65,tb_vendas[N° Pedido/Empresa],0))/F65),\"\")","v":{"v":900,"d":"R$ 900.00"}},{"$f":"IFERROR(IF(D65=\"\",\"\",INDEX(tb_vendas[Data Fechamento],MATCH(D65,tb_vendas[N° Pedido/Empresa],0))+E65*INDEX(tb_formas_pagamento[Dias_Intervalo],MATCH(INDEX(tb_vendas[Forma_Pagamento],MATCH(D65,tb_vendas[N° Pedido/Empresa],0)),tb_formas_pagamento[Nome_Forma],0))),\"\")","v":"2024-10-09"},"2024-10-21",{"$f":"IF(OR(tb_pagamentos[[#This Row],[Data_Vencimento]]=\"\",tb_pagamentos[[#This Row],[Valor_Parcela]]=\"\",tb_pagamentos[[#This Row],[Qtd_Total_Parcelas]]=\"\",tb_pagamentos[[#This Row],[Nr_Pedido]]=\"\"),\"\",IF(tb_pagamentos[[#This Row],[Data_Pagamento]]<>\"\",\"Pago\",IF(AND(tb_pagamentos[[#This Row],[Data_Pagamento]]=\"\",tb_pagamentos[[#This Row],[Data_Vencimento]]<TODAY()),\"Em Atraso\",\"A vencer\")))","v":"Pago"}]
[null,null,"PED-025-2",{"$f":"IFERROR(INDEX(CALC_BASE!$N$3:$N$135,MATCH(ROW()-7,CALC_BASE!$M$3:$M$135,0)),\"\")","v":"PED-025"},{"$f":"IFERROR(INDEX(CALC_BASE!$O$3:$O$135,MATCH(ROW()-7,CALC_BASE!$M$3:$M$135,0)),\"\")","v":2},{"$f":"IFERROR(INDEX(CALC_BASE!$P$3:$P$135,MATCH(ROW()-7,CALC_BASE!$M$3:$M$135,0)),\"\")","v":4},{"$f":"IFERROR(IF(D66=\"\",\"\",INDEX(tb_vendas[Preço de Venda],MATCH(D66,tb_vendas[N° Pedido/Empresa],0))/F66),\"\")","v":{"v":900,"d":"R$ 900.00"}},{"$f":"IFERROR(IF(D66=\"\",\"\",INDEX(tb_vendas[Data Fechamento],MATCH(D66,tb_vendas[N° Pedido/Empresa],0))+E66*INDEX(tb_formas_pagamento[Dias_Intervalo],MATCH(INDEX(tb_vendas[Forma_Pagamento],MATCH(D66,tb_vendas[N° Pedido/Empresa],0)),tb_formas_pagamento[Nome_Forma],0))),\"\")","v":"2024-10-23"},"2024-11-04",{"$f":"IF(OR(tb_pagamentos[[#This Row],[Data_Vencimento]]=\"\",tb_pagamentos[[#This Row],[Valor_Parcela]]=\"\",tb_pagamentos[[#This Row],[Qtd_Total_Parcelas]]=\"\",tb_pagamentos[[#This Row],[Nr_Pedido]]=\"\"),\"\",IF(tb_pagamentos[[#This Row],[Data_Pagamento]]<>\"\",\"Pago\",IF(AND(tb_pagamentos[[#This Row],[Data_Pagamento]]=\"\",tb_pagamentos[[#This Row],[Data_Vencimento]]<TODAY()),\"Em Atraso\",\"A vencer\")))","v":"Pago"}]
[null,null,"PED-025-3",{"$f":"IFERROR(INDEX(CALC_BASE!$N$3:$N$135,MATCH(ROW()-7,CALC_BASE!$M$3:$M$135,0)),\"\")","v":"PED-025"},{"$f":"IFERROR(INDEX(CALC_BASE!$O$3:$O$135,MATCH(ROW()-7,CALC_BASE!$M$3:$M$135,0)),\"\")","v":3},{"$f":"IFERROR(INDEX(CALC_BASE!$P$3:$P$135,MATCH(ROW()-7,CALC_BASE!$M$3:$M$135,0)),\"\")","v":4},{"$f":"IFERROR(IF(D67=\"\",\"\",INDEX(tb_vendas[Preço de Venda],MATCH(D67,tb_vendas[N° Pedido/Empresa],0))/F67),\"\")","v":{"v":900,"d":"R$ 900.00"}},{"$f":"IFERROR(IF(D67=\"\",\"\",INDEX(tb_vendas[Data Fechamento],MATCH(D67,tb_vendas[N° Pedido/Empresa],0))+E67*INDEX(tb_formas_pagamento[Dias_Intervalo],MATCH(INDEX(tb_vendas[Forma_Pagamento],MATCH(D67,tb_vendas[N° Pedido/Empresa],0)),tb_formas_pagamento[Nome_Forma],0))),\"\")","v":"2024-11-06"},"2024-11-18",{"$f":"IF(OR(tb_pagamentos[[#This Row],[Data_Vencimento]]=\"\",tb_pagamentos[[#This Row],[Valor_Parcela]]=\"\",tb_pagamentos[[#This Row],[Qtd_Total_Parcelas]]=\"\",tb_pagamentos[[#This Row],[Nr_Pedido]]=\"\"),\"\",IF(tb_pagamentos[[#This Row],[Data_Pagamento]]<>\"\",\"Pago\",IF(AND(tb_pagamentos[[#This Row],[Data_Pagamento]]=\"\",tb_pagamentos[[#This Row],[Data_Vencimento]]<TODAY()),\"Em Atraso\",\"A vencer\")))","v":"Pago"}]
[null,null,"PED-025-4",{"$f":"IFERROR(INDEX(CALC_BASE!$N$3:$N$135,MATCH(ROW()-7,CALC_BASE!$M$3:$M$135,0)),\"\")","v":"PED-025"},{"$f":"IFERROR(INDEX(CALC_BASE!$O$3:$O$135,MATCH(ROW()-7,CALC_BASE!$M$3:$M$135,0)),\"\")","v":4},{"$f":"IFERROR(INDEX(CALC_BASE!$P$3:$P$135,MATCH(ROW()-7,CALC_BASE!$M$3:$M$135,0)),\"\")","v":4},{"$f":"IFERROR(IF(D68=\"\",\"\",INDEX(tb_vendas[Preço de Venda],MATCH(D68,tb_vendas[N° Pedido/Empresa],0))/F68),\"\")","v":{"v":900,"d":"R$ 900.00"}},{"$f":"IFERROR(IF(D68=\"\",\"\",INDEX(tb_vendas[Data Fechamento],MATCH(D68,tb_vendas[N° Pedido/Empresa],0))+E68*INDEX(tb_formas_pagamento[Dias_Intervalo],MATCH(INDEX(tb_vendas[Forma_Pagamento],MATCH(D68,tb_vendas[N° Pedido/Empresa],0)),tb_formas_pagamento[Nome_Forma],0))),\"\")","v":"2024-11-20"},"2024-12-02",{"$f":"IF(OR(tb_pagamentos[[#This Row],[Data_Vencimento]]=\"\",tb_pagamentos[[#This Row],[Valor_Parcela]]=\"\",tb_pagamentos[[#This Row],[Qtd_Total_Parcelas]]=\"\",tb_pagamentos[[#This Row],[Nr_Pedido]]=\"\"),\"\",IF(tb_pagamentos[[#This Row],[Data_Pagamento]]<>\"\",\"Pago\",IF(AND(tb_pagamentos[[#This Row],[Data_Pagamento]]=\"\",tb_pagamentos[[#This Row],[Data_Vencimento]]<TODAY()),\"Em Atraso\",\"A vencer\")))","v":"Pago"}]
[null,null,"PED-026-1",{"$f":"IFERROR(INDEX(CALC_BASE!$N$3:$N$135,MATCH(ROW()-7,CALC_BASE!$M$3:$M$135,0)),\"\")","v":"PED-026"},{"$f":"IFERROR(INDEX(CALC_BASE!$O$3:$O$135,MATCH(ROW()-7,CALC_BASE!$M$3:$M$135,0)),\"\")","v":1},{"$f":"IFERROR(INDEX(CALC_BASE!$P$3:$P$135,MATCH(ROW()-7,CALC_BASE!$M$3:$M$135,0)),\"\")","v":3},{"$f":"IFERROR(IF(D69=\"\",\"\",INDEX(tb_vendas[Preço de Venda],MATCH(D69,tb_vendas[N° Pedido/Empresa],0))/F69),\"\")","v":{"v":733.3333333333334,"d":"R$ 733.33"}},{"$f":"IFERROR(IF(D69=\"\",\"\",INDEX(tb_vendas[Data Fechamento],MATCH(D69,tb_vendas[N° Pedido/Empresa],0))+E69*INDEX(tb_formas_pagamento[Dias_Intervalo],MATCH(INDEX(tb_vendas[Forma_Pagamento],MATCH(D69,tb_vendas[N° Pedido/Empresa],0)),tb_formas_pagamento[Nome_Forma],0))),\"\")","v":"2025-11-03"},"2025-11-08",{"$f":"IF(OR(tb_pagamentos[[#This Row],[Data_Vencimento]]=\"\",tb_pagamentos[[#This Row],[Valor_Parcela]]=\"\",tb_pagamentos[[#This Row],[Qtd_Total_Parcelas]]=\"\",tb_pagamentos[[#This Row],[Nr_Pedido]]=\"\"),\"\",IF(tb_pagamentos[[#This Row],[Data_Pagamento]]<>\"\",\"Pago\",IF(AND(tb_pagamentos[[#This Row],[Data_Pagamento]]=\"\",tb_pagamentos[[#This Row],[Data_Vencimento]]<TODAY()),\"Em Atraso\",\"A vencer\")))","v":"Pago"}]
[null,null,"PED-026-2",{"$f":"IFERROR(INDEX(CALC_BASE!$N$3:$N$135,MATCH(ROW()-7,CALC_BASE!$M$3:$M$135,0)),\"\")","v":"PED-026"},{"$f":"IFERROR(INDEX(CALC_BASE!$O$3:$O$135,MATCH(ROW()-7,CALC_BASE!$M$3:$M$135,0)),\"\")","v":2},{"$f":"IFERROR(INDEX(CALC_BASE!$P$3:$P$135,MATCH(ROW()-7,CALC_BASE!$M$3:$M$135,0)),\"\")","v":3},{"$f":"IFERROR(IF(D70=\"\",\"\",INDEX(tb_vendas[Preço de Venda],MATCH(D70,tb_vendas[N° Pedido/Empresa],0))/F70),\"\")","v":{"v":733.3333333333334,"d":"R$ 733.33"}},{"$f":"IFERROR(IF(D70=\"\",\"\",INDEX(tb_vendas[Data Fechamento],MATCH(D70,tb_vendas[N° Pedido/Empresa],0))+E70*INDEX(tb_formas_pagamento[Dias_Intervalo],MATCH(INDEX(tb_vendas[Forma_Pagamento],MATCH(D70,tb_vendas[N° Pedido/Empresa],0)),tb_formas_pagamento[Nome_Forma],0))),\"\")","v":"2025-11-17"},null,{"$f":"IF(OR(tb_pagamentos[[#This Row],[Data_Vencimento]]=\"\",tb_pagamentos[[#This Row],[Valor_Parcela]]=\"\",tb_pagamentos[[#This Row],[Qtd_Total_Parcelas]]=\"\",tb_pagamentos[[#This Row],[Nr_Pedido]]=\"\"),\"\",IF(tb_pagamentos[[#This Row],[Data_Pagamento]]<>\"\",\"Pago\",IF(AND(tb_pagamentos[[#This Row],[Data_Pagamento]]=\"\",tb_pagamentos[[#This Row],[Data_Vencimento]]<TODAY()),\"Em Atraso\",\"A vencer\")))","v":"Em Atraso"}]
[null,null,"PED-026-3",{"$f":"IFERROR(INDEX(CALC_BASE!$N$3:$N$135,MATCH(ROW()-7,CALC_BASE!$M$3:$M$135,0)),\"\")","v":"PED-026"},{"$f":"IFERROR(INDEX(CALC_BASE!$O$3:$O$135,MATCH(ROW()-7,CALC_BASE!$M$3:$M$135,0)),\"\")","v":3},{"$f":"IFERROR(INDEX(CALC_BASE!$P$3:$P$135,MATCH(ROW()-7,CALC_BASE!$M$3:$M$135,0)),\"\")","v":3},{"$f":"IFERROR(IF(D71=\"\",\"\",INDEX(tb_vendas[Preço de Venda],MATCH(D71,tb_vendas[N° Pedido/Empresa],0))/F71),\"\")","v":{"v":733.3333333333334,"d":"R$ 733.33"}},{"$f":"IFERROR(IF(D71=\"\",\"\",INDEX(tb_vendas[Data Fechamento],MATCH(D71,tb_vendas[N° Pedido/Empresa],0))+E71*INDEX(tb_formas_pagamento[Dias_Intervalo],MATCH(INDEX(tb_vendas[Forma_Pagamento],MATCH(D71,tb_vendas[N° Pedido/Empresa],0)),tb_formas_pagamento[Nome_Forma],0))),\"\")","v":"2025-12-01"},null,{"$f":"IF(OR(tb_pagamentos[[#This Row],[Data_Vencimento]]=\"\",tb_pagamentos[[#This Row],[Valor_Parcela]]=\"\",tb_pagamentos[[#This Row],[Qtd_Total_Parcelas]]=\"\",tb_pagamentos[[#This Row],[Nr_Pedido]]=\"\"),\"\",IF(tb_pagamentos[[#This Row],[Data_Pagamento]]<>\"\",\"Pago\",IF(AND(tb_pagamentos[[#This Row],[Data_Pagamento]]=\"\",tb_pagamentos[[#This Row],[Data_Vencimento]]<TODAY()),\"Em Atraso\",\"A vencer\")))","v":"Em Atraso"}]
[null,null,{"$f":"IF(OR(D72=\"\",E72=\"\"),\"\",D72&\"-\"&E72)","v":"PED-027-1"},{"$f":"IFERROR(INDEX(CALC_BASE!$N$3:$N$135,MATCH(ROW()-7,CALC_BASE!$M$3:$M$135,0)),\"\")","v":"PED-027"},{"$f":"IFERROR(INDEX(CALC_BASE!$O$3:$O$135,MATCH(ROW()-7,CALC_BASE!$M$3:$M$135,0)),\"\")","v":1},{"$f":"IFERROR(INDEX(CALC_BASE!$P$3:$P$135,MATCH(ROW()-7,CALC_BASE!$M$3:$M$135,0)),\"\")","v":1},{"$f":"IFERROR(IF(D72=\"\",\"\",INDEX(tb_vendas[Preço de Venda],MATCH(D72,tb_vendas[N° Pedido/Empresa],0))/F72),\"\")","v":{"v":650,"d":"R$ 650.00"}},{"$f":"IFERROR(IF(D72=\"\",\"\",INDEX(tb_vendas[Data Fechamento],MATCH(D72,tb_vendas[N° Pedido/Empresa],0))+E72*INDEX(tb_formas_pagamento[Dias_Intervalo],MATCH(INDEX(tb_vendas[Forma_Pagamento],MATCH(D72,tb_vendas[N° Pedido/Empresa],0)),tb_formas_pagamento[Nome_Forma],0))),\"\")","v":"2026-01-28"},"2026-01-27",{"$f":"IF(OR(tb_pagamentos[[#This Row],[Data_Vencimento]]=\"\",tb_pagamentos[[#This Row],[Valor_Parcela]]=\"\",tb_pagamentos[[#This Row],[Qtd_Total_Parcelas]]=\"\",tb_pagamentos[[#This Row],[Nr_Pedido]]=\"\"),\"\",IF(tb_pagamentos[[#This Row],[Data_Pagamento]]<>\"\",\"Pago\",IF(AND(tb_pagamentos[[#This Row],[Data_Pagamento]]=\"\",tb_pagamentos[[#This Row],[Data_Vencimento]]<TODAY()),\"Em Atraso\",\"A vencer\")))","v":"Pago"}]
[null,null,"PED-028-1",{"$f":"IFERROR(INDEX(CALC_BASE!$N$3:$N$135,MATCH(ROW()-7,CALC_BASE!$M$3:$M$135,0)),\"\")","v":"PED-028"},{"$f":"IFERROR(INDEX(CALC_BASE!$O$3:$O$135,MATCH(ROW()-7,CALC_BASE!$M$3:$M$135,0)),\"\")","v":1},{"$f":"IFERROR(INDEX(CALC_BASE!$P$3:$P$135,MATCH(ROW()-7,CALC_BASE!$M$3:$M$135,0)),\"\")","v":4},{"$f":"IFERROR(IF(D73=\"\",\"\",INDEX(tb_vendas[Preço de Venda],MATCH(D73,tb_vendas[N° Pedido/Empresa],0))/F73),\"\")","v":{"v":1275,"d":"R$ 1,275.00"}},{"$f":"IFERROR(IF(D73=\"\",\"\",INDEX(tb_vendas[Data Fechamento],MATCH(D73,tb_vendas[N° Pedido/Empresa],0))+E73*INDEX(tb_formas_pagamento[Dias_Intervalo],MATCH(INDEX(tb_vendas[Forma_Pagamento],MATCH(D73,tb_vendas[N° Pedido/Empresa],0)),tb_formas_pagamento[Nome_Forma],0))),\"\")","v":"2025-02-27"},"2025-03-12",{"$f":"IF(OR(tb_pagamentos[[#This Row],[Data_Vencimento]]=\"\",tb_pagamentos[[#This Row],[Valor_Parcela]]=\"\",tb_pagamentos[[#This Row],[Qtd_Total_Parcelas]]=\"\",tb_pagamentos[[#This Row],[Nr_Pedido]]=\"\"),\"\",IF(tb_pagamentos[[#This Row],[Data_Pagamento]]<>\"\",\"Pago\",IF(AND(tb_pagamentos[[#This Row],[Data_Pagamento]]=\"\",tb_pagamentos[[#This Row],[Data_Vencimento]]<TODAY()),\"Em Atraso\",\"A vencer\")))","v":"Pago"}]
[null,null,"PED-028-2",{"$f":"IFERROR(INDEX(CALC_BASE!$N$3:$N$135,MATCH(ROW()-7,CALC_BASE!$M$3:$M$135,0)),\"\")","v":"PED-028"},{"$f":"IFERROR(INDEX(CALC_BASE!$O$3:$O$135,MATCH(ROW()-7,CALC_BASE!$M$3:$M$135,0)),\"\")","v":2},{"$f":"IFERROR(INDEX(CALC_BASE!$P$3:$P$135,MATCH(ROW()-7,CALC_BASE!$M$3:$M$135,0)),\"\")","v":4},{"$f":"IFERROR(IF(D74=\"\",\"\",INDEX(tb_vendas[Preço de Venda],MATCH(D74,tb_vendas[N° Pedido/Empresa],0))/F74),\"\")","v":{"v":1275,"d":"R$ 1,275.00"}},{"$f":"IFERROR(IF(D74=\"\",\"\",INDEX(tb_vendas[Data Fechamento],MATCH(D74,tb_vendas[N° Pedido/Empresa],0))+E74*INDEX(tb_formas_pagamento[Dias_Intervalo],MATCH(INDEX(tb_vendas[Forma_Pagamento],MATCH(D74,tb_vendas[N° Pedido/Empresa],0)),tb_formas_pagamento[Nome_Forma],0))),\"\")","v":"2025-03-14"},"2025-03-27",{"$f":"IF(OR(tb_pagamentos[[#This Row],[Data_Vencimento]]=\"\",tb_pagamentos[[#This Row],[Valor_Parcela]]=\"\",tb_pagamentos[[#This Row],[Qtd_Total_Parcelas]]=\"\",tb_pagamentos[[#This Row],[Nr_Pedido]]=\"\"),\"\",IF(tb_pagamentos[[#This Row],[Data_Pagamento]]<>\"\",\"Pago\",IF(AND(tb_pagamentos[[#This Row],[Data_Pagamento]]=\"\",tb_pagamentos[[#This Row],[Data_Vencimento]]<TODAY()),\"Em Atraso\",\"A vencer\")))","v":"Pago"}]
[null,null,"PED-028-3",{"$f":"IFERROR(INDEX(CALC_BASE!$N$3:$N$135,MATCH(ROW()-7,CALC_BASE!$M$3:$M$135,0)),\"\")","v":"PED-028"},{"$f":"IFERROR(INDEX(CALC_BASE!$O$3:$O$135,MATCH(ROW()-7,CALC_BASE!$M$3:$M$135,0)),\"\")","v":3},{"$f":"IFERROR(INDEX(CALC_BASE!$P$3:$P$135,MATCH(ROW()-7,CALC_BASE!$M$3:$M$135,0)),\"\")","v":4},{"$f":"IFERROR(IF(D75=\"\",\"\",INDEX(tb_vendas[Preço de Venda],MATCH(D75,tb_vendas[N° Pedido/Empresa],0))/F75),\"\")","v":{"v":1275,"d":"R$ 1,275.00"}},{"$f":"IFERROR(IF(D75=\"\",\"\",INDEX(tb_vendas[Data Fechamento],MATCH(D75,tb_vendas[N° Pedido/Empresa],0))+E75*INDEX(tb_formas_pagamento[Dias_Intervalo],MATCH(INDEX(tb_vendas[Forma_Pagamento],MATCH(D75,tb_vendas[N° Pedido/Empresa],0)),tb_formas_pagamento[Nome_Forma],0))),\"\")","v":"2025-03-29"},"2025-04-11",{"$f":"IF(OR(tb_pagamentos[[#This Row],[Data_Vencimento]]=\"\",tb_pagamentos[[#This Row],[Valor_Parcela]]=\"\",tb_pagamentos[[#This Row],[Qtd_Total_Parcelas]]=\"\",tb_pagamentos[[#This Row],[Nr_Pedido]]=\"\"),\"\",IF(tb_pagamentos[[#This Row],[Data_Pagamento]]<>\"\",\"Pago\",IF(AND(tb_pagamentos[[#This Row],[Data_Pagamento]]=\"\",tb_pagamentos[[#This Row],[Data_Vencimento]]<TODAY()),\"Em Atraso\",\"A vencer\")))","v":"Pago"}]
[null,null,"PED-028-4",{"$f":"IFERROR(INDEX(CALC_BASE!$N$3:$N$135,MATCH(ROW()-7,CALC_BASE!$M$3:$M$135,0)),\"\")","v":"PED-028"},{"$f":"IFERROR(INDEX(CALC_BASE!$O$3:$O$135,MATCH(ROW()-7,CALC_BASE!$M$3:$M$135,0)),\"\")","v":4},{"$f":"IFERROR(INDEX(CALC_BASE!$P$3:$P$135,MATCH(ROW()-7,CALC_BASE!$M$3:$M$135,0)),\"\")","v":4},{"$f":"IFERROR(IF(D76=\"\",\"\",INDEX(tb_vendas[Preço de Venda],MATCH(D76,tb_vendas[N° Pedido/Empresa],0))/F76),\"\")","v":{"v":1275,"d":"R$ 1,275.00"}},{"$f":"IFERROR(IF(D76=\"\",\"\",INDEX(tb_vendas[Data Fechamento],MATCH(D76,tb_vendas[N° Pedido/Empresa],0))+E76*INDEX(tb_formas_pagamento[Dias_Intervalo],MATCH(INDEX(tb_vendas[Forma_Pagamento],MATCH(D76,tb_vendas[N° Pedido/Empresa],0)),tb_formas_pagamento[Nome_Forma],0))),\"\")","v":"2025-04-13"},"2025-04-26",{"$f":"IF(OR(tb_pagamentos[[#This Row],[Data_Vencimento]]=\"\",tb_pagamentos[[#This Row],[Valor_Parcela]]=\"\",tb_pagamentos[[#This Row],[Qtd_Total_Parcelas]]=\"\",tb_pagamentos[[#This Row],[Nr_Pedido]]=\"\"),\"\",IF(tb_pagamentos[[#This Row],[Data_Pagamento]]<>\"\",\"Pago\",IF(AND(tb_pagamentos[[#This Row],[Data_Pagamento]]=\"\",tb_pagamentos[[#This Row],[Data_Vencimento]]<TODAY()),\"Em Atraso\",\"A vencer\")))","v":"Pago"}]
[null,null,"PED-029-1",{"$f":"IFERROR(INDEX(CALC_BASE!$N$3:$N$135,MATCH(ROW()-7,CALC_BASE!$M$3:$M$135,0)),\"\")","v":"PED-029"},{"$f":"IFERROR(INDEX(CALC_BASE!$O$3:$O$135,MATCH(ROW()-7,CALC_BASE!$M$3:$M$135,0)),\"\")","v":1},{"$f":"IFERROR(INDEX(CALC_BASE!$P$3:$P$135,MATCH(ROW()-7,CALC_BASE!$M$3:$M$135,0)),\"\")","v":2},{"$f":"IFERROR(IF(D77=\"\",\"\",INDEX(tb_vendas[Preço de Venda],MATCH(D77,tb_vendas[N° Pedido/Empresa],0))/F77),\"\")","v":{"v":725,"d":"R$ 725.00"}},{"$f":"IFERROR(IF(D77=\"\",\"\",INDEX(tb_vendas[Data Fechamento],MATCH(D77,tb_vendas[N° Pedido/Empresa],0))+E77*INDEX(tb_formas_pagamento[Dias_Intervalo],MATCH(INDEX(tb_vendas[Forma_Pagamento],MATCH(D77,tb_vendas[N° Pedido/Empresa],0)),tb_formas_pagamento[Nome_Forma],0))),\"\")","v":"2025-08-15"},null,{"$f":"IF(OR(tb_pagamentos[[#This Row],[Data_Vencimento]]=\"\",tb_pagamentos[[#This Row],[Valor_Parcela]]=\"\",tb_pagamentos[[#This Row],[Qtd_Total_Parcelas]]=\"\",tb_pagamentos[[#This Row],[Nr_Pedido]]=\"\"),\"\",IF(tb_pagamentos[[#This Row],[Data_Pagamento]]<>\"\",\"Pago\",IF(AND(tb_pagamentos[[#This Row],[Data_Pagamento]]=\"\",tb_pagamentos[[#This Row],[Data_Vencimento]]<TODAY()),\"Em Atraso\",\"A vencer\")))","v":"Em Atraso"}]
[null,null,"PED-029-2",{"$f":"IFERROR(INDEX(CALC_BASE!$N$3:$N$135,MATCH(ROW()-7,CALC_BASE!$M$3:$M$135,0)),\"\")","v":"PED-029"},{"$f":"IFERROR(INDEX(CALC_BASE!$O$3:$O$135,MATCH(ROW()-7,CALC_BASE!$M$3:$M$135,0)),\"\")","v":2},{"$f":"IFERROR(INDEX(CALC_BASE!$P$3:$P$135,MATCH(ROW()-7,CALC_BASE!$M$3:$M$135,0)),\"\")","v":2},{"$f":"IFERROR(IF(D78=\"\",\"\",INDEX(tb_vendas[Preço de Venda],MATCH(D78,tb_vendas[N° Pedido/Empresa],0))/F78),\"\")","v":{"v":725,"d":"R$ 725.00"}},{"$f":"IFERROR(IF(D78=\"\",\"\",INDEX(tb_vendas[Data Fechamento],MATCH(D78,tb_vendas[N° Pedido/Empresa],0))+E78*INDEX(tb_formas_pagamento[Dias_Intervalo],MATCH(INDEX(tb_vendas[Forma_Pagamento],MATCH(D78,tb_vendas[N° Pedido/Empresa],0)),tb_formas_pagamento[Nome_Forma],0))),\"\")","v":"2025-08-29"},null,{"$f":"IF(OR(tb_pagamentos[[#This Row],[Data_Vencimento]]=\"\",tb_pagamentos[[#This Row],[Valor_Parcela]]=\"\",tb_pagamentos[[#This Row],[Qtd_Total_Parcelas]]=\"\",tb_pagamentos[[#This Row],[Nr_Pedido]]=\"\"),\"\",IF(tb_pagamentos[[#This Row],[Data_Pagamento]]<>\"\",\"Pago\",IF(AND(tb_pagamentos[[#This Row],[Data_Pagamento]]=\"\",tb_pagamentos[[#This Row],[Data_Vencimento]]<TODAY()),\"Em Atraso\",\"A vencer\")))","v":"Em Atraso"}]
[null,null,"PED-030-1",{"$f":"IFERROR(INDEX(CALC_BASE!$N$3:$N$135,MATCH(ROW()-7,CALC_BASE!$M$3:$M$135,0)),\"\")","v":"PED-030"},{"$f":"IFERROR(INDEX(CALC_BASE!$O$3:$O$135,MATCH(ROW()-7,CALC_BASE!$M$3:$M$135,0)),\"\")","v":1},{"$f":"IFERROR(INDEX(CALC_BASE!$P$3:$P$135,MATCH(ROW()-7,CALC_BASE!$M$3:$M$135,0)),\"\")","v":3},{"$f":"IFERROR(IF(D79=\"\",\"\",INDEX(tb_vendas[Preço de Venda],MATCH(D79,tb_vendas[N° Pedido/Empresa],0))/F79),\"\")","v":{"v":2600,"d":"R$ 2,600.00"}},{"$f":"IFERROR(IF(D79=\"\",\"\",INDEX(tb_vendas[Data Fechamento],MATCH(D79,tb_vendas[N° Pedido/Empresa],0))+E79*INDEX(tb_formas_pagamento[Dias_Intervalo],MATCH(INDEX(tb_vendas[Forma_Pagamento],MATCH(D79,tb_vendas[N° Pedido/Empresa],0)),tb_formas_pagamento[Nome_Forma],0))),\"\")","v":"2024-12-08"},"2024-12-20",{"$f":"IF(OR(tb_pagamentos[[#This Row],[Data_Vencimento]]=\"\",tb_pagamentos[[#This Row],[Valor_Parcela]]=\"\",tb_pagamentos[[#This Row],[Qtd_Total_Parcelas]]=\"\",tb_pagamentos[[#This Row],[Nr_Pedido]]=\"\"),\"\",IF(tb_pagamentos[[#This Row],[Data_Pagamento]]<>\"\",\"Pago\",IF(AND(tb_pagamentos[[#This Row],[Data_Pagamento]]=\"\",tb_pagamentos[[#This Row],[Data_Vencimento]]<TODAY()),\"Em Atraso\",\"A vencer\")))","v":"Pago"}]
[null,null,"PED-030-2",{"$f":"IFERROR(INDEX(CALC_BASE!$N$3:$N$135,MATCH(ROW()-7,CALC_BASE!$M$3:$M$135,0)),\"\")","v":"PED-030"},{"$f":"IFERROR(INDEX(CALC_BASE!$O$3:$O$135,MATCH(ROW()-7,CALC_BASE!$M$3:$M$135,0)),\"\")","v":2},{"$f":"IFERROR(INDEX(CALC_BASE!$P$3:$P$135,MATCH(ROW()-7,CALC_BASE!$M$3:$M$135,0)),\"\")","v":3},{"$f":"IFERROR(IF(D80=\"\",\"\",INDEX(tb_vendas[Preço de Venda],MATCH(D80,tb_vendas[N° Pedido/Empresa],0))/F80),\"\")","v":{"v":2600,"d":"R$ 2,600.00"}},{"$f":"IFERROR(IF(D80=\"\",\"\",INDEX(tb_vendas[Data Fechamento],MATCH(D80,tb_vendas[N° Pedido/Empresa],0))+E80*INDEX(tb_formas_pagamento[Dias_Intervalo],MATCH(INDEX(tb_vendas[Forma_Pagamento],MATCH(D80,tb_vendas[N° Pedido/Empresa],0)),tb_formas_pagamento[Nome_Forma],0))),\"\")","v":"2024-12-22"},"2025-01-03",{"$f":"IF(OR(tb_pagamentos[[#This Row],[Data_Vencimento]]=\"\",tb_pagamentos[[#This Row],[Valor_Parcela]]=\"\",tb_pagamentos[[#This Row],[Qtd_Total_Parcelas]]=\"\",tb_pagamentos[[#This Row],[Nr_Pedido]]=\"\"),\"\",IF(tb_pagamentos[[#This Row],[Data_Pagamento]]<>\"\",\"Pago\",IF(AND(tb_pagamentos[[#This Row],[Data_Pagamento]]=\"\",tb_pagamentos[[#This Row],[Data_Vencimento]]<TODAY()),\"Em Atraso\",\"A vencer\")))","v":"Pago"}]
[null,null,"PED-030-3",{"$f":"IFERROR(INDEX(CALC_BASE!$N$3:$N$135,MATCH(ROW()-7,CALC_BASE!$M$3:$M$135,0)),\"\")","v":"PED-030"},{"$f":"IFERROR(INDEX(CALC_BASE!$O$3:$O$135,MATCH(ROW()-7,CALC_BASE!$M$3:$M$135,0)),\"\")","v":3},{"$f":"IFERROR(INDEX(CALC_BASE!$P$3:$P$135,MATCH(ROW()-7,CALC_BASE!$M$3:$M$135,0)),\"\")","v":3},{"$f":"IFERROR(IF(D81=\"\",\"\",INDEX(tb_vendas[Preço de Venda],MATCH(D81,tb_vendas[N° Pedido/Empresa],0))/F81),\"\")","v":{"v":2600,"d":"R$ 2,600.00"}},{"$f":"IFERROR(IF(D81=\"\",\"\",INDEX(tb_vendas[Data Fechamento],MATCH(D81,tb_vendas[N° Pedido/Empresa],0))+E81*INDEX(tb_formas_pagamento[Dias_Intervalo],MATCH(INDEX(tb_vendas[Forma_Pagamento],MATCH(D81,tb_vendas[N° Pedido/Empresa],0)),tb_formas_pagamento[Nome_Forma],0))),\"\")","v":"2025-01-05"},"2025-01-17",{"$f":"IF(OR(tb_pagamentos[[#This Row],[Data_Vencimento]]=\"\",tb_pagamentos[[#This Row],[Valor_Parcela]]=\"\",tb_pagamentos[[#This Row],[Qtd_Total_Parcelas]]=\"\",tb_pagamentos[[#This Row],[Nr_Pedido]]=\"\"),\"\",IF(tb_pagamentos[[#This Row],[Data_Pagamento]]<>\"\",\"Pago\",IF(AND(tb_pagamentos[[#This Row],[Data_Pagamento]]=\"\",tb_pagamentos[[#This Row],[Data_Vencimento]]<TODAY()),\"Em Atraso\",\"A vencer\")))","v":"Pago"}]
[null,null,"PED-031-1",{"$f":"IFERROR(INDEX(CALC_BASE!$N$3:$N$135,MATCH(ROW()-7,CALC_BASE!$M$3:$M$135,0)),\"\")","v":"PED-031"},{"$f":"IFERROR(INDEX(CALC_BASE!$O$3:$O$135,MATCH(ROW()-7,CALC_BASE!$M$3:$M$135,0)),\"\")","v":1},{"$f":"IFERROR(INDEX(CALC_BASE!$P$3:$P$135,MATCH(ROW()-7,CALC_BASE!$M$3:$M$135,0)),\"\")","v":3},{"$f":"IFERROR(IF(D82=\"\",\"\",INDEX(tb_vendas[Preço de Venda],MATCH(D82,tb_vendas[N° Pedido/Empresa],0))/F82),\"\")","v":{"v":1083.3333333333333,"d":"R$ 1,083.33"}},{"$f":"IFERROR(IF(D82=\"\",\"\",INDEX(tb_vendas[Data Fechamento],MATCH(D82,tb_vendas[N° Pedido/Empresa],0))+E82*INDEX(tb_formas_pagamento[Dias_Intervalo],MATCH(INDEX(tb_vendas[Forma_Pagamento],MATCH(D82,tb_vendas[N° Pedido/Empresa],0)),tb_formas_pagamento[Nome_Forma],0))),\"\")","v":"2026-01-03"},"2026-01-01",{"$f":"IF(OR(tb_pagamentos[[#This Row],[Data_Vencimento]]=\"\",tb_pagamentos[[#This Row],[Valor_Parcela]]=\"\",tb_pagamentos[[#This Row],[Qtd_Total_Parcelas]]=\"\",tb_pagamentos[[#This Row],[Nr_Pedido]]=\"\"),\"\",IF(tb_pagamentos[[#This Row],[Data_Pagamento]]<>\"\",\"Pago\",IF(AND(tb_pagamentos[[#This Row],[Data_Pagamento]]=\"\",tb_pagamentos[[#This Row],[Data_Vencimento]]<TODAY()),\"Em Atraso\",\"A vencer\")))","v":"Pago"}]
[null,null,"PED-031-2",{"$f":"IFERROR(INDEX(CALC_BASE!$N$3:$N$135,MATCH(ROW()-7,CALC_BASE!$M$3:$M$135,0)),\"\")","v":"PED-031"},{"$f":"IFERROR(INDEX(CALC_BASE!$O$3:$O$135,MATCH(ROW()-7,CALC_BASE!$M$3:$M$135,0)),\"\")","v":2},{"$f":"IFERROR(INDEX(CALC_BASE!$P$3:$P$135,MATCH(ROW()-7,CALC_BASE!$M$3:$M$135,0)),\"\")","v":3},{"$f":"IFERROR(IF(D83=\"\",\"\",INDEX(tb_vendas[Preço de Venda],MATCH(D83,tb_vendas[N° Pedido/Empresa],0))/F83),\"\")","v":{"v":1083.3333333333333,"d":"R$ 1,083.33"}},{"$f":"IFERROR(IF(D83=\"\",\"\",INDEX(tb_vendas[Data Fechamento],MATCH(D83,tb_vendas[N° Pedido/Empresa],0))+E83*INDEX(tb_formas_pagamento[Dias_Intervalo],MATCH(INDEX(tb_vendas[Forma_Pagamento],MATCH(D83,tb_vendas[N° Pedido/Empresa],0)),tb_formas_pagamento[Nome_Forma],0))),\"\")","v":"2026-01-18"},null,{"$f":"IF(OR(tb_pagamentos[[#This Row],[Data_Vencimento]]=\"\",tb_pagamentos[[#This Row],[Valor_Parcela]]=\"\",tb_pagamentos[[#This Row],[Qtd_Total_Parcelas]]=\"\",tb_pagamentos[[#This Row],[Nr_Pedido]]=\"\"),\"\",IF(tb_pagamentos[[#This Row],[Data_Pagamento]]<>\"\",\"Pago\",IF(AND(tb_pagamentos[[#This Row],[Data_Pagamento]]=\"\",tb_pagamentos[[#This Row],[Data_Vencimento]]<TODAY()),\"Em Atraso\",\"A vencer\")))","v":"Em Atraso"}]
[null,null,"PED-031-3",{"$f":"IFERROR(INDEX(CALC_BASE!$N$3:$N$135,MATCH(ROW()-7,CALC_BASE!$M$3:$M$135,0)),\"\")","v":"PED-031"},{"$f":"IFERROR(INDEX(CALC_BASE!$O$3:$O$135,MATCH(ROW()-7,CALC_BASE!$M$3:$M$135,0)),\"\")","v":3},{"$f":"IFERROR(INDEX(CALC_BASE!$P$3:$P$135,MATCH(ROW()-7,CALC_BASE!$M$3:$M$135,0)),\"\")","v":3},{"$f":"IFERROR(IF(D84=\"\",\"\",INDEX(tb_vendas[Preço de Venda],MATCH(D84,tb_vendas[N° Pedido/Empresa],0))/F84),\"\")","v":{"v":1083.3333333333333,"d":"R$ 1,083.33"}},{"$f":"IFERROR(IF(D84=\"\",\"\",INDEX(tb_vendas[Data Fechamento],MATCH(D84,tb_vendas[N° Pedido/Empresa],0))+E84*INDEX(tb_formas_pagamento[Dias_Intervalo],MATCH(INDEX(tb_vendas[Forma_Pagamento],MATCH(D84,tb_vendas[N° Pedido/Empresa],0)),tb_formas_pagamento[Nome_Forma],0))),\"\")","v":"2026-02-02"},null,{"$f":"IF(OR(tb_pagamentos[[#This Row],[Data_Vencimento]]=\"\",tb_pagamentos[[#This Row],[Valor_Parcela]]=\"\",tb_pagamentos[[#This Row],[Qtd_Total_Parcelas]]=\"\",tb_pagamentos[[#This Row],[Nr_Pedido]]=\"\"),\"\",IF(tb_pagamentos[[#This Row],[Data_Pagamento]]<>\"\",\"Pago\",IF(AND(tb_pagamentos[[#This Row],[Data_Pagamento]]=\"\",tb_pagamentos[[#This Row],[Data_Vencimento]]<TODAY()),\"Em Atraso\",\"A vencer\")))","v":"Em Atraso"}]
[null,null,"PED-032-1",{"$f":"IFERROR(INDEX(CALC_BASE!$N$3:$N$135,MATCH(ROW()-7,CALC_BASE!$M$3:$M$135,0)),\"\")","v":"PED-032"},{"$f":"IFERROR(INDEX(CALC_BASE!$O$3:$O$135,MATCH(ROW()-7,CALC_BASE!$M$3:$M$135,0)),\"\")","v":1},{"$f":"IFERROR(INDEX(CALC_BASE!$P$3:$P$135,MATCH(ROW()-7,CALC_BASE!$M$3:$M$135,0)),\"\")","v":1},{"$f":"IFERROR(IF(D85=\"\",\"\",INDEX(tb_vendas[Preço de Venda],MATCH(D85,tb_vendas[N° Pedido/Empresa],0))/F85),\"\")","v":{"v":900,"d":"R$ 900.00"}},{"$f":"IFERROR(IF(D85=\"\",\"\",INDEX(tb_vendas[Data Fechamento],MATCH(D85,tb_vendas[N° Pedido/Empresa],0))+E85*INDEX(tb_formas_pagamento[Dias_Intervalo],MATCH(INDEX(tb_vendas[Forma_Pagamento],MATCH(D85,tb_vendas[N° Pedido/Empresa],0)),tb_formas_pagamento[Nome_Forma],0))),\"\")","v":"2025-04-03"},"2025-04-02",{"$f":"IF(OR(tb_pagamentos[[#This Row],[Data_Vencimento]]=\"\",tb_pagamentos[[#This Row],[Valor_Parcela]]=\"\",tb_pagamentos[[#This Row],[Qtd_Total_Parcelas]]=\"\",tb_pagamentos[[#This Row],[Nr_Pedido]]=\"\"),\"\",IF(tb_pagamentos[[#This Row],[Data_Pagamento]]<>\"\",\"Pago\",IF(AND(tb_pagamentos[[#This Row],[Data_Pagamento]]=\"\",tb_pagamentos[[#This Row],[Data_Vencimento]]<TODAY()),\"Em Atraso\",\"A vencer\")))","v":"Pago"}]
[null,null,"PED-033-1",{"$f":"IFERROR(INDEX(CALC_BASE!$N$3:$N$135,MATCH(ROW()-7,CALC_BASE!$M$3:$M$135,0)),\"\")","v":"PED-033"},{"$f":"IFERROR(INDEX(CALC_BASE!$O$3:$O$135,MATCH(ROW()-7,CALC_BASE!$M$3:$M$135,0)),\"\")","v":1},{"$f":"IFERROR(INDEX(CALC_BASE!$P$3:$P$135,MATCH(ROW()-7,CALC_BASE!$M$3:$M$135,0)),\"\")","v":2},{"$f":"IFERROR(IF(D86=\"\",\"\",INDEX(tb_vendas[Preço de Venda],MATCH(D86,tb_vendas[N° Pedido/Empresa],0))/F86),\"\")","v":{"v":2250,"d":"R$ 2,250.00"}},{"$f":"IFERROR(IF(D86=\"\",\"\",INDEX(tb_vendas[Data Fechamento],MATCH(D86,tb_vendas[N° Pedido/Empresa],0))+E86*INDEX(tb_formas_pagamento[Dias_Intervalo],MATCH(INDEX(tb_vendas[Forma_Pagamento],MATCH(D86,tb_vendas[N° Pedido/Empresa],0)),tb_formas_pagamento[Nome_Forma],0))),\"\")","v":"2025-09-30"},"2025-09-28",{"$f":"IF(OR(tb_pagamentos[[#This Row],[Data_Vencimento]]=\"\",tb_pagamentos[[#This Row],[Valor_Parcela]]=\"\",tb_pagamentos[[#This Row],[Qtd_Total_Parcelas]]=\"\",tb_pagamentos[[#This Row],[Nr_Pedido]]=\"\"),\"\",IF(tb_pagamentos[[#This Row],[Data_Pagamento]]<>\"\",\"Pago\",IF(AND(tb_pagamentos[[#This Row],[Data_Pagamento]]=\"\",tb_pagamentos[[#This Row],[Data_Vencimento]]<TODAY()),\"Em Atraso\",\"A vencer\")))","v":"Pago"}]
[null,null,"PED-033-2",{"$f":"IFERROR(INDEX(CALC_BASE!$N$3:$N$135,MATCH(ROW()-7,CALC_BASE!$M$3:$M$135,0)),\"\")","v":"PED-033"},{"$f":"IFERROR(INDEX(CALC_BASE!$O$3:$O$135,MATCH(ROW()-7,CALC_BASE!$M$3:$M$135,0)),\"\")","v":2},{"$f":"IFERROR(INDEX(CALC_BASE!$P$3:$P$135,MATCH(ROW()-7,CALC_BASE!$M$3:$M$135,0)),\"\")","v":2},{"$f":"IFERROR(IF(D87=\"\",\"\",INDEX(tb_vendas[Preço de Venda],MATCH(D87,tb_vendas[N° Pedido/Empresa],0))/F87),\"\")","v":{"v":2250,"d":"R$ 2,250.00"}},{"$f":"IFERROR(IF(D87=\"\",\"\",INDEX(tb_vendas[Data Fechamento],MATCH(D87,tb_vendas[N° Pedido/Empresa],0))+E87*INDEX(tb_formas_pagamento[Dias_Intervalo],MATCH(INDEX(tb_vendas[Forma_Pagamento],MATCH(D87,tb_vendas[N° Pedido/Empresa],0)),tb_formas_pagamento[Nome_Forma],0))),\"\")","v":"2025-10-30"},null,{"$f":"IF(OR(tb_pagamentos[[#This Row],[Data_Vencimento]]=\"\",tb_pagamentos[[#This Row],[Valor_Parcela]]=\"\",tb_pagamentos[[#This Row],[Qtd_Total_Parcelas]]=\"\",tb_pagamentos[[#This Row],[Nr_Pedido]]=\"\"),\"\",IF(tb_pagamentos[[#This Row],[Data_Pagamento]]<>\"\",\"Pago\",IF(AND(tb_pagamentos[[#This Row],[Data_Pagamento]]=\"\",tb_pagamentos[[#This Row],[Data_Vencimento]]<TODAY()),\"Em Atraso\",\"A vencer\")))","v":"Em Atraso"}]
[null,null,"PED-034-1",{"$f":"IFERROR(INDEX(CALC_BASE!$N$3:$N$135,MATCH(ROW()-7,CALC_BASE!$M$3:$M$135,0)),\"\")","v":"PED-034"},{"$f":"IFERROR(INDEX(CALC_BASE!$O$3:$O$135,MATCH(ROW()-7,CALC_BASE!$M$3:$M$135,0)),\"\")","v":1},{"$f":"IFERROR(INDEX(CALC_BASE!$P$3:$P$135,MATCH(ROW()-7,CALC_BASE!$M$3:$M$135,0)),\"\")","v":1},{"$f":"IFERROR(IF(D88=\"\",\"\",INDEX(tb_vendas[Preço de Venda],MATCH(D88,tb_vendas[N° Pedido/Empresa],0))/F88),\"\")","v":{"v":2050,"d":"R$ 2,050.00"}},{"$f":"IFERROR(IF(D88=\"\",\"\",INDEX(tb_vendas[Data Fechamento],MATCH(D88,tb_vendas[N° Pedido/Empresa],0))+E88*INDEX(tb_formas_pagamento[Dias_Intervalo],MATCH(INDEX(tb_vendas[Forma_Pagamento],MATCH(D88,tb_vendas[N° Pedido/Empresa],0)),tb_formas_pagamento[Nome_Forma],0))),\"\")","v":"2026-03-17"},null,{"$f":"IF(OR(tb_pagamentos[[#This Row],[Data_Vencimento]]=\"\",tb_pagamentos[[#This Row],[Valor_Parcela]]=\"\",tb_pagamentos[[#This Row],[Qtd_Total_Parcelas]]=\"\",tb_pagamentos[[#This Row],[Nr_Pedido]]=\"\"),\"\",IF(tb_pagamentos[[#This Row],[Data_Pagamento]]<>\"\",\"Pago\",IF(AND(tb_pagamentos[[#This Row],[Data_Pagamento]]=\"\",tb_pagamentos[[#This Row],[Data_Vencimento]]<TODAY()),\"Em Atraso\",\"A vencer\")))","v":"Em Atraso"}]
[null,null,"PED-035-1",{"$f":"IFERROR(INDEX(CALC_BASE!$N$3:$N$135,MATCH(ROW()-7,CALC_BASE!$M$3:$M$135,0)),\"\")","v":"PED-035"},{"$f":"IFERROR(INDEX(CALC_BASE!$O$3:$O$135,MATCH(ROW()-7,CALC_BASE!$M$3:$M$135,0)),\"\")","v":1},{"$f":"IFERROR(INDEX(CALC_BASE!$P$3:$P$135,MATCH(ROW()-7,CALC_BASE!$M$3:$M$135,0)),\"\")","v":4},{"$f":"IFERROR(IF(D89=\"\",\"\",INDEX(tb_vendas[Preço de Venda],MATCH(D89,tb_vendas[N° Pedido/Empresa],0))/F89),\"\")","v":{"v":1675,"d":"R$ 1,675.00"}},{"$f":"IFERROR(IF(D89=\"\",\"\",INDEX(tb_vendas[Data Fechamento],MATCH(D89,tb_vendas[N° Pedido/Empresa],0))+E89*INDEX(tb_formas_pagamento[Dias_Intervalo],MATCH(INDEX(tb_vendas[Forma_Pagamento],MATCH(D89,tb_vendas[N° Pedido/Empresa],0)),tb_formas_pagamento[Nome_Forma],0))),\"\")","v":"2025-02-06"},"2025-02-18",{"$f":"IF(OR(tb_pagamentos[[#This Row],[Data_Vencimento]]=\"\",tb_pagamentos[[#This Row],[Valor_Parcela]]=\"\",tb_pagamentos[[#This Row],[Qtd_Total_Parcelas]]=\"\",tb_pagamentos[[#This Row],[Nr_Pedido]]=\"\"),\"\",IF(tb_pagamentos[[#This Row],[Data_Pagamento]]<>\"\",\"Pago\",IF(AND(tb_pagamentos[[#This Row],[Data_Pagamento]]=\"\",tb_pagamentos[[#This Row],[Data_Vencimento]]<TODAY()),\"Em Atraso\",\"A vencer\")))","v":"Pago"}]
[null,null,"PED-035-2",{"$f":"IFERROR(INDEX(CALC_BASE!$N$3:$N$135,MATCH(ROW()-7,CALC_BASE!$M$3:$M$135,0)),\"\")","v":"PED-035"},{"$f":"IFERROR(INDEX(CALC_BASE!$O$3:$O$135,MATCH(ROW()-7,CALC_BASE!$M$3:$M$135,0)),\"\")","v":2},{"$f":"IFERROR(INDEX(CALC_BASE!$P$3:$P$135,MATCH(ROW()-7,CALC_BASE!$M$3:$M$135,0)),\"\")","v":4},{"$f":"IFERROR(IF(D90=\"\",\"\",INDEX(tb_vendas[Preço de Venda],MATCH(D90,tb_vendas[N° Pedido/Empresa],0))/F90),\"\")","v":{"v":1675,"d":"R$ 1,675.00"}},{"$f":"IFERROR(IF(D90=\"\",\"\",INDEX(tb_vendas[Data Fechamento],MATCH(D90,tb_vendas[N° Pedido/Empresa],0))+E90*INDEX(tb_formas_pagamento[Dias_Intervalo],MATCH(INDEX(tb_vendas[Forma_Pagamento],MATCH(D90,tb_vendas[N° Pedido/Empresa],0)),tb_formas_pagamento[Nome_Forma],0))),\"\")","v":"2025-02-20"},"2025-03-04",{"$f":"IF(OR(tb_pagamentos[[#This Row],[Data_Vencimento]]=\"\",tb_pagamentos[[#This Row],[Valor_Parcela]]=\"\",tb_pagamentos[[#This Row],[Qtd_Total_Parcelas]]=\"\",tb_pagamentos[[#This Row],[Nr_Pedido]]=\"\"),\"\",IF(tb_pagamentos[[#This Row],[Data_Pagamento]]<>\"\",\"Pago\",IF(AND(tb_pagamentos[[#This Row],[Data_Pagamento]]=\"\",tb_pagamentos[[#This Row],[Data_Vencimento]]<TODAY()),\"Em Atraso\",\"A vencer\")))","v":"Pago"}]
[null,null,"PED-035-3",{"$f":"IFERROR(INDEX(CALC_BASE!$N$3:$N$135,MATCH(ROW()-7,CALC_BASE!$M$3:$M$135,0)),\"\")","v":"PED-035"},{"$f":"IFERROR(INDEX(CALC_BASE!$O$3:$O$135,MATCH(ROW()-7,CALC_BASE!$M$3:$M$135,0)),\"\")","v":3},{"$f":"IFERROR(INDEX(CALC_BASE!$P$3:$P$135,MATCH(ROW()-7,CALC_BASE!$M$3:$M$135,0)),\"\")","v":4},{"$f":"IFERROR(IF(D91=\"\",\"\",INDEX(tb_vendas[Preço de Venda],MATCH(D91,tb_vendas[N° Pedido/Empresa],0))/F91),\"\")","v":{"v":1675,"d":"R$ 1,675.00"}},{"$f":"IFERROR(IF(D91=\"\",\"\",INDEX(tb_vendas[Data Fechamento],MATCH(D91,tb_vendas[N° Pedido/Empresa],0))+E91*INDEX(tb_formas_pagamento[Dias_Intervalo],MATCH(INDEX(tb_vendas[Forma_Pagamento],MATCH(D91,tb_vendas[N° Pedido/Empresa],0)),tb_formas_pagamento[Nome_Forma],0))),\"\")","v":"2025-03-06"},"2025-03-18",{"$f":"IF(OR(tb_pagamentos[[#This Row],[Data_Vencimento]]=\"\",tb_pagamentos[[#This Row],[Valor_Parcela]]=\"\",tb_pagamentos[[#This Row],[Qtd_Total_Parcelas]]=\"\",tb_pagamentos[[#This Row],[Nr_Pedido]]=\"\"),\"\",IF(tb_pagamentos[[#This Row],[Data_Pagamento]]<>\"\",\"Pago\",IF(AND(tb_pagamentos[[#This Row],[Data_Pagamento]]=\"\",tb_pagamentos[[#This Row],[Data_Vencimento]]<TODAY()),\"Em Atraso\",\"A vencer\")))","v":"Pago"}]
[null,null,"PED-035-4",{"$f":"IFERROR(INDEX(CALC_BASE!$N$3:$N$135,MATCH(ROW()-7,CALC_BASE!$M$3:$M$135,0)),\"\")","v":"PED-035"},{"$f":"IFERROR(INDEX(CALC_BASE!$O$3:$O$135,MATCH(ROW()-7,CALC_BASE!$M$3:$M$135,0)),\"\")","v":4},{"$f":"IFERROR(INDEX(CALC_BASE!$P$3:$P$135,MATCH(ROW()-7,CALC_BASE!$M$3:$M$135,0)),\"\")","v":4},{"$f":"IFERROR(IF(D92=\"\",\"\",INDEX(tb_vendas[Preço de Venda],MATCH(D92,tb_vendas[N° Pedido/Empresa],0))/F92),\"\")","v":{"v":1675,"d":"R$ 1,675.00"}},{"$f":"IFERROR(IF(D92=\"\",\"\",INDEX(tb_vendas[Data Fechamento],MATCH(D92,tb_vendas[N° Pedido/Empresa],0))+E92*INDEX(tb_formas_pagamento[Dias_Intervalo],MATCH(INDEX(tb_vendas[Forma_Pagamento],MATCH(D92,tb_vendas[N° Pedido/Empresa],0)),tb_formas_pagamento[Nome_Forma],0))),\"\")","v":"2025-03-20"},"2025-04-01",{"$f":"IF(OR(tb_pagamentos[[#This Row],[Data_Vencimento]]=\"\",tb_pagamentos[[#This Row],[Valor_Parcela]]=\"\",tb_pagamentos[[#This Row],[Qtd_Total_Parcelas]]=\"\",tb_pagamentos[[#This Row],[Nr_Pedido]]=\"\"),\"\",IF(tb_pagamentos[[#This Row],[Data_Pagamento]]<>\"\",\"Pago\",IF(AND(tb_pagamentos[[#This Row],[Data_Pagamento]]=\"\",tb_pagamentos[[#This Row],[Data_Vencimento]]<TODAY()),\"Em Atraso\",\"A vencer\")))","v":"Pago"}]
[null,null,"PED-036-1",{"$f":"IFERROR(INDEX(CALC_BASE!$N$3:$N$135,MATCH(ROW()-7,CALC_BASE!$M$3:$M$135,0)),\"\")","v":"PED-036"},{"$f":"IFERROR(INDEX(CALC_BASE!$O$3:$O$135,MATCH(ROW()-7,CALC_BASE!$M$3:$M$135,0)),\"\")","v":1},{"$f":"IFERROR(INDEX(CALC_BASE!$P$3:$P$135,MATCH(ROW()-7,CALC_BASE!$M$3:$M$135,0)),\"\")","v":2},{"$f":"IFERROR(IF(D93=\"\",\"\",INDEX(tb_vendas[Preço de Venda],MATCH(D93,tb_vendas[N° Pedido/Empresa],0))/F93),\"\")","v":{"v":675,"d":"R$ 675.00"}},{"$f":"IFERROR(IF(D93=\"\",\"\",INDEX(tb_vendas[Data Fechamento],MATCH(D93,tb_vendas[N° Pedido/Empresa],0))+E93*INDEX(tb_formas_pagamento[Dias_Intervalo],MATCH(INDEX(tb_vendas[Forma_Pagamento],MATCH(D93,tb_vendas[N° Pedido/Empresa],0)),tb_formas_pagamento[Nome_Forma],0))),\"\")","v":"2025-12-08"},"2025-12-06",{"$f":"IF(OR(tb_pagamentos[[#This Row],[Data_Vencimento]]=\"\",tb_pagamentos[[#This Row],[Valor_Parcela]]=\"\",tb_pagamentos[[#This Row],[Qtd_Total_Parcelas]]=\"\",tb_pagamentos[[#This Row],[Nr_Pedido]]=\"\"),\"\",IF(tb_pagamentos[[#This Row],[Data_Pagamento]]<>\"\",\"Pago\",IF(AND(tb_pagamentos[[#This Row],[Data_Pagamento]]=\"\",tb_pagamentos[[#This Row],[Data_Vencimento]]<TODAY()),\"Em Atraso\",\"A vencer\")))","v":"Pago"}]
[null,null,"PED-036-2",{"$f":"IFERROR(INDEX(CALC_BASE!$N$3:$N$135,MATCH(ROW()-7,CALC_BASE!$M$3:$M$135,0)),\"\")","v":"PED-036"},{"$f":"IFERROR(INDEX(CALC_BASE!$O$3:$O$135,MATCH(ROW()-7,CALC_BASE!$M$3:$M$135,0)),\"\")","v":2},{"$f":"IFERROR(INDEX(CALC_BASE!$P$3:$P$135,MATCH(ROW()-7,CALC_BASE!$M$3:$M$135,0)),\"\")","v":2},{"$f":"IFERROR(IF(D94=\"\",\"\",INDEX(tb_vendas[Preço de Venda],MATCH(D94,tb_vendas[N° Pedido/Empresa],0))/F94),\"\")","v":{"v":675,"d":"R$ 675.00"}},{"$f":"IFERROR(IF(D94=\"\",\"\",INDEX(tb_vendas[Data Fechamento],MATCH(D94,tb_vendas[N° Pedido/Empresa],0))+E94*INDEX(tb_formas_pagamento[Dias_Intervalo],MATCH(INDEX(tb_vendas[Forma_Pagamento],MATCH(D94,tb_vendas[N° Pedido/Empresa],0)),tb_formas_pagamento[Nome_Forma],0))),\"\")","v":"2025-12-22"},"2025-12-20",{"$f":"IF(OR(tb_pagamentos[[#This Row],[Data_Vencimento]]=\"\",tb_pagamentos[[#This Row],[Valor_Parcela]]=\"\",tb_pagamentos[[#This Row],[Qtd_Total_Parcelas]]=\"\",tb_pagamentos[[#This Row],[Nr_Pedido]]=\"\"),\"\",IF(tb_pagamentos[[#This Row],[Data_Pagamento]]<>\"\",\"Pago\",IF(AND(tb_pagamentos[[#This Row],[Data_Pagamento]]=\"\",tb_pagamentos[[#This Row],[Data_Vencimento]]<TODAY()),\"Em Atraso\",\"A vencer\")))","v":"Pago"}]
[null,null,"PED-037-1",{"$f":"IFERROR(INDEX(CALC_BASE!$N$3:$N$135,MATCH(ROW()-7,CALC_BASE!$M$3:$M$135,0)),\"\")","v":"PED-037"},{"$f":"IFERROR(INDEX(CALC_BASE!$O$3:$O$135,MATCH(ROW()-7,CALC_BASE!$M$3:$M$135,0)),\"\")","v":1},{"$f":"IFERROR(INDEX(CALC_BASE!$P$3:$P$135,MATCH(ROW()-7,CALC_BASE!$M$3:$M$135,0)),\"\")","v":3},{"$f":"IFERROR(IF(D95=\"\",\"\",INDEX(tb_vendas[Preço de Venda],MATCH(D95,tb_vendas[N° Pedido/Empresa],0))/F95),\"\")","v":{"v":1266.6666666666667,"d":"R$ 1,266.67"}},{"$f":"IFERROR(IF(D95=\"\",\"\",INDEX(tb_vendas[Data Fechamento],MATCH(D95,tb_vendas[N° Pedido/Empresa],0))+E95*INDEX(tb_formas_pagamento[Dias_Intervalo],MATCH(INDEX(tb_vendas[Forma_Pagamento],MATCH(D95,tb_vendas[N° Pedido/Empresa],0)),tb_formas_pagamento[Nome_Forma],0))),\"\")","v":"2026-06-01"},null,{"$f":"IF(OR(tb_pagamentos[[#This Row],[Data_Vencimento]]=\"\",tb_pagamentos[[#This Row],[Valor_Parcela]]=\"\",tb_pagamentos[[#This Row],[Qtd_Total_Parcelas]]=\"\",tb_pagamentos[[#This Row],[Nr_Pedido]]=\"\"),\"\",IF(tb_pagamentos[[#This Row],[Data_Pagamento]]<>\"\",\"Pago\",IF(AND(tb_pagamentos[[#This Row],[Data_Pagamento]]=\"\",tb_pagamentos[[#This Row],[Data_Vencimento]]<TODAY()),\"Em Atraso\",\"A vencer\")))","v":"Em Atraso"}]
[null,null,"PED-037-2",{"$f":"IFERROR(INDEX(CALC_BASE!$N$3:$N$135,MATCH(ROW()-7,CALC_BASE!$M$3:$M$135,0)),\"\")","v":"PED-037"},{"$f":"IFERROR(INDEX(CALC_BASE!$O$3:$O$135,MATCH(ROW()-7,CALC_BASE!$M$3:$M$135,0)),\"\")","v":2},{"$f":"IFERROR(INDEX(CALC_BASE!$P$3:$P$135,MATCH(ROW()-7,CALC_BASE!$M$3:$M$135,0)),\"\")","v":3},{"$f":"IFERROR(IF(D96=\"\",\"\",INDEX(tb_vendas[Preço de Venda],MATCH(D96,tb_vendas[N° Pedido/Empresa],0))/F96),\"\")","v":{"v":1266.6666666666667,"d":"R$ 1,266.67"}},{"$f":"IFERROR(IF(D96=\"\",\"\",INDEX(tb_vendas[Data Fechamento],MATCH(D96,tb_vendas[N° Pedido/Empresa],0))+E96*INDEX(tb_formas_pagamento[Dias_Intervalo],MATCH(INDEX(tb_vendas[Forma_Pagamento],MATCH(D96,tb_vendas[N° Pedido/Empresa],0)),tb_formas_pagamento[Nome_Forma],0))),\"\")","v":"2026-06-15"},null,{"$f":"IF(OR(tb_pagamentos[[#This Row],[Data_Vencimento]]=\"\",tb_pagamentos[[#This Row],[Valor_Parcela]]=\"\",tb_pagamentos[[#This Row],[Qtd_Total_Parcelas]]=\"\",tb_pagamentos[[#This Row],[Nr_Pedido]]=\"\"),\"\",IF(tb_pagamentos[[#This Row],[Data_Pagamento]]<>\"\",\"Pago\",IF(AND(tb_pagamentos[[#This Row],[Data_Pagamento]]=\"\",tb_pagamentos[[#This Row],[Data_Vencimento]]<TODAY()),\"Em Atraso\",\"A vencer\")))","v":"Em Atraso"}]
[null,null,"PED-037-3",{"$f":"IFERROR(INDEX(CALC_BASE!$N$3:$N$135,MATCH(ROW()-7,CALC_BASE!$M$3:$M$135,0)),\"\")","v":"PED-037"},{"$f":"IFERROR(INDEX(CALC_BASE!$O$3:$O$135,MATCH(ROW()-7,CALC_BASE!$M$3:$M$135,0)),\"\")","v":3},{"$f":"IFERROR(INDEX(CALC_BASE!$P$3:$P$135,MATCH(ROW()-7,CALC_BASE!$M$3:$M$135,0)),\"\")","v":3},{"$f":"IFERROR(IF(D97=\"\",\"\",INDEX(tb_vendas[Preço de Venda],MATCH(D97,tb_vendas[N° Pedido/Empresa],0))/F97),\"\")","v":{"v":1266.6666666666667,"d":"R$ 1,266.67"}},{"$f":"IFERROR(IF(D97=\"\",\"\",INDEX(tb_vendas[Data Fechamento],MATCH(D97,tb_vendas[N° Pedido/Empresa],0))+E97*INDEX(tb_formas_pagamento[Dias_Intervalo],MATCH(INDEX(tb_vendas[Forma_Pagamento],MATCH(D97,tb_vendas[N° Pedido/Empresa],0)),tb_formas_pagamento[Nome_Forma],0))),\"\")","v":"2026-06-29"},null,{"$f":"IF(OR(tb_pagamentos[[#This Row],[Data_Vencimento]]=\"\",tb_pagamentos[[#This Row],[Valor_Parcela]]=\"\",tb_pagamentos[[#This Row],[Qtd_Total_Parcelas]]=\"\",tb_pagamentos[[#This Row],[Nr_Pedido]]=\"\"),\"\",IF(tb_pagamentos[[#This Row],[Data_Pagamento]]<>\"\",\"Pago\",IF(AND(tb_pagamentos[[#This Row],[Data_Pagamento]]=\"\",tb_pagamentos[[#This Row],[Data_Vencimento]]<TODAY()),\"Em Atraso\",\"A vencer\")))","v":"Em Atraso"}]
[null,null,"PED-038-1",{"$f":"IFERROR(INDEX(CALC_BASE!$N$3:$N$135,MATCH(ROW()-7,CALC_BASE!$M$3:$M$135,0)),\"\")","v":"PED-038"},{"$f":"IFERROR(INDEX(CALC_BASE!$O$3:$O$135,MATCH(ROW()-7,CALC_BASE!$M$3:$M$135,0)),\"\")","v":1},{"$f":"IFERROR(INDEX(CALC_BASE!$P$3:$P$135,MATCH(ROW()-7,CALC_BASE!$M$3:$M$135,0)),\"\")","v":1},{"$f":"IFERROR(IF(D98=\"\",\"\",INDEX(tb_vendas[Preço de Venda],MATCH(D98,tb_vendas[N° Pedido/Empresa],0))/F98),\"\")","v":{"v":560,"d":"R$ 560.00"}},{"$f":"IFERROR(IF(D98=\"\",\"\",INDEX(tb_vendas[Data Fechamento],MATCH(D98,tb_vendas[N° Pedido/Empresa],0))+E98*INDEX(tb_formas_pagamento[Dias_Intervalo],MATCH(INDEX(tb_vendas[Forma_Pagamento],MATCH(D98,tb_vendas[N° Pedido/Empresa],0)),tb_formas_pagamento[Nome_Forma],0))),\"\")","v":"2024-10-15"},"2024-10-14",{"$f":"IF(OR(tb_pagamentos[[#This Row],[Data_Vencimento]]=\"\",tb_pagamentos[[#This Row],[Valor_Parcela]]=\"\",tb_pagamentos[[#This Row],[Qtd_Total_Parcelas]]=\"\",tb_pagamentos[[#This Row],[Nr_Pedido]]=\"\"),\"\",IF(tb_pagamentos[[#This Row],[Data_Pagamento]]<>\"\",\"Pago\",IF(AND(tb_pagamentos[[#This Row],[Data_Pagamento]]=\"\",tb_pagamentos[[#This Row],[Data_Vencimento]]<TODAY()),\"Em Atraso\",\"A vencer\")))","v":"Pago"}]
[null,null,"PED-039-1",{"$f":"IFERROR(INDEX(CALC_BASE!$N$3:$N$135,MATCH(ROW()-7,CALC_BASE!$M$3:$M$135,0)),\"\")","v":"PED-039"},{"$f":"IFERROR(INDEX(CALC_BASE!$O$3:$O$135,MATCH(ROW()-7,CALC_BASE!$M$3:$M$135,0)),\"\")","v":1},{"$f":"IFERROR(INDEX(CALC_BASE!$P$3:$P$135,MATCH(ROW()-7,CALC_BASE!$M$3:$M$135,0)),\"\")","v":4},{"$f":"IFERROR(IF(D99=\"\",\"\",INDEX(tb_vendas[Preço de Venda],MATCH(D99,tb_vendas[N° Pedido/Empresa],0))/F99),\"\")","v":{"v":2375,"d":"R$ 2,375.00"}},{"$f":"IFERROR(IF(D99=\"\",\"\",INDEX(tb_vendas[Data Fechamento],MATCH(D99,tb_vendas[N° Pedido/Empresa],0))+E99*INDEX(tb_formas_pagamento[Dias_Intervalo],MATCH(INDEX(tb_vendas[Forma_Pagamento],MATCH(D99,tb_vendas[N° Pedido/Empresa],0)),tb_formas_pagamento[Nome_Forma],0))),\"\")","v":"2025-05-18"},"2025-05-31",{"$f":"IF(OR(tb_pagamentos[[#This Row],[Data_Vencimento]]=\"\",tb_pagamentos[[#This Row],[Valor_Parcela]]=\"\",tb_pagamentos[[#This Row],[Qtd_Total_Parcelas]]=\"\",tb_pagamentos[[#This Row],[Nr_Pedido]]=\"\"),\"\",IF(tb_pagamentos[[#This Row],[Data_Pagamento]]<>\"\",\"Pago\",IF(AND(tb_pagamentos[[#This Row],[Data_Pagamento]]=\"\",tb_pagamentos[[#This Row],[Data_Vencimento]]<TODAY()),\"Em Atraso\",\"A vencer\")))","v":"Pago"}]
[null,null,"PED-039-2",{"$f":"IFERROR(INDEX(CALC_BASE!$N$3:$N$135,MATCH(ROW()-7,CALC_BASE!$M$3:$M$135,0)),\"\")","v":"PED-039"},{"$f":"IFERROR(INDEX(CALC_BASE!$O$3:$O$135,MATCH(ROW()-7,CALC_BASE!$M$3:$M$135,0)),\"\")","v":2},{"$f":"IFERROR(INDEX(CALC_BASE!$P$3:$P$135,MATCH(ROW()-7,CALC_BASE!$M$3:$M$135,0)),\"\")","v":4},{"$f":"IFERROR(IF(D100=\"\",\"\",INDEX(tb_vendas[Preço de Venda],MATCH(D100,tb_vendas[N° Pedido/Empresa],0))/F100),\"\")","v":{"v":2375,"d":"R$ 2,375.00"}},{"$f":"IFERROR(IF(D100=\"\",\"\",INDEX(tb_vendas[Data Fechamento],MATCH(D100,tb_vendas[N° Pedido/Empresa],0))+E100*INDEX(tb_formas_pagamento[Dias_Intervalo],MATCH(INDEX(tb_vendas[Forma_Pagamento],MATCH(D100,tb_vendas[N° Pedido/Empresa],0)),tb_formas_pagamento[Nome_Forma],0))),\"\")","v":"2025-06-02"},null,{"$f":"IF(OR(tb_pagamentos[[#This Row],[Data_Vencimento]]=\"\",tb_pagamentos[[#This Row],[Valor_Parcela]]=\"\",tb_pagamentos[[#This Row],[Qtd_Total_Parcelas]]=\"\",tb_pagamentos[[#This Row],[Nr_Pedido]]=\"\"),\"\",IF(tb_pagamentos[[#This Row],[Data_Pagamento]]<>\"\",\"Pago\",IF(AND(tb_pagamentos[[#This Row],[Data_Pagamento]]=\"\",tb_pagamentos[[#This Row],[Data_Vencimento]]<TODAY()),\"Em Atraso\",\"A vencer\")))","v":"Em Atraso"}]
[null,null,"PED-039-3",{"$f":"IFERROR(INDEX(CALC_BASE!$N$3:$N$135,MATCH(ROW()-7,CALC_BASE!$M$3:$M$135,0)),\"\")","v":"PED-039"},{"$f":"IFERROR(INDEX(CALC_BASE!$O$3:$O$135,MATCH(ROW()-7,CALC_BASE!$M$3:$M$135,0)),\"\")","v":3},{"$f":"IFERROR(INDEX(CALC_BASE!$P$3:$P$135,MATCH(ROW()-7,CALC_BASE!$M$3:$M$135,0)),\"\")","v":4},{"$f":"IFERROR(IF(D101=\"\",\"\",INDEX(tb_vendas[Preço de Venda],MATCH(D101,tb_vendas[N° Pedido/Empresa],0))/F101),\"\")","v":{"v":2375,"d":"R$ 2,375.00"}},{"$f":"IFERROR(IF(D101=\"\",\"\",INDEX(tb_vendas[Data Fechamento],MATCH(D101,tb_vendas[N° Pedido/Empresa],0))+E101*INDEX(tb_formas_pagamento[Dias_Intervalo],MATCH(INDEX(tb_vendas[Forma_Pagamento],MATCH(D101,tb_vendas[N° Pedido/Empresa],0)),tb_formas_pagamento[Nome_Forma],0))),\"\")","v":"2025-06-17"},null,{"$f":"IF(OR(tb_pagamentos[[#This Row],[Data_Vencimento]]=\"\",tb_pagamentos[[#This Row],[Valor_Parcela]]=\"\",tb_pagamentos[[#This Row],[Qtd_Total_Parcelas]]=\"\",tb_pagamentos[[#This Row],[Nr_Pedido]]=\"\"),\"\",IF(tb_pagamentos[[#This Row],[Data_Pagamento]]<>\"\",\"Pago\",IF(AND(tb_pagamentos[[#This Row],[Data_Pagamento]]=\"\",tb_pagamentos[[#This Row],[Data_Vencimento]]<TODAY()),\"Em Atraso\",\"A vencer\")))","v":"Em Atraso"}]
[null,null,"PED-039-4",{"$f":"IFERROR(INDEX(CALC_BASE!$N$3:$N$135,MATCH(ROW()-7,CALC_BASE!$M$3:$M$135,0)),\"\")","v":"PED-039"},{"$f":"IFERROR(INDEX(CALC_BASE!$O$3:$O$135,MATCH(ROW()-7,CALC_BASE!$M$3:$M$135,0)),\"\")","v":4},{"$f":"IFERROR(INDEX(CALC_BASE!$P$3:$P$135,MATCH(ROW()-7,CALC_BASE!$M$3:$M$135,0)),\"\")","v":4},{"$f":"IFERROR(IF(D102=\"\",\"\",INDEX(tb_vendas[Preço de Venda],MATCH(D102,tb_vendas[N° Pedido/Empresa],0))/F102),\"\")","v":{"v":2375,"d":"R$ 2,375.00"}},{"$f":"IFERROR(IF(D102=\"\",\"\",INDEX(tb_vendas[Data Fechamento],MATCH(D102,tb_vendas[N° Pedido/Empresa],0))+E102*INDEX(tb_formas_pagamento[Dias_Intervalo],MATCH(INDEX(tb_vendas[Forma_Pagamento],MATCH(D102,tb_vendas[N° Pedido/Empresa],0)),tb_formas_pagamento[Nome_Forma],0))),\"\")","v":"2025-07-02"},null,{"$f":"IF(OR(tb_pagamentos[[#This Row],[Data_Vencimento]]=\"\",tb_pagamentos[[#This Row],[Valor_Parcela]]=\"\",tb_pagamentos[[#This Row],[Qtd_Total_Parcelas]]=\"\",tb_pagamentos[[#This Row],[Nr_Pedido]]=\"\"),\"\",IF(tb_pagamentos[[#This Row],[Data_Pagamento]]<>\"\",\"Pago\",IF(AND(tb_pagamentos[[#This Row],[Data_Pagamento]]=\"\",tb_pagamentos[[#This Row],[Data_Vencimento]]<TODAY()),\"Em Atraso\",\"A vencer\")))","v":"Em Atraso"}]
[null,null,"PED-040-1",{"$f":"IFERROR(INDEX(CALC_BASE!$N$3:$N$135,MATCH(ROW()-7,CALC_BASE!$M$3:$M$135,0)),\"\")","v":"PED-040"},{"$f":"IFERROR(INDEX(CALC_BASE!$O$3:$O$135,MATCH(ROW()-7,CALC_BASE!$M$3:$M$135,0)),\"\")","v":1},{"$f":"IFERROR(INDEX(CALC_BASE!$P$3:$P$135,MATCH(ROW()-7,CALC_BASE!$M$3:$M$135,0)),\"\")","v":2},{"$f":"IFERROR(IF(D103=\"\",\"\",INDEX(tb_vendas[Preço de Venda],MATCH(D103,tb_vendas[N° Pedido/Empresa],0))/F103),\"\")","v":{"v":365,"d":"R$ 365.00"}},{"$f":"IFERROR(IF(D103=\"\",\"\",INDEX(tb_vendas[Data Fechamento],MATCH(D103,tb_vendas[N° Pedido/Empresa],0))+E103*INDEX(tb_formas_pagamento[Dias_Intervalo],MATCH(INDEX(tb_vendas[Forma_Pagamento],MATCH(D103,tb_vendas[N° Pedido/Empresa],0)),tb_formas_pagamento[Nome_Forma],0))),\"\")","v":"2025-07-16"},"2025-07-28",{"$f":"IF(OR(tb_pagamentos[[#This Row],[Data_Vencimento]]=\"\",tb_pagamentos[[#This Row],[Valor_Parcela]]=\"\",tb_pagamentos[[#This Row],[Qtd_Total_Parcelas]]=\"\",tb_pagamentos[[#This Row],[Nr_Pedido]]=\"\"),\"\",IF(tb_pagamentos[[#This Row],[Data_Pagamento]]<>\"\",\"Pago\",IF(AND(tb_pagamentos[[#This Row],[Data_Pagamento]]=\"\",tb_pagamentos[[#This Row],[Data_Vencimento]]<TODAY()),\"Em Atraso\",\"A vencer\")))","v":"Pago"}]
[null,null,{"$f":"IF(OR(D104=\"\",E104=\"\"),\"\",D104&\"-\"&E104)","v":"PED-040-2"},{"$f":"IFERROR(INDEX(CALC_BASE!$N$3:$N$135,MATCH(ROW()-7,CALC_BASE!$M$3:$M$135,0)),\"\")","v":"PED-040"},{"$f":"IFERROR(INDEX(CALC_BASE!$O$3:$O$135,MATCH(ROW()-7,CALC_BASE!$M$3:$M$135,0)),\"\")","v":2},{"$f":"IFERROR(INDEX(CALC_BASE!$P$3:$P$135,MATCH(ROW()-7,CALC_BASE!$M$3:$M$135,0)),\"\")","v":2},{"$f":"IFERROR(IF(D104=\"\",\"\",INDEX(tb_vendas[Preço de Venda],MATCH(D104,tb_vendas[N° Pedido/Empresa],0))/F104),\"\")","v":{"v":365,"d":"R$ 365.00"}},{"$f":"IFERROR(IF(D104=\"\",\"\",INDEX(tb_vendas[Data Fechamento],MATCH(D104,tb_vendas[N° Pedido/Empresa],0))+E104*INDEX(tb_formas_pagamento[Dias_Intervalo],MATCH(INDEX(tb_vendas[Forma_Pagamento],MATCH(D104,tb_vendas[N° Pedido/Empresa],0)),tb_formas_pagamento[Nome_Forma],0))),\"\")","v":"2025-07-30"},"2025-08-11",{"$f":"IF(OR(tb_pagamentos[[#This Row],[Data_Vencimento]]=\"\",tb_pagamentos[[#This Row],[Valor_Parcela]]=\"\",tb_pagamentos[[#This Row],[Qtd_Total_Parcelas]]=\"\",tb_pagamentos[[#This Row],[Nr_Pedido]]=\"\"),\"\",IF(tb_pagamentos[[#This Row],[Data_Pagamento]]<>\"\",\"Pago\",IF(AND(tb_pagamentos[[#This Row],[Data_Pagamento]]=\"\",tb_pagamentos[[#This Row],[Data_Vencimento]]<TODAY()),\"Em Atraso\",\"A vencer\")))","v":"Pago"}]
[null,null,"PED-041-1",{"$f":"IFERROR(INDEX(CALC_BASE!$N$3:$N$135,MATCH(ROW()-7,CALC_BASE!$M$3:$M$135,0)),\"\")","v":"PED-041"},{"$f":"IFERROR(INDEX(CALC_BASE!$O$3:$O$135,MATCH(ROW()-7,CALC_BASE!$M$3:$M$135,0)),\"\")","v":1},{"$f":"IFERROR(INDEX(CALC_BASE!$P$3:$P$135,MATCH(ROW()-7,CALC_BASE!$M$3:$M$135,0)),\"\")","v":3},{"$f":"IFERROR(IF(D105=\"\",\"\",INDEX(tb_vendas[Preço de Venda],MATCH(D105,tb_vendas[N° Pedido/Empresa],0))/F105),\"\")","v":{"v":966.6666666666666,"d":"R$ 966.67"}},{"$f":"IFERROR(IF(D105=\"\",\"\",INDEX(tb_vendas[Data Fechamento],MATCH(D105,tb_vendas[N° Pedido/Empresa],0))+E105*INDEX(tb_formas_pagamento[Dias_Intervalo],MATCH(INDEX(tb_vendas[Forma_Pagamento],MATCH(D105,tb_vendas[N° Pedido/Empresa],0)),tb_formas_pagamento[Nome_Forma],0))),\"\")","v":"2026-08-24"},null,{"$f":"IF(OR(tb_pagamentos[[#This Row],[Data_Vencimento]]=\"\",tb_pagamentos[[#This Row],[Valor_Parcela]]=\"\",tb_pagamentos[[#This Row],[Qtd_Total_Parcelas]]=\"\",tb_pagamentos[[#This Row],[Nr_Pedido]]=\"\"),\"\",IF(tb_pagamentos[[#This Row],[Data_Pagamento]]<>\"\",\"Pago\",IF(AND(tb_pagamentos[[#This Row],[Data_Pagamento]]=\"\",tb_pagamentos[[#This Row],[Data_Vencimento]]<TODAY()),\"Em Atraso\",\"A vencer\")))","v":"A vencer"}]
[null,null,"PED-041-2",{"$f":"IFERROR(INDEX(CALC_BASE!$N$3:$N$135,MATCH(ROW()-7,CALC_BASE!$M$3:$M$135,0)),\"\")","v":"PED-041"},{"$f":"IFERROR(INDEX(CALC_BASE!$O$3:$O$135,MATCH(ROW()-7,CALC_BASE!$M$3:$M$135,0)),\"\")","v":2},{"$f":"IFERROR(INDEX(CALC_BASE!$P$3:$P$135,MATCH(ROW()-7,CALC_BASE!$M$3:$M$135,0)),\"\")","v":3},{"$f":"IFERROR(IF(D106=\"\",\"\",INDEX(tb_vendas[Preço de Venda],MATCH(D106,tb_vendas[N° Pedido/Empresa],0))/F106),\"\")","v":{"v":966.6666666666666,"d":"R$ 966.67"}},{"$f":"IFERROR(IF(D106=\"\",\"\",INDEX(tb_vendas[Data Fechamento],MATCH(D106,tb_vendas[N° Pedido/Empresa],0))+E106*INDEX(tb_formas_pagamento[Dias_Intervalo],MATCH(INDEX(tb_vendas[Forma_Pagamento],MATCH(D106,tb_vendas[N° Pedido/Empresa],0)),tb_formas_pagamento[Nome_Forma],0))),\"\")","v":"2026-09-21"},null,{"$f":"IF(OR(tb_pagamentos[[#This Row],[Data_Vencimento]]=\"\",tb_pagamentos[[#This Row],[Valor_Parcela]]=\"\",tb_pagamentos[[#This Row],[Qtd_Total_Parcelas]]=\"\",tb_pagamentos[[#This Row],[Nr_Pedido]]=\"\"),\"\",IF(tb_pagamentos[[#This Row],[Data_Pagamento]]<>\"\",\"Pago\",IF(AND(tb_pagamentos[[#This Row],[Data_Pagamento]]=\"\",tb_pagamentos[[#This Row],[Data_Vencimento]]<TODAY()),\"Em Atraso\",\"A vencer\")))","v":"A vencer"}]
[null,null,"PED-041-3",{"$f":"IFERROR(INDEX(CALC_BASE!$N$3:$N$135,MATCH(ROW()-7,CALC_BASE!$M$3:$M$135,0)),\"\")","v":"PED-041"},{"$f":"IFERROR(INDEX(CALC_BASE!$O$3:$O$135,MATCH(ROW()-7,CALC_BASE!$M$3:$M$135,0)),\"\")","v":3},{"$f":"IFERROR(INDEX(CALC_BASE!$P$3:$P$135,MATCH(ROW()-7,CALC_BASE!$M$3:$M$135,0)),\"\")","v":3},{"$f":"IFERROR(IF(D107=\"\",\"\",INDEX(tb_vendas[Preço de Venda],MATCH(D107,tb_vendas[N° Pedido/Empresa],0))/F107),\"\")","v":{"v":966.6666666666666,"d":"R$ 966.67"}},{"$f":"IFERROR(IF(D107=\"\",\"\",INDEX(tb_vendas[Data Fechamento],MATCH(D107,tb_vendas[N° Pedido/Empresa],0))+E107*INDEX(tb_formas_pagamento[Dias_Intervalo],MATCH(INDEX(tb_vendas[Forma_Pagamento],MATCH(D107,tb_vendas[N° Pedido/Empresa],0)),tb_formas_pagamento[Nome_Forma],0))),\"\")","v":"2026-10-19"},null,{"$f":"IF(OR(tb_pagamentos[[#This Row],[Data_Vencimento]]=\"\",tb_pagamentos[[#This Row],[Valor_Parcela]]=\"\",tb_pagamentos[[#This Row],[Qtd_Total_Parcelas]]=\"\",tb_pagamentos[[#This Row],[Nr_Pedido]]=\"\"),\"\",IF(tb_pagamentos[[#This Row],[Data_Pagamento]]<>\"\",\"Pago\",IF(AND(tb_pagamentos[[#This Row],[Data_Pagamento]]=\"\",tb_pagamentos[[#This Row],[Data_Vencimento]]<TODAY()),\"Em Atraso\",\"A vencer\")))","v":"A vencer"}]
[null,null,"PED-042-1",{"$f":"IFERROR(INDEX(CALC_BASE!$N$3:$N$135,MATCH(ROW()-7,CALC_BASE!$M$3:$M$135,0)),\"\")","v":"PED-042"},{"$f":"IFERROR(INDEX(CALC_BASE!$O$3:$O$135,MATCH(ROW()-7,CALC_BASE!$M$3:$M$135,0)),\"\")","v":1},{"$f":"IFERROR(INDEX(CALC_BASE!$P$3:$P$135,MATCH(ROW()-7,CALC_BASE!$M$3:$M$135,0)),\"\")","v":3},{"$f":"IFERROR(IF(D108=\"\",\"\",INDEX(tb_vendas[Preço de Venda],MATCH(D108,tb_vendas[N° Pedido/Empresa],0))/F108),\"\")","v":{"v":1366.6666666666667,"d":"R$ 1,366.67"}},{"$f":"IFERROR(IF(D108=\"\",\"\",INDEX(tb_vendas[Data Fechamento],MATCH(D108,tb_vendas[N° Pedido/Empresa],0))+E108*INDEX(tb_formas_pagamento[Dias_Intervalo],MATCH(INDEX(tb_vendas[Forma_Pagamento],MATCH(D108,tb_vendas[N° Pedido/Empresa],0)),tb_formas_pagamento[Nome_Forma],0))),\"\")","v":"2025-09-24"},"2025-10-06",{"$f":"IF(OR(tb_pagamentos[[#This Row],[Data_Vencimento]]=\"\",tb_pagamentos[[#This Row],[Valor_Parcela]]=\"\",tb_pagamentos[[#This Row],[Qtd_Total_Parcelas]]=\"\",tb_pagamentos[[#This Row],[Nr_Pedido]]=\"\"),\"\",IF(tb_pagamentos[[#This Row],[Data_Pagamento]]<>\"\",\"Pago\",IF(AND(tb_pagamentos[[#This Row],[Data_Pagamento]]=\"\",tb_pagamentos[[#This Row],[Data_Vencimento]]<TODAY()),\"Em Atraso\",\"A vencer\")))","v":"Pago"}]
[null,null,"PED-042-2",{"$f":"IFERROR(INDEX(CALC_BASE!$N$3:$N$135,MATCH(ROW()-7,CALC_BASE!$M$3:$M$135,0)),\"\")","v":"PED-042"},{"$f":"IFERROR(INDEX(CALC_BASE!$O$3:$O$135,MATCH(ROW()-7,CALC_BASE!$M$3:$M$135,0)),\"\")","v":2},{"$f":"IFERROR(INDEX(CALC_BASE!$P$3:$P$135,MATCH(ROW()-7,CALC_BASE!$M$3:$M$135,0)),\"\")","v":3},{"$f":"IFERROR(IF(D109=\"\",\"\",INDEX(tb_vendas[Preço de Venda],MATCH(D109,tb_vendas[N° Pedido/Empresa],0))/F109),\"\")","v":{"v":1366.6666666666667,"d":"R$ 1,366.67"}},{"$f":"IFERROR(IF(D109=\"\",\"\",INDEX(tb_vendas[Data Fechamento],MATCH(D109,tb_vendas[N° Pedido/Empresa],0))+E109*INDEX(tb_formas_pagamento[Dias_Intervalo],MATCH(INDEX(tb_vendas[Forma_Pagamento],MATCH(D109,tb_vendas[N° Pedido/Empresa],0)),tb_formas_pagamento[Nome_Forma],0))),\"\")","v":"2025-10-08"},"2025-10-20",{"$f":"IF(OR(tb_pagamentos[[#This Row],[Data_Vencimento]]=\"\",tb_pagamentos[[#This Row],[Valor_Parcela]]=\"\",tb_pagamentos[[#This Row],[Qtd_Total_Parcelas]]=\"\",tb_pagamentos[[#This Row],[Nr_Pedido]]=\"\"),\"\",IF(tb_pagamentos[[#This Row],[Data_Pagamento]]<>\"\",\"Pago\",IF(AND(tb_pagamentos[[#This Row],[Data_Pagamento]]=\"\",tb_pagamentos[[#This Row],[Data_Vencimento]]<TODAY()),\"Em Atraso\",\"A vencer\")))","v":"Pago"}]
[null,null,"PED-042-3",{"$f":"IFERROR(INDEX(CALC_BASE!$N$3:$N$135,MATCH(ROW()-7,CALC_BASE!$M$3:$M$135,0)),\"\")","v":"PED-042"},{"$f":"IFERROR(INDEX(CALC_BASE!$O$3:$O$135,MATCH(ROW()-7,CALC_BASE!$M$3:$M$135,0)),\"\")","v":3},{"$f":"IFERROR(INDEX(CALC_BASE!$P$3:$P$135,MATCH(ROW()-7,CALC_BASE!$M$3:$M$135,0)),\"\")","v":3},{"$f":"IFERROR(IF(D110=\"\",\"\",INDEX(tb_vendas[Preço de Venda],MATCH(D110,tb_vendas[N° Pedido/Empresa],0))/F110),\"\")","v":{"v":1366.6666666666667,"d":"R$ 1,366.67"}},{"$f":"IFERROR(IF(D110=\"\",\"\",INDEX(tb_vendas[Data Fechamento],MATCH(D110,tb_vendas[N° Pedido/Empresa],0))+E110*INDEX(tb_formas_pagamento[Dias_Intervalo],MATCH(INDEX(tb_vendas[Forma_Pagamento],MATCH(D110,tb_vendas[N° Pedido/Empresa],0)),tb_formas_pagamento[Nome_Forma],0))),\"\")","v":"2025-10-22"},"2025-11-03",{"$f":"IF(OR(tb_pagamentos[[#This Row],[Data_Vencimento]]=\"\",tb_pagamentos[[#This Row],[Valor_Parcela]]=\"\",tb_pagamentos[[#This Row],[Qtd_Total_Parcelas]]=\"\",tb_pagamentos[[#This Row],[Nr_Pedido]]=\"\"),\"\",IF(tb_pagamentos[[#This Row],[Data_Pagamento]]<>\"\",\"Pago\",IF(AND(tb_pagamentos[[#This Row],[Data_Pagamento]]=\"\",tb_pagamentos[[#This Row],[Data_Vencimento]]<TODAY()),\"Em Atraso\",\"A vencer\")))","v":"Pago"}]
[null,null,"PED-043-1",{"$f":"IFERROR(INDEX(CALC_BASE!$N$3:$N$135,MATCH(ROW()-7,CALC_BASE!$M$3:$M$135,0)),\"\")","v":"PED-043"},{"$f":"IFERROR(INDEX(CALC_BASE!$O$3:$O$135,MATCH(ROW()-7,CALC_BASE!$M$3:$M$135,0)),\"\")","v":1},{"$f":"IFERROR(INDEX(CALC_BASE!$P$3:$P$135,MATCH(ROW()-7,CALC_BASE!$M$3:$M$135,0)),\"\")","v":1},{"$f":"IFERROR(IF(D111=\"\",\"\",INDEX(tb_vendas[Preço de Venda],MATCH(D111,tb_vendas[N° Pedido/Empresa],0))/F111),\"\")","v":{"v":1750,"d":"R$ 1,750.00"}},{"$f":"IFERROR(IF(D111=\"\",\"\",INDEX(tb_vendas[Data Fechamento],MATCH(D111,tb_vendas[N° Pedido/Empresa],0))+E111*INDEX(tb_formas_pagamento[Dias_Intervalo],MATCH(INDEX(tb_vendas[Forma_Pagamento],MATCH(D111,tb_vendas[N° Pedido/Empresa],0)),tb_formas_pagamento[Nome_Forma],0))),\"\")","v":"2026-01-08"},"2026-01-07",{"$f":"IF(OR(tb_pagamentos[[#This Row],[Data_Vencimento]]=\"\",tb_pagamentos[[#This Row],[Valor_Parcela]]=\"\",tb_pagamentos[[#This Row],[Qtd_Total_Parcelas]]=\"\",tb_pagamentos[[#This Row],[Nr_Pedido]]=\"\"),\"\",IF(tb_pagamentos[[#This Row],[Data_Pagamento]]<>\"\",\"Pago\",IF(AND(tb_pagamentos[[#This Row],[Data_Pagamento]]=\"\",tb_pagamentos[[#This Row],[Data_Vencimento]]<TODAY()),\"Em Atraso\",\"A vencer\")))","v":"Pago"}]
[null,null,"PED-044-1",{"$f":"IFERROR(INDEX(CALC_BASE!$N$3:$N$135,MATCH(ROW()-7,CALC_BASE!$M$3:$M$135,0)),\"\")","v":"PED-044"},{"$f":"IFERROR(INDEX(CALC_BASE!$O$3:$O$135,MATCH(ROW()-7,CALC_BASE!$M$3:$M$135,0)),\"\")","v":1},{"$f":"IFERROR(INDEX(CALC_BASE!$P$3:$P$135,MATCH(ROW()-7,CALC_BASE!$M$3:$M$135,0)),\"\")","v":2},{"$f":"IFERROR(IF(D112=\"\",\"\",INDEX(tb_vendas[Preço de Venda],MATCH(D112,tb_vendas[N° Pedido/Empresa],0))/F112),\"\")","v":{"v":3000,"d":"R$ 3,000.00"}},{"$f":"IFERROR(IF(D112=\"\",\"\",INDEX(tb_vendas[Data Fechamento],MATCH(D112,tb_vendas[N° Pedido/Empresa],0))+E112*INDEX(tb_formas_pagamento[Dias_Intervalo],MATCH(INDEX(tb_vendas[Forma_Pagamento],MATCH(D112,tb_vendas[N° Pedido/Empresa],0)),tb_formas_pagamento[Nome_Forma],0))),\"\")","v":"2025-08-21"},"2025-08-19",{"$f":"IF(OR(tb_pagamentos[[#This Row],[Data_Vencimento]]=\"\",tb_pagamentos[[#This Row],[Valor_Parcela]]=\"\",tb_pagamentos[[#This Row],[Qtd_Total_Parcelas]]=\"\",tb_pagamentos[[#This Row],[Nr_Pedido]]=\"\"),\"\",IF(tb_pagamentos[[#This Row],[Data_Pagamento]]<>\"\",\"Pago\",IF(AND(tb_pagamentos[[#This Row],[Data_Pagamento]]=\"\",tb_pagamentos[[#This Row],[Data_Vencimento]]<TODAY()),\"Em Atraso\",\"A vencer\")))","v":"Pago"}]
[null,null,"PED-044-2",{"$f":"IFERROR(INDEX(CALC_BASE!$N$3:$N$135,MATCH(ROW()-7,CALC_BASE!$M$3:$M$135,0)),\"\")","v":"PED-044"},{"$f":"IFERROR(INDEX(CALC_BASE!$O$3:$O$135,MATCH(ROW()-7,CALC_BASE!$M$3:$M$135,0)),\"\")","v":2},{"$f":"IFERROR(INDEX(CALC_BASE!$P$3:$P$135,MATCH(ROW()-7,CALC_BASE!$M$3:$M$135,0)),\"\")","v":2},{"$f":"IFERROR(IF(D113=\"\",\"\",INDEX(tb_vendas[Preço de Venda],MATCH(D113,tb_vendas[N° Pedido/Empresa],0))/F113),\"\")","v":{"v":3000,"d":"R$ 3,000.00"}},{"$f":"IFERROR(IF(D113=\"\",\"\",INDEX(tb_vendas[Data Fechamento],MATCH(D113,tb_vendas[N° Pedido/Empresa],0))+E113*INDEX(tb_formas_pagamento[Dias_Intervalo],MATCH(INDEX(tb_vendas[Forma_Pagamento],MATCH(D113,tb_vendas[N° Pedido/Empresa],0)),tb_formas_pagamento[Nome_Forma],0))),\"\")","v":"2025-09-20"},"2025-09-18",{"$f":"IF(OR(tb_pagamentos[[#This Row],[Data_Vencimento]]=\"\",tb_pagamentos[[#This Row],[Valor_Parcela]]=\"\",tb_pagamentos[[#This Row],[Qtd_Total_Parcelas]]=\"\",tb_pagamentos[[#This Row],[Nr_Pedido]]=\"\"),\"\",IF(tb_pagamentos[[#This Row],[Data_Pagamento]]<>\"\",\"Pago\",IF(AND(tb_pagamentos[[#This Row],[Data_Pagamento]]=\"\",tb_pagamentos[[#This Row],[Data_Vencimento]]<TODAY()),\"Em Atraso\",\"A vencer\")))","v":"Pago"}]
[null,null,"PED-045-1",{"$f":"IFERROR(INDEX(CALC_BASE!$N$3:$N$135,MATCH(ROW()-7,CALC_BASE!$M$3:$M$135,0)),\"\")","v":"PED-045"},{"$f":"IFERROR(INDEX(CALC_BASE!$O$3:$O$135,MATCH(ROW()-7,CALC_BASE!$M$3:$M$135,0)),\"\")","v":1},{"$f":"IFERROR(INDEX(CALC_BASE!$P$3:$P$135,MATCH(ROW()-7,CALC_BASE!$M$3:$M$135,0)),\"\")","v":1},{"$f":"IFERROR(IF(D114=\"\",\"\",INDEX(tb_vendas[Preço de Venda],MATCH(D114,tb_vendas[N° Pedido/Empresa],0))/F114),\"\")","v":{"v":830,"d":"R$ 830.00"}},{"$f":"IFERROR(IF(D114=\"\",\"\",INDEX(tb_vendas[Data Fechamento],MATCH(D114,tb_vendas[N° Pedido/Empresa],0))+E114*INDEX(tb_formas_pagamento[Dias_Intervalo],MATCH(INDEX(tb_vendas[Forma_Pagamento],MATCH(D114,tb_vendas[N° Pedido/Empresa],0)),tb_formas_pagamento[Nome_Forma],0))),\"\")","v":"2025-11-27"},"2025-11-25",{"$f":"IF(OR(tb_pagamentos[[#This Row],[Data_Vencimento]]=\"\",tb_pagamentos[[#This Row],[Valor_Parcela]]=\"\",tb_pagamentos[[#This Row],[Qtd_Total_Parcelas]]=\"\",tb_pagamentos[[#This Row],[Nr_Pedido]]=\"\"),\"\",IF(tb_pagamentos[[#This Row],[Data_Pagamento]]<>\"\",\"Pago\",IF(AND(tb_pagamentos[[#This Row],[Data_Pagamento]]=\"\",tb_pagamentos[[#This Row],[Data_Vencimento]]<TODAY()),\"Em Atraso\",\"A vencer\")))","v":"Pago"}]
[null,null,"PED-046-1",{"$f":"IFERROR(INDEX(CALC_BASE!$N$3:$N$135,MATCH(ROW()-7,CALC_BASE!$M$3:$M$135,0)),\"\")","v":"PED-046"},{"$f":"IFERROR(INDEX(CALC_BASE!$O$3:$O$135,MATCH(ROW()-7,CALC_BASE!$M$3:$M$135,0)),\"\")","v":1},{"$f":"IFERROR(INDEX(CALC_BASE!$P$3:$P$135,MATCH(ROW()-7,CALC_BASE!$M$3:$M$135,0)),\"\")","v":3},{"$f":"IFERROR(IF(D115=\"\",\"\",INDEX(tb_vendas[Preço de Venda],MATCH(D115,tb_vendas[N° Pedido/Empresa],0))/F115),\"\")","v":{"v":1166.6666666666667,"d":"R$ 1,166.67"}},{"$f":"IFERROR(IF(D115=\"\",\"\",INDEX(tb_vendas[Data Fechamento],MATCH(D115,tb_vendas[N° Pedido/Empresa],0))+E115*INDEX(tb_formas_pagamento[Dias_Intervalo],MATCH(INDEX(tb_vendas[Forma_Pagamento],MATCH(D115,tb_vendas[N° Pedido/Empresa],0)),tb_formas_pagamento[Nome_Forma],0))),\"\")","v":"2025-03-19"},"2025-03-17",{"$f":"IF(OR(tb_pagamentos[[#This Row],[Data_Vencimento]]=\"\",tb_pagamentos[[#This Row],[Valor_Parcela]]=\"\",tb_pagamentos[[#This Row],[Qtd_Total_Parcelas]]=\"\",tb_pagamentos[[#This Row],[Nr_Pedido]]=\"\"),\"\",IF(tb_pagamentos[[#This Row],[Data_Pagamento]]<>\"\",\"Pago\",IF(AND(tb_pagamentos[[#This Row],[Data_Pagamento]]=\"\",tb_pagamentos[[#This Row],[Data_Vencimento]]<TODAY()),\"Em Atraso\",\"A vencer\")))","v":"Pago"}]
[null,null,"PED-046-2",{"$f":"IFERROR(INDEX(CALC_BASE!$N$3:$N$135,MATCH(ROW()-7,CALC_BASE!$M$3:$M$135,0)),\"\")","v":"PED-046"},{"$f":"IFERROR(INDEX(CALC_BASE!$O$3:$O$135,MATCH(ROW()-7,CALC_BASE!$M$3:$M$135,0)),\"\")","v":2},{"$f":"IFERROR(INDEX(CALC_BASE!$P$3:$P$135,MATCH(ROW()-7,CALC_BASE!$M$3:$M$135,0)),\"\")","v":3},{"$f":"IFERROR(IF(D116=\"\",\"\",INDEX(tb_vendas[Preço de Venda],MATCH(D116,tb_vendas[N° Pedido/Empresa],0))/F116),\"\")","v":{"v":1166.6666666666667,"d":"R$ 1,166.67"}},{"$f":"IFERROR(IF(D116=\"\",\"\",INDEX(tb_vendas[Data Fechamento],MATCH(D116,tb_vendas[N° Pedido/Empresa],0))+E116*INDEX(tb_formas_pagamento[Dias_Intervalo],MATCH(INDEX(tb_vendas[Forma_Pagamento],MATCH(D116,tb_vendas[N° Pedido/Empresa],0)),tb_formas_pagamento[Nome_Forma],0))),\"\")","v":"2025-04-03"},"2025-04-01",{"$f":"IF(OR(tb_pagamentos[[#This Row],[Data_Vencimento]]=\"\",tb_pagamentos[[#This Row],[Valor_Parcela]]=\"\",tb_pagamentos[[#This Row],[Qtd_Total_Parcelas]]=\"\",tb_pagamentos[[#This Row],[Nr_Pedido]]=\"\"),\"\",IF(tb_pagamentos[[#This Row],[Data_Pagamento]]<>\"\",\"Pago\",IF(AND(tb_pagamentos[[#This Row],[Data_Pagamento]]=\"\",tb_pagamentos[[#This Row],[Data_Vencimento]]<TODAY()),\"Em Atraso\",\"A vencer\")))","v":"Pago"}]
[null,null,"PED-046-3",{"$f":"IFERROR(INDEX(CALC_BASE!$N$3:$N$135,MATCH(ROW()-7,CALC_BASE!$M$3:$M$135,0)),\"\")","v":"PED-046"},{"$f":"IFERROR(INDEX(CALC_BASE!$O$3:$O$135,MATCH(ROW()-7,CALC_BASE!$M$3:$M$135,0)),\"\")","v":3},{"$f":"IFERROR(INDEX(CALC_BASE!$P$3:$P$135,MATCH(ROW()-7,CALC_BASE!$M$3:$M$135,0)),\"\")","v":3},{"$f":"IFERROR(IF(D117=\"\",\"\",INDEX(tb_vendas[Preço de Venda],MATCH(D117,tb_vendas[N° Pedido/Empresa],0))/F117),\"\")","v":{"v":1166.6666666666667,"d":"R$ 1,166.67"}},{"$f":"IFERROR(IF(D117=\"\",\"\",INDEX(tb_vendas[Data Fechamento],MATCH(D117,tb_vendas[N° Pedido/Empresa],0))+E117*INDEX(tb_formas_pagamento[Dias_Intervalo],MATCH(INDEX(tb_vendas[Forma_Pagamento],MATCH(D117,tb_vendas[N° Pedido/Empresa],0)),tb_formas_pagamento[Nome_Forma],0))),\"\")","v":"2025-04-18"},"2025-04-16",{"$f":"IF(OR(tb_pagamentos[[#This Row],[Data_Vencimento]]=\"\",tb_pagamentos[[#This Row],[Valor_Parcela]]=\"\",tb_pagamentos[[#This Row],[Qtd_Total_Parcelas]]=\"\",tb_pagamentos[[#This Row],[Nr_Pedido]]=\"\"),\"\",IF(tb_pagamentos[[#This Row],[Data_Pagamento]]<>\"\",\"Pago\",IF(AND(tb_pagamentos[[#This Row],[Data_Pagamento]]=\"\",tb_pagamentos[[#This Row],[Data_Vencimento]]<TODAY()),\"Em Atraso\",\"A vencer\")))","v":"Pago"}]
[null,null,"PED-047-1",{"$f":"IFERROR(INDEX(CALC_BASE!$N$3:$N$135,MATCH(ROW()-7,CALC_BASE!$M$3:$M$135,0)),\"\")","v":"PED-047"},{"$f":"IFERROR(INDEX(CALC_BASE!$O$3:$O$135,MATCH(ROW()-7,CALC_BASE!$M$3:$M$135,0)),\"\")","v":1},{"$f":"IFERROR(INDEX(CALC_BASE!$P$3:$P$135,MATCH(ROW()-7,CALC_BASE!$M$3:$M$135,0)),\"\")","v":2},{"$f":"IFERROR(IF(D118=\"\",\"\",INDEX(tb_vendas[Preço de Venda],MATCH(D118,tb_vendas[N° Pedido/Empresa],0))/F118),\"\")","v":{"v":600,"d":"R$ 600.00"}},{"$f":"IFERROR(IF(D118=\"\",\"\",INDEX(tb_vendas[Data Fechamento],MATCH(D118,tb_vendas[N° Pedido/Empresa],0))+E118*INDEX(tb_formas_pagamento[Dias_Intervalo],MATCH(INDEX(tb_vendas[Forma_Pagamento],MATCH(D118,tb_vendas[N° Pedido/Empresa],0)),tb_formas_pagamento[Nome_Forma],0))),\"\")","v":"2026-04-12"},null,{"$f":"IF(OR(tb_pagamentos[[#This Row],[Data_Vencimento]]=\"\",tb_pagamentos[[#This Row],[Valor_Parcela]]=\"\",tb_pagamentos[[#This Row],[Qtd_Total_Parcelas]]=\"\",tb_pagamentos[[#This Row],[Nr_Pedido]]=\"\"),\"\",IF(tb_pagamentos[[#This Row],[Data_Pagamento]]<>\"\",\"Pago\",IF(AND(tb_pagamentos[[#This Row],[Data_Pagamento]]=\"\",tb_pagamentos[[#This Row],[Data_Vencimento]]<TODAY()),\"Em Atraso\",\"A vencer\")))","v":"Em Atraso"}]
[null,null,"PED-047-2",{"$f":"IFERROR(INDEX(CALC_BASE!$N$3:$N$135,MATCH(ROW()-7,CALC_BASE!$M$3:$M$135,0)),\"\")","v":"PED-047"},{"$f":"IFERROR(INDEX(CALC_BASE!$O$3:$O$135,MATCH(ROW()-7,CALC_BASE!$M$3:$M$135,0)),\"\")","v":2},{"$f":"IFERROR(INDEX(CALC_BASE!$P$3:$P$135,MATCH(ROW()-7,CALC_BASE!$M$3:$M$135,0)),\"\")","v":2},{"$f":"IFERROR(IF(D119=\"\",\"\",INDEX(tb_vendas[Preço de Venda],MATCH(D119,tb_vendas[N° Pedido/Empresa],0))/F119),\"\")","v":{"v":600,"d":"R$ 600.00"}},{"$f":"IFERROR(IF(D119=\"\",\"\",INDEX(tb_vendas[Data Fechamento],MATCH(D119,tb_vendas[N° Pedido/Empresa],0))+E119*INDEX(tb_formas_pagamento[Dias_Intervalo],MATCH(INDEX(tb_vendas[Forma_Pagamento],MATCH(D119,tb_vendas[N° Pedido/Empresa],0)),tb_formas_pagamento[Nome_Forma],0))),\"\")","v":"2026-04-26"},null,{"$f":"IF(OR(tb_pagamentos[[#This Row],[Data_Vencimento]]=\"\",tb_pagamentos[[#This Row],[Valor_Parcela]]=\"\",tb_pagamentos[[#This Row],[Qtd_Total_Parcelas]]=\"\",tb_pagamentos[[#This Row],[Nr_Pedido]]=\"\"),\"\",IF(tb_pagamentos[[#This Row],[Data_Pagamento]]<>\"\",\"Pago\",IF(AND(tb_pagamentos[[#This Row],[Data_Pagamento]]=\"\",tb_pagamentos[[#This Row],[Data_Vencimento]]<TODAY()),\"Em Atraso\",\"A vencer\")))","v":"Em Atraso"}]
[null,null,"PED-048-1",{"$f":"IFERROR(INDEX(CALC_BASE!$N$3:$N$135,MATCH(ROW()-7,CALC_BASE!$M$3:$M$135,0)),\"\")","v":"PED-048"},{"$f":"IFERROR(INDEX(CALC_BASE!$O$3:$O$135,MATCH(ROW()-7,CALC_BASE!$M$3:$M$135,0)),\"\")","v":1},{"$f":"IFERROR(INDEX(CALC_BASE!$P$3:$P$135,MATCH(ROW()-7,CALC_BASE!$M$3:$M$135,0)),\"\")","v":4},{"$f":"IFERROR(IF(D120=\"\",\"\",INDEX(tb_vendas[Preço de Venda],MATCH(D120,tb_vendas[N° Pedido/Empresa],0))/F120),\"\")","v":{"v":1350,"d":"R$ 1,350.00"}},{"$f":"IFERROR(IF(D120=\"\",\"\",INDEX(tb_vendas[Data Fechamento],MATCH(D120,tb_vendas[N° Pedido/Empresa],0))+E120*INDEX(tb_formas_pagamento[Dias_Intervalo],MATCH(INDEX(tb_vendas[Forma_Pagamento],MATCH(D120,tb_vendas[N° Pedido/Empresa],0)),tb_formas_pagamento[Nome_Forma],0))),\"\")","v":"2025-06-26"},"2025-07-08",{"$f":"IF(OR(tb_pagamentos[[#This Row],[Data_Vencimento]]=\"\",tb_pagamentos[[#This Row],[Valor_Parcela]]=\"\",tb_pagamentos[[#This Row],[Qtd_Total_Parcelas]]=\"\",tb_pagamentos[[#This Row],[Nr_Pedido]]=\"\"),\"\",IF(tb_pagamentos[[#This Row],[Data_Pagamento]]<>\"\",\"Pago\",IF(AND(tb_pagamentos[[#This Row],[Data_Pagamento]]=\"\",tb_pagamentos[[#This Row],[Data_Vencimento]]<TODAY()),\"Em Atraso\",\"A vencer\")))","v":"Pago"}]
[null,null,"PED-048-2",{"$f":"IFERROR(INDEX(CALC_BASE!$N$3:$N$135,MATCH(ROW()-7,CALC_BASE!$M$3:$M$135,0)),\"\")","v":"PED-048"},{"$f":"IFERROR(INDEX(CALC_BASE!$O$3:$O$135,MATCH(ROW()-7,CALC_BASE!$M$3:$M$135,0)),\"\")","v":2},{"$f":"IFERROR(INDEX(CALC_BASE!$P$3:$P$135,MATCH(ROW()-7,CALC_BASE!$M$3:$M$135,0)),\"\")","v":4},{"$f":"IFERROR(IF(D121=\"\",\"\",INDEX(tb_vendas[Preço de Venda],MATCH(D121,tb_vendas[N° Pedido/Empresa],0))/F121),\"\")","v":{"v":1350,"d":"R$ 1,350.00"}},{"$f":"IFERROR(IF(D121=\"\",\"\",INDEX(tb_vendas[Data Fechamento],MATCH(D121,tb_vendas[N° Pedido/Empresa],0))+E121*INDEX(tb_formas_pagamento[Dias_Intervalo],MATCH(INDEX(tb_vendas[Forma_Pagamento],MATCH(D121,tb_vendas[N° Pedido/Empresa],0)),tb_formas_pagamento[Nome_Forma],0))),\"\")","v":"2025-07-10"},null,{"$f":"IF(OR(tb_pagamentos[[#This Row],[Data_Vencimento]]=\"\",tb_pagamentos[[#This Row],[Valor_Parcela]]=\"\",tb_pagamentos[[#This Row],[Qtd_Total_Parcelas]]=\"\",tb_pagamentos[[#This Row],[Nr_Pedido]]=\"\"),\"\",IF(tb_pagamentos[[#This Row],[Data_Pagamento]]<>\"\",\"Pago\",IF(AND(tb_pagamentos[[#This Row],[Data_Pagamento]]=\"\",tb_pagamentos[[#This Row],[Data_Vencimento]]<TODAY()),\"Em Atraso\",\"A vencer\")))","v":"Em Atraso"}]
[null,null,"PED-048-3",{"$f":"IFERROR(INDEX(CALC_BASE!$N$3:$N$135,MATCH(ROW()-7,CALC_BASE!$M$3:$M$135,0)),\"\")","v":"PED-048"},{"$f":"IFERROR(INDEX(CALC_BASE!$O$3:$O$135,MATCH(ROW()-7,CALC_BASE!$M$3:$M$135,0)),\"\")","v":3},{"$f":"IFERROR(INDEX(CALC_BASE!$P$3:$P$135,MATCH(ROW()-7,CALC_BASE!$M$3:$M$135,0)),\"\")","v":4},{"$f":"IFERROR(IF(D122=\"\",\"\",INDEX(tb_vendas[Preço de Venda],MATCH(D122,tb_vendas[N° Pedido/Empresa],0))/F122),\"\")","v":{"v":1350,"d":"R$ 1,350.00"}},{"$f":"IFERROR(IF(D122=\"\",\"\",INDEX(tb_vendas[Data Fechamento],MATCH(D122,tb_vendas[N° Pedido/Empresa],0))+E122*INDEX(tb_formas_pagamento[Dias_Intervalo],MATCH(INDEX(tb_vendas[Forma_Pagamento],MATCH(D122,tb_vendas[N° Pedido/Empresa],0)),tb_formas_pagamento[Nome_Forma],0))),\"\")","v":"2025-07-24"},null,{"$f":"IF(OR(tb_pagamentos[[#This Row],[Data_Vencimento]]=\"\",tb_pagamentos[[#This Row],[Valor_Parcela]]=\"\",tb_pagamentos[[#This Row],[Qtd_Total_Parcelas]]=\"\",tb_pagamentos[[#This Row],[Nr_Pedido]]=\"\"),\"\",IF(tb_pagamentos[[#This Row],[Data_Pagamento]]<>\"\",\"Pago\",IF(AND(tb_pagamentos[[#This Row],[Data_Pagamento]]=\"\",tb_pagamentos[[#This Row],[Data_Vencimento]]<TODAY()),\"Em Atraso\",\"A vencer\")))","v":"Em Atraso"}]
[null,null,"PED-048-4",{"$f":"IFERROR(INDEX(CALC_BASE!$N$3:$N$135,MATCH(ROW()-7,CALC_BASE!$M$3:$M$135,0)),\"\")","v":"PED-048"},{"$f":"IFERROR(INDEX(CALC_BASE!$O$3:$O$135,MATCH(ROW()-7,CALC_BASE!$M$3:$M$135,0)),\"\")","v":4},{"$f":"IFERROR(INDEX(CALC_BASE!$P$3:$P$135,MATCH(ROW()-7,CALC_BASE!$M$3:$M$135,0)),\"\")","v":4},{"$f":"IFERROR(IF(D123=\"\",\"\",INDEX(tb_vendas[Preço de Venda],MATCH(D123,tb_vendas[N° Pedido/Empresa],0))/F123),\"\")","v":{"v":1350,"d":"R$ 1,350.00"}},{"$f":"IFERROR(IF(D123=\"\",\"\",INDEX(tb_vendas[Data Fechamento],MATCH(D123,tb_vendas[N° Pedido/Empresa],0))+E123*INDEX(tb_formas_pagamento[Dias_Intervalo],MATCH(INDEX(tb_vendas[Forma_Pagamento],MATCH(D123,tb_vendas[N° Pedido/Empresa],0)),tb_formas_pagamento[Nome_Forma],0))),\"\")","v":"2025-08-07"},null,{"$f":"IF(OR(tb_pagamentos[[#This Row],[Data_Vencimento]]=\"\",tb_pagamentos[[#This Row],[Valor_Parcela]]=\"\",tb_pagamentos[[#This Row],[Qtd_Total_Parcelas]]=\"\",tb_pagamentos[[#This Row],[Nr_Pedido]]=\"\"),\"\",IF(tb_pagamentos[[#This Row],[Data_Pagamento]]<>\"\",\"Pago\",IF(AND(tb_pagamentos[[#This Row],[Data_Pagamento]]=\"\",tb_pagamentos[[#This Row],[Data_Vencimento]]<TODAY()),\"Em Atraso\",\"A vencer\")))","v":"Em Atraso"}]
[null,null,"PED-049-1",{"$f":"IFERROR(INDEX(CALC_BASE!$N$3:$N$135,MATCH(ROW()-7,CALC_BASE!$M$3:$M$135,0)),\"\")","v":"PED-049"},{"$f":"IFERROR(INDEX(CALC_BASE!$O$3:$O$135,MATCH(ROW()-7,CALC_BASE!$M$3:$M$135,0)),\"\")","v":1},{"$f":"IFERROR(INDEX(CALC_BASE!$P$3:$P$135,MATCH(ROW()-7,CALC_BASE!$M$3:$M$135,0)),\"\")","v":4},{"$f":"IFERROR(IF(D124=\"\",\"\",INDEX(tb_vendas[Preço de Venda],MATCH(D124,tb_vendas[N° Pedido/Empresa],0))/F124),\"\")","v":{"v":650,"d":"R$ 650.00"}},{"$f":"IFERROR(IF(D124=\"\",\"\",INDEX(tb_vendas[Data Fechamento],MATCH(D124,tb_vendas[N° Pedido/Empresa],0))+E124*INDEX(tb_formas_pagamento[Dias_Intervalo],MATCH(INDEX(tb_vendas[Forma_Pagamento],MATCH(D124,tb_vendas[N° Pedido/Empresa],0)),tb_formas_pagamento[Nome_Forma],0))),\"\")","v":"2026-02-17"},"2026-03-02",{"$f":"IF(OR(tb_pagamentos[[#This Row],[Data_Vencimento]]=\"\",tb_pagamentos[[#This Row],[Valor_Parcela]]=\"\",tb_pagamentos[[#This Row],[Qtd_Total_Parcelas]]=\"\",tb_pagamentos[[#This Row],[Nr_Pedido]]=\"\"),\"\",IF(tb_pagamentos[[#This Row],[Data_Pagamento]]<>\"\",\"Pago\",IF(AND(tb_pagamentos[[#This Row],[Data_Pagamento]]=\"\",tb_pagamentos[[#This Row],[Data_Vencimento]]<TODAY()),\"Em Atraso\",\"A vencer\")))","v":"Pago"}]
[null,null,"PED-049-2",{"$f":"IFERROR(INDEX(CALC_BASE!$N$3:$N$135,MATCH(ROW()-7,CALC_BASE!$M$3:$M$135,0)),\"\")","v":"PED-049"},{"$f":"IFERROR(INDEX(CALC_BASE!$O$3:$O$135,MATCH(ROW()-7,CALC_BASE!$M$3:$M$135,0)),\"\")","v":2},{"$f":"IFERROR(INDEX(CALC_BASE!$P$3:$P$135,MATCH(ROW()-7,CALC_BASE!$M$3:$M$135,0)),\"\")","v":4},{"$f":"IFERROR(IF(D125=\"\",\"\",INDEX(tb_vendas[Preço de Venda],MATCH(D125,tb_vendas[N° Pedido/Empresa],0))/F125),\"\")","v":{"v":650,"d":"R$ 650.00"}},{"$f":"IFERROR(IF(D125=\"\",\"\",INDEX(tb_vendas[Data Fechamento],MATCH(D125,tb_vendas[N° Pedido/Empresa],0))+E125*INDEX(tb_formas_pagamento[Dias_Intervalo],MATCH(INDEX(tb_vendas[Forma_Pagamento],MATCH(D125,tb_vendas[N° Pedido/Empresa],0)),tb_formas_pagamento[Nome_Forma],0))),\"\")","v":"2026-03-04"},null,{"$f":"IF(OR(tb_pagamentos[[#This Row],[Data_Vencimento]]=\"\",tb_pagamentos[[#This Row],[Valor_Parcela]]=\"\",tb_pagamentos[[#This Row],[Qtd_Total_Parcelas]]=\"\",tb_pagamentos[[#This Row],[Nr_Pedido]]=\"\"),\"\",IF(tb_pagamentos[[#This Row],[Data_Pagamento]]<>\"\",\"Pago\",IF(AND(tb_pagamentos[[#This Row],[Data_Pagamento]]=\"\",tb_pagamentos[[#This Row],[Data_Vencimento]]<TODAY()),\"Em Atraso\",\"A vencer\")))","v":"Em Atraso"}]
[null,null,"PED-049-3",{"$f":"IFERROR(INDEX(CALC_BASE!$N$3:$N$135,MATCH(ROW()-7,CALC_BASE!$M$3:$M$135,0)),\"\")","v":"PED-049"},{"$f":"IFERROR(INDEX(CALC_BASE!$O$3:$O$135,MATCH(ROW()-7,CALC_BASE!$M$3:$M$135,0)),\"\")","v":3},{"$f":"IFERROR(INDEX(CALC_BASE!$P$3:$P$135,MATCH(ROW()-7,CALC_BASE!$M$3:$M$135,0)),\"\")","v":4},{"$f":"IFERROR(IF(D126=\"\",\"\",INDEX(tb_vendas[Preço de Venda],MATCH(D126,tb_vendas[N° Pedido/Empresa],0))/F126),\"\")","v":{"v":650,"d":"R$ 650.00"}},{"$f":"IFERROR(IF(D126=\"\",\"\",INDEX(tb_vendas[Data Fechamento],MATCH(D126,tb_vendas[N° Pedido/Empresa],0))+E126*INDEX(tb_formas_pagamento[Dias_Intervalo],MATCH(INDEX(tb_vendas[Forma_Pagamento],MATCH(D126,tb_vendas[N° Pedido/Empresa],0)),tb_formas_pagamento[Nome_Forma],0))),\"\")","v":"2026-03-19"},null,{"$f":"IF(OR(tb_pagamentos[[#This Row],[Data_Vencimento]]=\"\",tb_pagamentos[[#This Row],[Valor_Parcela]]=\"\",tb_pagamentos[[#This Row],[Qtd_Total_Parcelas]]=\"\",tb_pagamentos[[#This Row],[Nr_Pedido]]=\"\"),\"\",IF(tb_pagamentos[[#This Row],[Data_Pagamento]]<>\"\",\"Pago\",IF(AND(tb_pagamentos[[#This Row],[Data_Pagamento]]=\"\",tb_pagamentos[[#This Row],[Data_Vencimento]]<TODAY()),\"Em Atraso\",\"A vencer\")))","v":"Em Atraso"}]
[null,null,"PED-049-4",{"$f":"IFERROR(INDEX(CALC_BASE!$N$3:$N$135,MATCH(ROW()-7,CALC_BASE!$M$3:$M$135,0)),\"\")","v":"PED-049"},{"$f":"IFERROR(INDEX(CALC_BASE!$O$3:$O$135,MATCH(ROW()-7,CALC_BASE!$M$3:$M$135,0)),\"\")","v":4},{"$f":"IFERROR(INDEX(CALC_BASE!$P$3:$P$135,MATCH(ROW()-7,CALC_BASE!$M$3:$M$135,0)),\"\")","v":4},{"$f":"IFERROR(IF(D127=\"\",\"\",INDEX(tb_vendas[Preço de Venda],MATCH(D127,tb_vendas[N° Pedido/Empresa],0))/F127),\"\")","v":{"v":650,"d":"R$ 650.00"}},{"$f":"IFERROR(IF(D127=\"\",\"\",INDEX(tb_vendas[Data Fechamento],MATCH(D127,tb_vendas[N° Pedido/Empresa],0))+E127*INDEX(tb_formas_pagamento[Dias_Intervalo],MATCH(INDEX(tb_vendas[Forma_Pagamento],MATCH(D127,tb_vendas[N° Pedido/Empresa],0)),tb_formas_pagamento[Nome_Forma],0))),\"\")","v":"2026-04-03"},null,{"$f":"IF(OR(tb_pagamentos[[#This Row],[Data_Vencimento]]=\"\",tb_pagamentos[[#This Row],[Valor_Parcela]]=\"\",tb_pagamentos[[#This Row],[Qtd_Total_Parcelas]]=\"\",tb_pagamentos[[#This Row],[Nr_Pedido]]=\"\"),\"\",IF(tb_pagamentos[[#This Row],[Data_Pagamento]]<>\"\",\"Pago\",IF(AND(tb_pagamentos[[#This Row],[Data_Pagamento]]=\"\",tb_pagamentos[[#This Row],[Data_Vencimento]]<TODAY()),\"Em Atraso\",\"A vencer\")))","v":"Em Atraso"}]
[null,null,"PED-050-1",{"$f":"IFERROR(INDEX(CALC_BASE!$N$3:$N$135,MATCH(ROW()-7,CALC_BASE!$M$3:$M$135,0)),\"\")","v":"PED-050"},{"$f":"IFERROR(INDEX(CALC_BASE!$O$3:$O$135,MATCH(ROW()-7,CALC_BASE!$M$3:$M$135,0)),\"\")","v":1},{"$f":"IFERROR(INDEX(CALC_BASE!$P$3:$P$135,MATCH(ROW()-7,CALC_BASE!$M$3:$M$135,0)),\"\")","v":1},{"$f":"IFERROR(IF(D128=\"\",\"\",INDEX(tb_vendas[Preço de Venda],MATCH(D128,tb_vendas[N° Pedido/Empresa],0))/F128),\"\")","v":{"v":990,"d":"R$ 990.00"}},{"$f":"IFERROR(IF(D128=\"\",\"\",INDEX(tb_vendas[Data Fechamento],MATCH(D128,tb_vendas[N° Pedido/Empresa],0))+E128*INDEX(tb_formas_pagamento[Dias_Intervalo],MATCH(INDEX(tb_vendas[Forma_Pagamento],MATCH(D128,tb_vendas[N° Pedido/Empresa],0)),tb_formas_pagamento[Nome_Forma],0))),\"\")","v":"2025-01-23"},"2025-01-22",{"$f":"IF(OR(tb_pagamentos[[#This Row],[Data_Vencimento]]=\"\",tb_pagamentos[[#This Row],[Valor_Parcela]]=\"\",tb_pagamentos[[#This Row],[Qtd_Total_Parcelas]]=\"\",tb_pagamentos[[#This Row],[Nr_Pedido]]=\"\"),\"\",IF(tb_pagamentos[[#This Row],[Data_Pagamento]]<>\"\",\"Pago\",IF(AND(tb_pagamentos[[#This Row],[Data_Pagamento]]=\"\",tb_pagamentos[[#This Row],[Data_Vencimento]]<TODAY()),\"Em Atraso\",\"A vencer\")))","v":"Pago"}]
[null,null,"PED-051-1",{"$f":"IFERROR(INDEX(CALC_BASE!$N$3:$N$135,MATCH(ROW()-7,CALC_BASE!$M$3:$M$135,0)),\"\")","v":"PED-051"},{"$f":"IFERROR(INDEX(CALC_BASE!$O$3:$O$135,MATCH(ROW()-7,CALC_BASE!$M$3:$M$135,0)),\"\")","v":1},{"$f":"IFERROR(INDEX(CALC_BASE!$P$3:$P$135,MATCH(ROW()-7,CALC_BASE!$M$3:$M$135,0)),\"\")","v":3},{"$f":"IFERROR(IF(D129=\"\",\"\",INDEX(tb_vendas[Preço de Venda],MATCH(D129,tb_vendas[N° Pedido/Empresa],0))/F129),\"\")","v":{"v":1583.3333333333333,"d":"R$ 1,583.33"}},{"$f":"IFERROR(IF(D129=\"\",\"\",INDEX(tb_vendas[Data Fechamento],MATCH(D129,tb_vendas[N° Pedido/Empresa],0))+E129*INDEX(tb_formas_pagamento[Dias_Intervalo],MATCH(INDEX(tb_vendas[Forma_Pagamento],MATCH(D129,tb_vendas[N° Pedido/Empresa],0)),tb_formas_pagamento[Nome_Forma],0))),\"\")","v":"2025-09-14"},"2025-09-19",{"$f":"IF(OR(tb_pagamentos[[#This Row],[Data_Vencimento]]=\"\",tb_pagamentos[[#This Row],[Valor_Parcela]]=\"\",tb_pagamentos[[#This Row],[Qtd_Total_Parcelas]]=\"\",tb_pagamentos[[#This Row],[Nr_Pedido]]=\"\"),\"\",IF(tb_pagamentos[[#This Row],[Data_Pagamento]]<>\"\",\"Pago\",IF(AND(tb_pagamentos[[#This Row],[Data_Pagamento]]=\"\",tb_pagamentos[[#This Row],[Data_Vencimento]]<TODAY()),\"Em Atraso\",\"A vencer\")))","v":"Pago"}]
[null,null,"PED-051-2",{"$f":"IFERROR(INDEX(CALC_BASE!$N$3:$N$135,MATCH(ROW()-7,CALC_BASE!$M$3:$M$135,0)),\"\")","v":"PED-051"},{"$f":"IFERROR(INDEX(CALC_BASE!$O$3:$O$135,MATCH(ROW()-7,CALC_BASE!$M$3:$M$135,0)),\"\")","v":2},{"$f":"IFERROR(INDEX(CALC_BASE!$P$3:$P$135,MATCH(ROW()-7,CALC_BASE!$M$3:$M$135,0)),\"\")","v":3},{"$f":"IFERROR(IF(D130=\"\",\"\",INDEX(tb_vendas[Preço de Venda],MATCH(D130,tb_vendas[N° Pedido/Empresa],0))/F130),\"\")","v":{"v":1583.3333333333333,"d":"R$ 1,583.33"}},{"$f":"IFERROR(IF(D130=\"\",\"\",INDEX(tb_vendas[Data Fechamento],MATCH(D130,tb_vendas[N° Pedido/Empresa],0))+E130*INDEX(tb_formas_pagamento[Dias_Intervalo],MATCH(INDEX(tb_vendas[Forma_Pagamento],MATCH(D130,tb_vendas[N° Pedido/Empresa],0)),tb_formas_pagamento[Nome_Forma],0))),\"\")","v":"2025-09-28"},"2025-10-03",{"$f":"IF(OR(tb_pagamentos[[#This Row],[Data_Vencimento]]=\"\",tb_pagamentos[[#This Row],[Valor_Parcela]]=\"\",tb_pagamentos[[#This Row],[Qtd_Total_Parcelas]]=\"\",tb_pagamentos[[#This Row],[Nr_Pedido]]=\"\"),\"\",IF(tb_pagamentos[[#This Row],[Data_Pagamento]]<>\"\",\"Pago\",IF(AND(tb_pagamentos[[#This Row],[Data_Pagamento]]=\"\",tb_pagamentos[[#This Row],[Data_Vencimento]]<TODAY()),\"Em Atraso\",\"A vencer\")))","v":"Pago"}]
[null,null,"PED-051-3",{"$f":"IFERROR(INDEX(CALC_BASE!$N$3:$N$135,MATCH(ROW()-7,CALC_BASE!$M$3:$M$135,0)),\"\")","v":"PED-051"},{"$f":"IFERROR(INDEX(CALC_BASE!$O$3:$O$135,MATCH(ROW()-7,CALC_BASE!$M$3:$M$135,0)),\"\")","v":3},{"$f":"IFERROR(INDEX(CALC_BASE!$P$3:$P$135,MATCH(ROW()-7,CALC_BASE!$M$3:$M$135,0)),\"\")","v":3},{"$f":"IFERROR(IF(D131=\"\",\"\",INDEX(tb_vendas[Preço de Venda],MATCH(D131,tb_vendas[N° Pedido/Empresa],0))/F131),\"\")","v":{"v":1583.3333333333333,"d":"R$ 1,583.33"}},{"$f":"IFERROR(IF(D131=\"\",\"\",INDEX(tb_vendas[Data Fechamento],MATCH(D131,tb_vendas[N° Pedido/Empresa],0))+E131*INDEX(tb_formas_pagamento[Dias_Intervalo],MATCH(INDEX(tb_vendas[Forma_Pagamento],MATCH(D131,tb_vendas[N° Pedido/Empresa],0)),tb_formas_pagamento[Nome_Forma],0))),\"\")","v":"2025-10-12"},"2025-10-17",{"$f":"IF(OR(tb_pagamentos[[#This Row],[Data_Vencimento]]=\"\",tb_pagamentos[[#This Row],[Valor_Parcela]]=\"\",tb_pagamentos[[#This Row],[Qtd_Total_Parcelas]]=\"\",tb_pagamentos[[#This Row],[Nr_Pedido]]=\"\"),\"\",IF(tb_pagamentos[[#This Row],[Data_Pagamento]]<>\"\",\"Pago\",IF(AND(tb_pagamentos[[#This Row],[Data_Pagamento]]=\"\",tb_pagamentos[[#This Row],[Data_Vencimento]]<TODAY()),\"Em Atraso\",\"A vencer\")))","v":"Pago"}]
[null,null,"PED-052-1",{"$f":"IFERROR(INDEX(CALC_BASE!$N$3:$N$135,MATCH(ROW()-7,CALC_BASE!$M$3:$M$135,0)),\"\")","v":"PED-052"},{"$f":"IFERROR(INDEX(CALC_BASE!$O$3:$O$135,MATCH(ROW()-7,CALC_BASE!$M$3:$M$135,0)),\"\")","v":1},{"$f":"IFERROR(INDEX(CALC_BASE!$P$3:$P$135,MATCH(ROW()-7,CALC_BASE!$M$3:$M$135,0)),\"\")","v":2},{"$f":"IFERROR(IF(D132=\"\",\"\",INDEX(tb_vendas[Preço de Venda],MATCH(D132,tb_vendas[N° Pedido/Empresa],0))/F132),\"\")","v":{"v":800,"d":"R$ 800.00"}},{"$f":"IFERROR(IF(D132=\"\",\"\",INDEX(tb_vendas[Data Fechamento],MATCH(D132,tb_vendas[N° Pedido/Empresa],0))+E132*INDEX(tb_formas_pagamento[Dias_Intervalo],MATCH(INDEX(tb_vendas[Forma_Pagamento],MATCH(D132,tb_vendas[N° Pedido/Empresa],0)),tb_formas_pagamento[Nome_Forma],0))),\"\")","v":"2026-01-17"},"2026-01-29",{"$f":"IF(OR(tb_pagamentos[[#This Row],[Data_Vencimento]]=\"\",tb_pagamentos[[#This Row],[Valor_Parcela]]=\"\",tb_pagamentos[[#This Row],[Qtd_Total_Parcelas]]=\"\",tb_pagamentos[[#This Row],[Nr_Pedido]]=\"\"),\"\",IF(tb_pagamentos[[#This Row],[Data_Pagamento]]<>\"\",\"Pago\",IF(AND(tb_pagamentos[[#This Row],[Data_Pagamento]]=\"\",tb_pagamentos[[#This Row],[Data_Vencimento]]<TODAY()),\"Em Atraso\",\"A vencer\")))","v":"Pago"}]
[null,null,"PED-052-2",{"$f":"IFERROR(INDEX(CALC_BASE!$N$3:$N$135,MATCH(ROW()-7,CALC_BASE!$M$3:$M$135,0)),\"\")","v":"PED-052"},{"$f":"IFERROR(INDEX(CALC_BASE!$O$3:$O$135,MATCH(ROW()-7,CALC_BASE!$M$3:$M$135,0)),\"\")","v":2},{"$f":"IFERROR(INDEX(CALC_BASE!$P$3:$P$135,MATCH(ROW()-7,CALC_BASE!$M$3:$M$135,0)),\"\")","v":2},{"$f":"IFERROR(IF(D133=\"\",\"\",INDEX(tb_vendas[Preço de Venda],MATCH(D133,tb_vendas[N° Pedido/Empresa],0))/F133),\"\")","v":{"v":800,"d":"R$ 800.00"}},{"$f":"IFERROR(IF(D133=\"\",\"\",INDEX(tb_vendas[Data Fechamento],MATCH(D133,tb_vendas[N° Pedido/Empresa],0))+E133*INDEX(tb_formas_pagamento[Dias_Intervalo],MATCH(INDEX(tb_vendas[Forma_Pagamento],MATCH(D133,tb_vendas[N° Pedido/Empresa],0)),tb_formas_pagamento[Nome_Forma],0))),\"\")","v":"2026-01-31"},"2026-02-12",{"$f":"IF(OR(tb_pagamentos[[#This Row],[Data_Vencimento]]=\"\",tb_pagamentos[[#This Row],[Valor_Parcela]]=\"\",tb_pagamentos[[#This Row],[Qtd_Total_Parcelas]]=\"\",tb_pagamentos[[#This Row],[Nr_Pedido]]=\"\"),\"\",IF(tb_pagamentos[[#This Row],[Data_Pagamento]]<>\"\",\"Pago\",IF(AND(tb_pagamentos[[#This Row],[Data_Pagamento]]=\"\",tb_pagamentos[[#This Row],[Data_Vencimento]]<TODAY()),\"Em Atraso\",\"A vencer\")))","v":"Pago"}]
[null,null,"PED-053-1",{"$f":"IFERROR(INDEX(CALC_BASE!$N$3:$N$135,MATCH(ROW()-7,CALC_BASE!$M$3:$M$135,0)),\"\")","v":"PED-053"},{"$f":"IFERROR(INDEX(CALC_BASE!$O$3:$O$135,MATCH(ROW()-7,CALC_BASE!$M$3:$M$135,0)),\"\")","v":1},{"$f":"IFERROR(INDEX(CALC_BASE!$P$3:$P$135,MATCH(ROW()-7,CALC_BASE!$M$3:$M$135,0)),\"\")","v":2},{"$f":"IFERROR(IF(D134=\"\",\"\",INDEX(tb_vendas[Preço de Venda],MATCH(D134,tb_vendas[N° Pedido/Empresa],0))/F134),\"\")","v":{"v":1550,"d":"R$ 1,550.00"}},{"$f":"IFERROR(IF(D134=\"\",\"\",INDEX(tb_vendas[Data Fechamento],MATCH(D134,tb_vendas[N° Pedido/Empresa],0))+E134*INDEX(tb_formas_pagamento[Dias_Intervalo],MATCH(INDEX(tb_vendas[Forma_Pagamento],MATCH(D134,tb_vendas[N° Pedido/Empresa],0)),tb_formas_pagamento[Nome_Forma],0))),\"\")","v":"2025-05-23"},"2025-05-21",{"$f":"IF(OR(tb_pagamentos[[#This Row],[Data_Vencimento]]=\"\",tb_pagamentos[[#This Row],[Valor_Parcela]]=\"\",tb_pagamentos[[#This Row],[Qtd_Total_Parcelas]]=\"\",tb_pagamentos[[#This Row],[Nr_Pedido]]=\"\"),\"\",IF(tb_pagamentos[[#This Row],[Data_Pagamento]]<>\"\",\"Pago\",IF(AND(tb_pagamentos[[#This Row],[Data_Pagamento]]=\"\",tb_pagamentos[[#This Row],[Data_Vencimento]]<TODAY()),\"Em Atraso\",\"A vencer\")))","v":"Pago"}]
[null,null,"PED-053-2",{"$f":"IFERROR(INDEX(CALC_BASE!$N$3:$N$135,MATCH(ROW()-7,CALC_BASE!$M$3:$M$135,0)),\"\")","v":"PED-053"},{"$f":"IFERROR(INDEX(CALC_BASE!$O$3:$O$135,MATCH(ROW()-7,CALC_BASE!$M$3:$M$135,0)),\"\")","v":2},{"$f":"IFERROR(INDEX(CALC_BASE!$P$3:$P$135,MATCH(ROW()-7,CALC_BASE!$M$3:$M$135,0)),\"\")","v":2},{"$f":"IFERROR(IF(D135=\"\",\"\",INDEX(tb_vendas[Preço de Venda],MATCH(D135,tb_vendas[N° Pedido/Empresa],0))/F135),\"\")","v":{"v":1550,"d":"R$ 1,550.00"}},{"$f":"IFERROR(IF(D135=\"\",\"\",INDEX(tb_vendas[Data Fechamento],MATCH(D135,tb_vendas[N° Pedido/Empresa],0))+E135*INDEX(tb_formas_pagamento[Dias_Intervalo],MATCH(INDEX(tb_vendas[Forma_Pagamento],MATCH(D135,tb_vendas[N° Pedido/Empresa],0)),tb_formas_pagamento[Nome_Forma],0))),\"\")","v":"2025-06-22"},"2025-06-20",{"$f":"IF(OR(tb_pagamentos[[#This Row],[Data_Vencimento]]=\"\",tb_pagamentos[[#This Row],[Valor_Parcela]]=\"\",tb_pagamentos[[#This Row],[Qtd_Total_Parcelas]]=\"\",tb_pagamentos[[#This Row],[Nr_Pedido]]=\"\"),\"\",IF(tb_pagamentos[[#This Row],[Data_Pagamento]]<>\"\",\"Pago\",IF(AND(tb_pagamentos[[#This Row],[Data_Pagamento]]=\"\",tb_pagamentos[[#This Row],[Data_Vencimento]]<TODAY()),\"Em Atraso\",\"A vencer\")))","v":"Pago"}]
[null,null,{"$f":"IF(OR(D136=\"\",E136=\"\"),\"\",D136&\"-\"&E136)","v":"PED-054-1"},{"$f":"IFERROR(INDEX(CALC_BASE!$N$3:$N$135,MATCH(ROW()-7,CALC_BASE!$M$3:$M$135,0)),\"\")","v":"PED-054"},{"$f":"IFERROR(INDEX(CALC_BASE!$O$3:$O$135,MATCH(ROW()-7,CALC_BASE!$M$3:$M$135,0)),\"\")","v":1},{"$f":"IFERROR(INDEX(CALC_BASE!$P$3:$P$135,MATCH(ROW()-7,CALC_BASE!$M$3:$M$135,0)),\"\")","v":1},{"$f":"IFERROR(IF(D136=\"\",\"\",INDEX(tb_vendas[Preço de Venda],MATCH(D136,tb_vendas[N° Pedido/Empresa],0))/F136),\"\")","v":{"v":870,"d":"R$ 870.00"}},{"$f":"IFERROR(IF(D136=\"\",\"\",INDEX(tb_vendas[Data Fechamento],MATCH(D136,tb_vendas[N° Pedido/Empresa],0))+E136*INDEX(tb_formas_pagamento[Dias_Intervalo],MATCH(INDEX(tb_vendas[Forma_Pagamento],MATCH(D136,tb_vendas[N° Pedido/Empresa],0)),tb_formas_pagamento[Nome_Forma],0))),\"\")","v":"2026-03-09"},"2026-03-08",{"$f":"IF(OR(tb_pagamentos[[#This Row],[Data_Vencimento]]=\"\",tb_pagamentos[[#This Row],[Valor_Parcela]]=\"\",tb_pagamentos[[#This Row],[Qtd_Total_Parcelas]]=\"\",tb_pagamentos[[#This Row],[Nr_Pedido]]=\"\"),\"\",IF(tb_pagamentos[[#This Row],[Data_Pagamento]]<>\"\",\"Pago\",IF(AND(tb_pagamentos[[#This Row],[Data_Pagamento]]=\"\",tb_pagamentos[[#This Row],[Data_Vencimento]]<TODAY()),\"Em Atraso\",\"A vencer\")))","v":"Pago"}]
[null,null,"PED-055-1",{"$f":"IFERROR(INDEX(CALC_BASE!$N$3:$N$135,MATCH(ROW()-7,CALC_BASE!$M$3:$M$135,0)),\"\")","v":"PED-055"},{"$f":"IFERROR(INDEX(CALC_BASE!$O$3:$O$135,MATCH(ROW()-7,CALC_BASE!$M$3:$M$135,0)),\"\")","v":1},{"$f":"IFERROR(INDEX(CALC_BASE!$P$3:$P$135,MATCH(ROW()-7,CALC_BASE!$M$3:$M$135,0)),\"\")","v":4},{"$f":"IFERROR(IF(D137=\"\",\"\",INDEX(tb_vendas[Preço de Venda],MATCH(D137,tb_vendas[N° Pedido/Empresa],0))/F137),\"\")","v":{"v":1775,"d":"R$ 1,775.00"}},{"$f":"IFERROR(IF(D137=\"\",\"\",INDEX(tb_vendas[Data Fechamento],MATCH(D137,tb_vendas[N° Pedido/Empresa],0))+E137*INDEX(tb_formas_pagamento[Dias_Intervalo],MATCH(INDEX(tb_vendas[Forma_Pagamento],MATCH(D137,tb_vendas[N° Pedido/Empresa],0)),tb_formas_pagamento[Nome_Forma],0))),\"\")","v":"2024-12-28"},"2025-01-09",{"$f":"IF(OR(tb_pagamentos[[#This Row],[Data_Vencimento]]=\"\",tb_pagamentos[[#This Row],[Valor_Parcela]]=\"\",tb_pagamentos[[#This Row],[Qtd_Total_Parcelas]]=\"\",tb_pagamentos[[#This Row],[Nr_Pedido]]=\"\"),\"\",IF(tb_pagamentos[[#This Row],[Data_Pagamento]]<>\"\",\"Pago\",IF(AND(tb_pagamentos[[#This Row],[Data_Pagamento]]=\"\",tb_pagamentos[[#This Row],[Data_Vencimento]]<TODAY()),\"Em Atraso\",\"A vencer\")))","v":"Pago"}]
[null,null,"PED-055-2",{"$f":"IFERROR(INDEX(CALC_BASE!$N$3:$N$135,MATCH(ROW()-7,CALC_BASE!$M$3:$M$135,0)),\"\")","v":"PED-055"},{"$f":"IFERROR(INDEX(CALC_BASE!$O$3:$O$135,MATCH(ROW()-7,CALC_BASE!$M$3:$M$135,0)),\"\")","v":2},{"$f":"IFERROR(INDEX(CALC_BASE!$P$3:$P$135,MATCH(ROW()-7,CALC_BASE!$M$3:$M$135,0)),\"\")","v":4},{"$f":"IFERROR(IF(D138=\"\",\"\",INDEX(tb_vendas[Preço de Venda],MATCH(D138,tb_vendas[N° Pedido/Empresa],0))/F138),\"\")","v":{"v":1775,"d":"R$ 1,775.00"}},{"$f":"IFERROR(IF(D138=\"\",\"\",INDEX(tb_vendas[Data Fechamento],MATCH(D138,tb_vendas[N° Pedido/Empresa],0))+E138*INDEX(tb_formas_pagamento[Dias_Intervalo],MATCH(INDEX(tb_vendas[Forma_Pagamento],MATCH(D138,tb_vendas[N° Pedido/Empresa],0)),tb_formas_pagamento[Nome_Forma],0))),\"\")","v":"2025-01-11"},null,{"$f":"IF(OR(tb_pagamentos[[#This Row],[Data_Vencimento]]=\"\",tb_pagamentos[[#This Row],[Valor_Parcela]]=\"\",tb_pagamentos[[#This Row],[Qtd_Total_Parcelas]]=\"\",tb_pagamentos[[#This Row],[Nr_Pedido]]=\"\"),\"\",IF(tb_pagamentos[[#This Row],[Data_Pagamento]]<>\"\",\"Pago\",IF(AND(tb_pagamentos[[#This Row],[Data_Pagamento]]=\"\",tb_pagamentos[[#This Row],[Data_Vencimento]]<TODAY()),\"Em Atraso\",\"A vencer\")))","v":"Em Atraso"}]
[null,null,"PED-055-3",{"$f":"IFERROR(INDEX(CALC_BASE!$N$3:$N$135,MATCH(ROW()-7,CALC_BASE!$M$3:$M$135,0)),\"\")","v":"PED-055"},{"$f":"IFERROR(INDEX(CALC_BASE!$O$3:$O$135,MATCH(ROW()-7,CALC_BASE!$M$3:$M$135,0)),\"\")","v":3},{"$f":"IFERROR(INDEX(CALC_BASE!$P$3:$P$135,MATCH(ROW()-7,CALC_BASE!$M$3:$M$135,0)),\"\")","v":4},{"$f":"IFERROR(IF(D139=\"\",\"\",INDEX(tb_vendas[Preço de Venda],MATCH(D139,tb_vendas[N° Pedido/Empresa],0))/F139),\"\")","v":{"v":1775,"d":"R$ 1,775.00"}},{"$f":"IFERROR(IF(D139=\"\",\"\",INDEX(tb_vendas[Data Fechamento],MATCH(D139,tb_vendas[N° Pedido/Empresa],0))+E139*INDEX(tb_formas_pagamento[Dias_Intervalo],MATCH(INDEX(tb_vendas[Forma_Pagamento],MATCH(D139,tb_vendas[N° Pedido/Empresa],0)),tb_formas_pagamento[Nome_Forma],0))),\"\")","v":"2025-01-25"},null,{"$f":"IF(OR(tb_pagamentos[[#This Row],[Data_Vencimento]]=\"\",tb_pagamentos[[#This Row],[Valor_Parcela]]=\"\",tb_pagamentos[[#This Row],[Qtd_Total_Parcelas]]=\"\",tb_pagamentos[[#This Row],[Nr_Pedido]]=\"\"),\"\",IF(tb_pagamentos[[#This Row],[Data_Pagamento]]<>\"\",\"Pago\",IF(AND(tb_pagamentos[[#This Row],[Data_Pagamento]]=\"\",tb_pagamentos[[#This Row],[Data_Vencimento]]<TODAY()),\"Em Atraso\",\"A vencer\")))","v":"Em Atraso"}]
[null,null,"PED-055-4",{"$f":"IFERROR(INDEX(CALC_BASE!$N$3:$N$135,MATCH(ROW()-7,CALC_BASE!$M$3:$M$135,0)),\"\")","v":"PED-055"},{"$f":"IFERROR(INDEX(CALC_BASE!$O$3:$O$135,MATCH(ROW()-7,CALC_BASE!$M$3:$M$135,0)),\"\")","v":4},{"$f":"IFERROR(INDEX(CALC_BASE!$P$3:$P$135,MATCH(ROW()-7,CALC_BASE!$M$3:$M$135,0)),\"\")","v":4},{"$f":"IFERROR(IF(D140=\"\",\"\",INDEX(tb_vendas[Preço de Venda],MATCH(D140,tb_vendas[N° Pedido/Empresa],0))/F140),\"\")","v":{"v":1775,"d":"R$ 1,775.00"}},{"$f":"IFERROR(IF(D140=\"\",\"\",INDEX(tb_vendas[Data Fechamento],MATCH(D140,tb_vendas[N° Pedido/Empresa],0))+E140*INDEX(tb_formas_pagamento[Dias_Intervalo],MATCH(INDEX(tb_vendas[Forma_Pagamento],MATCH(D140,tb_vendas[N° Pedido/Empresa],0)),tb_formas_pagamento[Nome_Forma],0))),\"\")","v":"2025-02-08"},null,{"$f":"IF(OR(tb_pagamentos[[#This Row],[Data_Vencimento]]=\"\",tb_pagamentos[[#This Row],[Valor_Parcela]]=\"\",tb_pagamentos[[#This Row],[Qtd_Total_Parcelas]]=\"\",tb_pagamentos[[#This Row],[Nr_Pedido]]=\"\"),\"\",IF(tb_pagamentos[[#This Row],[Data_Pagamento]]<>\"\",\"Pago\",IF(AND(tb_pagamentos[[#This Row],[Data_Pagamento]]=\"\",tb_pagamentos[[#This Row],[Data_Vencimento]]<TODAY()),\"Em Atraso\",\"A vencer\")))","v":"Em Atraso"}]
[null,null,{"$f":"IF(OR(D141=\"\",E141=\"\"),\"\",D141&\"-\"&E141)","v":""},{"$f":"IFERROR(INDEX(CALC_BASE!$N$3:$N$52,MATCH(ROW()-7,CALC_BASE!$M$3:$M$52,0)),\"\")","v":""},{"$f":"IFERROR(INDEX(CALC_BASE!$O$3:$O$52,MATCH(ROW()-7,CALC_BASE!$M$3:$M$52,0)),\"\")","v":""},{"$f":"IFERROR(INDEX(CALC_BASE!$P$3:$P$52,MATCH(ROW()-7,CALC_BASE!$M$3:$M$52,0)),\"\")","v":""},{"$f":"IFERROR(IF(D141=\"\",\"\",INDEX(tb_vendas[Preço de Venda],MATCH(D141,tb_vendas[N° Pedido/Empresa],0))/F141),\"\")","v":""},{"$f":"IFERROR(IF(D141=\"\",\"\",INDEX(tb_vendas[Data Fechamento],MATCH(D141,tb_vendas[N° Pedido/Empresa],0))+E141*INDEX(tb_formas_pagamento[Dias_Intervalo],MATCH(INDEX(tb_vendas[Forma_Pagamento],MATCH(D141,tb_vendas[N° Pedido/Empresa],0)),tb_formas_pagamento[Nome_Forma],0))),\"\")","v":""},null,{"$f":"IF(OR(tb_pagamentos[[#This Row],[Data_Vencimento]]=\"\",tb_pagamentos[[#This Row],[Valor_Parcela]]=\"\",tb_pagamentos[[#This Row],[Qtd_Total_Parcelas]]=\"\",tb_pagamentos[[#This Row],[Nr_Pedido]]=\"\"),\"\",IF(tb_pagamentos[[#This Row],[Data_Pagamento]]<>\"\",\"Pago\",IF(AND(tb_pagamentos[[#This Row],[Data_Pagamento]]=\"\",tb_pagamentos[[#This Row],[Data_Vencimento]]<TODAY()),\"Em Atraso\",\"A vencer\")))","v":""}]
[null,null,"",{"$f":"IFERROR(INDEX(CALC_BASE!$N$3:$N$52,MATCH(ROW()-7,CALC_BASE!$M$3:$M$52,0)),\"\")","v":""},{"$f":"IFERROR(INDEX(CALC_BASE!$O$3:$O$52,MATCH(ROW()-7,CALC_BASE!$M$3:$M$52,0)),\"\")","v":""},{"$f":"IFERROR(INDEX(CALC_BASE!$P$3:$P$52,MATCH(ROW()-7,CALC_BASE!$M$3:$M$52,0)),\"\")","v":""},{"$f":"IFERROR(IF(D142=\"\",\"\",INDEX(tb_vendas[Preço de Venda],MATCH(D142,tb_vendas[N° Pedido/Empresa],0))/F142),\"\")","v":""},{"$f":"IFERROR(IF(D142=\"\",\"\",INDEX(tb_vendas[Data Fechamento],MATCH(D142,tb_vendas[N° Pedido/Empresa],0))+E142*INDEX(tb_formas_pagamento[Dias_Intervalo],MATCH(INDEX(tb_vendas[Forma_Pagamento],MATCH(D142,tb_vendas[N° Pedido/Empresa],0)),tb_formas_pagamento[Nome_Forma],0))),\"\")","v":""},null,{"$f":"IF(OR(tb_pagamentos[[#This Row],[Data_Vencimento]]=\"\",tb_pagamentos[[#This Row],[Valor_Parcela]]=\"\",tb_pagamentos[[#This Row],[Qtd_Total_Parcelas]]=\"\",tb_pagamentos[[#This Row],[Nr_Pedido]]=\"\"),\"\",IF(tb_pagamentos[[#This Row],[Data_Pagamento]]<>\"\",\"Pago\",IF(AND(tb_pagamentos[[#This Row],[Data_Pagamento]]=\"\",tb_pagamentos[[#This Row],[Data_Vencimento]]<TODAY()),\"Em Atraso\",\"A vencer\")))","v":""}]
[null,null,{"$f":"IF(OR(D143=\"\",E143=\"\"),\"\",D143&\"-\"&E143)","v":""},{"$f":"IFERROR(INDEX(CALC_BASE!$N$3:$N$52,MATCH(ROW()-7,CALC_BASE!$M$3:$M$52,0)),\"\")","v":""},{"$f":"IFERROR(INDEX(CALC_BASE!$O$3:$O$52,MATCH(ROW()-7,CALC_BASE!$M$3:$M$52,0)),\"\")","v":""},{"$f":"IFERROR(INDEX(CALC_BASE!$P$3:$P$52,MATCH(ROW()-7,CALC_BASE!$M$3:$M$52,0)),\"\")","v":""},{"$f":"IFERROR(IF(D143=\"\",\"\",INDEX(tb_vendas[Preço de Venda],MATCH(D143,tb_vendas[N° Pedido/Empresa],0))/F143),\"\")","v":""},{"$f":"IFERROR(IF(D143=\"\",\"\",INDEX(tb_vendas[Data Fechamento],MATCH(D143,tb_vendas[N° Pedido/Empresa],0))+E143*INDEX(tb_formas_pagamento[Dias_Intervalo],MATCH(INDEX(tb_vendas[Forma_Pagamento],MATCH(D143,tb_vendas[N° Pedido/Empresa],0)),tb_formas_pagamento[Nome_Forma],0))),\"\")","v":""},null,{"$f":"IF(OR(tb_pagamentos[[#This Row],[Data_Vencimento]]=\"\",tb_pagamentos[[#This Row],[Valor_Parcela]]=\"\",tb_pagamentos[[#This Row],[Qtd_Total_Parcelas]]=\"\",tb_pagamentos[[#This Row],[Nr_Pedido]]=\"\"),\"\",IF(tb_pagamentos[[#This Row],[Data_Pagamento]]<>\"\",\"Pago\",IF(AND(tb_pagamentos[[#This Row],[Data_Pagamento]]=\"\",tb_pagamentos[[#This Row],[Data_Vencimento]]<TODAY()),\"Em Atraso\",\"A vencer\")))","v":""}]
[null,null,"",{"$f":"IFERROR(INDEX(CALC_BASE!$N$3:$N$52,MATCH(ROW()-7,CALC_BASE!$M$3:$M$52,0)),\"\")","v":""},{"$f":"IFERROR(INDEX(CALC_BASE!$O$3:$O$52,MATCH(ROW()-7,CALC_BASE!$M$3:$M$52,0)),\"\")","v":""},{"$f":"IFERROR(INDEX(CALC_BASE!$P$3:$P$52,MATCH(ROW()-7,CALC_BASE!$M$3:$M$52,0)),\"\")","v":""},{"$f":"IFERROR(IF(D144=\"\",\"\",INDEX(tb_vendas[Preço de Venda],MATCH(D144,tb_vendas[N° Pedido/Empresa],0))/F144),\"\")","v":""},{"$f":"IFERROR(IF(D144=\"\",\"\",INDEX(tb_vendas[Data Fechamento],MATCH(D144,tb_vendas[N° Pedido/Empresa],0))+E144*INDEX(tb_formas_pagamento[Dias_Intervalo],MATCH(INDEX(tb_vendas[Forma_Pagamento],MATCH(D144,tb_vendas[N° Pedido/Empresa],0)),tb_formas_pagamento[Nome_Forma],0))),\"\")","v":""},null,{"$f":"IF(OR(tb_pagamentos[[#This Row],[Data_Vencimento]]=\"\",tb_pagamentos[[#This Row],[Valor_Parcela]]=\"\",tb_pagamentos[[#This Row],[Qtd_Total_Parcelas]]=\"\",tb_pagamentos[[#This Row],[Nr_Pedido]]=\"\"),\"\",IF(tb_pagamentos[[#This Row],[Data_Pagamento]]<>\"\",\"Pago\",IF(AND(tb_pagamentos[[#This Row],[Data_Pagamento]]=\"\",tb_pagamentos[[#This Row],[Data_Vencimento]]<TODAY()),\"Em Atraso\",\"A vencer\")))","v":""}]
[null,null,"",{"$f":"IFERROR(INDEX(CALC_BASE!$N$3:$N$52,MATCH(ROW()-7,CALC_BASE!$M$3:$M$52,0)),\"\")","v":""},{"$f":"IFERROR(INDEX(CALC_BASE!$O$3:$O$52,MATCH(ROW()-7,CALC_BASE!$M$3:$M$52,0)),\"\")","v":""},{"$f":"IFERROR(INDEX(CALC_BASE!$P$3:$P$52,MATCH(ROW()-7,CALC_BASE!$M$3:$M$52,0)),\"\")","v":""},{"$f":"IFERROR(IF(D145=\"\",\"\",INDEX(tb_vendas[Preço de Venda],MATCH(D145,tb_vendas[N° Pedido/Empresa],0))/F145),\"\")","v":""},{"$f":"IFERROR(IF(D145=\"\",\"\",INDEX(tb_vendas[Data Fechamento],MATCH(D145,tb_vendas[N° Pedido/Empresa],0))+E145*INDEX(tb_formas_pagamento[Dias_Intervalo],MATCH(INDEX(tb_vendas[Forma_Pagamento],MATCH(D145,tb_vendas[N° Pedido/Empresa],0)),tb_formas_pagamento[Nome_Forma],0))),\"\")","v":""},null,{"$f":"IF(OR(tb_pagamentos[[#This Row],[Data_Vencimento]]=\"\",tb_pagamentos[[#This Row],[Valor_Parcela]]=\"\",tb_pagamentos[[#This Row],[Qtd_Total_Parcelas]]=\"\",tb_pagamentos[[#This Row],[Nr_Pedido]]=\"\"),\"\",IF(tb_pagamentos[[#This Row],[Data_Pagamento]]<>\"\",\"Pago\",IF(AND(tb_pagamentos[[#This Row],[Data_Pagamento]]=\"\",tb_pagamentos[[#This Row],[Data_Vencimento]]<TODAY()),\"Em Atraso\",\"A vencer\")))","v":""}]
[null,null,"",{"$f":"IFERROR(INDEX(CALC_BASE!$N$3:$N$52,MATCH(ROW()-7,CALC_BASE!$M$3:$M$52,0)),\"\")","v":""},{"$f":"IFERROR(INDEX(CALC_BASE!$O$3:$O$52,MATCH(ROW()-7,CALC_BASE!$M$3:$M$52,0)),\"\")","v":""},{"$f":"IFERROR(INDEX(CALC_BASE!$P$3:$P$52,MATCH(ROW()-7,CALC_BASE!$M$3:$M$52,0)),\"\")","v":""},{"$f":"IFERROR(IF(D146=\"\",\"\",INDEX(tb_vendas[Preço de Venda],MATCH(D146,tb_vendas[N° Pedido/Empresa],0))/F146),\"\")","v":""},{"$f":"IFERROR(IF(D146=\"\",\"\",INDEX(tb_vendas[Data Fechamento],MATCH(D146,tb_vendas[N° Pedido/Empresa],0))+E146*INDEX(tb_formas_pagamento[Dias_Intervalo],MATCH(INDEX(tb_vendas[Forma_Pagamento],MATCH(D146,tb_vendas[N° Pedido/Empresa],0)),tb_formas_pagamento[Nome_Forma],0))),\"\")","v":""},null,{"$f":"IF(OR(tb_pagamentos[[#This Row],[Data_Vencimento]]=\"\",tb_pagamentos[[#This Row],[Valor_Parcela]]=\"\",tb_pagamentos[[#This Row],[Qtd_Total_Parcelas]]=\"\",tb_pagamentos[[#This Row],[Nr_Pedido]]=\"\"),\"\",IF(tb_pagamentos[[#This Row],[Data_Pagamento]]<>\"\",\"Pago\",IF(AND(tb_pagamentos[[#This Row],[Data_Pagamento]]=\"\",tb_pagamentos[[#This Row],[Data_Vencimento]]<TODAY()),\"Em Atraso\",\"A vencer\")))","v":""}]
[null,null,"",{"$f":"IFERROR(INDEX(CALC_BASE!$N$3:$N$52,MATCH(ROW()-7,CALC_BASE!$M$3:$M$52,0)),\"\")","v":""},{"$f":"IFERROR(INDEX(CALC_BASE!$O$3:$O$52,MATCH(ROW()-7,CALC_BASE!$M$3:$M$52,0)),\"\")","v":""},{"$f":"IFERROR(INDEX(CALC_BASE!$P$3:$P$52,MATCH(ROW()-7,CALC_BASE!$M$3:$M$52,0)),\"\")","v":""},{"$f":"IFERROR(IF(D147=\"\",\"\",INDEX(tb_vendas[Preço de Venda],MATCH(D147,tb_vendas[N° Pedido/Empresa],0))/F147),\"\")","v":""},{"$f":"IFERROR(IF(D147=\"\",\"\",INDEX(tb_vendas[Data Fechamento],MATCH(D147,tb_vendas[N° Pedido/Empresa],0))+E147*INDEX(tb_formas_pagamento[Dias_Intervalo],MATCH(INDEX(tb_vendas[Forma_Pagamento],MATCH(D147,tb_vendas[N° Pedido/Empresa],0)),tb_formas_pagamento[Nome_Forma],0))),\"\")","v":""},null,{"$f":"IF(OR(tb_pagamentos[[#This Row],[Data_Vencimento]]=\"\",tb_pagamentos[[#This Row],[Valor_Parcela]]=\"\",tb_pagamentos[[#This Row],[Qtd_Total_Parcelas]]=\"\",tb_pagamentos[[#This Row],[Nr_Pedido]]=\"\"),\"\",IF(tb_pagamentos[[#This Row],[Data_Pagamento]]<>\"\",\"Pago\",IF(AND(tb_pagamentos[[#This Row],[Data_Pagamento]]=\"\",tb_pagamentos[[#This Row],[Data_Vencimento]]<TODAY()),\"Em Atraso\",\"A vencer\")))","v":""}]
[null,null,"",{"$f":"IFERROR(INDEX(CALC_BASE!$N$3:$N$52,MATCH(ROW()-7,CALC_BASE!$M$3:$M$52,0)),\"\")","v":""},{"$f":"IFERROR(INDEX(CALC_BASE!$O$3:$O$52,MATCH(ROW()-7,CALC_BASE!$M$3:$M$52,0)),\"\")","v":""},{"$f":"IFERROR(INDEX(CALC_BASE!$P$3:$P$52,MATCH(ROW()-7,CALC_BASE!$M$3:$M$52,0)),\"\")","v":""},{"$f":"IFERROR(IF(D148=\"\",\"\",INDEX(tb_vendas[Preço de Venda],MATCH(D148,tb_vendas[N° Pedido/Empresa],0))/F148),\"\")","v":""},{"$f":"IFERROR(IF(D148=\"\",\"\",INDEX(tb_vendas[Data Fechamento],MATCH(D148,tb_vendas[N° Pedido/Empresa],0))+E148*INDEX(tb_formas_pagamento[Dias_Intervalo],MATCH(INDEX(tb_vendas[Forma_Pagamento],MATCH(D148,tb_vendas[N° Pedido/Empresa],0)),tb_formas_pagamento[Nome_Forma],0))),\"\")","v":""},null,{"$f":"IF(OR(tb_pagamentos[[#This Row],[Data_Vencimento]]=\"\",tb_pagamentos[[#This Row],[Valor_Parcela]]=\"\",tb_pagamentos[[#This Row],[Qtd_Total_Parcelas]]=\"\",tb_pagamentos[[#This Row],[Nr_Pedido]]=\"\"),\"\",IF(tb_pagamentos[[#This Row],[Data_Pagamento]]<>\"\",\"Pago\",IF(AND(tb_pagamentos[[#This Row],[Data_Pagamento]]=\"\",tb_pagamentos[[#This Row],[Data_Vencimento]]<TODAY()),\"Em Atraso\",\"A vencer\")))","v":""}]
[null,null,"",{"$f":"IFERROR(INDEX(CALC_BASE!$N$3:$N$52,MATCH(ROW()-7,CALC_BASE!$M$3:$M$52,0)),\"\")","v":""},{"$f":"IFERROR(INDEX(CALC_BASE!$O$3:$O$52,MATCH(ROW()-7,CALC_BASE!$M$3:$M$52,0)),\"\")","v":""},{"$f":"IFERROR(INDEX(CALC_BASE!$P$3:$P$52,MATCH(ROW()-7,CALC_BASE!$M$3:$M$52,0)),\"\")","v":""},{"$f":"IFERROR(IF(D149=\"\",\"\",INDEX(tb_vendas[Preço de Venda],MATCH(D149,tb_vendas[N° Pedido/Empresa],0))/F149),\"\")","v":""},{"$f":"IFERROR(IF(D149=\"\",\"\",INDEX(tb_vendas[Data Fechamento],MATCH(D149,tb_vendas[N° Pedido/Empresa],0))+E149*INDEX(tb_formas_pagamento[Dias_Intervalo],MATCH(INDEX(tb_vendas[Forma_Pagamento],MATCH(D149,tb_vendas[N° Pedido/Empresa],0)),tb_formas_pagamento[Nome_Forma],0))),\"\")","v":""},null,{"$f":"IF(OR(tb_pagamentos[[#This Row],[Data_Vencimento]]=\"\",tb_pagamentos[[#This Row],[Valor_Parcela]]=\"\",tb_pagamentos[[#This Row],[Qtd_Total_Parcelas]]=\"\",tb_pagamentos[[#This Row],[Nr_Pedido]]=\"\"),\"\",IF(tb_pagamentos[[#This Row],[Data_Pagamento]]<>\"\",\"Pago\",IF(AND(tb_pagamentos[[#This Row],[Data_Pagamento]]=\"\",tb_pagamentos[[#This Row],[Data_Vencimento]]<TODAY()),\"Em Atraso\",\"A vencer\")))","v":""}]
[null,null,"",{"$f":"IFERROR(INDEX(CALC_BASE!$N$3:$N$52,MATCH(ROW()-7,CALC_BASE!$M$3:$M$52,0)),\"\")","v":""},{"$f":"IFERROR(INDEX(CALC_BASE!$O$3:$O$52,MATCH(ROW()-7,CALC_BASE!$M$3:$M$52,0)),\"\")","v":""},{"$f":"IFERROR(INDEX(CALC_BASE!$P$3:$P$52,MATCH(ROW()-7,CALC_BASE!$M$3:$M$52,0)),\"\")","v":""},{"$f":"IFERROR(IF(D150=\"\",\"\",INDEX(tb_vendas[Preço de Venda],MATCH(D150,tb_vendas[N° Pedido/Empresa],0))/F150),\"\")","v":""},{"$f":"IFERROR(IF(D150=\"\",\"\",INDEX(tb_vendas[Data Fechamento],MATCH(D150,tb_vendas[N° Pedido/Empresa],0))+E150*INDEX(tb_formas_pagamento[Dias_Intervalo],MATCH(INDEX(tb_vendas[Forma_Pagamento],MATCH(D150,tb_vendas[N° Pedido/Empresa],0)),tb_formas_pagamento[Nome_Forma],0))),\"\")","v":""},null,{"$f":"IF(OR(tb_pagamentos[[#This Row],[Data_Vencimento]]=\"\",tb_pagamentos[[#This Row],[Valor_Parcela]]=\"\",tb_pagamentos[[#This Row],[Qtd_Total_Parcelas]]=\"\",tb_pagamentos[[#This Row],[Nr_Pedido]]=\"\"),\"\",IF(tb_pagamentos[[#This Row],[Data_Pagamento]]<>\"\",\"Pago\",IF(AND(tb_pagamentos[[#This Row],[Data_Pagamento]]=\"\",tb_pagamentos[[#This Row],[Data_Vencimento]]<TODAY()),\"Em Atraso\",\"A vencer\")))","v":""}]
[null,null,"",{"$f":"IFERROR(INDEX(CALC_BASE!$N$3:$N$52,MATCH(ROW()-7,CALC_BASE!$M$3:$M$52,0)),\"\")","v":""},{"$f":"IFERROR(INDEX(CALC_BASE!$O$3:$O$52,MATCH(ROW()-7,CALC_BASE!$M$3:$M$52,0)),\"\")","v":""},{"$f":"IFERROR(INDEX(CALC_BASE!$P$3:$P$52,MATCH(ROW()-7,CALC_BASE!$M$3:$M$52,0)),\"\")","v":""},{"$f":"IFERROR(IF(D151=\"\",\"\",INDEX(tb_vendas[Preço de Venda],MATCH(D151,tb_vendas[N° Pedido/Empresa],0))/F151),\"\")","v":""},{"$f":"IFERROR(IF(D151=\"\",\"\",INDEX(tb_vendas[Data Fechamento],MATCH(D151,tb_vendas[N° Pedido/Empresa],0))+E151*INDEX(tb_formas_pagamento[Dias_Intervalo],MATCH(INDEX(tb_vendas[Forma_Pagamento],MATCH(D151,tb_vendas[N° Pedido/Empresa],0)),tb_formas_pagamento[Nome_Forma],0))),\"\")","v":""},null,{"$f":"IF(OR(tb_pagamentos[[#This Row],[Data_Vencimento]]=\"\",tb_pagamentos[[#This Row],[Valor_Parcela]]=\"\",tb_pagamentos[[#This Row],[Qtd_Total_Parcelas]]=\"\",tb_pagamentos[[#This Row],[Nr_Pedido]]=\"\"),\"\",IF(tb_pagamentos[[#This Row],[Data_Pagamento]]<>\"\",\"Pago\",IF(AND(tb_pagamentos[[#This Row],[Data_Pagamento]]=\"\",tb_pagamentos[[#This Row],[Data_Vencimento]]<TODAY()),\"Em Atraso\",\"A vencer\")))","v":""}]
[null,null,"",{"$f":"IFERROR(INDEX(CALC_BASE!$N$3:$N$52,MATCH(ROW()-7,CALC_BASE!$M$3:$M$52,0)),\"\")","v":""},{"$f":"IFERROR(INDEX(CALC_BASE!$O$3:$O$52,MATCH(ROW()-7,CALC_BASE!$M$3:$M$52,0)),\"\")","v":""},{"$f":"IFERROR(INDEX(CALC_BASE!$P$3:$P$52,MATCH(ROW()-7,CALC_BASE!$M$3:$M$52,0)),\"\")","v":""},{"$f":"IFERROR(IF(D152=\"\",\"\",INDEX(tb_vendas[Preço de Venda],MATCH(D152,tb_vendas[N° Pedido/Empresa],0))/F152),\"\")","v":""},{"$f":"IFERROR(IF(D152=\"\",\"\",INDEX(tb_vendas[Data Fechamento],MATCH(D152,tb_vendas[N° Pedido/Empresa],0))+E152*INDEX(tb_formas_pagamento[Dias_Intervalo],MATCH(INDEX(tb_vendas[Forma_Pagamento],MATCH(D152,tb_vendas[N° Pedido/Empresa],0)),tb_formas_pagamento[Nome_Forma],0))),\"\")","v":""},null,{"$f":"IF(OR(tb_pagamentos[[#This Row],[Data_Vencimento]]=\"\",tb_pagamentos[[#This Row],[Valor_Parcela]]=\"\",tb_pagamentos[[#This Row],[Qtd_Total_Parcelas]]=\"\",tb_pagamentos[[#This Row],[Nr_Pedido]]=\"\"),\"\",IF(tb_pagamentos[[#This Row],[Data_Pagamento]]<>\"\",\"Pago\",IF(AND(tb_pagamentos[[#This Row],[Data_Pagamento]]=\"\",tb_pagamentos[[#This Row],[Data_Vencimento]]<TODAY()),\"Em Atraso\",\"A vencer\")))","v":""}]
[null,null,"",{"$f":"IFERROR(INDEX(CALC_BASE!$N$3:$N$52,MATCH(ROW()-7,CALC_BASE!$M$3:$M$52,0)),\"\")","v":""},{"$f":"IFERROR(INDEX(CALC_BASE!$O$3:$O$52,MATCH(ROW()-7,CALC_BASE!$M$3:$M$52,0)),\"\")","v":""},{"$f":"IFERROR(INDEX(CALC_BASE!$P$3:$P$52,MATCH(ROW()-7,CALC_BASE!$M$3:$M$52,0)),\"\")","v":""},{"$f":"IFERROR(IF(D153=\"\",\"\",INDEX(tb_vendas[Preço de Venda],MATCH(D153,tb_vendas[N° Pedido/Empresa],0))/F153),\"\")","v":""},{"$f":"IFERROR(IF(D153=\"\",\"\",INDEX(tb_vendas[Data Fechamento],MATCH(D153,tb_vendas[N° Pedido/Empresa],0))+E153*INDEX(tb_formas_pagamento[Dias_Intervalo],MATCH(INDEX(tb_vendas[Forma_Pagamento],MATCH(D153,tb_vendas[N° Pedido/Empresa],0)),tb_formas_pagamento[Nome_Forma],0))),\"\")","v":""},null,{"$f":"IF(OR(tb_pagamentos[[#This Row],[Data_Vencimento]]=\"\",tb_pagamentos[[#This Row],[Valor_Parcela]]=\"\",tb_pagamentos[[#This Row],[Qtd_Total_Parcelas]]=\"\",tb_pagamentos[[#This Row],[Nr_Pedido]]=\"\"),\"\",IF(tb_pagamentos[[#This Row],[Data_Pagamento]]<>\"\",\"Pago\",IF(AND(tb_pagamentos[[#This Row],[Data_Pagamento]]=\"\",tb_pagamentos[[#This Row],[Data_Vencimento]]<TODAY()),\"Em Atraso\",\"A vencer\")))","v":""}]
[null,null,"",{"$f":"IFERROR(INDEX(CALC_BASE!$N$3:$N$52,MATCH(ROW()-7,CALC_BASE!$M$3:$M$52,0)),\"\")","v":""},{"$f":"IFERROR(INDEX(CALC_BASE!$O$3:$O$52,MATCH(ROW()-7,CALC_BASE!$M$3:$M$52,0)),\"\")","v":""},{"$f":"IFERROR(INDEX(CALC_BASE!$P$3:$P$52,MATCH(ROW()-7,CALC_BASE!$M$3:$M$52,0)),\"\")","v":""},{"$f":"IFERROR(IF(D154=\"\",\"\",INDEX(tb_vendas[Preço de Venda],MATCH(D154,tb_vendas[N° Pedido/Empresa],0))/F154),\"\")","v":""},{"$f":"IFERROR(IF(D154=\"\",\"\",INDEX(tb_vendas[Data Fechamento],MATCH(D154,tb_vendas[N° Pedido/Empresa],0))+E154*INDEX(tb_formas_pagamento[Dias_Intervalo],MATCH(INDEX(tb_vendas[Forma_Pagamento],MATCH(D154,tb_vendas[N° Pedido/Empresa],0)),tb_formas_pagamento[Nome_Forma],0))),\"\")","v":""},null,{"$f":"IF(OR(tb_pagamentos[[#This Row],[Data_Vencimento]]=\"\",tb_pagamentos[[#This Row],[Valor_Parcela]]=\"\",tb_pagamentos[[#This Row],[Qtd_Total_Parcelas]]=\"\",tb_pagamentos[[#This Row],[Nr_Pedido]]=\"\"),\"\",IF(tb_pagamentos[[#This Row],[Data_Pagamento]]<>\"\",\"Pago\",IF(AND(tb_pagamentos[[#This Row],[Data_Pagamento]]=\"\",tb_pagamentos[[#This Row],[Data_Vencimento]]<TODAY()),\"Em Atraso\",\"A vencer\")))","v":""}]
[null,null,"",{"$f":"IFERROR(INDEX(CALC_BASE!$N$3:$N$52,MATCH(ROW()-7,CALC_BASE!$M$3:$M$52,0)),\"\")","v":""},{"$f":"IFERROR(INDEX(CALC_BASE!$O$3:$O$52,MATCH(ROW()-7,CALC_BASE!$M$3:$M$52,0)),\"\")","v":""},{"$f":"IFERROR(INDEX(CALC_BASE!$P$3:$P$52,MATCH(ROW()-7,CALC_BASE!$M$3:$M$52,0)),\"\")","v":""},{"$f":"IFERROR(IF(D155=\"\",\"\",INDEX(tb_vendas[Preço de Venda],MATCH(D155,tb_vendas[N° Pedido/Empresa],0))/F155),\"\")","v":""},{"$f":"IFERROR(IF(D155=\"\",\"\",INDEX(tb_vendas[Data Fechamento],MATCH(D155,tb_vendas[N° Pedido/Empresa],0))+E155*INDEX(tb_formas_pagamento[Dias_Intervalo],MATCH(INDEX(tb_vendas[Forma_Pagamento],MATCH(D155,tb_vendas[N° Pedido/Empresa],0)),tb_formas_pagamento[Nome_Forma],0))),\"\")","v":""},null,{"$f":"IF(OR(tb_pagamentos[[#This Row],[Data_Vencimento]]=\"\",tb_pagamentos[[#This Row],[Valor_Parcela]]=\"\",tb_pagamentos[[#This Row],[Qtd_Total_Parcelas]]=\"\",tb_pagamentos[[#This Row],[Nr_Pedido]]=\"\"),\"\",IF(tb_pagamentos[[#This Row],[Data_Pagamento]]<>\"\",\"Pago\",IF(AND(tb_pagamentos[[#This Row],[Data_Pagamento]]=\"\",tb_pagamentos[[#This Row],[Data_Vencimento]]<TODAY()),\"Em Atraso\",\"A vencer\")))","v":""}]
[null,null,"",{"$f":"IFERROR(INDEX(CALC_BASE!$N$3:$N$52,MATCH(ROW()-7,CALC_BASE!$M$3:$M$52,0)),\"\")","v":""},{"$f":"IFERROR(INDEX(CALC_BASE!$O$3:$O$52,MATCH(ROW()-7,CALC_BASE!$M$3:$M$52,0)),\"\")","v":""},{"$f":"IFERROR(INDEX(CALC_BASE!$P$3:$P$52,MATCH(ROW()-7,CALC_BASE!$M$3:$M$52,0)),\"\")","v":""},{"$f":"IFERROR(IF(D156=\"\",\"\",INDEX(tb_vendas[Preço de Venda],MATCH(D156,tb_vendas[N° Pedido/Empresa],0))/F156),\"\")","v":""},{"$f":"IFERROR(IF(D156=\"\",\"\",INDEX(tb_vendas[Data Fechamento],MATCH(D156,tb_vendas[N° Pedido/Empresa],0))+E156*INDEX(tb_formas_pagamento[Dias_Intervalo],MATCH(INDEX(tb_vendas[Forma_Pagamento],MATCH(D156,tb_vendas[N° Pedido/Empresa],0)),tb_formas_pagamento[Nome_Forma],0))),\"\")","v":""},null,{"$f":"IF(OR(tb_pagamentos[[#This Row],[Data_Vencimento]]=\"\",tb_pagamentos[[#This Row],[Valor_Parcela]]=\"\",tb_pagamentos[[#This Row],[Qtd_Total_Parcelas]]=\"\",tb_pagamentos[[#This Row],[Nr_Pedido]]=\"\"),\"\",IF(tb_pagamentos[[#This Row],[Data_Pagamento]]<>\"\",\"Pago\",IF(AND(tb_pagamentos[[#This Row],[Data_Pagamento]]=\"\",tb_pagamentos[[#This Row],[Data_Vencimento]]<TODAY()),\"Em Atraso\",\"A vencer\")))","v":""}]
[null,null,"",{"$f":"IFERROR(INDEX(CALC_BASE!$N$3:$N$52,MATCH(ROW()-7,CALC_BASE!$M$3:$M$52,0)),\"\")","v":""},{"$f":"IFERROR(INDEX(CALC_BASE!$O$3:$O$52,MATCH(ROW()-7,CALC_BASE!$M$3:$M$52,0)),\"\")","v":""},{"$f":"IFERROR(INDEX(CALC_BASE!$P$3:$P$52,MATCH(ROW()-7,CALC_BASE!$M$3:$M$52,0)),\"\")","v":""},{"$f":"IFERROR(IF(D157=\"\",\"\",INDEX(tb_vendas[Preço de Venda],MATCH(D157,tb_vendas[N° Pedido/Empresa],0))/F157),\"\")","v":""},{"$f":"IFERROR(IF(D157=\"\",\"\",INDEX(tb_vendas[Data Fechamento],MATCH(D157,tb_vendas[N° Pedido/Empresa],0))+E157*INDEX(tb_formas_pagamento[Dias_Intervalo],MATCH(INDEX(tb_vendas[Forma_Pagamento],MATCH(D157,tb_vendas[N° Pedido/Empresa],0)),tb_formas_pagamento[Nome_Forma],0))),\"\")","v":""},null,{"$f":"IF(OR(tb_pagamentos[[#This Row],[Data_Vencimento]]=\"\",tb_pagamentos[[#This Row],[Valor_Parcela]]=\"\",tb_pagamentos[[#This Row],[Qtd_Total_Parcelas]]=\"\",tb_pagamentos[[#This Row],[Nr_Pedido]]=\"\"),\"\",IF(tb_pagamentos[[#This Row],[Data_Pagamento]]<>\"\",\"Pago\",IF(AND(tb_pagamentos[[#This Row],[Data_Pagamento]]=\"\",tb_pagamentos[[#This Row],[Data_Vencimento]]<TODAY()),\"Em Atraso\",\"A vencer\")))","v":""}]
[null,null,"",{"$f":"IFERROR(INDEX(CALC_BASE!$N$3:$N$52,MATCH(ROW()-7,CALC_BASE!$M$3:$M$52,0)),\"\")","v":""},{"$f":"IFERROR(INDEX(CALC_BASE!$O$3:$O$52,MATCH(ROW()-7,CALC_BASE!$M$3:$M$52,0)),\"\")","v":""},{"$f":"IFERROR(INDEX(CALC_BASE!$P$3:$P$52,MATCH(ROW()-7,CALC_BASE!$M$3:$M$52,0)),\"\")","v":""},{"$f":"IFERROR(IF(D158=\"\",\"\",INDEX(tb_vendas[Preço de Venda],MATCH(D158,tb_vendas[N° Pedido/Empresa],0))/F158),\"\")","v":""},{"$f":"IFERROR(IF(D158=\"\",\"\",INDEX(tb_vendas[Data Fechamento],MATCH(D158,tb_vendas[N° Pedido/Empresa],0))+E158*INDEX(tb_formas_pagamento[Dias_Intervalo],MATCH(INDEX(tb_vendas[Forma_Pagamento],MATCH(D158,tb_vendas[N° Pedido/Empresa],0)),tb_formas_pagamento[Nome_Forma],0))),\"\")","v":""},null,{"$f":"IF(OR(tb_pagamentos[[#This Row],[Data_Vencimento]]=\"\",tb_pagamentos[[#This Row],[Valor_Parcela]]=\"\",tb_pagamentos[[#This Row],[Qtd_Total_Parcelas]]=\"\",tb_pagamentos[[#This Row],[Nr_Pedido]]=\"\"),\"\",IF(tb_pagamentos[[#This Row],[Data_Pagamento]]<>\"\",\"Pago\",IF(AND(tb_pagamentos[[#This Row],[Data_Pagamento]]=\"\",tb_pagamentos[[#This Row],[Data_Vencimento]]<TODAY()),\"Em Atraso\",\"A vencer\")))","v":""}]
[null,null,"",{"$f":"IFERROR(INDEX(CALC_BASE!$N$3:$N$52,MATCH(ROW()-7,CALC_BASE!$M$3:$M$52,0)),\"\")","v":""},{"$f":"IFERROR(INDEX(CALC_BASE!$O$3:$O$52,MATCH(ROW()-7,CALC_BASE!$M$3:$M$52,0)),\"\")","v":""},{"$f":"IFERROR(INDEX(CALC_BASE!$P$3:$P$52,MATCH(ROW()-7,CALC_BASE!$M$3:$M$52,0)),\"\")","v":""},{"$f":"IFERROR(IF(D159=\"\",\"\",INDEX(tb_vendas[Preço de Venda],MATCH(D159,tb_vendas[N° Pedido/Empresa],0))/F159),\"\")","v":""},{"$f":"IFERROR(IF(D159=\"\",\"\",INDEX(tb_vendas[Data Fechamento],MATCH(D159,tb_vendas[N° Pedido/Empresa],0))+E159*INDEX(tb_formas_pagamento[Dias_Intervalo],MATCH(INDEX(tb_vendas[Forma_Pagamento],MATCH(D159,tb_vendas[N° Pedido/Empresa],0)),tb_formas_pagamento[Nome_Forma],0))),\"\")","v":""},null,{"$f":"IF(OR(tb_pagamentos[[#This Row],[Data_Vencimento]]=\"\",tb_pagamentos[[#This Row],[Valor_Parcela]]=\"\",tb_pagamentos[[#This Row],[Qtd_Total_Parcelas]]=\"\",tb_pagamentos[[#This Row],[Nr_Pedido]]=\"\"),\"\",IF(tb_pagamentos[[#This Row],[Data_Pagamento]]<>\"\",\"Pago\",IF(AND(tb_pagamentos[[#This Row],[Data_Pagamento]]=\"\",tb_pagamentos[[#This Row],[Data_Vencimento]]<TODAY()),\"Em Atraso\",\"A vencer\")))","v":""}]
[null,null,"",{"$f":"IFERROR(INDEX(CALC_BASE!$N$3:$N$52,MATCH(ROW()-7,CALC_BASE!$M$3:$M$52,0)),\"\")","v":""},{"$f":"IFERROR(INDEX(CALC_BASE!$O$3:$O$52,MATCH(ROW()-7,CALC_BASE!$M$3:$M$52,0)),\"\")","v":""},{"$f":"IFERROR(INDEX(CALC_BASE!$P$3:$P$52,MATCH(ROW()-7,CALC_BASE!$M$3:$M$52,0)),\"\")","v":""},{"$f":"IFERROR(IF(D160=\"\",\"\",INDEX(tb_vendas[Preço de Venda],MATCH(D160,tb_vendas[N° Pedido/Empresa],0))/F160),\"\")","v":""},{"$f":"IFERROR(IF(D160=\"\",\"\",INDEX(tb_vendas[Data Fechamento],MATCH(D160,tb_vendas[N° Pedido/Empresa],0))+E160*INDEX(tb_formas_pagamento[Dias_Intervalo],MATCH(INDEX(tb_vendas[Forma_Pagamento],MATCH(D160,tb_vendas[N° Pedido/Empresa],0)),tb_formas_pagamento[Nome_Forma],0))),\"\")","v":""},null,{"$f":"IF(OR(tb_pagamentos[[#This Row],[Data_Vencimento]]=\"\",tb_pagamentos[[#This Row],[Valor_Parcela]]=\"\",tb_pagamentos[[#This Row],[Qtd_Total_Parcelas]]=\"\",tb_pagamentos[[#This Row],[Nr_Pedido]]=\"\"),\"\",IF(tb_pagamentos[[#This Row],[Data_Pagamento]]<>\"\",\"Pago\",IF(AND(tb_pagamentos[[#This Row],[Data_Pagamento]]=\"\",tb_pagamentos[[#This Row],[Data_Vencimento]]<TODAY()),\"Em Atraso\",\"A vencer\")))","v":""}]
[null,null,"",{"$f":"IFERROR(INDEX(CALC_BASE!$N$3:$N$52,MATCH(ROW()-7,CALC_BASE!$M$3:$M$52,0)),\"\")","v":""},{"$f":"IFERROR(INDEX(CALC_BASE!$O$3:$O$52,MATCH(ROW()-7,CALC_BASE!$M$3:$M$52,0)),\"\")","v":""},{"$f":"IFERROR(INDEX(CALC_BASE!$P$3:$P$52,MATCH(ROW()-7,CALC_BASE!$M$3:$M$52,0)),\"\")","v":""},{"$f":"IFERROR(IF(D161=\"\",\"\",INDEX(tb_vendas[Preço de Venda],MATCH(D161,tb_vendas[N° Pedido/Empresa],0))/F161),\"\")","v":""},{"$f":"IFERROR(IF(D161=\"\",\"\",INDEX(tb_vendas[Data Fechamento],MATCH(D161,tb_vendas[N° Pedido/Empresa],0))+E161*INDEX(tb_formas_pagamento[Dias_Intervalo],MATCH(INDEX(tb_vendas[Forma_Pagamento],MATCH(D161,tb_vendas[N° Pedido/Empresa],0)),tb_formas_pagamento[Nome_Forma],0))),\"\")","v":""},null,{"$f":"IF(OR(tb_pagamentos[[#This Row],[Data_Vencimento]]=\"\",tb_pagamentos[[#This Row],[Valor_Parcela]]=\"\",tb_pagamentos[[#This Row],[Qtd_Total_Parcelas]]=\"\",tb_pagamentos[[#This Row],[Nr_Pedido]]=\"\"),\"\",IF(tb_pagamentos[[#This Row],[Data_Pagamento]]<>\"\",\"Pago\",IF(AND(tb_pagamentos[[#This Row],[Data_Pagamento]]=\"\",tb_pagamentos[[#This Row],[Data_Vencimento]]<TODAY()),\"Em Atraso\",\"A vencer\")))","v":""}]
[null,null,"",{"$f":"IFERROR(INDEX(CALC_BASE!$N$3:$N$52,MATCH(ROW()-7,CALC_BASE!$M$3:$M$52,0)),\"\")","v":""},{"$f":"IFERROR(INDEX(CALC_BASE!$O$3:$O$52,MATCH(ROW()-7,CALC_BASE!$M$3:$M$52,0)),\"\")","v":""},{"$f":"IFERROR(INDEX(CALC_BASE!$P$3:$P$52,MATCH(ROW()-7,CALC_BASE!$M$3:$M$52,0)),\"\")","v":""},{"$f":"IFERROR(IF(D162=\"\",\"\",INDEX(tb_vendas[Preço de Venda],MATCH(D162,tb_vendas[N° Pedido/Empresa],0))/F162),\"\")","v":""},{"$f":"IFERROR(IF(D162=\"\",\"\",INDEX(tb_vendas[Data Fechamento],MATCH(D162,tb_vendas[N° Pedido/Empresa],0))+E162*INDEX(tb_formas_pagamento[Dias_Intervalo],MATCH(INDEX(tb_vendas[Forma_Pagamento],MATCH(D162,tb_vendas[N° Pedido/Empresa],0)),tb_formas_pagamento[Nome_Forma],0))),\"\")","v":""},null,{"$f":"IF(OR(tb_pagamentos[[#This Row],[Data_Vencimento]]=\"\",tb_pagamentos[[#This Row],[Valor_Parcela]]=\"\",tb_pagamentos[[#This Row],[Qtd_Total_Parcelas]]=\"\",tb_pagamentos[[#This Row],[Nr_Pedido]]=\"\"),\"\",IF(tb_pagamentos[[#This Row],[Data_Pagamento]]<>\"\",\"Pago\",IF(AND(tb_pagamentos[[#This Row],[Data_Pagamento]]=\"\",tb_pagamentos[[#This Row],[Data_Vencimento]]<TODAY()),\"Em Atraso\",\"A vencer\")))","v":""}]
[null,null,"",{"$f":"IFERROR(INDEX(CALC_BASE!$N$3:$N$52,MATCH(ROW()-7,CALC_BASE!$M$3:$M$52,0)),\"\")","v":""},{"$f":"IFERROR(INDEX(CALC_BASE!$O$3:$O$52,MATCH(ROW()-7,CALC_BASE!$M$3:$M$52,0)),\"\")","v":""},{"$f":"IFERROR(INDEX(CALC_BASE!$P$3:$P$52,MATCH(ROW()-7,CALC_BASE!$M$3:$M$52,0)),\"\")","v":""},{"$f":"IFERROR(IF(D163=\"\",\"\",INDEX(tb_vendas[Preço de Venda],MATCH(D163,tb_vendas[N° Pedido/Empresa],0))/F163),\"\")","v":""},{"$f":"IFERROR(IF(D163=\"\",\"\",INDEX(tb_vendas[Data Fechamento],MATCH(D163,tb_vendas[N° Pedido/Empresa],0))+E163*INDEX(tb_formas_pagamento[Dias_Intervalo],MATCH(INDEX(tb_vendas[Forma_Pagamento],MATCH(D163,tb_vendas[N° Pedido/Empresa],0)),tb_formas_pagamento[Nome_Forma],0))),\"\")","v":""},null,{"$f":"IF(OR(tb_pagamentos[[#This Row],[Data_Vencimento]]=\"\",tb_pagamentos[[#This Row],[Valor_Parcela]]=\"\",tb_pagamentos[[#This Row],[Qtd_Total_Parcelas]]=\"\",tb_pagamentos[[#This Row],[Nr_Pedido]]=\"\"),\"\",IF(tb_pagamentos[[#This Row],[Data_Pagamento]]<>\"\",\"Pago\",IF(AND(tb_pagamentos[[#This Row],[Data_Pagamento]]=\"\",tb_pagamentos[[#This Row],[Data_Vencimento]]<TODAY()),\"Em Atraso\",\"A vencer\")))","v":""}]
[null,null,"",{"$f":"IFERROR(INDEX(CALC_BASE!$N$3:$N$52,MATCH(ROW()-7,CALC_BASE!$M$3:$M$52,0)),\"\")","v":""},{"$f":"IFERROR(INDEX(CALC_BASE!$O$3:$O$52,MATCH(ROW()-7,CALC_BASE!$M$3:$M$52,0)),\"\")","v":""},{"$f":"IFERROR(INDEX(CALC_BASE!$P$3:$P$52,MATCH(ROW()-7,CALC_BASE!$M$3:$M$52,0)),\"\")","v":""},{"$f":"IFERROR(IF(D164=\"\",\"\",INDEX(tb_vendas[Preço de Venda],MATCH(D164,tb_vendas[N° Pedido/Empresa],0))/F164),\"\")","v":""},{"$f":"IFERROR(IF(D164=\"\",\"\",INDEX(tb_vendas[Data Fechamento],MATCH(D164,tb_vendas[N° Pedido/Empresa],0))+E164*INDEX(tb_formas_pagamento[Dias_Intervalo],MATCH(INDEX(tb_vendas[Forma_Pagamento],MATCH(D164,tb_vendas[N° Pedido/Empresa],0)),tb_formas_pagamento[Nome_Forma],0))),\"\")","v":""},null,{"$f":"IF(OR(tb_pagamentos[[#This Row],[Data_Vencimento]]=\"\",tb_pagamentos[[#This Row],[Valor_Parcela]]=\"\",tb_pagamentos[[#This Row],[Qtd_Total_Parcelas]]=\"\",tb_pagamentos[[#This Row],[Nr_Pedido]]=\"\"),\"\",IF(tb_pagamentos[[#This Row],[Data_Pagamento]]<>\"\",\"Pago\",IF(AND(tb_pagamentos[[#This Row],[Data_Pagamento]]=\"\",tb_pagamentos[[#This Row],[Data_Vencimento]]<TODAY()),\"Em Atraso\",\"A vencer\")))","v":""}]
[null,null,"",{"$f":"IFERROR(INDEX(CALC_BASE!$N$3:$N$52,MATCH(ROW()-7,CALC_BASE!$M$3:$M$52,0)),\"\")","v":""},{"$f":"IFERROR(INDEX(CALC_BASE!$O$3:$O$52,MATCH(ROW()-7,CALC_BASE!$M$3:$M$52,0)),\"\")","v":""},{"$f":"IFERROR(INDEX(CALC_BASE!$P$3:$P$52,MATCH(ROW()-7,CALC_BASE!$M$3:$M$52,0)),\"\")","v":""},{"$f":"IFERROR(IF(D165=\"\",\"\",INDEX(tb_vendas[Preço de Venda],MATCH(D165,tb_vendas[N° Pedido/Empresa],0))/F165),\"\")","v":""},{"$f":"IFERROR(IF(D165=\"\",\"\",INDEX(tb_vendas[Data Fechamento],MATCH(D165,tb_vendas[N° Pedido/Empresa],0))+E165*INDEX(tb_formas_pagamento[Dias_Intervalo],MATCH(INDEX(tb_vendas[Forma_Pagamento],MATCH(D165,tb_vendas[N° Pedido/Empresa],0)),tb_formas_pagamento[Nome_Forma],0))),\"\")","v":""},null,{"$f":"IF(OR(tb_pagamentos[[#This Row],[Data_Vencimento]]=\"\",tb_pagamentos[[#This Row],[Valor_Parcela]]=\"\",tb_pagamentos[[#This Row],[Qtd_Total_Parcelas]]=\"\",tb_pagamentos[[#This Row],[Nr_Pedido]]=\"\"),\"\",IF(tb_pagamentos[[#This Row],[Data_Pagamento]]<>\"\",\"Pago\",IF(AND(tb_pagamentos[[#This Row],[Data_Pagamento]]=\"\",tb_pagamentos[[#This Row],[Data_Vencimento]]<TODAY()),\"Em Atraso\",\"A vencer\")))","v":""}]
[null,null,"",{"$f":"IFERROR(INDEX(CALC_BASE!$N$3:$N$52,MATCH(ROW()-7,CALC_BASE!$M$3:$M$52,0)),\"\")","v":""},{"$f":"IFERROR(INDEX(CALC_BASE!$O$3:$O$52,MATCH(ROW()-7,CALC_BASE!$M$3:$M$52,0)),\"\")","v":""},{"$f":"IFERROR(INDEX(CALC_BASE!$P$3:$P$52,MATCH(ROW()-7,CALC_BASE!$M$3:$M$52,0)),\"\")","v":""},{"$f":"IFERROR(IF(D166=\"\",\"\",INDEX(tb_vendas[Preço de Venda],MATCH(D166,tb_vendas[N° Pedido/Empresa],0))/F166),\"\")","v":""},{"$f":"IFERROR(IF(D166=\"\",\"\",INDEX(tb_vendas[Data Fechamento],MATCH(D166,tb_vendas[N° Pedido/Empresa],0))+E166*INDEX(tb_formas_pagamento[Dias_Intervalo],MATCH(INDEX(tb_vendas[Forma_Pagamento],MATCH(D166,tb_vendas[N° Pedido/Empresa],0)),tb_formas_pagamento[Nome_Forma],0))),\"\")","v":""},null,{"$f":"IF(OR(tb_pagamentos[[#This Row],[Data_Vencimento]]=\"\",tb_pagamentos[[#This Row],[Valor_Parcela]]=\"\",tb_pagamentos[[#This Row],[Qtd_Total_Parcelas]]=\"\",tb_pagamentos[[#This Row],[Nr_Pedido]]=\"\"),\"\",IF(tb_pagamentos[[#This Row],[Data_Pagamento]]<>\"\",\"Pago\",IF(AND(tb_pagamentos[[#This Row],[Data_Pagamento]]=\"\",tb_pagamentos[[#This Row],[Data_Vencimento]]<TODAY()),\"Em Atraso\",\"A vencer\")))","v":""}]
[null,null,"",{"$f":"IFERROR(INDEX(CALC_BASE!$N$3:$N$52,MATCH(ROW()-7,CALC_BASE!$M$3:$M$52,0)),\"\")","v":""},{"$f":"IFERROR(INDEX(CALC_BASE!$O$3:$O$52,MATCH(ROW()-7,CALC_BASE!$M$3:$M$52,0)),\"\")","v":""},{"$f":"IFERROR(INDEX(CALC_BASE!$P$3:$P$52,MATCH(ROW()-7,CALC_BASE!$M$3:$M$52,0)),\"\")","v":""},{"$f":"IFERROR(IF(D167=\"\",\"\",INDEX(tb_vendas[Preço de Venda],MATCH(D167,tb_vendas[N° Pedido/Empresa],0))/F167),\"\")","v":""},{"$f":"IFERROR(IF(D167=\"\",\"\",INDEX(tb_vendas[Data Fechamento],MATCH(D167,tb_vendas[N° Pedido/Empresa],0))+E167*INDEX(tb_formas_pagamento[Dias_Intervalo],MATCH(INDEX(tb_vendas[Forma_Pagamento],MATCH(D167,tb_vendas[N° Pedido/Empresa],0)),tb_formas_pagamento[Nome_Forma],0))),\"\")","v":""},null,{"$f":"IF(OR(tb_pagamentos[[#This Row],[Data_Vencimento]]=\"\",tb_pagamentos[[#This Row],[Valor_Parcela]]=\"\",tb_pagamentos[[#This Row],[Qtd_Total_Parcelas]]=\"\",tb_pagamentos[[#This Row],[Nr_Pedido]]=\"\"),\"\",IF(tb_pagamentos[[#This Row],[Data_Pagamento]]<>\"\",\"Pago\",IF(AND(tb_pagamentos[[#This Row],[Data_Pagamento]]=\"\",tb_pagamentos[[#This Row],[Data_Vencimento]]<TODAY()),\"Em Atraso\",\"A vencer\")))","v":""}]
[null,null,"",{"$f":"IFERROR(INDEX(CALC_BASE!$N$3:$N$52,MATCH(ROW()-7,CALC_BASE!$M$3:$M$52,0)),\"\")","v":""},{"$f":"IFERROR(INDEX(CALC_BASE!$O$3:$O$52,MATCH(ROW()-7,CALC_BASE!$M$3:$M$52,0)),\"\")","v":""},{"$f":"IFERROR(INDEX(CALC_BASE!$P$3:$P$52,MATCH(ROW()-7,CALC_BASE!$M$3:$M$52,0)),\"\")","v":""},{"$f":"IFERROR(IF(D168=\"\",\"\",INDEX(tb_vendas[Preço de Venda],MATCH(D168,tb_vendas[N° Pedido/Empresa],0))/F168),\"\")","v":""},{"$f":"IFERROR(IF(D168=\"\",\"\",INDEX(tb_vendas[Data Fechamento],MATCH(D168,tb_vendas[N° Pedido/Empresa],0))+E168*INDEX(tb_formas_pagamento[Dias_Intervalo],MATCH(INDEX(tb_vendas[Forma_Pagamento],MATCH(D168,tb_vendas[N° Pedido/Empresa],0)),tb_formas_pagamento[Nome_Forma],0))),\"\")","v":""},null,{"$f":"IF(OR(tb_pagamentos[[#This Row],[Data_Vencimento]]=\"\",tb_pagamentos[[#This Row],[Valor_Parcela]]=\"\",tb_pagamentos[[#This Row],[Qtd_Total_Parcelas]]=\"\",tb_pagamentos[[#This Row],[Nr_Pedido]]=\"\"),\"\",IF(tb_pagamentos[[#This Row],[Data_Pagamento]]<>\"\",\"Pago\",IF(AND(tb_pagamentos[[#This Row],[Data_Pagamento]]=\"\",tb_pagamentos[[#This Row],[Data_Vencimento]]<TODAY()),\"Em Atraso\",\"A vencer\")))","v":""}]
[null,null,"",{"$f":"IFERROR(INDEX(CALC_BASE!$N$3:$N$52,MATCH(ROW()-7,CALC_BASE!$M$3:$M$52,0)),\"\")","v":""},{"$f":"IFERROR(INDEX(CALC_BASE!$O$3:$O$52,MATCH(ROW()-7,CALC_BASE!$M$3:$M$52,0)),\"\")","v":""},{"$f":"IFERROR(INDEX(CALC_BASE!$P$3:$P$52,MATCH(ROW()-7,CALC_BASE!$M$3:$M$52,0)),\"\")","v":""},{"$f":"IFERROR(IF(D169=\"\",\"\",INDEX(tb_vendas[Preço de Venda],MATCH(D169,tb_vendas[N° Pedido/Empresa],0))/F169),\"\")","v":""},{"$f":"IFERROR(IF(D169=\"\",\"\",INDEX(tb_vendas[Data Fechamento],MATCH(D169,tb_vendas[N° Pedido/Empresa],0))+E169*INDEX(tb_formas_pagamento[Dias_Intervalo],MATCH(INDEX(tb_vendas[Forma_Pagamento],MATCH(D169,tb_vendas[N° Pedido/Empresa],0)),tb_formas_pagamento[Nome_Forma],0))),\"\")","v":""},null,{"$f":"IF(OR(tb_pagamentos[[#This Row],[Data_Vencimento]]=\"\",tb_pagamentos[[#This Row],[Valor_Parcela]]=\"\",tb_pagamentos[[#This Row],[Qtd_Total_Parcelas]]=\"\",tb_pagamentos[[#This Row],[Nr_Pedido]]=\"\"),\"\",IF(tb_pagamentos[[#This Row],[Data_Pagamento]]<>\"\",\"Pago\",IF(AND(tb_pagamentos[[#This Row],[Data_Pagamento]]=\"\",tb_pagamentos[[#This Row],[Data_Vencimento]]<TODAY()),\"Em Atraso\",\"A vencer\")))","v":""}]
[null,null,"",{"$f":"IFERROR(INDEX(CALC_BASE!$N$3:$N$52,MATCH(ROW()-7,CALC_BASE!$M$3:$M$52,0)),\"\")","v":""},{"$f":"IFERROR(INDEX(CALC_BASE!$O$3:$O$52,MATCH(ROW()-7,CALC_BASE!$M$3:$M$52,0)),\"\")","v":""},{"$f":"IFERROR(INDEX(CALC_BASE!$P$3:$P$52,MATCH(ROW()-7,CALC_BASE!$M$3:$M$52,0)),\"\")","v":""},{"$f":"IFERROR(IF(D170=\"\",\"\",INDEX(tb_vendas[Preço de Venda],MATCH(D170,tb_vendas[N° Pedido/Empresa],0))/F170),\"\")","v":""},{"$f":"IFERROR(IF(D170=\"\",\"\",INDEX(tb_vendas[Data Fechamento],MATCH(D170,tb_vendas[N° Pedido/Empresa],0))+E170*INDEX(tb_formas_pagamento[Dias_Intervalo],MATCH(INDEX(tb_vendas[Forma_Pagamento],MATCH(D170,tb_vendas[N° Pedido/Empresa],0)),tb_formas_pagamento[Nome_Forma],0))),\"\")","v":""},null,{"$f":"IF(OR(tb_pagamentos[[#This Row],[Data_Vencimento]]=\"\",tb_pagamentos[[#This Row],[Valor_Parcela]]=\"\",tb_pagamentos[[#This Row],[Qtd_Total_Parcelas]]=\"\",tb_pagamentos[[#This Row],[Nr_Pedido]]=\"\"),\"\",IF(tb_pagamentos[[#This Row],[Data_Pagamento]]<>\"\",\"Pago\",IF(AND(tb_pagamentos[[#This Row],[Data_Pagamento]]=\"\",tb_pagamentos[[#This Row],[Data_Vencimento]]<TODAY()),\"Em Atraso\",\"A vencer\")))","v":""}]
[null,null,"",{"$f":"IFERROR(INDEX(CALC_BASE!$N$3:$N$52,MATCH(ROW()-7,CALC_BASE!$M$3:$M$52,0)),\"\")","v":""},{"$f":"IFERROR(INDEX(CALC_BASE!$O$3:$O$52,MATCH(ROW()-7,CALC_BASE!$M$3:$M$52,0)),\"\")","v":""},{"$f":"IFERROR(INDEX(CALC_BASE!$P$3:$P$52,MATCH(ROW()-7,CALC_BASE!$M$3:$M$52,0)),\"\")","v":""},{"$f":"IFERROR(IF(D171=\"\",\"\",INDEX(tb_vendas[Preço de Venda],MATCH(D171,tb_vendas[N° Pedido/Empresa],0))/F171),\"\")","v":""},{"$f":"IFERROR(IF(D171=\"\",\"\",INDEX(tb_vendas[Data Fechamento],MATCH(D171,tb_vendas[N° Pedido/Empresa],0))+E171*INDEX(tb_formas_pagamento[Dias_Intervalo],MATCH(INDEX(tb_vendas[Forma_Pagamento],MATCH(D171,tb_vendas[N° Pedido/Empresa],0)),tb_formas_pagamento[Nome_Forma],0))),\"\")","v":""},null,{"$f":"IF(OR(tb_pagamentos[[#This Row],[Data_Vencimento]]=\"\",tb_pagamentos[[#This Row],[Valor_Parcela]]=\"\",tb_pagamentos[[#This Row],[Qtd_Total_Parcelas]]=\"\",tb_pagamentos[[#This Row],[Nr_Pedido]]=\"\"),\"\",IF(tb_pagamentos[[#This Row],[Data_Pagamento]]<>\"\",\"Pago\",IF(AND(tb_pagamentos[[#This Row],[Data_Pagamento]]=\"\",tb_pagamentos[[#This Row],[Data_Vencimento]]<TODAY()),\"Em Atraso\",\"A vencer\")))","v":""}]
[null,null,"",{"$f":"IFERROR(INDEX(CALC_BASE!$N$3:$N$52,MATCH(ROW()-7,CALC_BASE!$M$3:$M$52,0)),\"\")","v":""},{"$f":"IFERROR(INDEX(CALC_BASE!$O$3:$O$52,MATCH(ROW()-7,CALC_BASE!$M$3:$M$52,0)),\"\")","v":""},{"$f":"IFERROR(INDEX(CALC_BASE!$P$3:$P$52,MATCH(ROW()-7,CALC_BASE!$M$3:$M$52,0)),\"\")","v":""},{"$f":"IFERROR(IF(D172=\"\",\"\",INDEX(tb_vendas[Preço de Venda],MATCH(D172,tb_vendas[N° Pedido/Empresa],0))/F172),\"\")","v":""},{"$f":"IFERROR(IF(D172=\"\",\"\",INDEX(tb_vendas[Data Fechamento],MATCH(D172,tb_vendas[N° Pedido/Empresa],0))+E172*INDEX(tb_formas_pagamento[Dias_Intervalo],MATCH(INDEX(tb_vendas[Forma_Pagamento],MATCH(D172,tb_vendas[N° Pedido/Empresa],0)),tb_formas_pagamento[Nome_Forma],0))),\"\")","v":""},null,{"$f":"IF(OR(tb_pagamentos[[#This Row],[Data_Vencimento]]=\"\",tb_pagamentos[[#This Row],[Valor_Parcela]]=\"\",tb_pagamentos[[#This Row],[Qtd_Total_Parcelas]]=\"\",tb_pagamentos[[#This Row],[Nr_Pedido]]=\"\"),\"\",IF(tb_pagamentos[[#This Row],[Data_Pagamento]]<>\"\",\"Pago\",IF(AND(tb_pagamentos[[#This Row],[Data_Pagamento]]=\"\",tb_pagamentos[[#This Row],[Data_Vencimento]]<TODAY()),\"Em Atraso\",\"A vencer\")))","v":""}]
[null,null,"",{"$f":"IFERROR(INDEX(CALC_BASE!$N$3:$N$52,MATCH(ROW()-7,CALC_BASE!$M$3:$M$52,0)),\"\")","v":""},{"$f":"IFERROR(INDEX(CALC_BASE!$O$3:$O$52,MATCH(ROW()-7,CALC_BASE!$M$3:$M$52,0)),\"\")","v":""},{"$f":"IFERROR(INDEX(CALC_BASE!$P$3:$P$52,MATCH(ROW()-7,CALC_BASE!$M$3:$M$52,0)),\"\")","v":""},{"$f":"IFERROR(IF(D173=\"\",\"\",INDEX(tb_vendas[Preço de Venda],MATCH(D173,tb_vendas[N° Pedido/Empresa],0))/F173),\"\")","v":""},{"$f":"IFERROR(IF(D173=\"\",\"\",INDEX(tb_vendas[Data Fechamento],MATCH(D173,tb_vendas[N° Pedido/Empresa],0))+E173*INDEX(tb_formas_pagamento[Dias_Intervalo],MATCH(INDEX(tb_vendas[Forma_Pagamento],MATCH(D173,tb_vendas[N° Pedido/Empresa],0)),tb_formas_pagamento[Nome_Forma],0))),\"\")","v":""},null,{"$f":"IF(OR(tb_pagamentos[[#This Row],[Data_Vencimento]]=\"\",tb_pagamentos[[#This Row],[Valor_Parcela]]=\"\",tb_pagamentos[[#This Row],[Qtd_Total_Parcelas]]=\"\",tb_pagamentos[[#This Row],[Nr_Pedido]]=\"\"),\"\",IF(tb_pagamentos[[#This Row],[Data_Pagamento]]<>\"\",\"Pago\",IF(AND(tb_pagamentos[[#This Row],[Data_Pagamento]]=\"\",tb_pagamentos[[#This Row],[Data_Vencimento]]<TODAY()),\"Em Atraso\",\"A vencer\")))","v":""}]
[null,null,"",{"$f":"IFERROR(INDEX(CALC_BASE!$N$3:$N$52,MATCH(ROW()-7,CALC_BASE!$M$3:$M$52,0)),\"\")","v":""},{"$f":"IFERROR(INDEX(CALC_BASE!$O$3:$O$52,MATCH(ROW()-7,CALC_BASE!$M$3:$M$52,0)),\"\")","v":""},{"$f":"IFERROR(INDEX(CALC_BASE!$P$3:$P$52,MATCH(ROW()-7,CALC_BASE!$M$3:$M$52,0)),\"\")","v":""},{"$f":"IFERROR(IF(D174=\"\",\"\",INDEX(tb_vendas[Preço de Venda],MATCH(D174,tb_vendas[N° Pedido/Empresa],0))/F174),\"\")","v":""},{"$f":"IFERROR(IF(D174=\"\",\"\",INDEX(tb_vendas[Data Fechamento],MATCH(D174,tb_vendas[N° Pedido/Empresa],0))+E174*INDEX(tb_formas_pagamento[Dias_Intervalo],MATCH(INDEX(tb_vendas[Forma_Pagamento],MATCH(D174,tb_vendas[N° Pedido/Empresa],0)),tb_formas_pagamento[Nome_Forma],0))),\"\")","v":""},null,{"$f":"IF(OR(tb_pagamentos[[#This Row],[Data_Vencimento]]=\"\",tb_pagamentos[[#This Row],[Valor_Parcela]]=\"\",tb_pagamentos[[#This Row],[Qtd_Total_Parcelas]]=\"\",tb_pagamentos[[#This Row],[Nr_Pedido]]=\"\"),\"\",IF(tb_pagamentos[[#This Row],[Data_Pagamento]]<>\"\",\"Pago\",IF(AND(tb_pagamentos[[#This Row],[Data_Pagamento]]=\"\",tb_pagamentos[[#This Row],[Data_Vencimento]]<TODAY()),\"Em Atraso\",\"A vencer\")))","v":""}]
[null,null,"",{"$f":"IFERROR(INDEX(CALC_BASE!$N$3:$N$52,MATCH(ROW()-7,CALC_BASE!$M$3:$M$52,0)),\"\")","v":""},{"$f":"IFERROR(INDEX(CALC_BASE!$O$3:$O$52,MATCH(ROW()-7,CALC_BASE!$M$3:$M$52,0)),\"\")","v":""},{"$f":"IFERROR(INDEX(CALC_BASE!$P$3:$P$52,MATCH(ROW()-7,CALC_BASE!$M$3:$M$52,0)),\"\")","v":""},{"$f":"IFERROR(IF(D175=\"\",\"\",INDEX(tb_vendas[Preço de Venda],MATCH(D175,tb_vendas[N° Pedido/Empresa],0))/F175),\"\")","v":""},{"$f":"IFERROR(IF(D175=\"\",\"\",INDEX(tb_vendas[Data Fechamento],MATCH(D175,tb_vendas[N° Pedido/Empresa],0))+E175*INDEX(tb_formas_pagamento[Dias_Intervalo],MATCH(INDEX(tb_vendas[Forma_Pagamento],MATCH(D175,tb_vendas[N° Pedido/Empresa],0)),tb_formas_pagamento[Nome_Forma],0))),\"\")","v":""},null,{"$f":"IF(OR(tb_pagamentos[[#This Row],[Data_Vencimento]]=\"\",tb_pagamentos[[#This Row],[Valor_Parcela]]=\"\",tb_pagamentos[[#This Row],[Qtd_Total_Parcelas]]=\"\",tb_pagamentos[[#This Row],[Nr_Pedido]]=\"\"),\"\",IF(tb_pagamentos[[#This Row],[Data_Pagamento]]<>\"\",\"Pago\",IF(AND(tb_pagamentos[[#This Row],[Data_Pagamento]]=\"\",tb_pagamentos[[#This Row],[Data_Vencimento]]<TODAY()),\"Em Atraso\",\"A vencer\")))","v":""}]
[null,null,"",{"$f":"IFERROR(INDEX(CALC_BASE!$N$3:$N$52,MATCH(ROW()-7,CALC_BASE!$M$3:$M$52,0)),\"\")","v":""},{"$f":"IFERROR(INDEX(CALC_BASE!$O$3:$O$52,MATCH(ROW()-7,CALC_BASE!$M$3:$M$52,0)),\"\")","v":""},{"$f":"IFERROR(INDEX(CALC_BASE!$P$3:$P$52,MATCH(ROW()-7,CALC_BASE!$M$3:$M$52,0)),\"\")","v":""},{"$f":"IFERROR(IF(D176=\"\",\"\",INDEX(tb_vendas[Preço de Venda],MATCH(D176,tb_vendas[N° Pedido/Empresa],0))/F176),\"\")","v":""},{"$f":"IFERROR(IF(D176=\"\",\"\",INDEX(tb_vendas[Data Fechamento],MATCH(D176,tb_vendas[N° Pedido/Empresa],0))+E176*INDEX(tb_formas_pagamento[Dias_Intervalo],MATCH(INDEX(tb_vendas[Forma_Pagamento],MATCH(D176,tb_vendas[N° Pedido/Empresa],0)),tb_formas_pagamento[Nome_Forma],0))),\"\")","v":""},null,{"$f":"IF(OR(tb_pagamentos[[#This Row],[Data_Vencimento]]=\"\",tb_pagamentos[[#This Row],[Valor_Parcela]]=\"\",tb_pagamentos[[#This Row],[Qtd_Total_Parcelas]]=\"\",tb_pagamentos[[#This Row],[Nr_Pedido]]=\"\"),\"\",IF(tb_pagamentos[[#This Row],[Data_Pagamento]]<>\"\",\"Pago\",IF(AND(tb_pagamentos[[#This Row],[Data_Pagamento]]=\"\",tb_pagamentos[[#This Row],[Data_Vencimento]]<TODAY()),\"Em Atraso\",\"A vencer\")))","v":""}]
[null,null,"",{"$f":"IFERROR(INDEX(CALC_BASE!$N$3:$N$52,MATCH(ROW()-7,CALC_BASE!$M$3:$M$52,0)),\"\")","v":""},{"$f":"IFERROR(INDEX(CALC_BASE!$O$3:$O$52,MATCH(ROW()-7,CALC_BASE!$M$3:$M$52,0)),\"\")","v":""},{"$f":"IFERROR(INDEX(CALC_BASE!$P$3:$P$52,MATCH(ROW()-7,CALC_BASE!$M$3:$M$52,0)),\"\")","v":""},{"$f":"IFERROR(IF(D177=\"\",\"\",INDEX(tb_vendas[Preço de Venda],MATCH(D177,tb_vendas[N° Pedido/Empresa],0))/F177),\"\")","v":""},{"$f":"IFERROR(IF(D177=\"\",\"\",INDEX(tb_vendas[Data Fechamento],MATCH(D177,tb_vendas[N° Pedido/Empresa],0))+E177*INDEX(tb_formas_pagamento[Dias_Intervalo],MATCH(INDEX(tb_vendas[Forma_Pagamento],MATCH(D177,tb_vendas[N° Pedido/Empresa],0)),tb_formas_pagamento[Nome_Forma],0))),\"\")","v":""},null,{"$f":"IF(OR(tb_pagamentos[[#This Row],[Data_Vencimento]]=\"\",tb_pagamentos[[#This Row],[Valor_Parcela]]=\"\",tb_pagamentos[[#This Row],[Qtd_Total_Parcelas]]=\"\",tb_pagamentos[[#This Row],[Nr_Pedido]]=\"\"),\"\",IF(tb_pagamentos[[#This Row],[Data_Pagamento]]<>\"\",\"Pago\",IF(AND(tb_pagamentos[[#This Row],[Data_Pagamento]]=\"\",tb_pagamentos[[#This Row],[Data_Vencimento]]<TODAY()),\"Em Atraso\",\"A vencer\")))","v":""}]
[null,null,"",{"$f":"IFERROR(INDEX(CALC_BASE!$N$3:$N$52,MATCH(ROW()-7,CALC_BASE!$M$3:$M$52,0)),\"\")","v":""},{"$f":"IFERROR(INDEX(CALC_BASE!$O$3:$O$52,MATCH(ROW()-7,CALC_BASE!$M$3:$M$52,0)),\"\")","v":""},{"$f":"IFERROR(INDEX(CALC_BASE!$P$3:$P$52,MATCH(ROW()-7,CALC_BASE!$M$3:$M$52,0)),\"\")","v":""},{"$f":"IFERROR(IF(D178=\"\",\"\",INDEX(tb_vendas[Preço de Venda],MATCH(D178,tb_vendas[N° Pedido/Empresa],0))/F178),\"\")","v":""},{"$f":"IFERROR(IF(D178=\"\",\"\",INDEX(tb_vendas[Data Fechamento],MATCH(D178,tb_vendas[N° Pedido/Empresa],0))+E178*INDEX(tb_formas_pagamento[Dias_Intervalo],MATCH(INDEX(tb_vendas[Forma_Pagamento],MATCH(D178,tb_vendas[N° Pedido/Empresa],0)),tb_formas_pagamento[Nome_Forma],0))),\"\")","v":""},null,{"$f":"IF(OR(tb_pagamentos[[#This Row],[Data_Vencimento]]=\"\",tb_pagamentos[[#This Row],[Valor_Parcela]]=\"\",tb_pagamentos[[#This Row],[Qtd_Total_Parcelas]]=\"\",tb_pagamentos[[#This Row],[Nr_Pedido]]=\"\"),\"\",IF(tb_pagamentos[[#This Row],[Data_Pagamento]]<>\"\",\"Pago\",IF(AND(tb_pagamentos[[#This Row],[Data_Pagamento]]=\"\",tb_pagamentos[[#This Row],[Data_Vencimento]]<TODAY()),\"Em Atraso\",\"A vencer\")))","v":""}]
[null,null,"",{"$f":"IFERROR(INDEX(CALC_BASE!$N$3:$N$52,MATCH(ROW()-7,CALC_BASE!$M$3:$M$52,0)),\"\")","v":""},{"$f":"IFERROR(INDEX(CALC_BASE!$O$3:$O$52,MATCH(ROW()-7,CALC_BASE!$M$3:$M$52,0)),\"\")","v":""},{"$f":"IFERROR(INDEX(CALC_BASE!$P$3:$P$52,MATCH(ROW()-7,CALC_BASE!$M$3:$M$52,0)),\"\")","v":""},{"$f":"IFERROR(IF(D179=\"\",\"\",INDEX(tb_vendas[Preço de Venda],MATCH(D179,tb_vendas[N° Pedido/Empresa],0))/F179),\"\")","v":""},{"$f":"IFERROR(IF(D179=\"\",\"\",INDEX(tb_vendas[Data Fechamento],MATCH(D179,tb_vendas[N° Pedido/Empresa],0))+E179*INDEX(tb_formas_pagamento[Dias_Intervalo],MATCH(INDEX(tb_vendas[Forma_Pagamento],MATCH(D179,tb_vendas[N° Pedido/Empresa],0)),tb_formas_pagamento[Nome_Forma],0))),\"\")","v":""},null,{"$f":"IF(OR(tb_pagamentos[[#This Row],[Data_Vencimento]]=\"\",tb_pagamentos[[#This Row],[Valor_Parcela]]=\"\",tb_pagamentos[[#This Row],[Qtd_Total_Parcelas]]=\"\",tb_pagamentos[[#This Row],[Nr_Pedido]]=\"\"),\"\",IF(tb_pagamentos[[#This Row],[Data_Pagamento]]<>\"\",\"Pago\",IF(AND(tb_pagamentos[[#This Row],[Data_Pagamento]]=\"\",tb_pagamentos[[#This Row],[Data_Vencimento]]<TODAY()),\"Em Atraso\",\"A vencer\")))","v":""}]
[null,null,"",{"$f":"IFERROR(INDEX(CALC_BASE!$N$3:$N$52,MATCH(ROW()-7,CALC_BASE!$M$3:$M$52,0)),\"\")","v":""},{"$f":"IFERROR(INDEX(CALC_BASE!$O$3:$O$52,MATCH(ROW()-7,CALC_BASE!$M$3:$M$52,0)),\"\")","v":""},{"$f":"IFERROR(INDEX(CALC_BASE!$P$3:$P$52,MATCH(ROW()-7,CALC_BASE!$M$3:$M$52,0)),\"\")","v":""},{"$f":"IFERROR(IF(D180=\"\",\"\",INDEX(tb_vendas[Preço de Venda],MATCH(D180,tb_vendas[N° Pedido/Empresa],0))/F180),\"\")","v":""},{"$f":"IFERROR(IF(D180=\"\",\"\",INDEX(tb_vendas[Data Fechamento],MATCH(D180,tb_vendas[N° Pedido/Empresa],0))+E180*INDEX(tb_formas_pagamento[Dias_Intervalo],MATCH(INDEX(tb_vendas[Forma_Pagamento],MATCH(D180,tb_vendas[N° Pedido/Empresa],0)),tb_formas_pagamento[Nome_Forma],0))),\"\")","v":""},null,{"$f":"IF(OR(tb_pagamentos[[#This Row],[Data_Vencimento]]=\"\",tb_pagamentos[[#This Row],[Valor_Parcela]]=\"\",tb_pagamentos[[#This Row],[Qtd_Total_Parcelas]]=\"\",tb_pagamentos[[#This Row],[Nr_Pedido]]=\"\"),\"\",IF(tb_pagamentos[[#This Row],[Data_Pagamento]]<>\"\",\"Pago\",IF(AND(tb_pagamentos[[#This Row],[Data_Pagamento]]=\"\",tb_pagamentos[[#This Row],[Data_Vencimento]]<TODAY()),\"Em Atraso\",\"A vencer\")))","v":""}]
[null,null,"",{"$f":"IFERROR(INDEX(CALC_BASE!$N$3:$N$52,MATCH(ROW()-7,CALC_BASE!$M$3:$M$52,0)),\"\")","v":""},{"$f":"IFERROR(INDEX(CALC_BASE!$O$3:$O$52,MATCH(ROW()-7,CALC_BASE!$M$3:$M$52,0)),\"\")","v":""},{"$f":"IFERROR(INDEX(CALC_BASE!$P$3:$P$52,MATCH(ROW()-7,CALC_BASE!$M$3:$M$52,0)),\"\")","v":""},{"$f":"IFERROR(IF(D181=\"\",\"\",INDEX(tb_vendas[Preço de Venda],MATCH(D181,tb_vendas[N° Pedido/Empresa],0))/F181),\"\")","v":""},{"$f":"IFERROR(IF(D181=\"\",\"\",INDEX(tb_vendas[Data Fechamento],MATCH(D181,tb_vendas[N° Pedido/Empresa],0))+E181*INDEX(tb_formas_pagamento[Dias_Intervalo],MATCH(INDEX(tb_vendas[Forma_Pagamento],MATCH(D181,tb_vendas[N° Pedido/Empresa],0)),tb_formas_pagamento[Nome_Forma],0))),\"\")","v":""},null,{"$f":"IF(OR(tb_pagamentos[[#This Row],[Data_Vencimento]]=\"\",tb_pagamentos[[#This Row],[Valor_Parcela]]=\"\",tb_pagamentos[[#This Row],[Qtd_Total_Parcelas]]=\"\",tb_pagamentos[[#This Row],[Nr_Pedido]]=\"\"),\"\",IF(tb_pagamentos[[#This Row],[Data_Pagamento]]<>\"\",\"Pago\",IF(AND(tb_pagamentos[[#This Row],[Data_Pagamento]]=\"\",tb_pagamentos[[#This Row],[Data_Vencimento]]<TODAY()),\"Em Atraso\",\"A vencer\")))","v":""}]
[null,null,"",{"$f":"IFERROR(INDEX(CALC_BASE!$N$3:$N$52,MATCH(ROW()-7,CALC_BASE!$M$3:$M$52,0)),\"\")","v":""},{"$f":"IFERROR(INDEX(CALC_BASE!$O$3:$O$52,MATCH(ROW()-7,CALC_BASE!$M$3:$M$52,0)),\"\")","v":""},{"$f":"IFERROR(INDEX(CALC_BASE!$P$3:$P$52,MATCH(ROW()-7,CALC_BASE!$M$3:$M$52,0)),\"\")","v":""},{"$f":"IFERROR(IF(D182=\"\",\"\",INDEX(tb_vendas[Preço de Venda],MATCH(D182,tb_vendas[N° Pedido/Empresa],0))/F182),\"\")","v":""},{"$f":"IFERROR(IF(D182=\"\",\"\",INDEX(tb_vendas[Data Fechamento],MATCH(D182,tb_vendas[N° Pedido/Empresa],0))+E182*INDEX(tb_formas_pagamento[Dias_Intervalo],MATCH(INDEX(tb_vendas[Forma_Pagamento],MATCH(D182,tb_vendas[N° Pedido/Empresa],0)),tb_formas_pagamento[Nome_Forma],0))),\"\")","v":""},null,{"$f":"IF(OR(tb_pagamentos[[#This Row],[Data_Vencimento]]=\"\",tb_pagamentos[[#This Row],[Valor_Parcela]]=\"\",tb_pagamentos[[#This Row],[Qtd_Total_Parcelas]]=\"\",tb_pagamentos[[#This Row],[Nr_Pedido]]=\"\"),\"\",IF(tb_pagamentos[[#This Row],[Data_Pagamento]]<>\"\",\"Pago\",IF(AND(tb_pagamentos[[#This Row],[Data_Pagamento]]=\"\",tb_pagamentos[[#This Row],[Data_Vencimento]]<TODAY()),\"Em Atraso\",\"A vencer\")))","v":""}]
[null,null,"",{"$f":"IFERROR(INDEX(CALC_BASE!$N$3:$N$52,MATCH(ROW()-7,CALC_BASE!$M$3:$M$52,0)),\"\")","v":""},{"$f":"IFERROR(INDEX(CALC_BASE!$O$3:$O$52,MATCH(ROW()-7,CALC_BASE!$M$3:$M$52,0)),\"\")","v":""},{"$f":"IFERROR(INDEX(CALC_BASE!$P$3:$P$52,MATCH(ROW()-7,CALC_BASE!$M$3:$M$52,0)),\"\")","v":""},{"$f":"IFERROR(IF(D183=\"\",\"\",INDEX(tb_vendas[Preço de Venda],MATCH(D183,tb_vendas[N° Pedido/Empresa],0))/F183),\"\")","v":""},{"$f":"IFERROR(IF(D183=\"\",\"\",INDEX(tb_vendas[Data Fechamento],MATCH(D183,tb_vendas[N° Pedido/Empresa],0))+E183*INDEX(tb_formas_pagamento[Dias_Intervalo],MATCH(INDEX(tb_vendas[Forma_Pagamento],MATCH(D183,tb_vendas[N° Pedido/Empresa],0)),tb_formas_pagamento[Nome_Forma],0))),\"\")","v":""},null,{"$f":"IF(OR(tb_pagamentos[[#This Row],[Data_Vencimento]]=\"\",tb_pagamentos[[#This Row],[Valor_Parcela]]=\"\",tb_pagamentos[[#This Row],[Qtd_Total_Parcelas]]=\"\",tb_pagamentos[[#This Row],[Nr_Pedido]]=\"\"),\"\",IF(tb_pagamentos[[#This Row],[Data_Pagamento]]<>\"\",\"Pago\",IF(AND(tb_pagamentos[[#This Row],[Data_Pagamento]]=\"\",tb_pagamentos[[#This Row],[Data_Vencimento]]<TODAY()),\"Em Atraso\",\"A vencer\")))","v":""}]
[null,null,"",{"$f":"IFERROR(INDEX(CALC_BASE!$N$3:$N$52,MATCH(ROW()-7,CALC_BASE!$M$3:$M$52,0)),\"\")","v":""},{"$f":"IFERROR(INDEX(CALC_BASE!$O$3:$O$52,MATCH(ROW()-7,CALC_BASE!$M$3:$M$52,0)),\"\")","v":""},{"$f":"IFERROR(INDEX(CALC_BASE!$P$3:$P$52,MATCH(ROW()-7,CALC_BASE!$M$3:$M$52,0)),\"\")","v":""},{"$f":"IFERROR(IF(D184=\"\",\"\",INDEX(tb_vendas[Preço de Venda],MATCH(D184,tb_vendas[N° Pedido/Empresa],0))/F184),\"\")","v":""},{"$f":"IFERROR(IF(D184=\"\",\"\",INDEX(tb_vendas[Data Fechamento],MATCH(D184,tb_vendas[N° Pedido/Empresa],0))+E184*INDEX(tb_formas_pagamento[Dias_Intervalo],MATCH(INDEX(tb_vendas[Forma_Pagamento],MATCH(D184,tb_vendas[N° Pedido/Empresa],0)),tb_formas_pagamento[Nome_Forma],0))),\"\")","v":""},null,{"$f":"IF(OR(tb_pagamentos[[#This Row],[Data_Vencimento]]=\"\",tb_pagamentos[[#This Row],[Valor_Parcela]]=\"\",tb_pagamentos[[#This Row],[Qtd_Total_Parcelas]]=\"\",tb_pagamentos[[#This Row],[Nr_Pedido]]=\"\"),\"\",IF(tb_pagamentos[[#This Row],[Data_Pagamento]]<>\"\",\"Pago\",IF(AND(tb_pagamentos[[#This Row],[Data_Pagamento]]=\"\",tb_pagamentos[[#This Row],[Data_Vencimento]]<TODAY()),\"Em Atraso\",\"A vencer\")))","v":""}]
[null,null,"",{"$f":"IFERROR(INDEX(CALC_BASE!$N$3:$N$52,MATCH(ROW()-7,CALC_BASE!$M$3:$M$52,0)),\"\")","v":""},{"$f":"IFERROR(INDEX(CALC_BASE!$O$3:$O$52,MATCH(ROW()-7,CALC_BASE!$M$3:$M$52,0)),\"\")","v":""},{"$f":"IFERROR(INDEX(CALC_BASE!$P$3:$P$52,MATCH(ROW()-7,CALC_BASE!$M$3:$M$52,0)),\"\")","v":""},{"$f":"IFERROR(IF(D185=\"\",\"\",INDEX(tb_vendas[Preço de Venda],MATCH(D185,tb_vendas[N° Pedido/Empresa],0))/F185),\"\")","v":""},{"$f":"IFERROR(IF(D185=\"\",\"\",INDEX(tb_vendas[Data Fechamento],MATCH(D185,tb_vendas[N° Pedido/Empresa],0))+E185*INDEX(tb_formas_pagamento[Dias_Intervalo],MATCH(INDEX(tb_vendas[Forma_Pagamento],MATCH(D185,tb_vendas[N° Pedido/Empresa],0)),tb_formas_pagamento[Nome_Forma],0))),\"\")","v":""},null,{"$f":"IF(OR(tb_pagamentos[[#This Row],[Data_Vencimento]]=\"\",tb_pagamentos[[#This Row],[Valor_Parcela]]=\"\",tb_pagamentos[[#This Row],[Qtd_Total_Parcelas]]=\"\",tb_pagamentos[[#This Row],[Nr_Pedido]]=\"\"),\"\",IF(tb_pagamentos[[#This Row],[Data_Pagamento]]<>\"\",\"Pago\",IF(AND(tb_pagamentos[[#This Row],[Data_Pagamento]]=\"\",tb_pagamentos[[#This Row],[Data_Vencimento]]<TODAY()),\"Em Atraso\",\"A vencer\")))","v":""}]
[null,null,"",{"$f":"IFERROR(INDEX(CALC_BASE!$N$3:$N$52,MATCH(ROW()-7,CALC_BASE!$M$3:$M$52,0)),\"\")","v":""},{"$f":"IFERROR(INDEX(CALC_BASE!$O$3:$O$52,MATCH(ROW()-7,CALC_BASE!$M$3:$M$52,0)),\"\")","v":""},{"$f":"IFERROR(INDEX(CALC_BASE!$P$3:$P$52,MATCH(ROW()-7,CALC_BASE!$M$3:$M$52,0)),\"\")","v":""},{"$f":"IFERROR(IF(D186=\"\",\"\",INDEX(tb_vendas[Preço de Venda],MATCH(D186,tb_vendas[N° Pedido/Empresa],0))/F186),\"\")","v":""},{"$f":"IFERROR(IF(D186=\"\",\"\",INDEX(tb_vendas[Data Fechamento],MATCH(D186,tb_vendas[N° Pedido/Empresa],0))+E186*INDEX(tb_formas_pagamento[Dias_Intervalo],MATCH(INDEX(tb_vendas[Forma_Pagamento],MATCH(D186,tb_vendas[N° Pedido/Empresa],0)),tb_formas_pagamento[Nome_Forma],0))),\"\")","v":""},null,{"$f":"IF(OR(tb_pagamentos[[#This Row],[Data_Vencimento]]=\"\",tb_pagamentos[[#This Row],[Valor_Parcela]]=\"\",tb_pagamentos[[#This Row],[Qtd_Total_Parcelas]]=\"\",tb_pagamentos[[#This Row],[Nr_Pedido]]=\"\"),\"\",IF(tb_pagamentos[[#This Row],[Data_Pagamento]]<>\"\",\"Pago\",IF(AND(tb_pagamentos[[#This Row],[Data_Pagamento]]=\"\",tb_pagamentos[[#This Row],[Data_Vencimento]]<TODAY()),\"Em Atraso\",\"A vencer\")))","v":""}]
[null,null,"",{"$f":"IFERROR(INDEX(CALC_BASE!$N$3:$N$52,MATCH(ROW()-7,CALC_BASE!$M$3:$M$52,0)),\"\")","v":""},{"$f":"IFERROR(INDEX(CALC_BASE!$O$3:$O$52,MATCH(ROW()-7,CALC_BASE!$M$3:$M$52,0)),\"\")","v":""},{"$f":"IFERROR(INDEX(CALC_BASE!$P$3:$P$52,MATCH(ROW()-7,CALC_BASE!$M$3:$M$52,0)),\"\")","v":""},{"$f":"IFERROR(IF(D187=\"\",\"\",INDEX(tb_vendas[Preço de Venda],MATCH(D187,tb_vendas[N° Pedido/Empresa],0))/F187),\"\")","v":""},{"$f":"IFERROR(IF(D187=\"\",\"\",INDEX(tb_vendas[Data Fechamento],MATCH(D187,tb_vendas[N° Pedido/Empresa],0))+E187*INDEX(tb_formas_pagamento[Dias_Intervalo],MATCH(INDEX(tb_vendas[Forma_Pagamento],MATCH(D187,tb_vendas[N° Pedido/Empresa],0)),tb_formas_pagamento[Nome_Forma],0))),\"\")","v":""},null,{"$f":"IF(OR(tb_pagamentos[[#This Row],[Data_Vencimento]]=\"\",tb_pagamentos[[#This Row],[Valor_Parcela]]=\"\",tb_pagamentos[[#This Row],[Qtd_Total_Parcelas]]=\"\",tb_pagamentos[[#This Row],[Nr_Pedido]]=\"\"),\"\",IF(tb_pagamentos[[#This Row],[Data_Pagamento]]<>\"\",\"Pago\",IF(AND(tb_pagamentos[[#This Row],[Data_Pagamento]]=\"\",tb_pagamentos[[#This Row],[Data_Vencimento]]<TODAY()),\"Em Atraso\",\"A vencer\")))","v":""}]
[null,null,"",{"$f":"IFERROR(INDEX(CALC_BASE!$N$3:$N$52,MATCH(ROW()-7,CALC_BASE!$M$3:$M$52,0)),\"\")","v":""},{"$f":"IFERROR(INDEX(CALC_BASE!$O$3:$O$52,MATCH(ROW()-7,CALC_BASE!$M$3:$M$52,0)),\"\")","v":""},{"$f":"IFERROR(INDEX(CALC_BASE!$P$3:$P$52,MATCH(ROW()-7,CALC_BASE!$M$3:$M$52,0)),\"\")","v":""},{"$f":"IFERROR(IF(D188=\"\",\"\",INDEX(tb_vendas[Preço de Venda],MATCH(D188,tb_vendas[N° Pedido/Empresa],0))/F188),\"\")","v":""},{"$f":"IFERROR(IF(D188=\"\",\"\",INDEX(tb_vendas[Data Fechamento],MATCH(D188,tb_vendas[N° Pedido/Empresa],0))+E188*INDEX(tb_formas_pagamento[Dias_Intervalo],MATCH(INDEX(tb_vendas[Forma_Pagamento],MATCH(D188,tb_vendas[N° Pedido/Empresa],0)),tb_formas_pagamento[Nome_Forma],0))),\"\")","v":""},null,{"$f":"IF(OR(tb_pagamentos[[#This Row],[Data_Vencimento]]=\"\",tb_pagamentos[[#This Row],[Valor_Parcela]]=\"\",tb_pagamentos[[#This Row],[Qtd_Total_Parcelas]]=\"\",tb_pagamentos[[#This Row],[Nr_Pedido]]=\"\"),\"\",IF(tb_pagamentos[[#This Row],[Data_Pagamento]]<>\"\",\"Pago\",IF(AND(tb_pagamentos[[#This Row],[Data_Pagamento]]=\"\",tb_pagamentos[[#This Row],[Data_Vencimento]]<TODAY()),\"Em Atraso\",\"A vencer\")))","v":""}]
[null,null,"",{"$f":"IFERROR(INDEX(CALC_BASE!$N$3:$N$52,MATCH(ROW()-7,CALC_BASE!$M$3:$M$52,0)),\"\")","v":""},{"$f":"IFERROR(INDEX(CALC_BASE!$O$3:$O$52,MATCH(ROW()-7,CALC_BASE!$M$3:$M$52,0)),\"\")","v":""},{"$f":"IFERROR(INDEX(CALC_BASE!$P$3:$P$52,MATCH(ROW()-7,CALC_BASE!$M$3:$M$52,0)),\"\")","v":""},{"$f":"IFERROR(IF(D189=\"\",\"\",INDEX(tb_vendas[Preço de Venda],MATCH(D189,tb_vendas[N° Pedido/Empresa],0))/F189),\"\")","v":""},{"$f":"IFERROR(IF(D189=\"\",\"\",INDEX(tb_vendas[Data Fechamento],MATCH(D189,tb_vendas[N° Pedido/Empresa],0))+E189*INDEX(tb_formas_pagamento[Dias_Intervalo],MATCH(INDEX(tb_vendas[Forma_Pagamento],MATCH(D189,tb_vendas[N° Pedido/Empresa],0)),tb_formas_pagamento[Nome_Forma],0))),\"\")","v":""},null,{"$f":"IF(OR(tb_pagamentos[[#This Row],[Data_Vencimento]]=\"\",tb_pagamentos[[#This Row],[Valor_Parcela]]=\"\",tb_pagamentos[[#This Row],[Qtd_Total_Parcelas]]=\"\",tb_pagamentos[[#This Row],[Nr_Pedido]]=\"\"),\"\",IF(tb_pagamentos[[#This Row],[Data_Pagamento]]<>\"\",\"Pago\",IF(AND(tb_pagamentos[[#This Row],[Data_Pagamento]]=\"\",tb_pagamentos[[#This Row],[Data_Vencimento]]<TODAY()),\"Em Atraso\",\"A vencer\")))","v":""}]
[null,null,"",{"$f":"IFERROR(INDEX(CALC_BASE!$N$3:$N$52,MATCH(ROW()-7,CALC_BASE!$M$3:$M$52,0)),\"\")","v":""},{"$f":"IFERROR(INDEX(CALC_BASE!$O$3:$O$52,MATCH(ROW()-7,CALC_BASE!$M$3:$M$52,0)),\"\")","v":""},{"$f":"IFERROR(INDEX(CALC_BASE!$P$3:$P$52,MATCH(ROW()-7,CALC_BASE!$M$3:$M$52,0)),\"\")","v":""},{"$f":"IFERROR(IF(D190=\"\",\"\",INDEX(tb_vendas[Preço de Venda],MATCH(D190,tb_vendas[N° Pedido/Empresa],0))/F190),\"\")","v":""},{"$f":"IFERROR(IF(D190=\"\",\"\",INDEX(tb_vendas[Data Fechamento],MATCH(D190,tb_vendas[N° Pedido/Empresa],0))+E190*INDEX(tb_formas_pagamento[Dias_Intervalo],MATCH(INDEX(tb_vendas[Forma_Pagamento],MATCH(D190,tb_vendas[N° Pedido/Empresa],0)),tb_formas_pagamento[Nome_Forma],0))),\"\")","v":""},null,{"$f":"IF(OR(tb_pagamentos[[#This Row],[Data_Vencimento]]=\"\",tb_pagamentos[[#This Row],[Valor_Parcela]]=\"\",tb_pagamentos[[#This Row],[Qtd_Total_Parcelas]]=\"\",tb_pagamentos[[#This Row],[Nr_Pedido]]=\"\"),\"\",IF(tb_pagamentos[[#This Row],[Data_Pagamento]]<>\"\",\"Pago\",IF(AND(tb_pagamentos[[#This Row],[Data_Pagamento]]=\"\",tb_pagamentos[[#This Row],[Data_Vencimento]]<TODAY()),\"Em Atraso\",\"A vencer\")))","v":""}]
[null,null,"",{"$f":"IFERROR(INDEX(CALC_BASE!$N$3:$N$52,MATCH(ROW()-7,CALC_BASE!$M$3:$M$52,0)),\"\")","v":""},{"$f":"IFERROR(INDEX(CALC_BASE!$O$3:$O$52,MATCH(ROW()-7,CALC_BASE!$M$3:$M$52,0)),\"\")","v":""},{"$f":"IFERROR(INDEX(CALC_BASE!$P$3:$P$52,MATCH(ROW()-7,CALC_BASE!$M$3:$M$52,0)),\"\")","v":""},{"$f":"IFERROR(IF(D191=\"\",\"\",INDEX(tb_vendas[Preço de Venda],MATCH(D191,tb_vendas[N° Pedido/Empresa],0))/F191),\"\")","v":""},{"$f":"IFERROR(IF(D191=\"\",\"\",INDEX(tb_vendas[Data Fechamento],MATCH(D191,tb_vendas[N° Pedido/Empresa],0))+E191*INDEX(tb_formas_pagamento[Dias_Intervalo],MATCH(INDEX(tb_vendas[Forma_Pagamento],MATCH(D191,tb_vendas[N° Pedido/Empresa],0)),tb_formas_pagamento[Nome_Forma],0))),\"\")","v":""},null,{"$f":"IF(OR(tb_pagamentos[[#This Row],[Data_Vencimento]]=\"\",tb_pagamentos[[#This Row],[Valor_Parcela]]=\"\",tb_pagamentos[[#This Row],[Qtd_Total_Parcelas]]=\"\",tb_pagamentos[[#This Row],[Nr_Pedido]]=\"\"),\"\",IF(tb_pagamentos[[#This Row],[Data_Pagamento]]<>\"\",\"Pago\",IF(AND(tb_pagamentos[[#This Row],[Data_Pagamento]]=\"\",tb_pagamentos[[#This Row],[Data_Vencimento]]<TODAY()),\"Em Atraso\",\"A vencer\")))","v":""}]
[null,null,"",{"$f":"IFERROR(INDEX(CALC_BASE!$N$3:$N$52,MATCH(ROW()-7,CALC_BASE!$M$3:$M$52,0)),\"\")","v":""},{"$f":"IFERROR(INDEX(CALC_BASE!$O$3:$O$52,MATCH(ROW()-7,CALC_BASE!$M$3:$M$52,0)),\"\")","v":""},{"$f":"IFERROR(INDEX(CALC_BASE!$P$3:$P$52,MATCH(ROW()-7,CALC_BASE!$M$3:$M$52,0)),\"\")","v":""},{"$f":"IFERROR(IF(D192=\"\",\"\",INDEX(tb_vendas[Preço de Venda],MATCH(D192,tb_vendas[N° Pedido/Empresa],0))/F192),\"\")","v":""},{"$f":"IFERROR(IF(D192=\"\",\"\",INDEX(tb_vendas[Data Fechamento],MATCH(D192,tb_vendas[N° Pedido/Empresa],0))+E192*INDEX(tb_formas_pagamento[Dias_Intervalo],MATCH(INDEX(tb_vendas[Forma_Pagamento],MATCH(D192,tb_vendas[N° Pedido/Empresa],0)),tb_formas_pagamento[Nome_Forma],0))),\"\")","v":""},null,{"$f":"IF(OR(tb_pagamentos[[#This Row],[Data_Vencimento]]=\"\",tb_pagamentos[[#This Row],[Valor_Parcela]]=\"\",tb_pagamentos[[#This Row],[Qtd_Total_Parcelas]]=\"\",tb_pagamentos[[#This Row],[Nr_Pedido]]=\"\"),\"\",IF(tb_pagamentos[[#This Row],[Data_Pagamento]]<>\"\",\"Pago\",IF(AND(tb_pagamentos[[#This Row],[Data_Pagamento]]=\"\",tb_pagamentos[[#This Row],[Data_Vencimento]]<TODAY()),\"Em Atraso\",\"A vencer\")))","v":""}]
[null,null,"",{"$f":"IFERROR(INDEX(CALC_BASE!$N$3:$N$52,MATCH(ROW()-7,CALC_BASE!$M$3:$M$52,0)),\"\")","v":""},{"$f":"IFERROR(INDEX(CALC_BASE!$O$3:$O$52,MATCH(ROW()-7,CALC_BASE!$M$3:$M$52,0)),\"\")","v":""},{"$f":"IFERROR(INDEX(CALC_BASE!$P$3:$P$52,MATCH(ROW()-7,CALC_BASE!$M$3:$M$52,0)),\"\")","v":""},{"$f":"IFERROR(IF(D193=\"\",\"\",INDEX(tb_vendas[Preço de Venda],MATCH(D193,tb_vendas[N° Pedido/Empresa],0))/F193),\"\")","v":""},{"$f":"IFERROR(IF(D193=\"\",\"\",INDEX(tb_vendas[Data Fechamento],MATCH(D193,tb_vendas[N° Pedido/Empresa],0))+E193*INDEX(tb_formas_pagamento[Dias_Intervalo],MATCH(INDEX(tb_vendas[Forma_Pagamento],MATCH(D193,tb_vendas[N° Pedido/Empresa],0)),tb_formas_pagamento[Nome_Forma],0))),\"\")","v":""},null,{"$f":"IF(OR(tb_pagamentos[[#This Row],[Data_Vencimento]]=\"\",tb_pagamentos[[#This Row],[Valor_Parcela]]=\"\",tb_pagamentos[[#This Row],[Qtd_Total_Parcelas]]=\"\",tb_pagamentos[[#This Row],[Nr_Pedido]]=\"\"),\"\",IF(tb_pagamentos[[#This Row],[Data_Pagamento]]<>\"\",\"Pago\",IF(AND(tb_pagamentos[[#This Row],[Data_Pagamento]]=\"\",tb_pagamentos[[#This Row],[Data_Vencimento]]<TODAY()),\"Em Atraso\",\"A vencer\")))","v":""}]
[null,null,"",{"$f":"IFERROR(INDEX(CALC_BASE!$N$3:$N$52,MATCH(ROW()-7,CALC_BASE!$M$3:$M$52,0)),\"\")","v":""},{"$f":"IFERROR(INDEX(CALC_BASE!$O$3:$O$52,MATCH(ROW()-7,CALC_BASE!$M$3:$M$52,0)),\"\")","v":""},{"$f":"IFERROR(INDEX(CALC_BASE!$P$3:$P$52,MATCH(ROW()-7,CALC_BASE!$M$3:$M$52,0)),\"\")","v":""},{"$f":"IFERROR(IF(D194=\"\",\"\",INDEX(tb_vendas[Preço de Venda],MATCH(D194,tb_vendas[N° Pedido/Empresa],0))/F194),\"\")","v":""},{"$f":"IFERROR(IF(D194=\"\",\"\",INDEX(tb_vendas[Data Fechamento],MATCH(D194,tb_vendas[N° Pedido/Empresa],0))+E194*INDEX(tb_formas_pagamento[Dias_Intervalo],MATCH(INDEX(tb_vendas[Forma_Pagamento],MATCH(D194,tb_vendas[N° Pedido/Empresa],0)),tb_formas_pagamento[Nome_Forma],0))),\"\")","v":""},null,{"$f":"IF(OR(tb_pagamentos[[#This Row],[Data_Vencimento]]=\"\",tb_pagamentos[[#This Row],[Valor_Parcela]]=\"\",tb_pagamentos[[#This Row],[Qtd_Total_Parcelas]]=\"\",tb_pagamentos[[#This Row],[Nr_Pedido]]=\"\"),\"\",IF(tb_pagamentos[[#This Row],[Data_Pagamento]]<>\"\",\"Pago\",IF(AND(tb_pagamentos[[#This Row],[Data_Pagamento]]=\"\",tb_pagamentos[[#This Row],[Data_Vencimento]]<TODAY()),\"Em Atraso\",\"A vencer\")))","v":""}]
[null,null,"",{"$f":"IFERROR(INDEX(CALC_BASE!$N$3:$N$52,MATCH(ROW()-7,CALC_BASE!$M$3:$M$52,0)),\"\")","v":""},{"$f":"IFERROR(INDEX(CALC_BASE!$O$3:$O$52,MATCH(ROW()-7,CALC_BASE!$M$3:$M$52,0)),\"\")","v":""},{"$f":"IFERROR(INDEX(CALC_BASE!$P$3:$P$52,MATCH(ROW()-7,CALC_BASE!$M$3:$M$52,0)),\"\")","v":""},{"$f":"IFERROR(IF(D195=\"\",\"\",INDEX(tb_vendas[Preço de Venda],MATCH(D195,tb_vendas[N° Pedido/Empresa],0))/F195),\"\")","v":""},{"$f":"IFERROR(IF(D195=\"\",\"\",INDEX(tb_vendas[Data Fechamento],MATCH(D195,tb_vendas[N° Pedido/Empresa],0))+E195*INDEX(tb_formas_pagamento[Dias_Intervalo],MATCH(INDEX(tb_vendas[Forma_Pagamento],MATCH(D195,tb_vendas[N° Pedido/Empresa],0)),tb_formas_pagamento[Nome_Forma],0))),\"\")","v":""},null,{"$f":"IF(OR(tb_pagamentos[[#This Row],[Data_Vencimento]]=\"\",tb_pagamentos[[#This Row],[Valor_Parcela]]=\"\",tb_pagamentos[[#This Row],[Qtd_Total_Parcelas]]=\"\",tb_pagamentos[[#This Row],[Nr_Pedido]]=\"\"),\"\",IF(tb_pagamentos[[#This Row],[Data_Pagamento]]<>\"\",\"Pago\",IF(AND(tb_pagamentos[[#This Row],[Data_Pagamento]]=\"\",tb_pagamentos[[#This Row],[Data_Vencimento]]<TODAY()),\"Em Atraso\",\"A vencer\")))","v":""}]
[null,null,"",{"$f":"IFERROR(INDEX(CALC_BASE!$N$3:$N$52,MATCH(ROW()-7,CALC_BASE!$M$3:$M$52,0)),\"\")","v":""},{"$f":"IFERROR(INDEX(CALC_BASE!$O$3:$O$52,MATCH(ROW()-7,CALC_BASE!$M$3:$M$52,0)),\"\")","v":""},{"$f":"IFERROR(INDEX(CALC_BASE!$P$3:$P$52,MATCH(ROW()-7,CALC_BASE!$M$3:$M$52,0)),\"\")","v":""},{"$f":"IFERROR(IF(D196=\"\",\"\",INDEX(tb_vendas[Preço de Venda],MATCH(D196,tb_vendas[N° Pedido/Empresa],0))/F196),\"\")","v":""},{"$f":"IFERROR(IF(D196=\"\",\"\",INDEX(tb_vendas[Data Fechamento],MATCH(D196,tb_vendas[N° Pedido/Empresa],0))+E196*INDEX(tb_formas_pagamento[Dias_Intervalo],MATCH(INDEX(tb_vendas[Forma_Pagamento],MATCH(D196,tb_vendas[N° Pedido/Empresa],0)),tb_formas_pagamento[Nome_Forma],0))),\"\")","v":""},null,{"$f":"IF(OR(tb_pagamentos[[#This Row],[Data_Vencimento]]=\"\",tb_pagamentos[[#This Row],[Valor_Parcela]]=\"\",tb_pagamentos[[#This Row],[Qtd_Total_Parcelas]]=\"\",tb_pagamentos[[#This Row],[Nr_Pedido]]=\"\"),\"\",IF(tb_pagamentos[[#This Row],[Data_Pagamento]]<>\"\",\"Pago\",IF(AND(tb_pagamentos[[#This Row],[Data_Pagamento]]=\"\",tb_pagamentos[[#This Row],[Data_Vencimento]]<TODAY()),\"Em Atraso\",\"A vencer\")))","v":""}]
[null,null,"",{"$f":"IFERROR(INDEX(CALC_BASE!$N$3:$N$52,MATCH(ROW()-7,CALC_BASE!$M$3:$M$52,0)),\"\")","v":""},{"$f":"IFERROR(INDEX(CALC_BASE!$O$3:$O$52,MATCH(ROW()-7,CALC_BASE!$M$3:$M$52,0)),\"\")","v":""},{"$f":"IFERROR(INDEX(CALC_BASE!$P$3:$P$52,MATCH(ROW()-7,CALC_BASE!$M$3:$M$52,0)),\"\")","v":""},{"$f":"IFERROR(IF(D197=\"\",\"\",INDEX(tb_vendas[Preço de Venda],MATCH(D197,tb_vendas[N° Pedido/Empresa],0))/F197),\"\")","v":""},{"$f":"IFERROR(IF(D197=\"\",\"\",INDEX(tb_vendas[Data Fechamento],MATCH(D197,tb_vendas[N° Pedido/Empresa],0))+E197*INDEX(tb_formas_pagamento[Dias_Intervalo],MATCH(INDEX(tb_vendas[Forma_Pagamento],MATCH(D197,tb_vendas[N° Pedido/Empresa],0)),tb_formas_pagamento[Nome_Forma],0))),\"\")","v":""},null,{"$f":"IF(OR(tb_pagamentos[[#This Row],[Data_Vencimento]]=\"\",tb_pagamentos[[#This Row],[Valor_Parcela]]=\"\",tb_pagamentos[[#This Row],[Qtd_Total_Parcelas]]=\"\",tb_pagamentos[[#This Row],[Nr_Pedido]]=\"\"),\"\",IF(tb_pagamentos[[#This Row],[Data_Pagamento]]<>\"\",\"Pago\",IF(AND(tb_pagamentos[[#This Row],[Data_Pagamento]]=\"\",tb_pagamentos[[#This Row],[Data_Vencimento]]<TODAY()),\"Em Atraso\",\"A vencer\")))","v":""}]
[null,null,"",{"$f":"IFERROR(INDEX(CALC_BASE!$N$3:$N$52,MATCH(ROW()-7,CALC_BASE!$M$3:$M$52,0)),\"\")","v":""},{"$f":"IFERROR(INDEX(CALC_BASE!$O$3:$O$52,MATCH(ROW()-7,CALC_BASE!$M$3:$M$52,0)),\"\")","v":""},{"$f":"IFERROR(INDEX(CALC_BASE!$P$3:$P$52,MATCH(ROW()-7,CALC_BASE!$M$3:$M$52,0)),\"\")","v":""},{"$f":"IFERROR(IF(D198=\"\",\"\",INDEX(tb_vendas[Preço de Venda],MATCH(D198,tb_vendas[N° Pedido/Empresa],0))/F198),\"\")","v":""},{"$f":"IFERROR(IF(D198=\"\",\"\",INDEX(tb_vendas[Data Fechamento],MATCH(D198,tb_vendas[N° Pedido/Empresa],0))+E198*INDEX(tb_formas_pagamento[Dias_Intervalo],MATCH(INDEX(tb_vendas[Forma_Pagamento],MATCH(D198,tb_vendas[N° Pedido/Empresa],0)),tb_formas_pagamento[Nome_Forma],0))),\"\")","v":""},null,{"$f":"IF(OR(tb_pagamentos[[#This Row],[Data_Vencimento]]=\"\",tb_pagamentos[[#This Row],[Valor_Parcela]]=\"\",tb_pagamentos[[#This Row],[Qtd_Total_Parcelas]]=\"\",tb_pagamentos[[#This Row],[Nr_Pedido]]=\"\"),\"\",IF(tb_pagamentos[[#This Row],[Data_Pagamento]]<>\"\",\"Pago\",IF(AND(tb_pagamentos[[#This Row],[Data_Pagamento]]=\"\",tb_pagamentos[[#This Row],[Data_Vencimento]]<TODAY()),\"Em Atraso\",\"A vencer\")))","v":""}]
[null,null,"",{"$f":"IFERROR(INDEX(CALC_BASE!$N$3:$N$52,MATCH(ROW()-7,CALC_BASE!$M$3:$M$52,0)),\"\")","v":""},{"$f":"IFERROR(INDEX(CALC_BASE!$O$3:$O$52,MATCH(ROW()-7,CALC_BASE!$M$3:$M$52,0)),\"\")","v":""},{"$f":"IFERROR(INDEX(CALC_BASE!$P$3:$P$52,MATCH(ROW()-7,CALC_BASE!$M$3:$M$52,0)),\"\")","v":""},{"$f":"IFERROR(IF(D199=\"\",\"\",INDEX(tb_vendas[Preço de Venda],MATCH(D199,tb_vendas[N° Pedido/Empresa],0))/F199),\"\")","v":""},{"$f":"IFERROR(IF(D199=\"\",\"\",INDEX(tb_vendas[Data Fechamento],MATCH(D199,tb_vendas[N° Pedido/Empresa],0))+E199*INDEX(tb_formas_pagamento[Dias_Intervalo],MATCH(INDEX(tb_vendas[Forma_Pagamento],MATCH(D199,tb_vendas[N° Pedido/Empresa],0)),tb_formas_pagamento[Nome_Forma],0))),\"\")","v":""},null,{"$f":"IF(OR(tb_pagamentos[[#This Row],[Data_Vencimento]]=\"\",tb_pagamentos[[#This Row],[Valor_Parcela]]=\"\",tb_pagamentos[[#This Row],[Qtd_Total_Parcelas]]=\"\",tb_pagamentos[[#This Row],[Nr_Pedido]]=\"\"),\"\",IF(tb_pagamentos[[#This Row],[Data_Pagamento]]<>\"\",\"Pago\",IF(AND(tb_pagamentos[[#This Row],[Data_Pagamento]]=\"\",tb_pagamentos[[#This Row],[Data_Vencimento]]<TODAY()),\"Em Atraso\",\"A vencer\")))","v":""}]
[null,null,"",{"$f":"IFERROR(INDEX(CALC_BASE!$N$3:$N$52,MATCH(ROW()-7,CALC_BASE!$M$3:$M$52,0)),\"\")","v":""},{"$f":"IFERROR(INDEX(CALC_BASE!$O$3:$O$52,MATCH(ROW()-7,CALC_BASE!$M$3:$M$52,0)),\"\")","v":""},{"$f":"IFERROR(INDEX(CALC_BASE!$P$3:$P$52,MATCH(ROW()-7,CALC_BASE!$M$3:$M$52,0)),\"\")","v":""},{"$f":"IFERROR(IF(D200=\"\",\"\",INDEX(tb_vendas[Preço de Venda],MATCH(D200,tb_vendas[N° Pedido/Empresa],0))/F200),\"\")","v":""},{"$f":"IFERROR(IF(D200=\"\",\"\",INDEX(tb_vendas[Data Fechamento],MATCH(D200,tb_vendas[N° Pedido/Empresa],0))+E200*INDEX(tb_formas_pagamento[Dias_Intervalo],MATCH(INDEX(tb_vendas[Forma_Pagamento],MATCH(D200,tb_vendas[N° Pedido/Empresa],0)),tb_formas_pagamento[Nome_Forma],0))),\"\")","v":""},null,{"$f":"IF(OR(tb_pagamentos[[#This Row],[Data_Vencimento]]=\"\",tb_pagamentos[[#This Row],[Valor_Parcela]]=\"\",tb_pagamentos[[#This Row],[Qtd_Total_Parcelas]]=\"\",tb_pagamentos[[#This Row],[Nr_Pedido]]=\"\"),\"\",IF(tb_pagamentos[[#This Row],[Data_Pagamento]]<>\"\",\"Pago\",IF(AND(tb_pagamentos[[#This Row],[Data_Pagamento]]=\"\",tb_pagamentos[[#This Row],[Data_Vencimento]]<TODAY()),\"Em Atraso\",\"A vencer\")))","v":""}]
[null,null,"",{"$f":"IFERROR(INDEX(CALC_BASE!$N$3:$N$52,MATCH(ROW()-7,CALC_BASE!$M$3:$M$52,0)),\"\")","v":""},{"$f":"IFERROR(INDEX(CALC_BASE!$O$3:$O$52,MATCH(ROW()-7,CALC_BASE!$M$3:$M$52,0)),\"\")","v":""},{"$f":"IFERROR(INDEX(CALC_BASE!$P$3:$P$52,MATCH(ROW()-7,CALC_BASE!$M$3:$M$52,0)),\"\")","v":""},{"$f":"IFERROR(IF(D201=\"\",\"\",INDEX(tb_vendas[Preço de Venda],MATCH(D201,tb_vendas[N° Pedido/Empresa],0))/F201),\"\")","v":""},{"$f":"IFERROR(IF(D201=\"\",\"\",INDEX(tb_vendas[Data Fechamento],MATCH(D201,tb_vendas[N° Pedido/Empresa],0))+E201*INDEX(tb_formas_pagamento[Dias_Intervalo],MATCH(INDEX(tb_vendas[Forma_Pagamento],MATCH(D201,tb_vendas[N° Pedido/Empresa],0)),tb_formas_pagamento[Nome_Forma],0))),\"\")","v":""},null,{"$f":"IF(OR(tb_pagamentos[[#This Row],[Data_Vencimento]]=\"\",tb_pagamentos[[#This Row],[Valor_Parcela]]=\"\",tb_pagamentos[[#This Row],[Qtd_Total_Parcelas]]=\"\",tb_pagamentos[[#This Row],[Nr_Pedido]]=\"\"),\"\",IF(tb_pagamentos[[#This Row],[Data_Pagamento]]<>\"\",\"Pago\",IF(AND(tb_pagamentos[[#This Row],[Data_Pagamento]]=\"\",tb_pagamentos[[#This Row],[Data_Vencimento]]<TODAY()),\"Em Atraso\",\"A vencer\")))","v":""}]
[null,null,"",{"$f":"IFERROR(INDEX(CALC_BASE!$N$3:$N$52,MATCH(ROW()-7,CALC_BASE!$M$3:$M$52,0)),\"\")","v":""},{"$f":"IFERROR(INDEX(CALC_BASE!$O$3:$O$52,MATCH(ROW()-7,CALC_BASE!$M$3:$M$52,0)),\"\")","v":""},{"$f":"IFERROR(INDEX(CALC_BASE!$P$3:$P$52,MATCH(ROW()-7,CALC_BASE!$M$3:$M$52,0)),\"\")","v":""},{"$f":"IFERROR(IF(D202=\"\",\"\",INDEX(tb_vendas[Preço de Venda],MATCH(D202,tb_vendas[N° Pedido/Empresa],0))/F202),\"\")","v":""},{"$f":"IFERROR(IF(D202=\"\",\"\",INDEX(tb_vendas[Data Fechamento],MATCH(D202,tb_vendas[N° Pedido/Empresa],0))+E202*INDEX(tb_formas_pagamento[Dias_Intervalo],MATCH(INDEX(tb_vendas[Forma_Pagamento],MATCH(D202,tb_vendas[N° Pedido/Empresa],0)),tb_formas_pagamento[Nome_Forma],0))),\"\")","v":""},null,{"$f":"IF(OR(tb_pagamentos[[#This Row],[Data_Vencimento]]=\"\",tb_pagamentos[[#This Row],[Valor_Parcela]]=\"\",tb_pagamentos[[#This Row],[Qtd_Total_Parcelas]]=\"\",tb_pagamentos[[#This Row],[Nr_Pedido]]=\"\"),\"\",IF(tb_pagamentos[[#This Row],[Data_Pagamento]]<>\"\",\"Pago\",IF(AND(tb_pagamentos[[#This Row],[Data_Pagamento]]=\"\",tb_pagamentos[[#This Row],[Data_Vencimento]]<TODAY()),\"Em Atraso\",\"A vencer\")))","v":""}]
[null,null,"",{"$f":"IFERROR(INDEX(CALC_BASE!$N$3:$N$52,MATCH(ROW()-7,CALC_BASE!$M$3:$M$52,0)),\"\")","v":""},{"$f":"IFERROR(INDEX(CALC_BASE!$O$3:$O$52,MATCH(ROW()-7,CALC_BASE!$M$3:$M$52,0)),\"\")","v":""},{"$f":"IFERROR(INDEX(CALC_BASE!$P$3:$P$52,MATCH(ROW()-7,CALC_BASE!$M$3:$M$52,0)),\"\")","v":""},{"$f":"IFERROR(IF(D203=\"\",\"\",INDEX(tb_vendas[Preço de Venda],MATCH(D203,tb_vendas[N° Pedido/Empresa],0))/F203),\"\")","v":""},{"$f":"IFERROR(IF(D203=\"\",\"\",INDEX(tb_vendas[Data Fechamento],MATCH(D203,tb_vendas[N° Pedido/Empresa],0))+E203*INDEX(tb_formas_pagamento[Dias_Intervalo],MATCH(INDEX(tb_vendas[Forma_Pagamento],MATCH(D203,tb_vendas[N° Pedido/Empresa],0)),tb_formas_pagamento[Nome_Forma],0))),\"\")","v":""},null,{"$f":"IF(OR(tb_pagamentos[[#This Row],[Data_Vencimento]]=\"\",tb_pagamentos[[#This Row],[Valor_Parcela]]=\"\",tb_pagamentos[[#This Row],[Qtd_Total_Parcelas]]=\"\",tb_pagamentos[[#This Row],[Nr_Pedido]]=\"\"),\"\",IF(tb_pagamentos[[#This Row],[Data_Pagamento]]<>\"\",\"Pago\",IF(AND(tb_pagamentos[[#This Row],[Data_Pagamento]]=\"\",tb_pagamentos[[#This Row],[Data_Vencimento]]<TODAY()),\"Em Atraso\",\"A vencer\")))","v":""}]
[null,null,"",{"$f":"IFERROR(INDEX(CALC_BASE!$N$3:$N$52,MATCH(ROW()-7,CALC_BASE!$M$3:$M$52,0)),\"\")","v":""},{"$f":"IFERROR(INDEX(CALC_BASE!$O$3:$O$52,MATCH(ROW()-7,CALC_BASE!$M$3:$M$52,0)),\"\")","v":""},{"$f":"IFERROR(INDEX(CALC_BASE!$P$3:$P$52,MATCH(ROW()-7,CALC_BASE!$M$3:$M$52,0)),\"\")","v":""},{"$f":"IFERROR(IF(D204=\"\",\"\",INDEX(tb_vendas[Preço de Venda],MATCH(D204,tb_vendas[N° Pedido/Empresa],0))/F204),\"\")","v":""},{"$f":"IFERROR(IF(D204=\"\",\"\",INDEX(tb_vendas[Data Fechamento],MATCH(D204,tb_vendas[N° Pedido/Empresa],0))+E204*INDEX(tb_formas_pagamento[Dias_Intervalo],MATCH(INDEX(tb_vendas[Forma_Pagamento],MATCH(D204,tb_vendas[N° Pedido/Empresa],0)),tb_formas_pagamento[Nome_Forma],0))),\"\")","v":""},null,{"$f":"IF(OR(tb_pagamentos[[#This Row],[Data_Vencimento]]=\"\",tb_pagamentos[[#This Row],[Valor_Parcela]]=\"\",tb_pagamentos[[#This Row],[Qtd_Total_Parcelas]]=\"\",tb_pagamentos[[#This Row],[Nr_Pedido]]=\"\"),\"\",IF(tb_pagamentos[[#This Row],[Data_Pagamento]]<>\"\",\"Pago\",IF(AND(tb_pagamentos[[#This Row],[Data_Pagamento]]=\"\",tb_pagamentos[[#This Row],[Data_Vencimento]]<TODAY()),\"Em Atraso\",\"A vencer\")))","v":""}]
[null,null,"",{"$f":"IFERROR(INDEX(CALC_BASE!$N$3:$N$52,MATCH(ROW()-7,CALC_BASE!$M$3:$M$52,0)),\"\")","v":""},{"$f":"IFERROR(INDEX(CALC_BASE!$O$3:$O$52,MATCH(ROW()-7,CALC_BASE!$M$3:$M$52,0)),\"\")","v":""},{"$f":"IFERROR(INDEX(CALC_BASE!$P$3:$P$52,MATCH(ROW()-7,CALC_BASE!$M$3:$M$52,0)),\"\")","v":""},{"$f":"IFERROR(IF(D205=\"\",\"\",INDEX(tb_vendas[Preço de Venda],MATCH(D205,tb_vendas[N° Pedido/Empresa],0))/F205),\"\")","v":""},{"$f":"IFERROR(IF(D205=\"\",\"\",INDEX(tb_vendas[Data Fechamento],MATCH(D205,tb_vendas[N° Pedido/Empresa],0))+E205*INDEX(tb_formas_pagamento[Dias_Intervalo],MATCH(INDEX(tb_vendas[Forma_Pagamento],MATCH(D205,tb_vendas[N° Pedido/Empresa],0)),tb_formas_pagamento[Nome_Forma],0))),\"\")","v":""},null,{"$f":"IF(OR(tb_pagamentos[[#This Row],[Data_Vencimento]]=\"\",tb_pagamentos[[#This Row],[Valor_Parcela]]=\"\",tb_pagamentos[[#This Row],[Qtd_Total_Parcelas]]=\"\",tb_pagamentos[[#This Row],[Nr_Pedido]]=\"\"),\"\",IF(tb_pagamentos[[#This Row],[Data_Pagamento]]<>\"\",\"Pago\",IF(AND(tb_pagamentos[[#This Row],[Data_Pagamento]]=\"\",tb_pagamentos[[#This Row],[Data_Vencimento]]<TODAY()),\"Em Atraso\",\"A vencer\")))","v":""}]
[null,null,"",{"$f":"IFERROR(INDEX(CALC_BASE!$N$3:$N$52,MATCH(ROW()-7,CALC_BASE!$M$3:$M$52,0)),\"\")","v":""},{"$f":"IFERROR(INDEX(CALC_BASE!$O$3:$O$52,MATCH(ROW()-7,CALC_BASE!$M$3:$M$52,0)),\"\")","v":""},{"$f":"IFERROR(INDEX(CALC_BASE!$P$3:$P$52,MATCH(ROW()-7,CALC_BASE!$M$3:$M$52,0)),\"\")","v":""},{"$f":"IFERROR(IF(D206=\"\",\"\",INDEX(tb_vendas[Preço de Venda],MATCH(D206,tb_vendas[N° Pedido/Empresa],0))/F206),\"\")","v":""},{"$f":"IFERROR(IF(D206=\"\",\"\",INDEX(tb_vendas[Data Fechamento],MATCH(D206,tb_vendas[N° Pedido/Empresa],0))+E206*INDEX(tb_formas_pagamento[Dias_Intervalo],MATCH(INDEX(tb_vendas[Forma_Pagamento],MATCH(D206,tb_vendas[N° Pedido/Empresa],0)),tb_formas_pagamento[Nome_Forma],0))),\"\")","v":""},null,{"$f":"IF(OR(tb_pagamentos[[#This Row],[Data_Vencimento]]=\"\",tb_pagamentos[[#This Row],[Valor_Parcela]]=\"\",tb_pagamentos[[#This Row],[Qtd_Total_Parcelas]]=\"\",tb_pagamentos[[#This Row],[Nr_Pedido]]=\"\"),\"\",IF(tb_pagamentos[[#This Row],[Data_Pagamento]]<>\"\",\"Pago\",IF(AND(tb_pagamentos[[#This Row],[Data_Pagamento]]=\"\",tb_pagamentos[[#This Row],[Data_Vencimento]]<TODAY()),\"Em Atraso\",\"A vencer\")))","v":""}]
[null,null,{"$f":"IF(OR(D207=\"\",E207=\"\"),\"\",D207&\"-\"&E207)","v":""},{"$f":"IFERROR(INDEX(CALC_BASE!$N$3:$N$52,MATCH(ROW()-7,CALC_BASE!$M$3:$M$52,0)),\"\")","v":""},{"$f":"IFERROR(INDEX(CALC_BASE!$O$3:$O$52,MATCH(ROW()-7,CALC_BASE!$M$3:$M$52,0)),\"\")","v":""},{"$f":"IFERROR(INDEX(CALC_BASE!$P$3:$P$52,MATCH(ROW()-7,CALC_BASE!$M$3:$M$52,0)),\"\")","v":""},{"$f":"IFERROR(IF(D207=\"\",\"\",INDEX(tb_vendas[Preço de Venda],MATCH(D207,tb_vendas[N° Pedido/Empresa],0))/F207),\"\")","v":""},{"$f":"IFERROR(IF(D207=\"\",\"\",INDEX(tb_vendas[Data Fechamento],MATCH(D207,tb_vendas[N° Pedido/Empresa],0))+E207*INDEX(tb_formas_pagamento[Dias_Intervalo],MATCH(INDEX(tb_vendas[Forma_Pagamento],MATCH(D207,tb_vendas[N° Pedido/Empresa],0)),tb_formas_pagamento[Nome_Forma],0))),\"\")","v":""},null,{"$f":"IF(OR(tb_pagamentos[[#This Row],[Data_Vencimento]]=\"\",tb_pagamentos[[#This Row],[Valor_Parcela]]=\"\",tb_pagamentos[[#This Row],[Qtd_Total_Parcelas]]=\"\",tb_pagamentos[[#This Row],[Nr_Pedido]]=\"\"),\"\",IF(tb_pagamentos[[#This Row],[Data_Pagamento]]<>\"\",\"Pago\",IF(AND(tb_pagamentos[[#This Row],[Data_Pagamento]]=\"\",tb_pagamentos[[#This Row],[Data_Vencimento]]<TODAY()),\"Em Atraso\",\"A vencer\")))","v":""}]
[null,null,"",{"$f":"IFERROR(INDEX(CALC_BASE!$N$3:$N$52,MATCH(ROW()-7,CALC_BASE!$M$3:$M$52,0)),\"\")","v":""},{"$f":"IFERROR(INDEX(CALC_BASE!$O$3:$O$52,MATCH(ROW()-7,CALC_BASE!$M$3:$M$52,0)),\"\")","v":""},{"$f":"IFERROR(INDEX(CALC_BASE!$P$3:$P$52,MATCH(ROW()-7,CALC_BASE!$M$3:$M$52,0)),\"\")","v":""},{"$f":"IFERROR(IF(D208=\"\",\"\",INDEX(tb_vendas[Preço de Venda],MATCH(D208,tb_vendas[N° Pedido/Empresa],0))/F208),\"\")","v":""},{"$f":"IFERROR(IF(D208=\"\",\"\",INDEX(tb_vendas[Data Fechamento],MATCH(D208,tb_vendas[N° Pedido/Empresa],0))+E208*INDEX(tb_formas_pagamento[Dias_Intervalo],MATCH(INDEX(tb_vendas[Forma_Pagamento],MATCH(D208,tb_vendas[N° Pedido/Empresa],0)),tb_formas_pagamento[Nome_Forma],0))),\"\")","v":""},null,{"$f":"IF(OR(tb_pagamentos[[#This Row],[Data_Vencimento]]=\"\",tb_pagamentos[[#This Row],[Valor_Parcela]]=\"\",tb_pagamentos[[#This Row],[Qtd_Total_Parcelas]]=\"\",tb_pagamentos[[#This Row],[Nr_Pedido]]=\"\"),\"\",IF(tb_pagamentos[[#This Row],[Data_Pagamento]]<>\"\",\"Pago\",IF(AND(tb_pagamentos[[#This Row],[Data_Pagamento]]=\"\",tb_pagamentos[[#This Row],[Data_Vencimento]]<TODAY()),\"Em Atraso\",\"A vencer\")))","v":""}]
[null,null,"",{"$f":"IFERROR(INDEX(CALC_BASE!$N$3:$N$52,MATCH(ROW()-7,CALC_BASE!$M$3:$M$52,0)),\"\")","v":""},{"$f":"IFERROR(INDEX(CALC_BASE!$O$3:$O$52,MATCH(ROW()-7,CALC_BASE!$M$3:$M$52,0)),\"\")","v":""},{"$f":"IFERROR(INDEX(CALC_BASE!$P$3:$P$52,MATCH(ROW()-7,CALC_BASE!$M$3:$M$52,0)),\"\")","v":""},{"$f":"IFERROR(IF(D209=\"\",\"\",INDEX(tb_vendas[Preço de Venda],MATCH(D209,tb_vendas[N° Pedido/Empresa],0))/F209),\"\")","v":""},{"$f":"IFERROR(IF(D209=\"\",\"\",INDEX(tb_vendas[Data Fechamento],MATCH(D209,tb_vendas[N° Pedido/Empresa],0))+E209*INDEX(tb_formas_pagamento[Dias_Intervalo],MATCH(INDEX(tb_vendas[Forma_Pagamento],MATCH(D209,tb_vendas[N° Pedido/Empresa],0)),tb_formas_pagamento[Nome_Forma],0))),\"\")","v":""},null,{"$f":"IF(OR(tb_pagamentos[[#This Row],[Data_Vencimento]]=\"\",tb_pagamentos[[#This Row],[Valor_Parcela]]=\"\",tb_pagamentos[[#This Row],[Qtd_Total_Parcelas]]=\"\",tb_pagamentos[[#This Row],[Nr_Pedido]]=\"\"),\"\",IF(tb_pagamentos[[#This Row],[Data_Pagamento]]<>\"\",\"Pago\",IF(AND(tb_pagamentos[[#This Row],[Data_Pagamento]]=\"\",tb_pagamentos[[#This Row],[Data_Vencimento]]<TODAY()),\"Em Atraso\",\"A vencer\")))","v":""}]
[null,null,"",{"$f":"IFERROR(INDEX(CALC_BASE!$N$3:$N$52,MATCH(ROW()-7,CALC_BASE!$M$3:$M$52,0)),\"\")","v":""},{"$f":"IFERROR(INDEX(CALC_BASE!$O$3:$O$52,MATCH(ROW()-7,CALC_BASE!$M$3:$M$52,0)),\"\")","v":""},{"$f":"IFERROR(INDEX(CALC_BASE!$P$3:$P$52,MATCH(ROW()-7,CALC_BASE!$M$3:$M$52,0)),\"\")","v":""},{"$f":"IFERROR(IF(D210=\"\",\"\",INDEX(tb_vendas[Preço de Venda],MATCH(D210,tb_vendas[N° Pedido/Empresa],0))/F210),\"\")","v":""},{"$f":"IFERROR(IF(D210=\"\",\"\",INDEX(tb_vendas[Data Fechamento],MATCH(D210,tb_vendas[N° Pedido/Empresa],0))+E210*INDEX(tb_formas_pagamento[Dias_Intervalo],MATCH(INDEX(tb_vendas[Forma_Pagamento],MATCH(D210,tb_vendas[N° Pedido/Empresa],0)),tb_formas_pagamento[Nome_Forma],0))),\"\")","v":""},null,{"$f":"IF(OR(tb_pagamentos[[#This Row],[Data_Vencimento]]=\"\",tb_pagamentos[[#This Row],[Valor_Parcela]]=\"\",tb_pagamentos[[#This Row],[Qtd_Total_Parcelas]]=\"\",tb_pagamentos[[#This Row],[Nr_Pedido]]=\"\"),\"\",IF(tb_pagamentos[[#This Row],[Data_Pagamento]]<>\"\",\"Pago\",IF(AND(tb_pagamentos[[#This Row],[Data_Pagamento]]=\"\",tb_pagamentos[[#This Row],[Data_Vencimento]]<TODAY()),\"Em Atraso\",\"A vencer\")))","v":""}]
[null,null,"",{"$f":"IFERROR(INDEX(CALC_BASE!$N$3:$N$52,MATCH(ROW()-7,CALC_BASE!$M$3:$M$52,0)),\"\")","v":""},{"$f":"IFERROR(INDEX(CALC_BASE!$O$3:$O$52,MATCH(ROW()-7,CALC_BASE!$M$3:$M$52,0)),\"\")","v":""},{"$f":"IFERROR(INDEX(CALC_BASE!$P$3:$P$52,MATCH(ROW()-7,CALC_BASE!$M$3:$M$52,0)),\"\")","v":""},{"$f":"IFERROR(IF(D211=\"\",\"\",INDEX(tb_vendas[Preço de Venda],MATCH(D211,tb_vendas[N° Pedido/Empresa],0))/F211),\"\")","v":""},{"$f":"IFERROR(IF(D211=\"\",\"\",INDEX(tb_vendas[Data Fechamento],MATCH(D211,tb_vendas[N° Pedido/Empresa],0))+E211*INDEX(tb_formas_pagamento[Dias_Intervalo],MATCH(INDEX(tb_vendas[Forma_Pagamento],MATCH(D211,tb_vendas[N° Pedido/Empresa],0)),tb_formas_pagamento[Nome_Forma],0))),\"\")","v":""},null,{"$f":"IF(OR(tb_pagamentos[[#This Row],[Data_Vencimento]]=\"\",tb_pagamentos[[#This Row],[Valor_Parcela]]=\"\",tb_pagamentos[[#This Row],[Qtd_Total_Parcelas]]=\"\",tb_pagamentos[[#This Row],[Nr_Pedido]]=\"\"),\"\",IF(tb_pagamentos[[#This Row],[Data_Pagamento]]<>\"\",\"Pago\",IF(AND(tb_pagamentos[[#This Row],[Data_Pagamento]]=\"\",tb_pagamentos[[#This Row],[Data_Vencimento]]<TODAY()),\"Em Atraso\",\"A vencer\")))","v":""}]
[null,null,"",{"$f":"IFERROR(INDEX(CALC_BASE!$N$3:$N$52,MATCH(ROW()-7,CALC_BASE!$M$3:$M$52,0)),\"\")","v":""},{"$f":"IFERROR(INDEX(CALC_BASE!$O$3:$O$52,MATCH(ROW()-7,CALC_BASE!$M$3:$M$52,0)),\"\")","v":""},{"$f":"IFERROR(INDEX(CALC_BASE!$P$3:$P$52,MATCH(ROW()-7,CALC_BASE!$M$3:$M$52,0)),\"\")","v":""},{"$f":"IFERROR(IF(D212=\"\",\"\",INDEX(tb_vendas[Preço de Venda],MATCH(D212,tb_vendas[N° Pedido/Empresa],0))/F212),\"\")","v":""},{"$f":"IFERROR(IF(D212=\"\",\"\",INDEX(tb_vendas[Data Fechamento],MATCH(D212,tb_vendas[N° Pedido/Empresa],0))+E212*INDEX(tb_formas_pagamento[Dias_Intervalo],MATCH(INDEX(tb_vendas[Forma_Pagamento],MATCH(D212,tb_vendas[N° Pedido/Empresa],0)),tb_formas_pagamento[Nome_Forma],0))),\"\")","v":""},null,{"$f":"IF(OR(tb_pagamentos[[#This Row],[Data_Vencimento]]=\"\",tb_pagamentos[[#This Row],[Valor_Parcela]]=\"\",tb_pagamentos[[#This Row],[Qtd_Total_Parcelas]]=\"\",tb_pagamentos[[#This Row],[Nr_Pedido]]=\"\"),\"\",IF(tb_pagamentos[[#This Row],[Data_Pagamento]]<>\"\",\"Pago\",IF(AND(tb_pagamentos[[#This Row],[Data_Pagamento]]=\"\",tb_pagamentos[[#This Row],[Data_Vencimento]]<TODAY()),\"Em Atraso\",\"A vencer\")))","v":""}]
[null,null,"",{"$f":"IFERROR(INDEX(CALC_BASE!$N$3:$N$52,MATCH(ROW()-7,CALC_BASE!$M$3:$M$52,0)),\"\")","v":""},{"$f":"IFERROR(INDEX(CALC_BASE!$O$3:$O$52,MATCH(ROW()-7,CALC_BASE!$M$3:$M$52,0)),\"\")","v":""},{"$f":"IFERROR(INDEX(CALC_BASE!$P$3:$P$52,MATCH(ROW()-7,CALC_BASE!$M$3:$M$52,0)),\"\")","v":""},{"$f":"IFERROR(IF(D213=\"\",\"\",INDEX(tb_vendas[Preço de Venda],MATCH(D213,tb_vendas[N° Pedido/Empresa],0))/F213),\"\")","v":""},{"$f":"IFERROR(IF(D213=\"\",\"\",INDEX(tb_vendas[Data Fechamento],MATCH(D213,tb_vendas[N° Pedido/Empresa],0))+E213*INDEX(tb_formas_pagamento[Dias_Intervalo],MATCH(INDEX(tb_vendas[Forma_Pagamento],MATCH(D213,tb_vendas[N° Pedido/Empresa],0)),tb_formas_pagamento[Nome_Forma],0))),\"\")","v":""},null,{"$f":"IF(OR(tb_pagamentos[[#This Row],[Data_Vencimento]]=\"\",tb_pagamentos[[#This Row],[Valor_Parcela]]=\"\",tb_pagamentos[[#This Row],[Qtd_Total_Parcelas]]=\"\",tb_pagamentos[[#This Row],[Nr_Pedido]]=\"\"),\"\",IF(tb_pagamentos[[#This Row],[Data_Pagamento]]<>\"\",\"Pago\",IF(AND(tb_pagamentos[[#This Row],[Data_Pagamento]]=\"\",tb_pagamentos[[#This Row],[Data_Vencimento]]<TODAY()),\"Em Atraso\",\"A vencer\")))","v":""}]
[null,null,"",{"$f":"IFERROR(INDEX(CALC_BASE!$N$3:$N$52,MATCH(ROW()-7,CALC_BASE!$M$3:$M$52,0)),\"\")","v":""},{"$f":"IFERROR(INDEX(CALC_BASE!$O$3:$O$52,MATCH(ROW()-7,CALC_BASE!$M$3:$M$52,0)),\"\")","v":""},{"$f":"IFERROR(INDEX(CALC_BASE!$P$3:$P$52,MATCH(ROW()-7,CALC_BASE!$M$3:$M$52,0)),\"\")","v":""},{"$f":"IFERROR(IF(D214=\"\",\"\",INDEX(tb_vendas[Preço de Venda],MATCH(D214,tb_vendas[N° Pedido/Empresa],0))/F214),\"\")","v":""},{"$f":"IFERROR(IF(D214=\"\",\"\",INDEX(tb_vendas[Data Fechamento],MATCH(D214,tb_vendas[N° Pedido/Empresa],0))+E214*INDEX(tb_formas_pagamento[Dias_Intervalo],MATCH(INDEX(tb_vendas[Forma_Pagamento],MATCH(D214,tb_vendas[N° Pedido/Empresa],0)),tb_formas_pagamento[Nome_Forma],0))),\"\")","v":""},null,{"$f":"IF(OR(tb_pagamentos[[#This Row],[Data_Vencimento]]=\"\",tb_pagamentos[[#This Row],[Valor_Parcela]]=\"\",tb_pagamentos[[#This Row],[Qtd_Total_Parcelas]]=\"\",tb_pagamentos[[#This Row],[Nr_Pedido]]=\"\"),\"\",IF(tb_pagamentos[[#This Row],[Data_Pagamento]]<>\"\",\"Pago\",IF(AND(tb_pagamentos[[#This Row],[Data_Pagamento]]=\"\",tb_pagamentos[[#This Row],[Data_Vencimento]]<TODAY()),\"Em Atraso\",\"A vencer\")))","v":""}]
[null,null,"",{"$f":"IFERROR(INDEX(CALC_BASE!$N$3:$N$52,MATCH(ROW()-7,CALC_BASE!$M$3:$M$52,0)),\"\")","v":""},{"$f":"IFERROR(INDEX(CALC_BASE!$O$3:$O$52,MATCH(ROW()-7,CALC_BASE!$M$3:$M$52,0)),\"\")","v":""},{"$f":"IFERROR(INDEX(CALC_BASE!$P$3:$P$52,MATCH(ROW()-7,CALC_BASE!$M$3:$M$52,0)),\"\")","v":""},{"$f":"IFERROR(IF(D215=\"\",\"\",INDEX(tb_vendas[Preço de Venda],MATCH(D215,tb_vendas[N° Pedido/Empresa],0))/F215),\"\")","v":""},{"$f":"IFERROR(IF(D215=\"\",\"\",INDEX(tb_vendas[Data Fechamento],MATCH(D215,tb_vendas[N° Pedido/Empresa],0))+E215*INDEX(tb_formas_pagamento[Dias_Intervalo],MATCH(INDEX(tb_vendas[Forma_Pagamento],MATCH(D215,tb_vendas[N° Pedido/Empresa],0)),tb_formas_pagamento[Nome_Forma],0))),\"\")","v":""},null,{"$f":"IF(OR(tb_pagamentos[[#This Row],[Data_Vencimento]]=\"\",tb_pagamentos[[#This Row],[Valor_Parcela]]=\"\",tb_pagamentos[[#This Row],[Qtd_Total_Parcelas]]=\"\",tb_pagamentos[[#This Row],[Nr_Pedido]]=\"\"),\"\",IF(tb_pagamentos[[#This Row],[Data_Pagamento]]<>\"\",\"Pago\",IF(AND(tb_pagamentos[[#This Row],[Data_Pagamento]]=\"\",tb_pagamentos[[#This Row],[Data_Vencimento]]<TODAY()),\"Em Atraso\",\"A vencer\")))","v":""}]
[null,null,"",{"$f":"IFERROR(INDEX(CALC_BASE!$N$3:$N$52,MATCH(ROW()-7,CALC_BASE!$M$3:$M$52,0)),\"\")","v":""},{"$f":"IFERROR(INDEX(CALC_BASE!$O$3:$O$52,MATCH(ROW()-7,CALC_BASE!$M$3:$M$52,0)),\"\")","v":""},{"$f":"IFERROR(INDEX(CALC_BASE!$P$3:$P$52,MATCH(ROW()-7,CALC_BASE!$M$3:$M$52,0)),\"\")","v":""},{"$f":"IFERROR(IF(D216=\"\",\"\",INDEX(tb_vendas[Preço de Venda],MATCH(D216,tb_vendas[N° Pedido/Empresa],0))/F216),\"\")","v":""},{"$f":"IFERROR(IF(D216=\"\",\"\",INDEX(tb_vendas[Data Fechamento],MATCH(D216,tb_vendas[N° Pedido/Empresa],0))+E216*INDEX(tb_formas_pagamento[Dias_Intervalo],MATCH(INDEX(tb_vendas[Forma_Pagamento],MATCH(D216,tb_vendas[N° Pedido/Empresa],0)),tb_formas_pagamento[Nome_Forma],0))),\"\")","v":""},null,{"$f":"IF(OR(tb_pagamentos[[#This Row],[Data_Vencimento]]=\"\",tb_pagamentos[[#This Row],[Valor_Parcela]]=\"\",tb_pagamentos[[#This Row],[Qtd_Total_Parcelas]]=\"\",tb_pagamentos[[#This Row],[Nr_Pedido]]=\"\"),\"\",IF(tb_pagamentos[[#This Row],[Data_Pagamento]]<>\"\",\"Pago\",IF(AND(tb_pagamentos[[#This Row],[Data_Pagamento]]=\"\",tb_pagamentos[[#This Row],[Data_Vencimento]]<TODAY()),\"Em Atraso\",\"A vencer\")))","v":""}]
[null,null,"",{"$f":"IFERROR(INDEX(CALC_BASE!$N$3:$N$52,MATCH(ROW()-7,CALC_BASE!$M$3:$M$52,0)),\"\")","v":""},{"$f":"IFERROR(INDEX(CALC_BASE!$O$3:$O$52,MATCH(ROW()-7,CALC_BASE!$M$3:$M$52,0)),\"\")","v":""},{"$f":"IFERROR(INDEX(CALC_BASE!$P$3:$P$52,MATCH(ROW()-7,CALC_BASE!$M$3:$M$52,0)),\"\")","v":""},{"$f":"IFERROR(IF(D217=\"\",\"\",INDEX(tb_vendas[Preço de Venda],MATCH(D217,tb_vendas[N° Pedido/Empresa],0))/F217),\"\")","v":""},{"$f":"IFERROR(IF(D217=\"\",\"\",INDEX(tb_vendas[Data Fechamento],MATCH(D217,tb_vendas[N° Pedido/Empresa],0))+E217*INDEX(tb_formas_pagamento[Dias_Intervalo],MATCH(INDEX(tb_vendas[Forma_Pagamento],MATCH(D217,tb_vendas[N° Pedido/Empresa],0)),tb_formas_pagamento[Nome_Forma],0))),\"\")","v":""},null,{"$f":"IF(OR(tb_pagamentos[[#This Row],[Data_Vencimento]]=\"\",tb_pagamentos[[#This Row],[Valor_Parcela]]=\"\",tb_pagamentos[[#This Row],[Qtd_Total_Parcelas]]=\"\",tb_pagamentos[[#This Row],[Nr_Pedido]]=\"\"),\"\",IF(tb_pagamentos[[#This Row],[Data_Pagamento]]<>\"\",\"Pago\",IF(AND(tb_pagamentos[[#This Row],[Data_Pagamento]]=\"\",tb_pagamentos[[#This Row],[Data_Vencimento]]<TODAY()),\"Em Atraso\",\"A vencer\")))","v":""}]
[null,null,"",{"$f":"IFERROR(INDEX(CALC_BASE!$N$3:$N$52,MATCH(ROW()-7,CALC_BASE!$M$3:$M$52,0)),\"\")","v":""},{"$f":"IFERROR(INDEX(CALC_BASE!$O$3:$O$52,MATCH(ROW()-7,CALC_BASE!$M$3:$M$52,0)),\"\")","v":""},{"$f":"IFERROR(INDEX(CALC_BASE!$P$3:$P$52,MATCH(ROW()-7,CALC_BASE!$M$3:$M$52,0)),\"\")","v":""},{"$f":"IFERROR(IF(D218=\"\",\"\",INDEX(tb_vendas[Preço de Venda],MATCH(D218,tb_vendas[N° Pedido/Empresa],0))/F218),\"\")","v":""},{"$f":"IFERROR(IF(D218=\"\",\"\",INDEX(tb_vendas[Data Fechamento],MATCH(D218,tb_vendas[N° Pedido/Empresa],0))+E218*INDEX(tb_formas_pagamento[Dias_Intervalo],MATCH(INDEX(tb_vendas[Forma_Pagamento],MATCH(D218,tb_vendas[N° Pedido/Empresa],0)),tb_formas_pagamento[Nome_Forma],0))),\"\")","v":""},null,{"$f":"IF(OR(tb_pagamentos[[#This Row],[Data_Vencimento]]=\"\",tb_pagamentos[[#This Row],[Valor_Parcela]]=\"\",tb_pagamentos[[#This Row],[Qtd_Total_Parcelas]]=\"\",tb_pagamentos[[#This Row],[Nr_Pedido]]=\"\"),\"\",IF(tb_pagamentos[[#This Row],[Data_Pagamento]]<>\"\",\"Pago\",IF(AND(tb_pagamentos[[#This Row],[Data_Pagamento]]=\"\",tb_pagamentos[[#This Row],[Data_Vencimento]]<TODAY()),\"Em Atraso\",\"A vencer\")))","v":""}]
[null,null,"",{"$f":"IFERROR(INDEX(CALC_BASE!$N$3:$N$52,MATCH(ROW()-7,CALC_BASE!$M$3:$M$52,0)),\"\")","v":""},{"$f":"IFERROR(INDEX(CALC_BASE!$O$3:$O$52,MATCH(ROW()-7,CALC_BASE!$M$3:$M$52,0)),\"\")","v":""},{"$f":"IFERROR(INDEX(CALC_BASE!$P$3:$P$52,MATCH(ROW()-7,CALC_BASE!$M$3:$M$52,0)),\"\")","v":""},{"$f":"IFERROR(IF(D219=\"\",\"\",INDEX(tb_vendas[Preço de Venda],MATCH(D219,tb_vendas[N° Pedido/Empresa],0))/F219),\"\")","v":""},{"$f":"IFERROR(IF(D219=\"\",\"\",INDEX(tb_vendas[Data Fechamento],MATCH(D219,tb_vendas[N° Pedido/Empresa],0))+E219*INDEX(tb_formas_pagamento[Dias_Intervalo],MATCH(INDEX(tb_vendas[Forma_Pagamento],MATCH(D219,tb_vendas[N° Pedido/Empresa],0)),tb_formas_pagamento[Nome_Forma],0))),\"\")","v":""},null,{"$f":"IF(OR(tb_pagamentos[[#This Row],[Data_Vencimento]]=\"\",tb_pagamentos[[#This Row],[Valor_Parcela]]=\"\",tb_pagamentos[[#This Row],[Qtd_Total_Parcelas]]=\"\",tb_pagamentos[[#This Row],[Nr_Pedido]]=\"\"),\"\",IF(tb_pagamentos[[#This Row],[Data_Pagamento]]<>\"\",\"Pago\",IF(AND(tb_pagamentos[[#This Row],[Data_Pagamento]]=\"\",tb_pagamentos[[#This Row],[Data_Vencimento]]<TODAY()),\"Em Atraso\",\"A vencer\")))","v":""}]
[null,null,"",{"$f":"IFERROR(INDEX(CALC_BASE!$N$3:$N$52,MATCH(ROW()-7,CALC_BASE!$M$3:$M$52,0)),\"\")","v":""},{"$f":"IFERROR(INDEX(CALC_BASE!$O$3:$O$52,MATCH(ROW()-7,CALC_BASE!$M$3:$M$52,0)),\"\")","v":""},{"$f":"IFERROR(INDEX(CALC_BASE!$P$3:$P$52,MATCH(ROW()-7,CALC_BASE!$M$3:$M$52,0)),\"\")","v":""},{"$f":"IFERROR(IF(D220=\"\",\"\",INDEX(tb_vendas[Preço de Venda],MATCH(D220,tb_vendas[N° Pedido/Empresa],0))/F220),\"\")","v":""},{"$f":"IFERROR(IF(D220=\"\",\"\",INDEX(tb_vendas[Data Fechamento],MATCH(D220,tb_vendas[N° Pedido/Empresa],0))+E220*INDEX(tb_formas_pagamento[Dias_Intervalo],MATCH(INDEX(tb_vendas[Forma_Pagamento],MATCH(D220,tb_vendas[N° Pedido/Empresa],0)),tb_formas_pagamento[Nome_Forma],0))),\"\")","v":""},null,{"$f":"IF(OR(tb_pagamentos[[#This Row],[Data_Vencimento]]=\"\",tb_pagamentos[[#This Row],[Valor_Parcela]]=\"\",tb_pagamentos[[#This Row],[Qtd_Total_Parcelas]]=\"\",tb_pagamentos[[#This Row],[Nr_Pedido]]=\"\"),\"\",IF(tb_pagamentos[[#This Row],[Data_Pagamento]]<>\"\",\"Pago\",IF(AND(tb_pagamentos[[#This Row],[Data_Pagamento]]=\"\",tb_pagamentos[[#This Row],[Data_Vencimento]]<TODAY()),\"Em Atraso\",\"A vencer\")))","v":""}]
[null,null,"",{"$f":"IFERROR(INDEX(CALC_BASE!$N$3:$N$52,MATCH(ROW()-7,CALC_BASE!$M$3:$M$52,0)),\"\")","v":""},{"$f":"IFERROR(INDEX(CALC_BASE!$O$3:$O$52,MATCH(ROW()-7,CALC_BASE!$M$3:$M$52,0)),\"\")","v":""},{"$f":"IFERROR(INDEX(CALC_BASE!$P$3:$P$52,MATCH(ROW()-7,CALC_BASE!$M$3:$M$52,0)),\"\")","v":""},{"$f":"IFERROR(IF(D221=\"\",\"\",INDEX(tb_vendas[Preço de Venda],MATCH(D221,tb_vendas[N° Pedido/Empresa],0))/F221),\"\")","v":""},{"$f":"IFERROR(IF(D221=\"\",\"\",INDEX(tb_vendas[Data Fechamento],MATCH(D221,tb_vendas[N° Pedido/Empresa],0))+E221*INDEX(tb_formas_pagamento[Dias_Intervalo],MATCH(INDEX(tb_vendas[Forma_Pagamento],MATCH(D221,tb_vendas[N° Pedido/Empresa],0)),tb_formas_pagamento[Nome_Forma],0))),\"\")","v":""},null,{"$f":"IF(OR(tb_pagamentos[[#This Row],[Data_Vencimento]]=\"\",tb_pagamentos[[#This Row],[Valor_Parcela]]=\"\",tb_pagamentos[[#This Row],[Qtd_Total_Parcelas]]=\"\",tb_pagamentos[[#This Row],[Nr_Pedido]]=\"\"),\"\",IF(tb_pagamentos[[#This Row],[Data_Pagamento]]<>\"\",\"Pago\",IF(AND(tb_pagamentos[[#This Row],[Data_Pagamento]]=\"\",tb_pagamentos[[#This Row],[Data_Vencimento]]<TODAY()),\"Em Atraso\",\"A vencer\")))","v":""}]
[null,null,"",{"$f":"IFERROR(INDEX(CALC_BASE!$N$3:$N$52,MATCH(ROW()-7,CALC_BASE!$M$3:$M$52,0)),\"\")","v":""},{"$f":"IFERROR(INDEX(CALC_BASE!$O$3:$O$52,MATCH(ROW()-7,CALC_BASE!$M$3:$M$52,0)),\"\")","v":""},{"$f":"IFERROR(INDEX(CALC_BASE!$P$3:$P$52,MATCH(ROW()-7,CALC_BASE!$M$3:$M$52,0)),\"\")","v":""},{"$f":"IFERROR(IF(D222=\"\",\"\",INDEX(tb_vendas[Preço de Venda],MATCH(D222,tb_vendas[N° Pedido/Empresa],0))/F222),\"\")","v":""},{"$f":"IFERROR(IF(D222=\"\",\"\",INDEX(tb_vendas[Data Fechamento],MATCH(D222,tb_vendas[N° Pedido/Empresa],0))+E222*INDEX(tb_formas_pagamento[Dias_Intervalo],MATCH(INDEX(tb_vendas[Forma_Pagamento],MATCH(D222,tb_vendas[N° Pedido/Empresa],0)),tb_formas_pagamento[Nome_Forma],0))),\"\")","v":""},null,{"$f":"IF(OR(tb_pagamentos[[#This Row],[Data_Vencimento]]=\"\",tb_pagamentos[[#This Row],[Valor_Parcela]]=\"\",tb_pagamentos[[#This Row],[Qtd_Total_Parcelas]]=\"\",tb_pagamentos[[#This Row],[Nr_Pedido]]=\"\"),\"\",IF(tb_pagamentos[[#This Row],[Data_Pagamento]]<>\"\",\"Pago\",IF(AND(tb_pagamentos[[#This Row],[Data_Pagamento]]=\"\",tb_pagamentos[[#This Row],[Data_Vencimento]]<TODAY()),\"Em Atraso\",\"A vencer\")))","v":""}]
[null,null,"",{"$f":"IFERROR(INDEX(CALC_BASE!$N$3:$N$52,MATCH(ROW()-7,CALC_BASE!$M$3:$M$52,0)),\"\")","v":""},{"$f":"IFERROR(INDEX(CALC_BASE!$O$3:$O$52,MATCH(ROW()-7,CALC_BASE!$M$3:$M$52,0)),\"\")","v":""},{"$f":"IFERROR(INDEX(CALC_BASE!$P$3:$P$52,MATCH(ROW()-7,CALC_BASE!$M$3:$M$52,0)),\"\")","v":""},{"$f":"IFERROR(IF(D223=\"\",\"\",INDEX(tb_vendas[Preço de Venda],MATCH(D223,tb_vendas[N° Pedido/Empresa],0))/F223),\"\")","v":""},{"$f":"IFERROR(IF(D223=\"\",\"\",INDEX(tb_vendas[Data Fechamento],MATCH(D223,tb_vendas[N° Pedido/Empresa],0))+E223*INDEX(tb_formas_pagamento[Dias_Intervalo],MATCH(INDEX(tb_vendas[Forma_Pagamento],MATCH(D223,tb_vendas[N° Pedido/Empresa],0)),tb_formas_pagamento[Nome_Forma],0))),\"\")","v":""},null,{"$f":"IF(OR(tb_pagamentos[[#This Row],[Data_Vencimento]]=\"\",tb_pagamentos[[#This Row],[Valor_Parcela]]=\"\",tb_pagamentos[[#This Row],[Qtd_Total_Parcelas]]=\"\",tb_pagamentos[[#This Row],[Nr_Pedido]]=\"\"),\"\",IF(tb_pagamentos[[#This Row],[Data_Pagamento]]<>\"\",\"Pago\",IF(AND(tb_pagamentos[[#This Row],[Data_Pagamento]]=\"\",tb_pagamentos[[#This Row],[Data_Vencimento]]<TODAY()),\"Em Atraso\",\"A vencer\")))","v":""}]
[null,null,"",{"$f":"IFERROR(INDEX(CALC_BASE!$N$3:$N$52,MATCH(ROW()-7,CALC_BASE!$M$3:$M$52,0)),\"\")","v":""},{"$f":"IFERROR(INDEX(CALC_BASE!$O$3:$O$52,MATCH(ROW()-7,CALC_BASE!$M$3:$M$52,0)),\"\")","v":""},{"$f":"IFERROR(INDEX(CALC_BASE!$P$3:$P$52,MATCH(ROW()-7,CALC_BASE!$M$3:$M$52,0)),\"\")","v":""},{"$f":"IFERROR(IF(D224=\"\",\"\",INDEX(tb_vendas[Preço de Venda],MATCH(D224,tb_vendas[N° Pedido/Empresa],0))/F224),\"\")","v":""},{"$f":"IFERROR(IF(D224=\"\",\"\",INDEX(tb_vendas[Data Fechamento],MATCH(D224,tb_vendas[N° Pedido/Empresa],0))+E224*INDEX(tb_formas_pagamento[Dias_Intervalo],MATCH(INDEX(tb_vendas[Forma_Pagamento],MATCH(D224,tb_vendas[N° Pedido/Empresa],0)),tb_formas_pagamento[Nome_Forma],0))),\"\")","v":""},null,{"$f":"IF(OR(tb_pagamentos[[#This Row],[Data_Vencimento]]=\"\",tb_pagamentos[[#This Row],[Valor_Parcela]]=\"\",tb_pagamentos[[#This Row],[Qtd_Total_Parcelas]]=\"\",tb_pagamentos[[#This Row],[Nr_Pedido]]=\"\"),\"\",IF(tb_pagamentos[[#This Row],[Data_Pagamento]]<>\"\",\"Pago\",IF(AND(tb_pagamentos[[#This Row],[Data_Pagamento]]=\"\",tb_pagamentos[[#This Row],[Data_Vencimento]]<TODAY()),\"Em Atraso\",\"A vencer\")))","v":""}]
[null,null,"",{"$f":"IFERROR(INDEX(CALC_BASE!$N$3:$N$52,MATCH(ROW()-7,CALC_BASE!$M$3:$M$52,0)),\"\")","v":""},{"$f":"IFERROR(INDEX(CALC_BASE!$O$3:$O$52,MATCH(ROW()-7,CALC_BASE!$M$3:$M$52,0)),\"\")","v":""},{"$f":"IFERROR(INDEX(CALC_BASE!$P$3:$P$52,MATCH(ROW()-7,CALC_BASE!$M$3:$M$52,0)),\"\")","v":""},{"$f":"IFERROR(IF(D225=\"\",\"\",INDEX(tb_vendas[Preço de Venda],MATCH(D225,tb_vendas[N° Pedido/Empresa],0))/F225),\"\")","v":""},{"$f":"IFERROR(IF(D225=\"\",\"\",INDEX(tb_vendas[Data Fechamento],MATCH(D225,tb_vendas[N° Pedido/Empresa],0))+E225*INDEX(tb_formas_pagamento[Dias_Intervalo],MATCH(INDEX(tb_vendas[Forma_Pagamento],MATCH(D225,tb_vendas[N° Pedido/Empresa],0)),tb_formas_pagamento[Nome_Forma],0))),\"\")","v":""},null,{"$f":"IF(OR(tb_pagamentos[[#This Row],[Data_Vencimento]]=\"\",tb_pagamentos[[#This Row],[Valor_Parcela]]=\"\",tb_pagamentos[[#This Row],[Qtd_Total_Parcelas]]=\"\",tb_pagamentos[[#This Row],[Nr_Pedido]]=\"\"),\"\",IF(tb_pagamentos[[#This Row],[Data_Pagamento]]<>\"\",\"Pago\",IF(AND(tb_pagamentos[[#This Row],[Data_Pagamento]]=\"\",tb_pagamentos[[#This Row],[Data_Vencimento]]<TODAY()),\"Em Atraso\",\"A vencer\")))","v":""}]
[null,null,"",{"$f":"IFERROR(INDEX(CALC_BASE!$N$3:$N$52,MATCH(ROW()-7,CALC_BASE!$M$3:$M$52,0)),\"\")","v":""},{"$f":"IFERROR(INDEX(CALC_BASE!$O$3:$O$52,MATCH(ROW()-7,CALC_BASE!$M$3:$M$52,0)),\"\")","v":""},{"$f":"IFERROR(INDEX(CALC_BASE!$P$3:$P$52,MATCH(ROW()-7,CALC_BASE!$M$3:$M$52,0)),\"\")","v":""},{"$f":"IFERROR(IF(D226=\"\",\"\",INDEX(tb_vendas[Preço de Venda],MATCH(D226,tb_vendas[N° Pedido/Empresa],0))/F226),\"\")","v":""},{"$f":"IFERROR(IF(D226=\"\",\"\",INDEX(tb_vendas[Data Fechamento],MATCH(D226,tb_vendas[N° Pedido/Empresa],0))+E226*INDEX(tb_formas_pagamento[Dias_Intervalo],MATCH(INDEX(tb_vendas[Forma_Pagamento],MATCH(D226,tb_vendas[N° Pedido/Empresa],0)),tb_formas_pagamento[Nome_Forma],0))),\"\")","v":""},null,{"$f":"IF(OR(tb_pagamentos[[#This Row],[Data_Vencimento]]=\"\",tb_pagamentos[[#This Row],[Valor_Parcela]]=\"\",tb_pagamentos[[#This Row],[Qtd_Total_Parcelas]]=\"\",tb_pagamentos[[#This Row],[Nr_Pedido]]=\"\"),\"\",IF(tb_pagamentos[[#This Row],[Data_Pagamento]]<>\"\",\"Pago\",IF(AND(tb_pagamentos[[#This Row],[Data_Pagamento]]=\"\",tb_pagamentos[[#This Row],[Data_Vencimento]]<TODAY()),\"Em Atraso\",\"A vencer\")))","v":""}]
[null,null,"",{"$f":"IFERROR(INDEX(CALC_BASE!$N$3:$N$52,MATCH(ROW()-7,CALC_BASE!$M$3:$M$52,0)),\"\")","v":""},{"$f":"IFERROR(INDEX(CALC_BASE!$O$3:$O$52,MATCH(ROW()-7,CALC_BASE!$M$3:$M$52,0)),\"\")","v":""},{"$f":"IFERROR(INDEX(CALC_BASE!$P$3:$P$52,MATCH(ROW()-7,CALC_BASE!$M$3:$M$52,0)),\"\")","v":""},{"$f":"IFERROR(IF(D227=\"\",\"\",INDEX(tb_vendas[Preço de Venda],MATCH(D227,tb_vendas[N° Pedido/Empresa],0))/F227),\"\")","v":""},{"$f":"IFERROR(IF(D227=\"\",\"\",INDEX(tb_vendas[Data Fechamento],MATCH(D227,tb_vendas[N° Pedido/Empresa],0))+E227*INDEX(tb_formas_pagamento[Dias_Intervalo],MATCH(INDEX(tb_vendas[Forma_Pagamento],MATCH(D227,tb_vendas[N° Pedido/Empresa],0)),tb_formas_pagamento[Nome_Forma],0))),\"\")","v":""},null,{"$f":"IF(OR(tb_pagamentos[[#This Row],[Data_Vencimento]]=\"\",tb_pagamentos[[#This Row],[Valor_Parcela]]=\"\",tb_pagamentos[[#This Row],[Qtd_Total_Parcelas]]=\"\",tb_pagamentos[[#This Row],[Nr_Pedido]]=\"\"),\"\",IF(tb_pagamentos[[#This Row],[Data_Pagamento]]<>\"\",\"Pago\",IF(AND(tb_pagamentos[[#This Row],[Data_Pagamento]]=\"\",tb_pagamentos[[#This Row],[Data_Vencimento]]<TODAY()),\"Em Atraso\",\"A vencer\")))","v":""}]
[null,null,"",{"$f":"IFERROR(INDEX(CALC_BASE!$N$3:$N$52,MATCH(ROW()-7,CALC_BASE!$M$3:$M$52,0)),\"\")","v":""},{"$f":"IFERROR(INDEX(CALC_BASE!$O$3:$O$52,MATCH(ROW()-7,CALC_BASE!$M$3:$M$52,0)),\"\")","v":""},{"$f":"IFERROR(INDEX(CALC_BASE!$P$3:$P$52,MATCH(ROW()-7,CALC_BASE!$M$3:$M$52,0)),\"\")","v":""},{"$f":"IFERROR(IF(D228=\"\",\"\",INDEX(tb_vendas[Preço de Venda],MATCH(D228,tb_vendas[N° Pedido/Empresa],0))/F228),\"\")","v":""},{"$f":"IFERROR(IF(D228=\"\",\"\",INDEX(tb_vendas[Data Fechamento],MATCH(D228,tb_vendas[N° Pedido/Empresa],0))+E228*INDEX(tb_formas_pagamento[Dias_Intervalo],MATCH(INDEX(tb_vendas[Forma_Pagamento],MATCH(D228,tb_vendas[N° Pedido/Empresa],0)),tb_formas_pagamento[Nome_Forma],0))),\"\")","v":""},null,{"$f":"IF(OR(tb_pagamentos[[#This Row],[Data_Vencimento]]=\"\",tb_pagamentos[[#This Row],[Valor_Parcela]]=\"\",tb_pagamentos[[#This Row],[Qtd_Total_Parcelas]]=\"\",tb_pagamentos[[#This Row],[Nr_Pedido]]=\"\"),\"\",IF(tb_pagamentos[[#This Row],[Data_Pagamento]]<>\"\",\"Pago\",IF(AND(tb_pagamentos[[#This Row],[Data_Pagamento]]=\"\",tb_pagamentos[[#This Row],[Data_Vencimento]]<TODAY()),\"Em Atraso\",\"A vencer\")))","v":""}]
[null,null,"",{"$f":"IFERROR(INDEX(CALC_BASE!$N$3:$N$52,MATCH(ROW()-7,CALC_BASE!$M$3:$M$52,0)),\"\")","v":""},{"$f":"IFERROR(INDEX(CALC_BASE!$O$3:$O$52,MATCH(ROW()-7,CALC_BASE!$M$3:$M$52,0)),\"\")","v":""},{"$f":"IFERROR(INDEX(CALC_BASE!$P$3:$P$52,MATCH(ROW()-7,CALC_BASE!$M$3:$M$52,0)),\"\")","v":""},{"$f":"IFERROR(IF(D229=\"\",\"\",INDEX(tb_vendas[Preço de Venda],MATCH(D229,tb_vendas[N° Pedido/Empresa],0))/F229),\"\")","v":""},{"$f":"IFERROR(IF(D229=\"\",\"\",INDEX(tb_vendas[Data Fechamento],MATCH(D229,tb_vendas[N° Pedido/Empresa],0))+E229*INDEX(tb_formas_pagamento[Dias_Intervalo],MATCH(INDEX(tb_vendas[Forma_Pagamento],MATCH(D229,tb_vendas[N° Pedido/Empresa],0)),tb_formas_pagamento[Nome_Forma],0))),\"\")","v":""},null,{"$f":"IF(OR(tb_pagamentos[[#This Row],[Data_Vencimento]]=\"\",tb_pagamentos[[#This Row],[Valor_Parcela]]=\"\",tb_pagamentos[[#This Row],[Qtd_Total_Parcelas]]=\"\",tb_pagamentos[[#This Row],[Nr_Pedido]]=\"\"),\"\",IF(tb_pagamentos[[#This Row],[Data_Pagamento]]<>\"\",\"Pago\",IF(AND(tb_pagamentos[[#This Row],[Data_Pagamento]]=\"\",tb_pagamentos[[#This Row],[Data_Vencimento]]<TODAY()),\"Em Atraso\",\"A vencer\")))","v":""}]
[null,null,"",{"$f":"IFERROR(INDEX(CALC_BASE!$N$3:$N$52,MATCH(ROW()-7,CALC_BASE!$M$3:$M$52,0)),\"\")","v":""},{"$f":"IFERROR(INDEX(CALC_BASE!$O$3:$O$52,MATCH(ROW()-7,CALC_BASE!$M$3:$M$52,0)),\"\")","v":""},{"$f":"IFERROR(INDEX(CALC_BASE!$P$3:$P$52,MATCH(ROW()-7,CALC_BASE!$M$3:$M$52,0)),\"\")","v":""},{"$f":"IFERROR(IF(D230=\"\",\"\",INDEX(tb_vendas[Preço de Venda],MATCH(D230,tb_vendas[N° Pedido/Empresa],0))/F230),\"\")","v":""},{"$f":"IFERROR(IF(D230=\"\",\"\",INDEX(tb_vendas[Data Fechamento],MATCH(D230,tb_vendas[N° Pedido/Empresa],0))+E230*INDEX(tb_formas_pagamento[Dias_Intervalo],MATCH(INDEX(tb_vendas[Forma_Pagamento],MATCH(D230,tb_vendas[N° Pedido/Empresa],0)),tb_formas_pagamento[Nome_Forma],0))),\"\")","v":""},null,{"$f":"IF(OR(tb_pagamentos[[#This Row],[Data_Vencimento]]=\"\",tb_pagamentos[[#This Row],[Valor_Parcela]]=\"\",tb_pagamentos[[#This Row],[Qtd_Total_Parcelas]]=\"\",tb_pagamentos[[#This Row],[Nr_Pedido]]=\"\"),\"\",IF(tb_pagamentos[[#This Row],[Data_Pagamento]]<>\"\",\"Pago\",IF(AND(tb_pagamentos[[#This Row],[Data_Pagamento]]=\"\",tb_pagamentos[[#This Row],[Data_Vencimento]]<TODAY()),\"Em Atraso\",\"A vencer\")))","v":""}]
[null,null,"",{"$f":"IFERROR(INDEX(CALC_BASE!$N$3:$N$52,MATCH(ROW()-7,CALC_BASE!$M$3:$M$52,0)),\"\")","v":""},{"$f":"IFERROR(INDEX(CALC_BASE!$O$3:$O$52,MATCH(ROW()-7,CALC_BASE!$M$3:$M$52,0)),\"\")","v":""},{"$f":"IFERROR(INDEX(CALC_BASE!$P$3:$P$52,MATCH(ROW()-7,CALC_BASE!$M$3:$M$52,0)),\"\")","v":""},{"$f":"IFERROR(IF(D231=\"\",\"\",INDEX(tb_vendas[Preço de Venda],MATCH(D231,tb_vendas[N° Pedido/Empresa],0))/F231),\"\")","v":""},{"$f":"IFERROR(IF(D231=\"\",\"\",INDEX(tb_vendas[Data Fechamento],MATCH(D231,tb_vendas[N° Pedido/Empresa],0))+E231*INDEX(tb_formas_pagamento[Dias_Intervalo],MATCH(INDEX(tb_vendas[Forma_Pagamento],MATCH(D231,tb_vendas[N° Pedido/Empresa],0)),tb_formas_pagamento[Nome_Forma],0))),\"\")","v":""},null,{"$f":"IF(OR(tb_pagamentos[[#This Row],[Data_Vencimento]]=\"\",tb_pagamentos[[#This Row],[Valor_Parcela]]=\"\",tb_pagamentos[[#This Row],[Qtd_Total_Parcelas]]=\"\",tb_pagamentos[[#This Row],[Nr_Pedido]]=\"\"),\"\",IF(tb_pagamentos[[#This Row],[Data_Pagamento]]<>\"\",\"Pago\",IF(AND(tb_pagamentos[[#This Row],[Data_Pagamento]]=\"\",tb_pagamentos[[#This Row],[Data_Vencimento]]<TODAY()),\"Em Atraso\",\"A vencer\")))","v":""}]
[null,null,"",{"$f":"IFERROR(INDEX(CALC_BASE!$N$3:$N$52,MATCH(ROW()-7,CALC_BASE!$M$3:$M$52,0)),\"\")","v":""},{"$f":"IFERROR(INDEX(CALC_BASE!$O$3:$O$52,MATCH(ROW()-7,CALC_BASE!$M$3:$M$52,0)),\"\")","v":""},{"$f":"IFERROR(INDEX(CALC_BASE!$P$3:$P$52,MATCH(ROW()-7,CALC_BASE!$M$3:$M$52,0)),\"\")","v":""},{"$f":"IFERROR(IF(D232=\"\",\"\",INDEX(tb_vendas[Preço de Venda],MATCH(D232,tb_vendas[N° Pedido/Empresa],0))/F232),\"\")","v":""},{"$f":"IFERROR(IF(D232=\"\",\"\",INDEX(tb_vendas[Data Fechamento],MATCH(D232,tb_vendas[N° Pedido/Empresa],0))+E232*INDEX(tb_formas_pagamento[Dias_Intervalo],MATCH(INDEX(tb_vendas[Forma_Pagamento],MATCH(D232,tb_vendas[N° Pedido/Empresa],0)),tb_formas_pagamento[Nome_Forma],0))),\"\")","v":""},null,{"$f":"IF(OR(tb_pagamentos[[#This Row],[Data_Vencimento]]=\"\",tb_pagamentos[[#This Row],[Valor_Parcela]]=\"\",tb_pagamentos[[#This Row],[Qtd_Total_Parcelas]]=\"\",tb_pagamentos[[#This Row],[Nr_Pedido]]=\"\"),\"\",IF(tb_pagamentos[[#This Row],[Data_Pagamento]]<>\"\",\"Pago\",IF(AND(tb_pagamentos[[#This Row],[Data_Pagamento]]=\"\",tb_pagamentos[[#This Row],[Data_Vencimento]]<TODAY()),\"Em Atraso\",\"A vencer\")))","v":""}]
[null,null,"",{"$f":"IFERROR(INDEX(CALC_BASE!$N$3:$N$52,MATCH(ROW()-7,CALC_BASE!$M$3:$M$52,0)),\"\")","v":""},{"$f":"IFERROR(INDEX(CALC_BASE!$O$3:$O$52,MATCH(ROW()-7,CALC_BASE!$M$3:$M$52,0)),\"\")","v":""},{"$f":"IFERROR(INDEX(CALC_BASE!$P$3:$P$52,MATCH(ROW()-7,CALC_BASE!$M$3:$M$52,0)),\"\")","v":""},{"$f":"IFERROR(IF(D233=\"\",\"\",INDEX(tb_vendas[Preço de Venda],MATCH(D233,tb_vendas[N° Pedido/Empresa],0))/F233),\"\")","v":""},{"$f":"IFERROR(IF(D233=\"\",\"\",INDEX(tb_vendas[Data Fechamento],MATCH(D233,tb_vendas[N° Pedido/Empresa],0))+E233*INDEX(tb_formas_pagamento[Dias_Intervalo],MATCH(INDEX(tb_vendas[Forma_Pagamento],MATCH(D233,tb_vendas[N° Pedido/Empresa],0)),tb_formas_pagamento[Nome_Forma],0))),\"\")","v":""},null,{"$f":"IF(OR(tb_pagamentos[[#This Row],[Data_Vencimento]]=\"\",tb_pagamentos[[#This Row],[Valor_Parcela]]=\"\",tb_pagamentos[[#This Row],[Qtd_Total_Parcelas]]=\"\",tb_pagamentos[[#This Row],[Nr_Pedido]]=\"\"),\"\",IF(tb_pagamentos[[#This Row],[Data_Pagamento]]<>\"\",\"Pago\",IF(AND(tb_pagamentos[[#This Row],[Data_Pagamento]]=\"\",tb_pagamentos[[#This Row],[Data_Vencimento]]<TODAY()),\"Em Atraso\",\"A vencer\")))","v":""}]
[null,null,"",{"$f":"IFERROR(INDEX(CALC_BASE!$N$3:$N$52,MATCH(ROW()-7,CALC_BASE!$M$3:$M$52,0)),\"\")","v":""},{"$f":"IFERROR(INDEX(CALC_BASE!$O$3:$O$52,MATCH(ROW()-7,CALC_BASE!$M$3:$M$52,0)),\"\")","v":""},{"$f":"IFERROR(INDEX(CALC_BASE!$P$3:$P$52,MATCH(ROW()-7,CALC_BASE!$M$3:$M$52,0)),\"\")","v":""},{"$f":"IFERROR(IF(D234=\"\",\"\",INDEX(tb_vendas[Preço de Venda],MATCH(D234,tb_vendas[N° Pedido/Empresa],0))/F234),\"\")","v":""},{"$f":"IFERROR(IF(D234=\"\",\"\",INDEX(tb_vendas[Data Fechamento],MATCH(D234,tb_vendas[N° Pedido/Empresa],0))+E234*INDEX(tb_formas_pagamento[Dias_Intervalo],MATCH(INDEX(tb_vendas[Forma_Pagamento],MATCH(D234,tb_vendas[N° Pedido/Empresa],0)),tb_formas_pagamento[Nome_Forma],0))),\"\")","v":""},null,{"$f":"IF(OR(tb_pagamentos[[#This Row],[Data_Vencimento]]=\"\",tb_pagamentos[[#This Row],[Valor_Parcela]]=\"\",tb_pagamentos[[#This Row],[Qtd_Total_Parcelas]]=\"\",tb_pagamentos[[#This Row],[Nr_Pedido]]=\"\"),\"\",IF(tb_pagamentos[[#This Row],[Data_Pagamento]]<>\"\",\"Pago\",IF(AND(tb_pagamentos[[#This Row],[Data_Pagamento]]=\"\",tb_pagamentos[[#This Row],[Data_Vencimento]]<TODAY()),\"Em Atraso\",\"A vencer\")))","v":""}]
[null,null,"",{"$f":"IFERROR(INDEX(CALC_BASE!$N$3:$N$52,MATCH(ROW()-7,CALC_BASE!$M$3:$M$52,0)),\"\")","v":""},{"$f":"IFERROR(INDEX(CALC_BASE!$O$3:$O$52,MATCH(ROW()-7,CALC_BASE!$M$3:$M$52,0)),\"\")","v":""},{"$f":"IFERROR(INDEX(CALC_BASE!$P$3:$P$52,MATCH(ROW()-7,CALC_BASE!$M$3:$M$52,0)),\"\")","v":""},{"$f":"IFERROR(IF(D235=\"\",\"\",INDEX(tb_vendas[Preço de Venda],MATCH(D235,tb_vendas[N° Pedido/Empresa],0))/F235),\"\")","v":""},{"$f":"IFERROR(IF(D235=\"\",\"\",INDEX(tb_vendas[Data Fechamento],MATCH(D235,tb_vendas[N° Pedido/Empresa],0))+E235*INDEX(tb_formas_pagamento[Dias_Intervalo],MATCH(INDEX(tb_vendas[Forma_Pagamento],MATCH(D235,tb_vendas[N° Pedido/Empresa],0)),tb_formas_pagamento[Nome_Forma],0))),\"\")","v":""},null,{"$f":"IF(OR(tb_pagamentos[[#This Row],[Data_Vencimento]]=\"\",tb_pagamentos[[#This Row],[Valor_Parcela]]=\"\",tb_pagamentos[[#This Row],[Qtd_Total_Parcelas]]=\"\",tb_pagamentos[[#This Row],[Nr_Pedido]]=\"\"),\"\",IF(tb_pagamentos[[#This Row],[Data_Pagamento]]<>\"\",\"Pago\",IF(AND(tb_pagamentos[[#This Row],[Data_Pagamento]]=\"\",tb_pagamentos[[#This Row],[Data_Vencimento]]<TODAY()),\"Em Atraso\",\"A vencer\")))","v":""}]
[null,null,"",{"$f":"IFERROR(INDEX(CALC_BASE!$N$3:$N$52,MATCH(ROW()-7,CALC_BASE!$M$3:$M$52,0)),\"\")","v":""},{"$f":"IFERROR(INDEX(CALC_BASE!$O$3:$O$52,MATCH(ROW()-7,CALC_BASE!$M$3:$M$52,0)),\"\")","v":""},{"$f":"IFERROR(INDEX(CALC_BASE!$P$3:$P$52,MATCH(ROW()-7,CALC_BASE!$M$3:$M$52,0)),\"\")","v":""},{"$f":"IFERROR(IF(D236=\"\",\"\",INDEX(tb_vendas[Preço de Venda],MATCH(D236,tb_vendas[N° Pedido/Empresa],0))/F236),\"\")","v":""},{"$f":"IFERROR(IF(D236=\"\",\"\",INDEX(tb_vendas[Data Fechamento],MATCH(D236,tb_vendas[N° Pedido/Empresa],0))+E236*INDEX(tb_formas_pagamento[Dias_Intervalo],MATCH(INDEX(tb_vendas[Forma_Pagamento],MATCH(D236,tb_vendas[N° Pedido/Empresa],0)),tb_formas_pagamento[Nome_Forma],0))),\"\")","v":""},null,{"$f":"IF(OR(tb_pagamentos[[#This Row],[Data_Vencimento]]=\"\",tb_pagamentos[[#This Row],[Valor_Parcela]]=\"\",tb_pagamentos[[#This Row],[Qtd_Total_Parcelas]]=\"\",tb_pagamentos[[#This Row],[Nr_Pedido]]=\"\"),\"\",IF(tb_pagamentos[[#This Row],[Data_Pagamento]]<>\"\",\"Pago\",IF(AND(tb_pagamentos[[#This Row],[Data_Pagamento]]=\"\",tb_pagamentos[[#This Row],[Data_Vencimento]]<TODAY()),\"Em Atraso\",\"A vencer\")))","v":""}]
[null,null,"",{"$f":"IFERROR(INDEX(CALC_BASE!$N$3:$N$52,MATCH(ROW()-7,CALC_BASE!$M$3:$M$52,0)),\"\")","v":""},{"$f":"IFERROR(INDEX(CALC_BASE!$O$3:$O$52,MATCH(ROW()-7,CALC_BASE!$M$3:$M$52,0)),\"\")","v":""},{"$f":"IFERROR(INDEX(CALC_BASE!$P$3:$P$52,MATCH(ROW()-7,CALC_BASE!$M$3:$M$52,0)),\"\")","v":""},{"$f":"IFERROR(IF(D237=\"\",\"\",INDEX(tb_vendas[Preço de Venda],MATCH(D237,tb_vendas[N° Pedido/Empresa],0))/F237),\"\")","v":""},{"$f":"IFERROR(IF(D237=\"\",\"\",INDEX(tb_vendas[Data Fechamento],MATCH(D237,tb_vendas[N° Pedido/Empresa],0))+E237*INDEX(tb_formas_pagamento[Dias_Intervalo],MATCH(INDEX(tb_vendas[Forma_Pagamento],MATCH(D237,tb_vendas[N° Pedido/Empresa],0)),tb_formas_pagamento[Nome_Forma],0))),\"\")","v":""},null,{"$f":"IF(OR(tb_pagamentos[[#This Row],[Data_Vencimento]]=\"\",tb_pagamentos[[#This Row],[Valor_Parcela]]=\"\",tb_pagamentos[[#This Row],[Qtd_Total_Parcelas]]=\"\",tb_pagamentos[[#This Row],[Nr_Pedido]]=\"\"),\"\",IF(tb_pagamentos[[#This Row],[Data_Pagamento]]<>\"\",\"Pago\",IF(AND(tb_pagamentos[[#This Row],[Data_Pagamento]]=\"\",tb_pagamentos[[#This Row],[Data_Vencimento]]<TODAY()),\"Em Atraso\",\"A vencer\")))","v":""}]
[null,null,"",{"$f":"IFERROR(INDEX(CALC_BASE!$N$3:$N$52,MATCH(ROW()-7,CALC_BASE!$M$3:$M$52,0)),\"\")","v":""},{"$f":"IFERROR(INDEX(CALC_BASE!$O$3:$O$52,MATCH(ROW()-7,CALC_BASE!$M$3:$M$52,0)),\"\")","v":""},{"$f":"IFERROR(INDEX(CALC_BASE!$P$3:$P$52,MATCH(ROW()-7,CALC_BASE!$M$3:$M$52,0)),\"\")","v":""},{"$f":"IFERROR(IF(D238=\"\",\"\",INDEX(tb_vendas[Preço de Venda],MATCH(D238,tb_vendas[N° Pedido/Empresa],0))/F238),\"\")","v":""},{"$f":"IFERROR(IF(D238=\"\",\"\",INDEX(tb_vendas[Data Fechamento],MATCH(D238,tb_vendas[N° Pedido/Empresa],0))+E238*INDEX(tb_formas_pagamento[Dias_Intervalo],MATCH(INDEX(tb_vendas[Forma_Pagamento],MATCH(D238,tb_vendas[N° Pedido/Empresa],0)),tb_formas_pagamento[Nome_Forma],0))),\"\")","v":""},null,{"$f":"IF(OR(tb_pagamentos[[#This Row],[Data_Vencimento]]=\"\",tb_pagamentos[[#This Row],[Valor_Parcela]]=\"\",tb_pagamentos[[#This Row],[Qtd_Total_Parcelas]]=\"\",tb_pagamentos[[#This Row],[Nr_Pedido]]=\"\"),\"\",IF(tb_pagamentos[[#This Row],[Data_Pagamento]]<>\"\",\"Pago\",IF(AND(tb_pagamentos[[#This Row],[Data_Pagamento]]=\"\",tb_pagamentos[[#This Row],[Data_Vencimento]]<TODAY()),\"Em Atraso\",\"A vencer\")))","v":""}]
[null,null,"",{"$f":"IFERROR(INDEX(CALC_BASE!$N$3:$N$52,MATCH(ROW()-7,CALC_BASE!$M$3:$M$52,0)),\"\")","v":""},{"$f":"IFERROR(INDEX(CALC_BASE!$O$3:$O$52,MATCH(ROW()-7,CALC_BASE!$M$3:$M$52,0)),\"\")","v":""},{"$f":"IFERROR(INDEX(CALC_BASE!$P$3:$P$52,MATCH(ROW()-7,CALC_BASE!$M$3:$M$52,0)),\"\")","v":""},{"$f":"IFERROR(IF(D239=\"\",\"\",INDEX(tb_vendas[Preço de Venda],MATCH(D239,tb_vendas[N° Pedido/Empresa],0))/F239),\"\")","v":""},{"$f":"IFERROR(IF(D239=\"\",\"\",INDEX(tb_vendas[Data Fechamento],MATCH(D239,tb_vendas[N° Pedido/Empresa],0))+E239*INDEX(tb_formas_pagamento[Dias_Intervalo],MATCH(INDEX(tb_vendas[Forma_Pagamento],MATCH(D239,tb_vendas[N° Pedido/Empresa],0)),tb_formas_pagamento[Nome_Forma],0))),\"\")","v":""},null,{"$f":"IF(OR(tb_pagamentos[[#This Row],[Data_Vencimento]]=\"\",tb_pagamentos[[#This Row],[Valor_Parcela]]=\"\",tb_pagamentos[[#This Row],[Qtd_Total_Parcelas]]=\"\",tb_pagamentos[[#This Row],[Nr_Pedido]]=\"\"),\"\",IF(tb_pagamentos[[#This Row],[Data_Pagamento]]<>\"\",\"Pago\",IF(AND(tb_pagamentos[[#This Row],[Data_Pagamento]]=\"\",tb_pagamentos[[#This Row],[Data_Vencimento]]<TODAY()),\"Em Atraso\",\"A vencer\")))","v":""}]
[null,null,"",{"$f":"IFERROR(INDEX(CALC_BASE!$N$3:$N$52,MATCH(ROW()-7,CALC_BASE!$M$3:$M$52,0)),\"\")","v":""},{"$f":"IFERROR(INDEX(CALC_BASE!$O$3:$O$52,MATCH(ROW()-7,CALC_BASE!$M$3:$M$52,0)),\"\")","v":""},{"$f":"IFERROR(INDEX(CALC_BASE!$P$3:$P$52,MATCH(ROW()-7,CALC_BASE!$M$3:$M$52,0)),\"\")","v":""},{"$f":"IFERROR(IF(D240=\"\",\"\",INDEX(tb_vendas[Preço de Venda],MATCH(D240,tb_vendas[N° Pedido/Empresa],0))/F240),\"\")","v":""},{"$f":"IFERROR(IF(D240=\"\",\"\",INDEX(tb_vendas[Data Fechamento],MATCH(D240,tb_vendas[N° Pedido/Empresa],0))+E240*INDEX(tb_formas_pagamento[Dias_Intervalo],MATCH(INDEX(tb_vendas[Forma_Pagamento],MATCH(D240,tb_vendas[N° Pedido/Empresa],0)),tb_formas_pagamento[Nome_Forma],0))),\"\")","v":""},null,{"$f":"IF(OR(tb_pagamentos[[#This Row],[Data_Vencimento]]=\"\",tb_pagamentos[[#This Row],[Valor_Parcela]]=\"\",tb_pagamentos[[#This Row],[Qtd_Total_Parcelas]]=\"\",tb_pagamentos[[#This Row],[Nr_Pedido]]=\"\"),\"\",IF(tb_pagamentos[[#This Row],[Data_Pagamento]]<>\"\",\"Pago\",IF(AND(tb_pagamentos[[#This Row],[Data_Pagamento]]=\"\",tb_pagamentos[[#This Row],[Data_Vencimento]]<TODAY()),\"Em Atraso\",\"A vencer\")))","v":""}]
[null,null,"",{"$f":"IFERROR(INDEX(CALC_BASE!$N$3:$N$52,MATCH(ROW()-7,CALC_BASE!$M$3:$M$52,0)),\"\")","v":""},{"$f":"IFERROR(INDEX(CALC_BASE!$O$3:$O$52,MATCH(ROW()-7,CALC_BASE!$M$3:$M$52,0)),\"\")","v":""},{"$f":"IFERROR(INDEX(CALC_BASE!$P$3:$P$52,MATCH(ROW()-7,CALC_BASE!$M$3:$M$52,0)),\"\")","v":""},{"$f":"IFERROR(IF(D241=\"\",\"\",INDEX(tb_vendas[Preço de Venda],MATCH(D241,tb_vendas[N° Pedido/Empresa],0))/F241),\"\")","v":""},{"$f":"IFERROR(IF(D241=\"\",\"\",INDEX(tb_vendas[Data Fechamento],MATCH(D241,tb_vendas[N° Pedido/Empresa],0))+E241*INDEX(tb_formas_pagamento[Dias_Intervalo],MATCH(INDEX(tb_vendas[Forma_Pagamento],MATCH(D241,tb_vendas[N° Pedido/Empresa],0)),tb_formas_pagamento[Nome_Forma],0))),\"\")","v":""},null,{"$f":"IF(OR(tb_pagamentos[[#This Row],[Data_Vencimento]]=\"\",tb_pagamentos[[#This Row],[Valor_Parcela]]=\"\",tb_pagamentos[[#This Row],[Qtd_Total_Parcelas]]=\"\",tb_pagamentos[[#This Row],[Nr_Pedido]]=\"\"),\"\",IF(tb_pagamentos[[#This Row],[Data_Pagamento]]<>\"\",\"Pago\",IF(AND(tb_pagamentos[[#This Row],[Data_Pagamento]]=\"\",tb_pagamentos[[#This Row],[Data_Vencimento]]<TODAY()),\"Em Atraso\",\"A vencer\")))","v":""}]
[null,null,"",{"$f":"IFERROR(INDEX(CALC_BASE!$N$3:$N$52,MATCH(ROW()-7,CALC_BASE!$M$3:$M$52,0)),\"\")","v":""},{"$f":"IFERROR(INDEX(CALC_BASE!$O$3:$O$52,MATCH(ROW()-7,CALC_BASE!$M$3:$M$52,0)),\"\")","v":""},{"$f":"IFERROR(INDEX(CALC_BASE!$P$3:$P$52,MATCH(ROW()-7,CALC_BASE!$M$3:$M$52,0)),\"\")","v":""},{"$f":"IFERROR(IF(D242=\"\",\"\",INDEX(tb_vendas[Preço de Venda],MATCH(D242,tb_vendas[N° Pedido/Empresa],0))/F242),\"\")","v":""},{"$f":"IFERROR(IF(D242=\"\",\"\",INDEX(tb_vendas[Data Fechamento],MATCH(D242,tb_vendas[N° Pedido/Empresa],0))+E242*INDEX(tb_formas_pagamento[Dias_Intervalo],MATCH(INDEX(tb_vendas[Forma_Pagamento],MATCH(D242,tb_vendas[N° Pedido/Empresa],0)),tb_formas_pagamento[Nome_Forma],0))),\"\")","v":""},null,{"$f":"IF(OR(tb_pagamentos[[#This Row],[Data_Vencimento]]=\"\",tb_pagamentos[[#This Row],[Valor_Parcela]]=\"\",tb_pagamentos[[#This Row],[Qtd_Total_Parcelas]]=\"\",tb_pagamentos[[#This Row],[Nr_Pedido]]=\"\"),\"\",IF(tb_pagamentos[[#This Row],[Data_Pagamento]]<>\"\",\"Pago\",IF(AND(tb_pagamentos[[#This Row],[Data_Pagamento]]=\"\",tb_pagamentos[[#This Row],[Data_Vencimento]]<TODAY()),\"Em Atraso\",\"A vencer\")))","v":""}]
[null,null,"",{"$f":"IFERROR(INDEX(CALC_BASE!$N$3:$N$52,MATCH(ROW()-7,CALC_BASE!$M$3:$M$52,0)),\"\")","v":""},{"$f":"IFERROR(INDEX(CALC_BASE!$O$3:$O$52,MATCH(ROW()-7,CALC_BASE!$M$3:$M$52,0)),\"\")","v":""},{"$f":"IFERROR(INDEX(CALC_BASE!$P$3:$P$52,MATCH(ROW()-7,CALC_BASE!$M$3:$M$52,0)),\"\")","v":""},{"$f":"IFERROR(IF(D243=\"\",\"\",INDEX(tb_vendas[Preço de Venda],MATCH(D243,tb_vendas[N° Pedido/Empresa],0))/F243),\"\")","v":""},{"$f":"IFERROR(IF(D243=\"\",\"\",INDEX(tb_vendas[Data Fechamento],MATCH(D243,tb_vendas[N° Pedido/Empresa],0))+E243*INDEX(tb_formas_pagamento[Dias_Intervalo],MATCH(INDEX(tb_vendas[Forma_Pagamento],MATCH(D243,tb_vendas[N° Pedido/Empresa],0)),tb_formas_pagamento[Nome_Forma],0))),\"\")","v":""},null,{"$f":"IF(OR(tb_pagamentos[[#This Row],[Data_Vencimento]]=\"\",tb_pagamentos[[#This Row],[Valor_Parcela]]=\"\",tb_pagamentos[[#This Row],[Qtd_Total_Parcelas]]=\"\",tb_pagamentos[[#This Row],[Nr_Pedido]]=\"\"),\"\",IF(tb_pagamentos[[#This Row],[Data_Pagamento]]<>\"\",\"Pago\",IF(AND(tb_pagamentos[[#This Row],[Data_Pagamento]]=\"\",tb_pagamentos[[#This Row],[Data_Vencimento]]<TODAY()),\"Em Atraso\",\"A vencer\")))","v":""}]
[null,null,"",{"$f":"IFERROR(INDEX(CALC_BASE!$N$3:$N$52,MATCH(ROW()-7,CALC_BASE!$M$3:$M$52,0)),\"\")","v":""},{"$f":"IFERROR(INDEX(CALC_BASE!$O$3:$O$52,MATCH(ROW()-7,CALC_BASE!$M$3:$M$52,0)),\"\")","v":""},{"$f":"IFERROR(INDEX(CALC_BASE!$P$3:$P$52,MATCH(ROW()-7,CALC_BASE!$M$3:$M$52,0)),\"\")","v":""},{"$f":"IFERROR(IF(D244=\"\",\"\",INDEX(tb_vendas[Preço de Venda],MATCH(D244,tb_vendas[N° Pedido/Empresa],0))/F244),\"\")","v":""},{"$f":"IFERROR(IF(D244=\"\",\"\",INDEX(tb_vendas[Data Fechamento],MATCH(D244,tb_vendas[N° Pedido/Empresa],0))+E244*INDEX(tb_formas_pagamento[Dias_Intervalo],MATCH(INDEX(tb_vendas[Forma_Pagamento],MATCH(D244,tb_vendas[N° Pedido/Empresa],0)),tb_formas_pagamento[Nome_Forma],0))),\"\")","v":""},null,{"$f":"IF(OR(tb_pagamentos[[#This Row],[Data_Vencimento]]=\"\",tb_pagamentos[[#This Row],[Valor_Parcela]]=\"\",tb_pagamentos[[#This Row],[Qtd_Total_Parcelas]]=\"\",tb_pagamentos[[#This Row],[Nr_Pedido]]=\"\"),\"\",IF(tb_pagamentos[[#This Row],[Data_Pagamento]]<>\"\",\"Pago\",IF(AND(tb_pagamentos[[#This Row],[Data_Pagamento]]=\"\",tb_pagamentos[[#This Row],[Data_Vencimento]]<TODAY()),\"Em Atraso\",\"A vencer\")))","v":""}]
[null,null,"",{"$f":"IFERROR(INDEX(CALC_BASE!$N$3:$N$52,MATCH(ROW()-7,CALC_BASE!$M$3:$M$52,0)),\"\")","v":""},{"$f":"IFERROR(INDEX(CALC_BASE!$O$3:$O$52,MATCH(ROW()-7,CALC_BASE!$M$3:$M$52,0)),\"\")","v":""},{"$f":"IFERROR(INDEX(CALC_BASE!$P$3:$P$52,MATCH(ROW()-7,CALC_BASE!$M$3:$M$52,0)),\"\")","v":""},{"$f":"IFERROR(IF(D245=\"\",\"\",INDEX(tb_vendas[Preço de Venda],MATCH(D245,tb_vendas[N° Pedido/Empresa],0))/F245),\"\")","v":""},{"$f":"IFERROR(IF(D245=\"\",\"\",INDEX(tb_vendas[Data Fechamento],MATCH(D245,tb_vendas[N° Pedido/Empresa],0))+E245*INDEX(tb_formas_pagamento[Dias_Intervalo],MATCH(INDEX(tb_vendas[Forma_Pagamento],MATCH(D245,tb_vendas[N° Pedido/Empresa],0)),tb_formas_pagamento[Nome_Forma],0))),\"\")","v":""},null,{"$f":"IF(OR(tb_pagamentos[[#This Row],[Data_Vencimento]]=\"\",tb_pagamentos[[#This Row],[Valor_Parcela]]=\"\",tb_pagamentos[[#This Row],[Qtd_Total_Parcelas]]=\"\",tb_pagamentos[[#This Row],[Nr_Pedido]]=\"\"),\"\",IF(tb_pagamentos[[#This Row],[Data_Pagamento]]<>\"\",\"Pago\",IF(AND(tb_pagamentos[[#This Row],[Data_Pagamento]]=\"\",tb_pagamentos[[#This Row],[Data_Vencimento]]<TODAY()),\"Em Atraso\",\"A vencer\")))","v":""}]
[null,null,"",{"$f":"IFERROR(INDEX(CALC_BASE!$N$3:$N$52,MATCH(ROW()-7,CALC_BASE!$M$3:$M$52,0)),\"\")","v":""},{"$f":"IFERROR(INDEX(CALC_BASE!$O$3:$O$52,MATCH(ROW()-7,CALC_BASE!$M$3:$M$52,0)),\"\")","v":""},{"$f":"IFERROR(INDEX(CALC_BASE!$P$3:$P$52,MATCH(ROW()-7,CALC_BASE!$M$3:$M$52,0)),\"\")","v":""},{"$f":"IFERROR(IF(D246=\"\",\"\",INDEX(tb_vendas[Preço de Venda],MATCH(D246,tb_vendas[N° Pedido/Empresa],0))/F246),\"\")","v":""},{"$f":"IFERROR(IF(D246=\"\",\"\",INDEX(tb_vendas[Data Fechamento],MATCH(D246,tb_vendas[N° Pedido/Empresa],0))+E246*INDEX(tb_formas_pagamento[Dias_Intervalo],MATCH(INDEX(tb_vendas[Forma_Pagamento],MATCH(D246,tb_vendas[N° Pedido/Empresa],0)),tb_formas_pagamento[Nome_Forma],0))),\"\")","v":""},null,{"$f":"IF(OR(tb_pagamentos[[#This Row],[Data_Vencimento]]=\"\",tb_pagamentos[[#This Row],[Valor_Parcela]]=\"\",tb_pagamentos[[#This Row],[Qtd_Total_Parcelas]]=\"\",tb_pagamentos[[#This Row],[Nr_Pedido]]=\"\"),\"\",IF(tb_pagamentos[[#This Row],[Data_Pagamento]]<>\"\",\"Pago\",IF(AND(tb_pagamentos[[#This Row],[Data_Pagamento]]=\"\",tb_pagamentos[[#This Row],[Data_Vencimento]]<TODAY()),\"Em Atraso\",\"A vencer\")))","v":""}]
[null,null,"",{"$f":"IFERROR(INDEX(CALC_BASE!$N$3:$N$52,MATCH(ROW()-7,CALC_BASE!$M$3:$M$52,0)),\"\")","v":""},{"$f":"IFERROR(INDEX(CALC_BASE!$O$3:$O$52,MATCH(ROW()-7,CALC_BASE!$M$3:$M$52,0)),\"\")","v":""},{"$f":"IFERROR(INDEX(CALC_BASE!$P$3:$P$52,MATCH(ROW()-7,CALC_BASE!$M$3:$M$52,0)),\"\")","v":""},{"$f":"IFERROR(IF(D247=\"\",\"\",INDEX(tb_vendas[Preço de Venda],MATCH(D247,tb_vendas[N° Pedido/Empresa],0))/F247),\"\")","v":""},{"$f":"IFERROR(IF(D247=\"\",\"\",INDEX(tb_vendas[Data Fechamento],MATCH(D247,tb_vendas[N° Pedido/Empresa],0))+E247*INDEX(tb_formas_pagamento[Dias_Intervalo],MATCH(INDEX(tb_vendas[Forma_Pagamento],MATCH(D247,tb_vendas[N° Pedido/Empresa],0)),tb_formas_pagamento[Nome_Forma],0))),\"\")","v":""},null,{"$f":"IF(OR(tb_pagamentos[[#This Row],[Data_Vencimento]]=\"\",tb_pagamentos[[#This Row],[Valor_Parcela]]=\"\",tb_pagamentos[[#This Row],[Qtd_Total_Parcelas]]=\"\",tb_pagamentos[[#This Row],[Nr_Pedido]]=\"\"),\"\",IF(tb_pagamentos[[#This Row],[Data_Pagamento]]<>\"\",\"Pago\",IF(AND(tb_pagamentos[[#This Row],[Data_Pagamento]]=\"\",tb_pagamentos[[#This Row],[Data_Vencimento]]<TODAY()),\"Em Atraso\",\"A vencer\")))","v":""}]
[null,null,"",{"$f":"IFERROR(INDEX(CALC_BASE!$N$3:$N$52,MATCH(ROW()-7,CALC_BASE!$M$3:$M$52,0)),\"\")","v":""},{"$f":"IFERROR(INDEX(CALC_BASE!$O$3:$O$52,MATCH(ROW()-7,CALC_BASE!$M$3:$M$52,0)),\"\")","v":""},{"$f":"IFERROR(INDEX(CALC_BASE!$P$3:$P$52,MATCH(ROW()-7,CALC_BASE!$M$3:$M$52,0)),\"\")","v":""},{"$f":"IFERROR(IF(D248=\"\",\"\",INDEX(tb_vendas[Preço de Venda],MATCH(D248,tb_vendas[N° Pedido/Empresa],0))/F248),\"\")","v":""},{"$f":"IFERROR(IF(D248=\"\",\"\",INDEX(tb_vendas[Data Fechamento],MATCH(D248,tb_vendas[N° Pedido/Empresa],0))+E248*INDEX(tb_formas_pagamento[Dias_Intervalo],MATCH(INDEX(tb_vendas[Forma_Pagamento],MATCH(D248,tb_vendas[N° Pedido/Empresa],0)),tb_formas_pagamento[Nome_Forma],0))),\"\")","v":""},null,{"$f":"IF(OR(tb_pagamentos[[#This Row],[Data_Vencimento]]=\"\",tb_pagamentos[[#This Row],[Valor_Parcela]]=\"\",tb_pagamentos[[#This Row],[Qtd_Total_Parcelas]]=\"\",tb_pagamentos[[#This Row],[Nr_Pedido]]=\"\"),\"\",IF(tb_pagamentos[[#This Row],[Data_Pagamento]]<>\"\",\"Pago\",IF(AND(tb_pagamentos[[#This Row],[Data_Pagamento]]=\"\",tb_pagamentos[[#This Row],[Data_Vencimento]]<TODAY()),\"Em Atraso\",\"A vencer\")))","v":""}]
[null,null,"",{"$f":"IFERROR(INDEX(CALC_BASE!$N$3:$N$52,MATCH(ROW()-7,CALC_BASE!$M$3:$M$52,0)),\"\")","v":""},{"$f":"IFERROR(INDEX(CALC_BASE!$O$3:$O$52,MATCH(ROW()-7,CALC_BASE!$M$3:$M$52,0)),\"\")","v":""},{"$f":"IFERROR(INDEX(CALC_BASE!$P$3:$P$52,MATCH(ROW()-7,CALC_BASE!$M$3:$M$52,0)),\"\")","v":""},{"$f":"IFERROR(IF(D249=\"\",\"\",INDEX(tb_vendas[Preço de Venda],MATCH(D249,tb_vendas[N° Pedido/Empresa],0))/F249),\"\")","v":""},{"$f":"IFERROR(IF(D249=\"\",\"\",INDEX(tb_vendas[Data Fechamento],MATCH(D249,tb_vendas[N° Pedido/Empresa],0))+E249*INDEX(tb_formas_pagamento[Dias_Intervalo],MATCH(INDEX(tb_vendas[Forma_Pagamento],MATCH(D249,tb_vendas[N° Pedido/Empresa],0)),tb_formas_pagamento[Nome_Forma],0))),\"\")","v":""},null,{"$f":"IF(OR(tb_pagamentos[[#This Row],[Data_Vencimento]]=\"\",tb_pagamentos[[#This Row],[Valor_Parcela]]=\"\",tb_pagamentos[[#This Row],[Qtd_Total_Parcelas]]=\"\",tb_pagamentos[[#This Row],[Nr_Pedido]]=\"\"),\"\",IF(tb_pagamentos[[#This Row],[Data_Pagamento]]<>\"\",\"Pago\",IF(AND(tb_pagamentos[[#This Row],[Data_Pagamento]]=\"\",tb_pagamentos[[#This Row],[Data_Vencimento]]<TODAY()),\"Em Atraso\",\"A vencer\")))","v":""}]
[null,null,"",{"$f":"IFERROR(INDEX(CALC_BASE!$N$3:$N$52,MATCH(ROW()-7,CALC_BASE!$M$3:$M$52,0)),\"\")","v":""},{"$f":"IFERROR(INDEX(CALC_BASE!$O$3:$O$52,MATCH(ROW()-7,CALC_BASE!$M$3:$M$52,0)),\"\")","v":""},{"$f":"IFERROR(INDEX(CALC_BASE!$P$3:$P$52,MATCH(ROW()-7,CALC_BASE!$M$3:$M$52,0)),\"\")","v":""},{"$f":"IFERROR(IF(D250=\"\",\"\",INDEX(tb_vendas[Preço de Venda],MATCH(D250,tb_vendas[N° Pedido/Empresa],0))/F250),\"\")","v":""},{"$f":"IFERROR(IF(D250=\"\",\"\",INDEX(tb_vendas[Data Fechamento],MATCH(D250,tb_vendas[N° Pedido/Empresa],0))+E250*INDEX(tb_formas_pagamento[Dias_Intervalo],MATCH(INDEX(tb_vendas[Forma_Pagamento],MATCH(D250,tb_vendas[N° Pedido/Empresa],0)),tb_formas_pagamento[Nome_Forma],0))),\"\")","v":""},null,{"$f":"IF(OR(tb_pagamentos[[#This Row],[Data_Vencimento]]=\"\",tb_pagamentos[[#This Row],[Valor_Parcela]]=\"\",tb_pagamentos[[#This Row],[Qtd_Total_Parcelas]]=\"\",tb_pagamentos[[#This Row],[Nr_Pedido]]=\"\"),\"\",IF(tb_pagamentos[[#This Row],[Data_Pagamento]]<>\"\",\"Pago\",IF(AND(tb_pagamentos[[#This Row],[Data_Pagamento]]=\"\",tb_pagamentos[[#This Row],[Data_Vencimento]]<TODAY()),\"Em Atraso\",\"A vencer\")))","v":""}]
[null,null,"",{"$f":"IFERROR(INDEX(CALC_BASE!$N$3:$N$52,MATCH(ROW()-7,CALC_BASE!$M$3:$M$52,0)),\"\")","v":""},{"$f":"IFERROR(INDEX(CALC_BASE!$O$3:$O$52,MATCH(ROW()-7,CALC_BASE!$M$3:$M$52,0)),\"\")","v":""},{"$f":"IFERROR(INDEX(CALC_BASE!$P$3:$P$52,MATCH(ROW()-7,CALC_BASE!$M$3:$M$52,0)),\"\")","v":""},{"$f":"IFERROR(IF(D251=\"\",\"\",INDEX(tb_vendas[Preço de Venda],MATCH(D251,tb_vendas[N° Pedido/Empresa],0))/F251),\"\")","v":""},{"$f":"IFERROR(IF(D251=\"\",\"\",INDEX(tb_vendas[Data Fechamento],MATCH(D251,tb_vendas[N° Pedido/Empresa],0))+E251*INDEX(tb_formas_pagamento[Dias_Intervalo],MATCH(INDEX(tb_vendas[Forma_Pagamento],MATCH(D251,tb_vendas[N° Pedido/Empresa],0)),tb_formas_pagamento[Nome_Forma],0))),\"\")","v":""},null,{"$f":"IF(OR(tb_pagamentos[[#This Row],[Data_Vencimento]]=\"\",tb_pagamentos[[#This Row],[Valor_Parcela]]=\"\",tb_pagamentos[[#This Row],[Qtd_Total_Parcelas]]=\"\",tb_pagamentos[[#This Row],[Nr_Pedido]]=\"\"),\"\",IF(tb_pagamentos[[#This Row],[Data_Pagamento]]<>\"\",\"Pago\",IF(AND(tb_pagamentos[[#This Row],[Data_Pagamento]]=\"\",tb_pagamentos[[#This Row],[Data_Vencimento]]<TODAY()),\"Em Atraso\",\"A vencer\")))","v":""}]
[null,null,"",{"$f":"IFERROR(INDEX(CALC_BASE!$N$3:$N$52,MATCH(ROW()-7,CALC_BASE!$M$3:$M$52,0)),\"\")","v":""},{"$f":"IFERROR(INDEX(CALC_BASE!$O$3:$O$52,MATCH(ROW()-7,CALC_BASE!$M$3:$M$52,0)),\"\")","v":""},{"$f":"IFERROR(INDEX(CALC_BASE!$P$3:$P$52,MATCH(ROW()-7,CALC_BASE!$M$3:$M$52,0)),\"\")","v":""},{"$f":"IFERROR(IF(D252=\"\",\"\",INDEX(tb_vendas[Preço de Venda],MATCH(D252,tb_vendas[N° Pedido/Empresa],0))/F252),\"\")","v":""},{"$f":"IFERROR(IF(D252=\"\",\"\",INDEX(tb_vendas[Data Fechamento],MATCH(D252,tb_vendas[N° Pedido/Empresa],0))+E252*INDEX(tb_formas_pagamento[Dias_Intervalo],MATCH(INDEX(tb_vendas[Forma_Pagamento],MATCH(D252,tb_vendas[N° Pedido/Empresa],0)),tb_formas_pagamento[Nome_Forma],0))),\"\")","v":""},null,{"$f":"IF(OR(tb_pagamentos[[#This Row],[Data_Vencimento]]=\"\",tb_pagamentos[[#This Row],[Valor_Parcela]]=\"\",tb_pagamentos[[#This Row],[Qtd_Total_Parcelas]]=\"\",tb_pagamentos[[#This Row],[Nr_Pedido]]=\"\"),\"\",IF(tb_pagamentos[[#This Row],[Data_Pagamento]]<>\"\",\"Pago\",IF(AND(tb_pagamentos[[#This Row],[Data_Pagamento]]=\"\",tb_pagamentos[[#This Row],[Data_Vencimento]]<TODAY()),\"Em Atraso\",\"A vencer\")))","v":""}]
[null,null,"",{"$f":"IFERROR(INDEX(CALC_BASE!$N$3:$N$52,MATCH(ROW()-7,CALC_BASE!$M$3:$M$52,0)),\"\")","v":""},{"$f":"IFERROR(INDEX(CALC_BASE!$O$3:$O$52,MATCH(ROW()-7,CALC_BASE!$M$3:$M$52,0)),\"\")","v":""},{"$f":"IFERROR(INDEX(CALC_BASE!$P$3:$P$52,MATCH(ROW()-7,CALC_BASE!$M$3:$M$52,0)),\"\")","v":""},{"$f":"IFERROR(IF(D253=\"\",\"\",INDEX(tb_vendas[Preço de Venda],MATCH(D253,tb_vendas[N° Pedido/Empresa],0))/F253),\"\")","v":""},{"$f":"IFERROR(IF(D253=\"\",\"\",INDEX(tb_vendas[Data Fechamento],MATCH(D253,tb_vendas[N° Pedido/Empresa],0))+E253*INDEX(tb_formas_pagamento[Dias_Intervalo],MATCH(INDEX(tb_vendas[Forma_Pagamento],MATCH(D253,tb_vendas[N° Pedido/Empresa],0)),tb_formas_pagamento[Nome_Forma],0))),\"\")","v":""},null,{"$f":"IF(OR(tb_pagamentos[[#This Row],[Data_Vencimento]]=\"\",tb_pagamentos[[#This Row],[Valor_Parcela]]=\"\",tb_pagamentos[[#This Row],[Qtd_Total_Parcelas]]=\"\",tb_pagamentos[[#This Row],[Nr_Pedido]]=\"\"),\"\",IF(tb_pagamentos[[#This Row],[Data_Pagamento]]<>\"\",\"Pago\",IF(AND(tb_pagamentos[[#This Row],[Data_Pagamento]]=\"\",tb_pagamentos[[#This Row],[Data_Vencimento]]<TODAY()),\"Em Atraso\",\"A vencer\")))","v":""}]
[null,null,"",{"$f":"IFERROR(INDEX(CALC_BASE!$N$3:$N$52,MATCH(ROW()-7,CALC_BASE!$M$3:$M$52,0)),\"\")","v":""},{"$f":"IFERROR(INDEX(CALC_BASE!$O$3:$O$52,MATCH(ROW()-7,CALC_BASE!$M$3:$M$52,0)),\"\")","v":""},{"$f":"IFERROR(INDEX(CALC_BASE!$P$3:$P$52,MATCH(ROW()-7,CALC_BASE!$M$3:$M$52,0)),\"\")","v":""},{"$f":"IFERROR(IF(D254=\"\",\"\",INDEX(tb_vendas[Preço de Venda],MATCH(D254,tb_vendas[N° Pedido/Empresa],0))/F254),\"\")","v":""},{"$f":"IFERROR(IF(D254=\"\",\"\",INDEX(tb_vendas[Data Fechamento],MATCH(D254,tb_vendas[N° Pedido/Empresa],0))+E254*INDEX(tb_formas_pagamento[Dias_Intervalo],MATCH(INDEX(tb_vendas[Forma_Pagamento],MATCH(D254,tb_vendas[N° Pedido/Empresa],0)),tb_formas_pagamento[Nome_Forma],0))),\"\")","v":""},null,{"$f":"IF(OR(tb_pagamentos[[#This Row],[Data_Vencimento]]=\"\",tb_pagamentos[[#This Row],[Valor_Parcela]]=\"\",tb_pagamentos[[#This Row],[Qtd_Total_Parcelas]]=\"\",tb_pagamentos[[#This Row],[Nr_Pedido]]=\"\"),\"\",IF(tb_pagamentos[[#This Row],[Data_Pagamento]]<>\"\",\"Pago\",IF(AND(tb_pagamentos[[#This Row],[Data_Pagamento]]=\"\",tb_pagamentos[[#This Row],[Data_Vencimento]]<TODAY()),\"Em Atraso\",\"A vencer\")))","v":""}]
[null,null,"",{"$f":"IFERROR(INDEX(CALC_BASE!$N$3:$N$52,MATCH(ROW()-7,CALC_BASE!$M$3:$M$52,0)),\"\")","v":""},{"$f":"IFERROR(INDEX(CALC_BASE!$O$3:$O$52,MATCH(ROW()-7,CALC_BASE!$M$3:$M$52,0)),\"\")","v":""},{"$f":"IFERROR(INDEX(CALC_BASE!$P$3:$P$52,MATCH(ROW()-7,CALC_BASE!$M$3:$M$52,0)),\"\")","v":""},{"$f":"IFERROR(IF(D255=\"\",\"\",INDEX(tb_vendas[Preço de Venda],MATCH(D255,tb_vendas[N° Pedido/Empresa],0))/F255),\"\")","v":""},{"$f":"IFERROR(IF(D255=\"\",\"\",INDEX(tb_vendas[Data Fechamento],MATCH(D255,tb_vendas[N° Pedido/Empresa],0))+E255*INDEX(tb_formas_pagamento[Dias_Intervalo],MATCH(INDEX(tb_vendas[Forma_Pagamento],MATCH(D255,tb_vendas[N° Pedido/Empresa],0)),tb_formas_pagamento[Nome_Forma],0))),\"\")","v":""},null,{"$f":"IF(OR(tb_pagamentos[[#This Row],[Data_Vencimento]]=\"\",tb_pagamentos[[#This Row],[Valor_Parcela]]=\"\",tb_pagamentos[[#This Row],[Qtd_Total_Parcelas]]=\"\",tb_pagamentos[[#This Row],[Nr_Pedido]]=\"\"),\"\",IF(tb_pagamentos[[#This Row],[Data_Pagamento]]<>\"\",\"Pago\",IF(AND(tb_pagamentos[[#This Row],[Data_Pagamento]]=\"\",tb_pagamentos[[#This Row],[Data_Vencimento]]<TODAY()),\"Em Atraso\",\"A vencer\")))","v":""}]
[null,null,"",{"$f":"IFERROR(INDEX(CALC_BASE!$N$3:$N$52,MATCH(ROW()-7,CALC_BASE!$M$3:$M$52,0)),\"\")","v":""},{"$f":"IFERROR(INDEX(CALC_BASE!$O$3:$O$52,MATCH(ROW()-7,CALC_BASE!$M$3:$M$52,0)),\"\")","v":""},{"$f":"IFERROR(INDEX(CALC_BASE!$P$3:$P$52,MATCH(ROW()-7,CALC_BASE!$M$3:$M$52,0)),\"\")","v":""},{"$f":"IFERROR(IF(D256=\"\",\"\",INDEX(tb_vendas[Preço de Venda],MATCH(D256,tb_vendas[N° Pedido/Empresa],0))/F256),\"\")","v":""},{"$f":"IFERROR(IF(D256=\"\",\"\",INDEX(tb_vendas[Data Fechamento],MATCH(D256,tb_vendas[N° Pedido/Empresa],0))+E256*INDEX(tb_formas_pagamento[Dias_Intervalo],MATCH(INDEX(tb_vendas[Forma_Pagamento],MATCH(D256,tb_vendas[N° Pedido/Empresa],0)),tb_formas_pagamento[Nome_Forma],0))),\"\")","v":""},null,{"$f":"IF(OR(tb_pagamentos[[#This Row],[Data_Vencimento]]=\"\",tb_pagamentos[[#This Row],[Valor_Parcela]]=\"\",tb_pagamentos[[#This Row],[Qtd_Total_Parcelas]]=\"\",tb_pagamentos[[#This Row],[Nr_Pedido]]=\"\"),\"\",IF(tb_pagamentos[[#This Row],[Data_Pagamento]]<>\"\",\"Pago\",IF(AND(tb_pagamentos[[#This Row],[Data_Pagamento]]=\"\",tb_pagamentos[[#This Row],[Data_Vencimento]]<TODAY()),\"Em Atraso\",\"A vencer\")))","v":""}]
[null,null,"",{"$f":"IFERROR(INDEX(CALC_BASE!$N$3:$N$52,MATCH(ROW()-7,CALC_BASE!$M$3:$M$52,0)),\"\")","v":""},{"$f":"IFERROR(INDEX(CALC_BASE!$O$3:$O$52,MATCH(ROW()-7,CALC_BASE!$M$3:$M$52,0)),\"\")","v":""},{"$f":"IFERROR(INDEX(CALC_BASE!$P$3:$P$52,MATCH(ROW()-7,CALC_BASE!$M$3:$M$52,0)),\"\")","v":""},{"$f":"IFERROR(IF(D257=\"\",\"\",INDEX(tb_vendas[Preço de Venda],MATCH(D257,tb_vendas[N° Pedido/Empresa],0))/F257),\"\")","v":""},{"$f":"IFERROR(IF(D257=\"\",\"\",INDEX(tb_vendas[Data Fechamento],MATCH(D257,tb_vendas[N° Pedido/Empresa],0))+E257*INDEX(tb_formas_pagamento[Dias_Intervalo],MATCH(INDEX(tb_vendas[Forma_Pagamento],MATCH(D257,tb_vendas[N° Pedido/Empresa],0)),tb_formas_pagamento[Nome_Forma],0))),\"\")","v":""},null,{"$f":"IF(OR(tb_pagamentos[[#This Row],[Data_Vencimento]]=\"\",tb_pagamentos[[#This Row],[Valor_Parcela]]=\"\",tb_pagamentos[[#This Row],[Qtd_Total_Parcelas]]=\"\",tb_pagamentos[[#This Row],[Nr_Pedido]]=\"\"),\"\",IF(tb_pagamentos[[#This Row],[Data_Pagamento]]<>\"\",\"Pago\",IF(AND(tb_pagamentos[[#This Row],[Data_Pagamento]]=\"\",tb_pagamentos[[#This Row],[Data_Vencimento]]<TODAY()),\"Em Atraso\",\"A vencer\")))","v":""}]
[null,null,"",{"$f":"IFERROR(INDEX(CALC_BASE!$N$3:$N$52,MATCH(ROW()-7,CALC_BASE!$M$3:$M$52,0)),\"\")","v":""},{"$f":"IFERROR(INDEX(CALC_BASE!$O$3:$O$52,MATCH(ROW()-7,CALC_BASE!$M$3:$M$52,0)),\"\")","v":""},{"$f":"IFERROR(INDEX(CALC_BASE!$P$3:$P$52,MATCH(ROW()-7,CALC_BASE!$M$3:$M$52,0)),\"\")","v":""},{"$f":"IFERROR(IF(D258=\"\",\"\",INDEX(tb_vendas[Preço de Venda],MATCH(D258,tb_vendas[N° Pedido/Empresa],0))/F258),\"\")","v":""},{"$f":"IFERROR(IF(D258=\"\",\"\",INDEX(tb_vendas[Data Fechamento],MATCH(D258,tb_vendas[N° Pedido/Empresa],0))+E258*INDEX(tb_formas_pagamento[Dias_Intervalo],MATCH(INDEX(tb_vendas[Forma_Pagamento],MATCH(D258,tb_vendas[N° Pedido/Empresa],0)),tb_formas_pagamento[Nome_Forma],0))),\"\")","v":""},null,{"$f":"IF(OR(tb_pagamentos[[#This Row],[Data_Vencimento]]=\"\",tb_pagamentos[[#This Row],[Valor_Parcela]]=\"\",tb_pagamentos[[#This Row],[Qtd_Total_Parcelas]]=\"\",tb_pagamentos[[#This Row],[Nr_Pedido]]=\"\"),\"\",IF(tb_pagamentos[[#This Row],[Data_Pagamento]]<>\"\",\"Pago\",IF(AND(tb_pagamentos[[#This Row],[Data_Pagamento]]=\"\",tb_pagamentos[[#This Row],[Data_Vencimento]]<TODAY()),\"Em Atraso\",\"A vencer\")))","v":""}]
[null,null,"",{"$f":"IFERROR(INDEX(CALC_BASE!$N$3:$N$52,MATCH(ROW()-7,CALC_BASE!$M$3:$M$52,0)),\"\")","v":""},{"$f":"IFERROR(INDEX(CALC_BASE!$O$3:$O$52,MATCH(ROW()-7,CALC_BASE!$M$3:$M$52,0)),\"\")","v":""},{"$f":"IFERROR(INDEX(CALC_BASE!$P$3:$P$52,MATCH(ROW()-7,CALC_BASE!$M$3:$M$52,0)),\"\")","v":""},{"$f":"IFERROR(IF(D259=\"\",\"\",INDEX(tb_vendas[Preço de Venda],MATCH(D259,tb_vendas[N° Pedido/Empresa],0))/F259),\"\")","v":""},{"$f":"IFERROR(IF(D259=\"\",\"\",INDEX(tb_vendas[Data Fechamento],MATCH(D259,tb_vendas[N° Pedido/Empresa],0))+E259*INDEX(tb_formas_pagamento[Dias_Intervalo],MATCH(INDEX(tb_vendas[Forma_Pagamento],MATCH(D259,tb_vendas[N° Pedido/Empresa],0)),tb_formas_pagamento[Nome_Forma],0))),\"\")","v":""},null,{"$f":"IF(OR(tb_pagamentos[[#This Row],[Data_Vencimento]]=\"\",tb_pagamentos[[#This Row],[Valor_Parcela]]=\"\",tb_pagamentos[[#This Row],[Qtd_Total_Parcelas]]=\"\",tb_pagamentos[[#This Row],[Nr_Pedido]]=\"\"),\"\",IF(tb_pagamentos[[#This Row],[Data_Pagamento]]<>\"\",\"Pago\",IF(AND(tb_pagamentos[[#This Row],[Data_Pagamento]]=\"\",tb_pagamentos[[#This Row],[Data_Vencimento]]<TODAY()),\"Em Atraso\",\"A vencer\")))","v":""}]
[null,null,"",{"$f":"IFERROR(INDEX(CALC_BASE!$N$3:$N$52,MATCH(ROW()-7,CALC_BASE!$M$3:$M$52,0)),\"\")","v":""},{"$f":"IFERROR(INDEX(CALC_BASE!$O$3:$O$52,MATCH(ROW()-7,CALC_BASE!$M$3:$M$52,0)),\"\")","v":""},{"$f":"IFERROR(INDEX(CALC_BASE!$P$3:$P$52,MATCH(ROW()-7,CALC_BASE!$M$3:$M$52,0)),\"\")","v":""},{"$f":"IFERROR(IF(D260=\"\",\"\",INDEX(tb_vendas[Preço de Venda],MATCH(D260,tb_vendas[N° Pedido/Empresa],0))/F260),\"\")","v":""},{"$f":"IFERROR(IF(D260=\"\",\"\",INDEX(tb_vendas[Data Fechamento],MATCH(D260,tb_vendas[N° Pedido/Empresa],0))+E260*INDEX(tb_formas_pagamento[Dias_Intervalo],MATCH(INDEX(tb_vendas[Forma_Pagamento],MATCH(D260,tb_vendas[N° Pedido/Empresa],0)),tb_formas_pagamento[Nome_Forma],0))),\"\")","v":""},null,{"$f":"IF(OR(tb_pagamentos[[#This Row],[Data_Vencimento]]=\"\",tb_pagamentos[[#This Row],[Valor_Parcela]]=\"\",tb_pagamentos[[#This Row],[Qtd_Total_Parcelas]]=\"\",tb_pagamentos[[#This Row],[Nr_Pedido]]=\"\"),\"\",IF(tb_pagamentos[[#This Row],[Data_Pagamento]]<>\"\",\"Pago\",IF(AND(tb_pagamentos[[#This Row],[Data_Pagamento]]=\"\",tb_pagamentos[[#This Row],[Data_Vencimento]]<TODAY()),\"Em Atraso\",\"A vencer\")))","v":""}]
[null,null,"",{"$f":"IFERROR(INDEX(CALC_BASE!$N$3:$N$52,MATCH(ROW()-7,CALC_BASE!$M$3:$M$52,0)),\"\")","v":""},{"$f":"IFERROR(INDEX(CALC_BASE!$O$3:$O$52,MATCH(ROW()-7,CALC_BASE!$M$3:$M$52,0)),\"\")","v":""},{"$f":"IFERROR(INDEX(CALC_BASE!$P$3:$P$52,MATCH(ROW()-7,CALC_BASE!$M$3:$M$52,0)),\"\")","v":""},{"$f":"IFERROR(IF(D261=\"\",\"\",INDEX(tb_vendas[Preço de Venda],MATCH(D261,tb_vendas[N° Pedido/Empresa],0))/F261),\"\")","v":""},{"$f":"IFERROR(IF(D261=\"\",\"\",INDEX(tb_vendas[Data Fechamento],MATCH(D261,tb_vendas[N° Pedido/Empresa],0))+E261*INDEX(tb_formas_pagamento[Dias_Intervalo],MATCH(INDEX(tb_vendas[Forma_Pagamento],MATCH(D261,tb_vendas[N° Pedido/Empresa],0)),tb_formas_pagamento[Nome_Forma],0))),\"\")","v":""},null,{"$f":"IF(OR(tb_pagamentos[[#This Row],[Data_Vencimento]]=\"\",tb_pagamentos[[#This Row],[Valor_Parcela]]=\"\",tb_pagamentos[[#This Row],[Qtd_Total_Parcelas]]=\"\",tb_pagamentos[[#This Row],[Nr_Pedido]]=\"\"),\"\",IF(tb_pagamentos[[#This Row],[Data_Pagamento]]<>\"\",\"Pago\",IF(AND(tb_pagamentos[[#This Row],[Data_Pagamento]]=\"\",tb_pagamentos[[#This Row],[Data_Vencimento]]<TODAY()),\"Em Atraso\",\"A vencer\")))","v":""}]
[null,null,"",{"$f":"IFERROR(INDEX(CALC_BASE!$N$3:$N$52,MATCH(ROW()-7,CALC_BASE!$M$3:$M$52,0)),\"\")","v":""},{"$f":"IFERROR(INDEX(CALC_BASE!$O$3:$O$52,MATCH(ROW()-7,CALC_BASE!$M$3:$M$52,0)),\"\")","v":""},{"$f":"IFERROR(INDEX(CALC_BASE!$P$3:$P$52,MATCH(ROW()-7,CALC_BASE!$M$3:$M$52,0)),\"\")","v":""},{"$f":"IFERROR(IF(D262=\"\",\"\",INDEX(tb_vendas[Preço de Venda],MATCH(D262,tb_vendas[N° Pedido/Empresa],0))/F262),\"\")","v":""},{"$f":"IFERROR(IF(D262=\"\",\"\",INDEX(tb_vendas[Data Fechamento],MATCH(D262,tb_vendas[N° Pedido/Empresa],0))+E262*INDEX(tb_formas_pagamento[Dias_Intervalo],MATCH(INDEX(tb_vendas[Forma_Pagamento],MATCH(D262,tb_vendas[N° Pedido/Empresa],0)),tb_formas_pagamento[Nome_Forma],0))),\"\")","v":""},null,{"$f":"IF(OR(tb_pagamentos[[#This Row],[Data_Vencimento]]=\"\",tb_pagamentos[[#This Row],[Valor_Parcela]]=\"\",tb_pagamentos[[#This Row],[Qtd_Total_Parcelas]]=\"\",tb_pagamentos[[#This Row],[Nr_Pedido]]=\"\"),\"\",IF(tb_pagamentos[[#This Row],[Data_Pagamento]]<>\"\",\"Pago\",IF(AND(tb_pagamentos[[#This Row],[Data_Pagamento]]=\"\",tb_pagamentos[[#This Row],[Data_Vencimento]]<TODAY()),\"Em Atraso\",\"A vencer\")))","v":""}]
[null,null,"",{"$f":"IFERROR(INDEX(CALC_BASE!$N$3:$N$52,MATCH(ROW()-7,CALC_BASE!$M$3:$M$52,0)),\"\")","v":""},{"$f":"IFERROR(INDEX(CALC_BASE!$O$3:$O$52,MATCH(ROW()-7,CALC_BASE!$M$3:$M$52,0)),\"\")","v":""},{"$f":"IFERROR(INDEX(CALC_BASE!$P$3:$P$52,MATCH(ROW()-7,CALC_BASE!$M$3:$M$52,0)),\"\")","v":""},{"$f":"IFERROR(IF(D263=\"\",\"\",INDEX(tb_vendas[Preço de Venda],MATCH(D263,tb_vendas[N° Pedido/Empresa],0))/F263),\"\")","v":""},{"$f":"IFERROR(IF(D263=\"\",\"\",INDEX(tb_vendas[Data Fechamento],MATCH(D263,tb_vendas[N° Pedido/Empresa],0))+E263*INDEX(tb_formas_pagamento[Dias_Intervalo],MATCH(INDEX(tb_vendas[Forma_Pagamento],MATCH(D263,tb_vendas[N° Pedido/Empresa],0)),tb_formas_pagamento[Nome_Forma],0))),\"\")","v":""},null,{"$f":"IF(OR(tb_pagamentos[[#This Row],[Data_Vencimento]]=\"\",tb_pagamentos[[#This Row],[Valor_Parcela]]=\"\",tb_pagamentos[[#This Row],[Qtd_Total_Parcelas]]=\"\",tb_pagamentos[[#This Row],[Nr_Pedido]]=\"\"),\"\",IF(tb_pagamentos[[#This Row],[Data_Pagamento]]<>\"\",\"Pago\",IF(AND(tb_pagamentos[[#This Row],[Data_Pagamento]]=\"\",tb_pagamentos[[#This Row],[Data_Vencimento]]<TODAY()),\"Em Atraso\",\"A vencer\")))","v":""}]
[null,null,"",{"$f":"IFERROR(INDEX(CALC_BASE!$N$3:$N$52,MATCH(ROW()-7,CALC_BASE!$M$3:$M$52,0)),\"\")","v":""},{"$f":"IFERROR(INDEX(CALC_BASE!$O$3:$O$52,MATCH(ROW()-7,CALC_BASE!$M$3:$M$52,0)),\"\")","v":""},{"$f":"IFERROR(INDEX(CALC_BASE!$P$3:$P$52,MATCH(ROW()-7,CALC_BASE!$M$3:$M$52,0)),\"\")","v":""},{"$f":"IFERROR(IF(D264=\"\",\"\",INDEX(tb_vendas[Preço de Venda],MATCH(D264,tb_vendas[N° Pedido/Empresa],0))/F264),\"\")","v":""},{"$f":"IFERROR(IF(D264=\"\",\"\",INDEX(tb_vendas[Data Fechamento],MATCH(D264,tb_vendas[N° Pedido/Empresa],0))+E264*INDEX(tb_formas_pagamento[Dias_Intervalo],MATCH(INDEX(tb_vendas[Forma_Pagamento],MATCH(D264,tb_vendas[N° Pedido/Empresa],0)),tb_formas_pagamento[Nome_Forma],0))),\"\")","v":""},null,{"$f":"IF(OR(tb_pagamentos[[#This Row],[Data_Vencimento]]=\"\",tb_pagamentos[[#This Row],[Valor_Parcela]]=\"\",tb_pagamentos[[#This Row],[Qtd_Total_Parcelas]]=\"\",tb_pagamentos[[#This Row],[Nr_Pedido]]=\"\"),\"\",IF(tb_pagamentos[[#This Row],[Data_Pagamento]]<>\"\",\"Pago\",IF(AND(tb_pagamentos[[#This Row],[Data_Pagamento]]=\"\",tb_pagamentos[[#This Row],[Data_Vencimento]]<TODAY()),\"Em Atraso\",\"A vencer\")))","v":""}]
[null,null,"",{"$f":"IFERROR(INDEX(CALC_BASE!$N$3:$N$52,MATCH(ROW()-7,CALC_BASE!$M$3:$M$52,0)),\"\")","v":""},{"$f":"IFERROR(INDEX(CALC_BASE!$O$3:$O$52,MATCH(ROW()-7,CALC_BASE!$M$3:$M$52,0)),\"\")","v":""},{"$f":"IFERROR(INDEX(CALC_BASE!$P$3:$P$52,MATCH(ROW()-7,CALC_BASE!$M$3:$M$52,0)),\"\")","v":""},{"$f":"IFERROR(IF(D265=\"\",\"\",INDEX(tb_vendas[Preço de Venda],MATCH(D265,tb_vendas[N° Pedido/Empresa],0))/F265),\"\")","v":""},{"$f":"IFERROR(IF(D265=\"\",\"\",INDEX(tb_vendas[Data Fechamento],MATCH(D265,tb_vendas[N° Pedido/Empresa],0))+E265*INDEX(tb_formas_pagamento[Dias_Intervalo],MATCH(INDEX(tb_vendas[Forma_Pagamento],MATCH(D265,tb_vendas[N° Pedido/Empresa],0)),tb_formas_pagamento[Nome_Forma],0))),\"\")","v":""},null,{"$f":"IF(OR(tb_pagamentos[[#This Row],[Data_Vencimento]]=\"\",tb_pagamentos[[#This Row],[Valor_Parcela]]=\"\",tb_pagamentos[[#This Row],[Qtd_Total_Parcelas]]=\"\",tb_pagamentos[[#This Row],[Nr_Pedido]]=\"\"),\"\",IF(tb_pagamentos[[#This Row],[Data_Pagamento]]<>\"\",\"Pago\",IF(AND(tb_pagamentos[[#This Row],[Data_Pagamento]]=\"\",tb_pagamentos[[#This Row],[Data_Vencimento]]<TODAY()),\"Em Atraso\",\"A vencer\")))","v":""}]
[null,null,"",{"$f":"IFERROR(INDEX(CALC_BASE!$N$3:$N$52,MATCH(ROW()-7,CALC_BASE!$M$3:$M$52,0)),\"\")","v":""},{"$f":"IFERROR(INDEX(CALC_BASE!$O$3:$O$52,MATCH(ROW()-7,CALC_BASE!$M$3:$M$52,0)),\"\")","v":""},{"$f":"IFERROR(INDEX(CALC_BASE!$P$3:$P$52,MATCH(ROW()-7,CALC_BASE!$M$3:$M$52,0)),\"\")","v":""},{"$f":"IFERROR(IF(D266=\"\",\"\",INDEX(tb_vendas[Preço de Venda],MATCH(D266,tb_vendas[N° Pedido/Empresa],0))/F266),\"\")","v":""},{"$f":"IFERROR(IF(D266=\"\",\"\",INDEX(tb_vendas[Data Fechamento],MATCH(D266,tb_vendas[N° Pedido/Empresa],0))+E266*INDEX(tb_formas_pagamento[Dias_Intervalo],MATCH(INDEX(tb_vendas[Forma_Pagamento],MATCH(D266,tb_vendas[N° Pedido/Empresa],0)),tb_formas_pagamento[Nome_Forma],0))),\"\")","v":""},null,{"$f":"IF(OR(tb_pagamentos[[#This Row],[Data_Vencimento]]=\"\",tb_pagamentos[[#This Row],[Valor_Parcela]]=\"\",tb_pagamentos[[#This Row],[Qtd_Total_Parcelas]]=\"\",tb_pagamentos[[#This Row],[Nr_Pedido]]=\"\"),\"\",IF(tb_pagamentos[[#This Row],[Data_Pagamento]]<>\"\",\"Pago\",IF(AND(tb_pagamentos[[#This Row],[Data_Pagamento]]=\"\",tb_pagamentos[[#This Row],[Data_Vencimento]]<TODAY()),\"Em Atraso\",\"A vencer\")))","v":""}]
[null,null,"",{"$f":"IFERROR(INDEX(CALC_BASE!$N$3:$N$52,MATCH(ROW()-7,CALC_BASE!$M$3:$M$52,0)),\"\")","v":""},{"$f":"IFERROR(INDEX(CALC_BASE!$O$3:$O$52,MATCH(ROW()-7,CALC_BASE!$M$3:$M$52,0)),\"\")","v":""},{"$f":"IFERROR(INDEX(CALC_BASE!$P$3:$P$52,MATCH(ROW()-7,CALC_BASE!$M$3:$M$52,0)),\"\")","v":""},{"$f":"IFERROR(IF(D267=\"\",\"\",INDEX(tb_vendas[Preço de Venda],MATCH(D267,tb_vendas[N° Pedido/Empresa],0))/F267),\"\")","v":""},{"$f":"IFERROR(IF(D267=\"\",\"\",INDEX(tb_vendas[Data Fechamento],MATCH(D267,tb_vendas[N° Pedido/Empresa],0))+E267*INDEX(tb_formas_pagamento[Dias_Intervalo],MATCH(INDEX(tb_vendas[Forma_Pagamento],MATCH(D267,tb_vendas[N° Pedido/Empresa],0)),tb_formas_pagamento[Nome_Forma],0))),\"\")","v":""},null,{"$f":"IF(OR(tb_pagamentos[[#This Row],[Data_Vencimento]]=\"\",tb_pagamentos[[#This Row],[Valor_Parcela]]=\"\",tb_pagamentos[[#This Row],[Qtd_Total_Parcelas]]=\"\",tb_pagamentos[[#This Row],[Nr_Pedido]]=\"\"),\"\",IF(tb_pagamentos[[#This Row],[Data_Pagamento]]<>\"\",\"Pago\",IF(AND(tb_pagamentos[[#This Row],[Data_Pagamento]]=\"\",tb_pagamentos[[#This Row],[Data_Vencimento]]<TODAY()),\"Em Atraso\",\"A vencer\")))","v":""}]
[null,null,"",{"$f":"IFERROR(INDEX(CALC_BASE!$N$3:$N$52,MATCH(ROW()-7,CALC_BASE!$M$3:$M$52,0)),\"\")","v":""},{"$f":"IFERROR(INDEX(CALC_BASE!$O$3:$O$52,MATCH(ROW()-7,CALC_BASE!$M$3:$M$52,0)),\"\")","v":""},{"$f":"IFERROR(INDEX(CALC_BASE!$P$3:$P$52,MATCH(ROW()-7,CALC_BASE!$M$3:$M$52,0)),\"\")","v":""},{"$f":"IFERROR(IF(D268=\"\",\"\",INDEX(tb_vendas[Preço de Venda],MATCH(D268,tb_vendas[N° Pedido/Empresa],0))/F268),\"\")","v":""},{"$f":"IFERROR(IF(D268=\"\",\"\",INDEX(tb_vendas[Data Fechamento],MATCH(D268,tb_vendas[N° Pedido/Empresa],0))+E268*INDEX(tb_formas_pagamento[Dias_Intervalo],MATCH(INDEX(tb_vendas[Forma_Pagamento],MATCH(D268,tb_vendas[N° Pedido/Empresa],0)),tb_formas_pagamento[Nome_Forma],0))),\"\")","v":""},null,{"$f":"IF(OR(tb_pagamentos[[#This Row],[Data_Vencimento]]=\"\",tb_pagamentos[[#This Row],[Valor_Parcela]]=\"\",tb_pagamentos[[#This Row],[Qtd_Total_Parcelas]]=\"\",tb_pagamentos[[#This Row],[Nr_Pedido]]=\"\"),\"\",IF(tb_pagamentos[[#This Row],[Data_Pagamento]]<>\"\",\"Pago\",IF(AND(tb_pagamentos[[#This Row],[Data_Pagamento]]=\"\",tb_pagamentos[[#This Row],[Data_Vencimento]]<TODAY()),\"Em Atraso\",\"A vencer\")))","v":""}]
[null,null,"",{"$f":"IFERROR(INDEX(CALC_BASE!$N$3:$N$52,MATCH(ROW()-7,CALC_BASE!$M$3:$M$52,0)),\"\")","v":""},{"$f":"IFERROR(INDEX(CALC_BASE!$O$3:$O$52,MATCH(ROW()-7,CALC_BASE!$M$3:$M$52,0)),\"\")","v":""},{"$f":"IFERROR(INDEX(CALC_BASE!$P$3:$P$52,MATCH(ROW()-7,CALC_BASE!$M$3:$M$52,0)),\"\")","v":""},{"$f":"IFERROR(IF(D269=\"\",\"\",INDEX(tb_vendas[Preço de Venda],MATCH(D269,tb_vendas[N° Pedido/Empresa],0))/F269),\"\")","v":""},{"$f":"IFERROR(IF(D269=\"\",\"\",INDEX(tb_vendas[Data Fechamento],MATCH(D269,tb_vendas[N° Pedido/Empresa],0))+E269*INDEX(tb_formas_pagamento[Dias_Intervalo],MATCH(INDEX(tb_vendas[Forma_Pagamento],MATCH(D269,tb_vendas[N° Pedido/Empresa],0)),tb_formas_pagamento[Nome_Forma],0))),\"\")","v":""},null,{"$f":"IF(OR(tb_pagamentos[[#This Row],[Data_Vencimento]]=\"\",tb_pagamentos[[#This Row],[Valor_Parcela]]=\"\",tb_pagamentos[[#This Row],[Qtd_Total_Parcelas]]=\"\",tb_pagamentos[[#This Row],[Nr_Pedido]]=\"\"),\"\",IF(tb_pagamentos[[#This Row],[Data_Pagamento]]<>\"\",\"Pago\",IF(AND(tb_pagamentos[[#This Row],[Data_Pagamento]]=\"\",tb_pagamentos[[#This Row],[Data_Vencimento]]<TODAY()),\"Em Atraso\",\"A vencer\")))","v":""}]
[null,null,"",{"$f":"IFERROR(INDEX(CALC_BASE!$N$3:$N$52,MATCH(ROW()-7,CALC_BASE!$M$3:$M$52,0)),\"\")","v":""},{"$f":"IFERROR(INDEX(CALC_BASE!$O$3:$O$52,MATCH(ROW()-7,CALC_BASE!$M$3:$M$52,0)),\"\")","v":""},{"$f":"IFERROR(INDEX(CALC_BASE!$P$3:$P$52,MATCH(ROW()-7,CALC_BASE!$M$3:$M$52,0)),\"\")","v":""},{"$f":"IFERROR(IF(D270=\"\",\"\",INDEX(tb_vendas[Preço de Venda],MATCH(D270,tb_vendas[N° Pedido/Empresa],0))/F270),\"\")","v":""},{"$f":"IFERROR(IF(D270=\"\",\"\",INDEX(tb_vendas[Data Fechamento],MATCH(D270,tb_vendas[N° Pedido/Empresa],0))+E270*INDEX(tb_formas_pagamento[Dias_Intervalo],MATCH(INDEX(tb_vendas[Forma_Pagamento],MATCH(D270,tb_vendas[N° Pedido/Empresa],0)),tb_formas_pagamento[Nome_Forma],0))),\"\")","v":""},null,{"$f":"IF(OR(tb_pagamentos[[#This Row],[Data_Vencimento]]=\"\",tb_pagamentos[[#This Row],[Valor_Parcela]]=\"\",tb_pagamentos[[#This Row],[Qtd_Total_Parcelas]]=\"\",tb_pagamentos[[#This Row],[Nr_Pedido]]=\"\"),\"\",IF(tb_pagamentos[[#This Row],[Data_Pagamento]]<>\"\",\"Pago\",IF(AND(tb_pagamentos[[#This Row],[Data_Pagamento]]=\"\",tb_pagamentos[[#This Row],[Data_Vencimento]]<TODAY()),\"Em Atraso\",\"A vencer\")))","v":""}]
[null,null,{"$f":"IF(OR(D271=\"\",E271=\"\"),\"\",D271&\"-\"&E271)","v":""},{"$f":"IFERROR(INDEX(CALC_BASE!$N$3:$N$52,MATCH(ROW()-7,CALC_BASE!$M$3:$M$52,0)),\"\")","v":""},{"$f":"IFERROR(INDEX(CALC_BASE!$O$3:$O$52,MATCH(ROW()-7,CALC_BASE!$M$3:$M$52,0)),\"\")","v":""},{"$f":"IFERROR(INDEX(CALC_BASE!$P$3:$P$52,MATCH(ROW()-7,CALC_BASE!$M$3:$M$52,0)),\"\")","v":""},{"$f":"IFERROR(IF(D271=\"\",\"\",INDEX(tb_vendas[Preço de Venda],MATCH(D271,tb_vendas[N° Pedido/Empresa],0))/F271),\"\")","v":""},{"$f":"IFERROR(IF(D271=\"\",\"\",INDEX(tb_vendas[Data Fechamento],MATCH(D271,tb_vendas[N° Pedido/Empresa],0))+E271*INDEX(tb_formas_pagamento[Dias_Intervalo],MATCH(INDEX(tb_vendas[Forma_Pagamento],MATCH(D271,tb_vendas[N° Pedido/Empresa],0)),tb_formas_pagamento[Nome_Forma],0))),\"\")","v":""},null,{"$f":"IF(OR(tb_pagamentos[[#This Row],[Data_Vencimento]]=\"\",tb_pagamentos[[#This Row],[Valor_Parcela]]=\"\",tb_pagamentos[[#This Row],[Qtd_Total_Parcelas]]=\"\",tb_pagamentos[[#This Row],[Nr_Pedido]]=\"\"),\"\",IF(tb_pagamentos[[#This Row],[Data_Pagamento]]<>\"\",\"Pago\",IF(AND(tb_pagamentos[[#This Row],[Data_Pagamento]]=\"\",tb_pagamentos[[#This Row],[Data_Vencimento]]<TODAY()),\"Em Atraso\",\"A vencer\")))","v":""}]
[null,null,"",{"$f":"IFERROR(INDEX(CALC_BASE!$N$3:$N$52,MATCH(ROW()-7,CALC_BASE!$M$3:$M$52,0)),\"\")","v":""},{"$f":"IFERROR(INDEX(CALC_BASE!$O$3:$O$52,MATCH(ROW()-7,CALC_BASE!$M$3:$M$52,0)),\"\")","v":""},{"$f":"IFERROR(INDEX(CALC_BASE!$P$3:$P$52,MATCH(ROW()-7,CALC_BASE!$M$3:$M$52,0)),\"\")","v":""},{"$f":"IFERROR(IF(D272=\"\",\"\",INDEX(tb_vendas[Preço de Venda],MATCH(D272,tb_vendas[N° Pedido/Empresa],0))/F272),\"\")","v":""},{"$f":"IFERROR(IF(D272=\"\",\"\",INDEX(tb_vendas[Data Fechamento],MATCH(D272,tb_vendas[N° Pedido/Empresa],0))+E272*INDEX(tb_formas_pagamento[Dias_Intervalo],MATCH(INDEX(tb_vendas[Forma_Pagamento],MATCH(D272,tb_vendas[N° Pedido/Empresa],0)),tb_formas_pagamento[Nome_Forma],0))),\"\")","v":""},null,{"$f":"IF(OR(tb_pagamentos[[#This Row],[Data_Vencimento]]=\"\",tb_pagamentos[[#This Row],[Valor_Parcela]]=\"\",tb_pagamentos[[#This Row],[Qtd_Total_Parcelas]]=\"\",tb_pagamentos[[#This Row],[Nr_Pedido]]=\"\"),\"\",IF(tb_pagamentos[[#This Row],[Data_Pagamento]]<>\"\",\"Pago\",IF(AND(tb_pagamentos[[#This Row],[Data_Pagamento]]=\"\",tb_pagamentos[[#This Row],[Data_Vencimento]]<TODAY()),\"Em Atraso\",\"A vencer\")))","v":""}]
[null,null,"",{"$f":"IFERROR(INDEX(CALC_BASE!$N$3:$N$52,MATCH(ROW()-7,CALC_BASE!$M$3:$M$52,0)),\"\")","v":""},{"$f":"IFERROR(INDEX(CALC_BASE!$O$3:$O$52,MATCH(ROW()-7,CALC_BASE!$M$3:$M$52,0)),\"\")","v":""},{"$f":"IFERROR(INDEX(CALC_BASE!$P$3:$P$52,MATCH(ROW()-7,CALC_BASE!$M$3:$M$52,0)),\"\")","v":""},{"$f":"IFERROR(IF(D273=\"\",\"\",INDEX(tb_vendas[Preço de Venda],MATCH(D273,tb_vendas[N° Pedido/Empresa],0))/F273),\"\")","v":""},{"$f":"IFERROR(IF(D273=\"\",\"\",INDEX(tb_vendas[Data Fechamento],MATCH(D273,tb_vendas[N° Pedido/Empresa],0))+E273*INDEX(tb_formas_pagamento[Dias_Intervalo],MATCH(INDEX(tb_vendas[Forma_Pagamento],MATCH(D273,tb_vendas[N° Pedido/Empresa],0)),tb_formas_pagamento[Nome_Forma],0))),\"\")","v":""},null,{"$f":"IF(OR(tb_pagamentos[[#This Row],[Data_Vencimento]]=\"\",tb_pagamentos[[#This Row],[Valor_Parcela]]=\"\",tb_pagamentos[[#This Row],[Qtd_Total_Parcelas]]=\"\",tb_pagamentos[[#This Row],[Nr_Pedido]]=\"\"),\"\",IF(tb_pagamentos[[#This Row],[Data_Pagamento]]<>\"\",\"Pago\",IF(AND(tb_pagamentos[[#This Row],[Data_Pagamento]]=\"\",tb_pagamentos[[#This Row],[Data_Vencimento]]<TODAY()),\"Em Atraso\",\"A vencer\")))","v":""}]
[null,null,"",{"$f":"IFERROR(INDEX(CALC_BASE!$N$3:$N$52,MATCH(ROW()-7,CALC_BASE!$M$3:$M$52,0)),\"\")","v":""},{"$f":"IFERROR(INDEX(CALC_BASE!$O$3:$O$52,MATCH(ROW()-7,CALC_BASE!$M$3:$M$52,0)),\"\")","v":""},{"$f":"IFERROR(INDEX(CALC_BASE!$P$3:$P$52,MATCH(ROW()-7,CALC_BASE!$M$3:$M$52,0)),\"\")","v":""},{"$f":"IFERROR(IF(D274=\"\",\"\",INDEX(tb_vendas[Preço de Venda],MATCH(D274,tb_vendas[N° Pedido/Empresa],0))/F274),\"\")","v":""},{"$f":"IFERROR(IF(D274=\"\",\"\",INDEX(tb_vendas[Data Fechamento],MATCH(D274,tb_vendas[N° Pedido/Empresa],0))+E274*INDEX(tb_formas_pagamento[Dias_Intervalo],MATCH(INDEX(tb_vendas[Forma_Pagamento],MATCH(D274,tb_vendas[N° Pedido/Empresa],0)),tb_formas_pagamento[Nome_Forma],0))),\"\")","v":""},null,{"$f":"IF(OR(tb_pagamentos[[#This Row],[Data_Vencimento]]=\"\",tb_pagamentos[[#This Row],[Valor_Parcela]]=\"\",tb_pagamentos[[#This Row],[Qtd_Total_Parcelas]]=\"\",tb_pagamentos[[#This Row],[Nr_Pedido]]=\"\"),\"\",IF(tb_pagamentos[[#This Row],[Data_Pagamento]]<>\"\",\"Pago\",IF(AND(tb_pagamentos[[#This Row],[Data_Pagamento]]=\"\",tb_pagamentos[[#This Row],[Data_Vencimento]]<TODAY()),\"Em Atraso\",\"A vencer\")))","v":""}]
[null,null,"",{"$f":"IFERROR(INDEX(CALC_BASE!$N$3:$N$52,MATCH(ROW()-7,CALC_BASE!$M$3:$M$52,0)),\"\")","v":""},{"$f":"IFERROR(INDEX(CALC_BASE!$O$3:$O$52,MATCH(ROW()-7,CALC_BASE!$M$3:$M$52,0)),\"\")","v":""},{"$f":"IFERROR(INDEX(CALC_BASE!$P$3:$P$52,MATCH(ROW()-7,CALC_BASE!$M$3:$M$52,0)),\"\")","v":""},{"$f":"IFERROR(IF(D275=\"\",\"\",INDEX(tb_vendas[Preço de Venda],MATCH(D275,tb_vendas[N° Pedido/Empresa],0))/F275),\"\")","v":""},{"$f":"IFERROR(IF(D275=\"\",\"\",INDEX(tb_vendas[Data Fechamento],MATCH(D275,tb_vendas[N° Pedido/Empresa],0))+E275*INDEX(tb_formas_pagamento[Dias_Intervalo],MATCH(INDEX(tb_vendas[Forma_Pagamento],MATCH(D275,tb_vendas[N° Pedido/Empresa],0)),tb_formas_pagamento[Nome_Forma],0))),\"\")","v":""},null,{"$f":"IF(OR(tb_pagamentos[[#This Row],[Data_Vencimento]]=\"\",tb_pagamentos[[#This Row],[Valor_Parcela]]=\"\",tb_pagamentos[[#This Row],[Qtd_Total_Parcelas]]=\"\",tb_pagamentos[[#This Row],[Nr_Pedido]]=\"\"),\"\",IF(tb_pagamentos[[#This Row],[Data_Pagamento]]<>\"\",\"Pago\",IF(AND(tb_pagamentos[[#This Row],[Data_Pagamento]]=\"\",tb_pagamentos[[#This Row],[Data_Vencimento]]<TODAY()),\"Em Atraso\",\"A vencer\")))","v":""}]
[null,null,"",{"$f":"IFERROR(INDEX(CALC_BASE!$N$3:$N$52,MATCH(ROW()-7,CALC_BASE!$M$3:$M$52,0)),\"\")","v":""},{"$f":"IFERROR(INDEX(CALC_BASE!$O$3:$O$52,MATCH(ROW()-7,CALC_BASE!$M$3:$M$52,0)),\"\")","v":""},{"$f":"IFERROR(INDEX(CALC_BASE!$P$3:$P$52,MATCH(ROW()-7,CALC_BASE!$M$3:$M$52,0)),\"\")","v":""},{"$f":"IFERROR(IF(D276=\"\",\"\",INDEX(tb_vendas[Preço de Venda],MATCH(D276,tb_vendas[N° Pedido/Empresa],0))/F276),\"\")","v":""},{"$f":"IFERROR(IF(D276=\"\",\"\",INDEX(tb_vendas[Data Fechamento],MATCH(D276,tb_vendas[N° Pedido/Empresa],0))+E276*INDEX(tb_formas_pagamento[Dias_Intervalo],MATCH(INDEX(tb_vendas[Forma_Pagamento],MATCH(D276,tb_vendas[N° Pedido/Empresa],0)),tb_formas_pagamento[Nome_Forma],0))),\"\")","v":""},null,{"$f":"IF(OR(tb_pagamentos[[#This Row],[Data_Vencimento]]=\"\",tb_pagamentos[[#This Row],[Valor_Parcela]]=\"\",tb_pagamentos[[#This Row],[Qtd_Total_Parcelas]]=\"\",tb_pagamentos[[#This Row],[Nr_Pedido]]=\"\"),\"\",IF(tb_pagamentos[[#This Row],[Data_Pagamento]]<>\"\",\"Pago\",IF(AND(tb_pagamentos[[#This Row],[Data_Pagamento]]=\"\",tb_pagamentos[[#This Row],[Data_Vencimento]]<TODAY()),\"Em Atraso\",\"A vencer\")))","v":""}]
[null,null,"",{"$f":"IFERROR(INDEX(CALC_BASE!$N$3:$N$52,MATCH(ROW()-7,CALC_BASE!$M$3:$M$52,0)),\"\")","v":""},{"$f":"IFERROR(INDEX(CALC_BASE!$O$3:$O$52,MATCH(ROW()-7,CALC_BASE!$M$3:$M$52,0)),\"\")","v":""},{"$f":"IFERROR(INDEX(CALC_BASE!$P$3:$P$52,MATCH(ROW()-7,CALC_BASE!$M$3:$M$52,0)),\"\")","v":""},{"$f":"IFERROR(IF(D277=\"\",\"\",INDEX(tb_vendas[Preço de Venda],MATCH(D277,tb_vendas[N° Pedido/Empresa],0))/F277),\"\")","v":""},{"$f":"IFERROR(IF(D277=\"\",\"\",INDEX(tb_vendas[Data Fechamento],MATCH(D277,tb_vendas[N° Pedido/Empresa],0))+E277*INDEX(tb_formas_pagamento[Dias_Intervalo],MATCH(INDEX(tb_vendas[Forma_Pagamento],MATCH(D277,tb_vendas[N° Pedido/Empresa],0)),tb_formas_pagamento[Nome_Forma],0))),\"\")","v":""},null,{"$f":"IF(OR(tb_pagamentos[[#This Row],[Data_Vencimento]]=\"\",tb_pagamentos[[#This Row],[Valor_Parcela]]=\"\",tb_pagamentos[[#This Row],[Qtd_Total_Parcelas]]=\"\",tb_pagamentos[[#This Row],[Nr_Pedido]]=\"\"),\"\",IF(tb_pagamentos[[#This Row],[Data_Pagamento]]<>\"\",\"Pago\",IF(AND(tb_pagamentos[[#This Row],[Data_Pagamento]]=\"\",tb_pagamentos[[#This Row],[Data_Vencimento]]<TODAY()),\"Em Atraso\",\"A vencer\")))","v":""}]
[null,null,"",{"$f":"IFERROR(INDEX(CALC_BASE!$N$3:$N$52,MATCH(ROW()-7,CALC_BASE!$M$3:$M$52,0)),\"\")","v":""},{"$f":"IFERROR(INDEX(CALC_BASE!$O$3:$O$52,MATCH(ROW()-7,CALC_BASE!$M$3:$M$52,0)),\"\")","v":""},{"$f":"IFERROR(INDEX(CALC_BASE!$P$3:$P$52,MATCH(ROW()-7,CALC_BASE!$M$3:$M$52,0)),\"\")","v":""},{"$f":"IFERROR(IF(D278=\"\",\"\",INDEX(tb_vendas[Preço de Venda],MATCH(D278,tb_vendas[N° Pedido/Empresa],0))/F278),\"\")","v":""},{"$f":"IFERROR(IF(D278=\"\",\"\",INDEX(tb_vendas[Data Fechamento],MATCH(D278,tb_vendas[N° Pedido/Empresa],0))+E278*INDEX(tb_formas_pagamento[Dias_Intervalo],MATCH(INDEX(tb_vendas[Forma_Pagamento],MATCH(D278,tb_vendas[N° Pedido/Empresa],0)),tb_formas_pagamento[Nome_Forma],0))),\"\")","v":""},null,{"$f":"IF(OR(tb_pagamentos[[#This Row],[Data_Vencimento]]=\"\",tb_pagamentos[[#This Row],[Valor_Parcela]]=\"\",tb_pagamentos[[#This Row],[Qtd_Total_Parcelas]]=\"\",tb_pagamentos[[#This Row],[Nr_Pedido]]=\"\"),\"\",IF(tb_pagamentos[[#This Row],[Data_Pagamento]]<>\"\",\"Pago\",IF(AND(tb_pagamentos[[#This Row],[Data_Pagamento]]=\"\",tb_pagamentos[[#This Row],[Data_Vencimento]]<TODAY()),\"Em Atraso\",\"A vencer\")))","v":""}]
[null,null,"",{"$f":"IFERROR(INDEX(CALC_BASE!$N$3:$N$52,MATCH(ROW()-7,CALC_BASE!$M$3:$M$52,0)),\"\")","v":""},{"$f":"IFERROR(INDEX(CALC_BASE!$O$3:$O$52,MATCH(ROW()-7,CALC_BASE!$M$3:$M$52,0)),\"\")","v":""},{"$f":"IFERROR(INDEX(CALC_BASE!$P$3:$P$52,MATCH(ROW()-7,CALC_BASE!$M$3:$M$52,0)),\"\")","v":""},{"$f":"IFERROR(IF(D279=\"\",\"\",INDEX(tb_vendas[Preço de Venda],MATCH(D279,tb_vendas[N° Pedido/Empresa],0))/F279),\"\")","v":""},{"$f":"IFERROR(IF(D279=\"\",\"\",INDEX(tb_vendas[Data Fechamento],MATCH(D279,tb_vendas[N° Pedido/Empresa],0))+E279*INDEX(tb_formas_pagamento[Dias_Intervalo],MATCH(INDEX(tb_vendas[Forma_Pagamento],MATCH(D279,tb_vendas[N° Pedido/Empresa],0)),tb_formas_pagamento[Nome_Forma],0))),\"\")","v":""},null,{"$f":"IF(OR(tb_pagamentos[[#This Row],[Data_Vencimento]]=\"\",tb_pagamentos[[#This Row],[Valor_Parcela]]=\"\",tb_pagamentos[[#This Row],[Qtd_Total_Parcelas]]=\"\",tb_pagamentos[[#This Row],[Nr_Pedido]]=\"\"),\"\",IF(tb_pagamentos[[#This Row],[Data_Pagamento]]<>\"\",\"Pago\",IF(AND(tb_pagamentos[[#This Row],[Data_Pagamento]]=\"\",tb_pagamentos[[#This Row],[Data_Vencimento]]<TODAY()),\"Em Atraso\",\"A vencer\")))","v":""}]
[null,null,"",{"$f":"IFERROR(INDEX(CALC_BASE!$N$3:$N$52,MATCH(ROW()-7,CALC_BASE!$M$3:$M$52,0)),\"\")","v":""},{"$f":"IFERROR(INDEX(CALC_BASE!$O$3:$O$52,MATCH(ROW()-7,CALC_BASE!$M$3:$M$52,0)),\"\")","v":""},{"$f":"IFERROR(INDEX(CALC_BASE!$P$3:$P$52,MATCH(ROW()-7,CALC_BASE!$M$3:$M$52,0)),\"\")","v":""},{"$f":"IFERROR(IF(D280=\"\",\"\",INDEX(tb_vendas[Preço de Venda],MATCH(D280,tb_vendas[N° Pedido/Empresa],0))/F280),\"\")","v":""},{"$f":"IFERROR(IF(D280=\"\",\"\",INDEX(tb_vendas[Data Fechamento],MATCH(D280,tb_vendas[N° Pedido/Empresa],0))+E280*INDEX(tb_formas_pagamento[Dias_Intervalo],MATCH(INDEX(tb_vendas[Forma_Pagamento],MATCH(D280,tb_vendas[N° Pedido/Empresa],0)),tb_formas_pagamento[Nome_Forma],0))),\"\")","v":""},null,{"$f":"IF(OR(tb_pagamentos[[#This Row],[Data_Vencimento]]=\"\",tb_pagamentos[[#This Row],[Valor_Parcela]]=\"\",tb_pagamentos[[#This Row],[Qtd_Total_Parcelas]]=\"\",tb_pagamentos[[#This Row],[Nr_Pedido]]=\"\"),\"\",IF(tb_pagamentos[[#This Row],[Data_Pagamento]]<>\"\",\"Pago\",IF(AND(tb_pagamentos[[#This Row],[Data_Pagamento]]=\"\",tb_pagamentos[[#This Row],[Data_Vencimento]]<TODAY()),\"Em Atraso\",\"A vencer\")))","v":""}]
[null,null,"",{"$f":"IFERROR(INDEX(CALC_BASE!$N$3:$N$52,MATCH(ROW()-7,CALC_BASE!$M$3:$M$52,0)),\"\")","v":""},{"$f":"IFERROR(INDEX(CALC_BASE!$O$3:$O$52,MATCH(ROW()-7,CALC_BASE!$M$3:$M$52,0)),\"\")","v":""},{"$f":"IFERROR(INDEX(CALC_BASE!$P$3:$P$52,MATCH(ROW()-7,CALC_BASE!$M$3:$M$52,0)),\"\")","v":""},{"$f":"IFERROR(IF(D281=\"\",\"\",INDEX(tb_vendas[Preço de Venda],MATCH(D281,tb_vendas[N° Pedido/Empresa],0))/F281),\"\")","v":""},{"$f":"IFERROR(IF(D281=\"\",\"\",INDEX(tb_vendas[Data Fechamento],MATCH(D281,tb_vendas[N° Pedido/Empresa],0))+E281*INDEX(tb_formas_pagamento[Dias_Intervalo],MATCH(INDEX(tb_vendas[Forma_Pagamento],MATCH(D281,tb_vendas[N° Pedido/Empresa],0)),tb_formas_pagamento[Nome_Forma],0))),\"\")","v":""},null,{"$f":"IF(OR(tb_pagamentos[[#This Row],[Data_Vencimento]]=\"\",tb_pagamentos[[#This Row],[Valor_Parcela]]=\"\",tb_pagamentos[[#This Row],[Qtd_Total_Parcelas]]=\"\",tb_pagamentos[[#This Row],[Nr_Pedido]]=\"\"),\"\",IF(tb_pagamentos[[#This Row],[Data_Pagamento]]<>\"\",\"Pago\",IF(AND(tb_pagamentos[[#This Row],[Data_Pagamento]]=\"\",tb_pagamentos[[#This Row],[Data_Vencimento]]<TODAY()),\"Em Atraso\",\"A vencer\")))","v":""}]
[null,null,"",{"$f":"IFERROR(INDEX(CALC_BASE!$N$3:$N$52,MATCH(ROW()-7,CALC_BASE!$M$3:$M$52,0)),\"\")","v":""},{"$f":"IFERROR(INDEX(CALC_BASE!$O$3:$O$52,MATCH(ROW()-7,CALC_BASE!$M$3:$M$52,0)),\"\")","v":""},{"$f":"IFERROR(INDEX(CALC_BASE!$P$3:$P$52,MATCH(ROW()-7,CALC_BASE!$M$3:$M$52,0)),\"\")","v":""},{"$f":"IFERROR(IF(D282=\"\",\"\",INDEX(tb_vendas[Preço de Venda],MATCH(D282,tb_vendas[N° Pedido/Empresa],0))/F282),\"\")","v":""},{"$f":"IFERROR(IF(D282=\"\",\"\",INDEX(tb_vendas[Data Fechamento],MATCH(D282,tb_vendas[N° Pedido/Empresa],0))+E282*INDEX(tb_formas_pagamento[Dias_Intervalo],MATCH(INDEX(tb_vendas[Forma_Pagamento],MATCH(D282,tb_vendas[N° Pedido/Empresa],0)),tb_formas_pagamento[Nome_Forma],0))),\"\")","v":""},null,{"$f":"IF(OR(tb_pagamentos[[#This Row],[Data_Vencimento]]=\"\",tb_pagamentos[[#This Row],[Valor_Parcela]]=\"\",tb_pagamentos[[#This Row],[Qtd_Total_Parcelas]]=\"\",tb_pagamentos[[#This Row],[Nr_Pedido]]=\"\"),\"\",IF(tb_pagamentos[[#This Row],[Data_Pagamento]]<>\"\",\"Pago\",IF(AND(tb_pagamentos[[#This Row],[Data_Pagamento]]=\"\",tb_pagamentos[[#This Row],[Data_Vencimento]]<TODAY()),\"Em Atraso\",\"A vencer\")))","v":""}]
[null,null,"",{"$f":"IFERROR(INDEX(CALC_BASE!$N$3:$N$52,MATCH(ROW()-7,CALC_BASE!$M$3:$M$52,0)),\"\")","v":""},{"$f":"IFERROR(INDEX(CALC_BASE!$O$3:$O$52,MATCH(ROW()-7,CALC_BASE!$M$3:$M$52,0)),\"\")","v":""},{"$f":"IFERROR(INDEX(CALC_BASE!$P$3:$P$52,MATCH(ROW()-7,CALC_BASE!$M$3:$M$52,0)),\"\")","v":""},{"$f":"IFERROR(IF(D283=\"\",\"\",INDEX(tb_vendas[Preço de Venda],MATCH(D283,tb_vendas[N° Pedido/Empresa],0))/F283),\"\")","v":""},{"$f":"IFERROR(IF(D283=\"\",\"\",INDEX(tb_vendas[Data Fechamento],MATCH(D283,tb_vendas[N° Pedido/Empresa],0))+E283*INDEX(tb_formas_pagamento[Dias_Intervalo],MATCH(INDEX(tb_vendas[Forma_Pagamento],MATCH(D283,tb_vendas[N° Pedido/Empresa],0)),tb_formas_pagamento[Nome_Forma],0))),\"\")","v":""},null,{"$f":"IF(OR(tb_pagamentos[[#This Row],[Data_Vencimento]]=\"\",tb_pagamentos[[#This Row],[Valor_Parcela]]=\"\",tb_pagamentos[[#This Row],[Qtd_Total_Parcelas]]=\"\",tb_pagamentos[[#This Row],[Nr_Pedido]]=\"\"),\"\",IF(tb_pagamentos[[#This Row],[Data_Pagamento]]<>\"\",\"Pago\",IF(AND(tb_pagamentos[[#This Row],[Data_Pagamento]]=\"\",tb_pagamentos[[#This Row],[Data_Vencimento]]<TODAY()),\"Em Atraso\",\"A vencer\")))","v":""}]
[null,null,"",{"$f":"IFERROR(INDEX(CALC_BASE!$N$3:$N$52,MATCH(ROW()-7,CALC_BASE!$M$3:$M$52,0)),\"\")","v":""},{"$f":"IFERROR(INDEX(CALC_BASE!$O$3:$O$52,MATCH(ROW()-7,CALC_BASE!$M$3:$M$52,0)),\"\")","v":""},{"$f":"IFERROR(INDEX(CALC_BASE!$P$3:$P$52,MATCH(ROW()-7,CALC_BASE!$M$3:$M$52,0)),\"\")","v":""},{"$f":"IFERROR(IF(D284=\"\",\"\",INDEX(tb_vendas[Preço de Venda],MATCH(D284,tb_vendas[N° Pedido/Empresa],0))/F284),\"\")","v":""},{"$f":"IFERROR(IF(D284=\"\",\"\",INDEX(tb_vendas[Data Fechamento],MATCH(D284,tb_vendas[N° Pedido/Empresa],0))+E284*INDEX(tb_formas_pagamento[Dias_Intervalo],MATCH(INDEX(tb_vendas[Forma_Pagamento],MATCH(D284,tb_vendas[N° Pedido/Empresa],0)),tb_formas_pagamento[Nome_Forma],0))),\"\")","v":""},null,{"$f":"IF(OR(tb_pagamentos[[#This Row],[Data_Vencimento]]=\"\",tb_pagamentos[[#This Row],[Valor_Parcela]]=\"\",tb_pagamentos[[#This Row],[Qtd_Total_Parcelas]]=\"\",tb_pagamentos[[#This Row],[Nr_Pedido]]=\"\"),\"\",IF(tb_pagamentos[[#This Row],[Data_Pagamento]]<>\"\",\"Pago\",IF(AND(tb_pagamentos[[#This Row],[Data_Pagamento]]=\"\",tb_pagamentos[[#This Row],[Data_Vencimento]]<TODAY()),\"Em Atraso\",\"A vencer\")))","v":""}]
[null,null,"",{"$f":"IFERROR(INDEX(CALC_BASE!$N$3:$N$52,MATCH(ROW()-7,CALC_BASE!$M$3:$M$52,0)),\"\")","v":""},{"$f":"IFERROR(INDEX(CALC_BASE!$O$3:$O$52,MATCH(ROW()-7,CALC_BASE!$M$3:$M$52,0)),\"\")","v":""},{"$f":"IFERROR(INDEX(CALC_BASE!$P$3:$P$52,MATCH(ROW()-7,CALC_BASE!$M$3:$M$52,0)),\"\")","v":""},{"$f":"IFERROR(IF(D285=\"\",\"\",INDEX(tb_vendas[Preço de Venda],MATCH(D285,tb_vendas[N° Pedido/Empresa],0))/F285),\"\")","v":""},{"$f":"IFERROR(IF(D285=\"\",\"\",INDEX(tb_vendas[Data Fechamento],MATCH(D285,tb_vendas[N° Pedido/Empresa],0))+E285*INDEX(tb_formas_pagamento[Dias_Intervalo],MATCH(INDEX(tb_vendas[Forma_Pagamento],MATCH(D285,tb_vendas[N° Pedido/Empresa],0)),tb_formas_pagamento[Nome_Forma],0))),\"\")","v":""},null,{"$f":"IF(OR(tb_pagamentos[[#This Row],[Data_Vencimento]]=\"\",tb_pagamentos[[#This Row],[Valor_Parcela]]=\"\",tb_pagamentos[[#This Row],[Qtd_Total_Parcelas]]=\"\",tb_pagamentos[[#This Row],[Nr_Pedido]]=\"\"),\"\",IF(tb_pagamentos[[#This Row],[Data_Pagamento]]<>\"\",\"Pago\",IF(AND(tb_pagamentos[[#This Row],[Data_Pagamento]]=\"\",tb_pagamentos[[#This Row],[Data_Vencimento]]<TODAY()),\"Em Atraso\",\"A vencer\")))","v":""}]
[null,null,"",{"$f":"IFERROR(INDEX(CALC_BASE!$N$3:$N$52,MATCH(ROW()-7,CALC_BASE!$M$3:$M$52,0)),\"\")","v":""},{"$f":"IFERROR(INDEX(CALC_BASE!$O$3:$O$52,MATCH(ROW()-7,CALC_BASE!$M$3:$M$52,0)),\"\")","v":""},{"$f":"IFERROR(INDEX(CALC_BASE!$P$3:$P$52,MATCH(ROW()-7,CALC_BASE!$M$3:$M$52,0)),\"\")","v":""},{"$f":"IFERROR(IF(D286=\"\",\"\",INDEX(tb_vendas[Preço de Venda],MATCH(D286,tb_vendas[N° Pedido/Empresa],0))/F286),\"\")","v":""},{"$f":"IFERROR(IF(D286=\"\",\"\",INDEX(tb_vendas[Data Fechamento],MATCH(D286,tb_vendas[N° Pedido/Empresa],0))+E286*INDEX(tb_formas_pagamento[Dias_Intervalo],MATCH(INDEX(tb_vendas[Forma_Pagamento],MATCH(D286,tb_vendas[N° Pedido/Empresa],0)),tb_formas_pagamento[Nome_Forma],0))),\"\")","v":""},null,{"$f":"IF(OR(tb_pagamentos[[#This Row],[Data_Vencimento]]=\"\",tb_pagamentos[[#This Row],[Valor_Parcela]]=\"\",tb_pagamentos[[#This Row],[Qtd_Total_Parcelas]]=\"\",tb_pagamentos[[#This Row],[Nr_Pedido]]=\"\"),\"\",IF(tb_pagamentos[[#This Row],[Data_Pagamento]]<>\"\",\"Pago\",IF(AND(tb_pagamentos[[#This Row],[Data_Pagamento]]=\"\",tb_pagamentos[[#This Row],[Data_Vencimento]]<TODAY()),\"Em Atraso\",\"A vencer\")))","v":""}]
[null,null,"",{"$f":"IFERROR(INDEX(CALC_BASE!$N$3:$N$52,MATCH(ROW()-7,CALC_BASE!$M$3:$M$52,0)),\"\")","v":""},{"$f":"IFERROR(INDEX(CALC_BASE!$O$3:$O$52,MATCH(ROW()-7,CALC_BASE!$M$3:$M$52,0)),\"\")","v":""},{"$f":"IFERROR(INDEX(CALC_BASE!$P$3:$P$52,MATCH(ROW()-7,CALC_BASE!$M$3:$M$52,0)),\"\")","v":""},{"$f":"IFERROR(IF(D287=\"\",\"\",INDEX(tb_vendas[Preço de Venda],MATCH(D287,tb_vendas[N° Pedido/Empresa],0))/F287),\"\")","v":""},{"$f":"IFERROR(IF(D287=\"\",\"\",INDEX(tb_vendas[Data Fechamento],MATCH(D287,tb_vendas[N° Pedido/Empresa],0))+E287*INDEX(tb_formas_pagamento[Dias_Intervalo],MATCH(INDEX(tb_vendas[Forma_Pagamento],MATCH(D287,tb_vendas[N° Pedido/Empresa],0)),tb_formas_pagamento[Nome_Forma],0))),\"\")","v":""},null,{"$f":"IF(OR(tb_pagamentos[[#This Row],[Data_Vencimento]]=\"\",tb_pagamentos[[#This Row],[Valor_Parcela]]=\"\",tb_pagamentos[[#This Row],[Qtd_Total_Parcelas]]=\"\",tb_pagamentos[[#This Row],[Nr_Pedido]]=\"\"),\"\",IF(tb_pagamentos[[#This Row],[Data_Pagamento]]<>\"\",\"Pago\",IF(AND(tb_pagamentos[[#This Row],[Data_Pagamento]]=\"\",tb_pagamentos[[#This Row],[Data_Vencimento]]<TODAY()),\"Em Atraso\",\"A vencer\")))","v":""}]
[null,null,"",{"$f":"IFERROR(INDEX(CALC_BASE!$N$3:$N$52,MATCH(ROW()-7,CALC_BASE!$M$3:$M$52,0)),\"\")","v":""},{"$f":"IFERROR(INDEX(CALC_BASE!$O$3:$O$52,MATCH(ROW()-7,CALC_BASE!$M$3:$M$52,0)),\"\")","v":""},{"$f":"IFERROR(INDEX(CALC_BASE!$P$3:$P$52,MATCH(ROW()-7,CALC_BASE!$M$3:$M$52,0)),\"\")","v":""},{"$f":"IFERROR(IF(D288=\"\",\"\",INDEX(tb_vendas[Preço de Venda],MATCH(D288,tb_vendas[N° Pedido/Empresa],0))/F288),\"\")","v":""},{"$f":"IFERROR(IF(D288=\"\",\"\",INDEX(tb_vendas[Data Fechamento],MATCH(D288,tb_vendas[N° Pedido/Empresa],0))+E288*INDEX(tb_formas_pagamento[Dias_Intervalo],MATCH(INDEX(tb_vendas[Forma_Pagamento],MATCH(D288,tb_vendas[N° Pedido/Empresa],0)),tb_formas_pagamento[Nome_Forma],0))),\"\")","v":""},null,{"$f":"IF(OR(tb_pagamentos[[#This Row],[Data_Vencimento]]=\"\",tb_pagamentos[[#This Row],[Valor_Parcela]]=\"\",tb_pagamentos[[#This Row],[Qtd_Total_Parcelas]]=\"\",tb_pagamentos[[#This Row],[Nr_Pedido]]=\"\"),\"\",IF(tb_pagamentos[[#This Row],[Data_Pagamento]]<>\"\",\"Pago\",IF(AND(tb_pagamentos[[#This Row],[Data_Pagamento]]=\"\",tb_pagamentos[[#This Row],[Data_Vencimento]]<TODAY()),\"Em Atraso\",\"A vencer\")))","v":""}]
[null,null,"",{"$f":"IFERROR(INDEX(CALC_BASE!$N$3:$N$52,MATCH(ROW()-7,CALC_BASE!$M$3:$M$52,0)),\"\")","v":""},{"$f":"IFERROR(INDEX(CALC_BASE!$O$3:$O$52,MATCH(ROW()-7,CALC_BASE!$M$3:$M$52,0)),\"\")","v":""},{"$f":"IFERROR(INDEX(CALC_BASE!$P$3:$P$52,MATCH(ROW()-7,CALC_BASE!$M$3:$M$52,0)),\"\")","v":""},{"$f":"IFERROR(IF(D289=\"\",\"\",INDEX(tb_vendas[Preço de Venda],MATCH(D289,tb_vendas[N° Pedido/Empresa],0))/F289),\"\")","v":""},{"$f":"IFERROR(IF(D289=\"\",\"\",INDEX(tb_vendas[Data Fechamento],MATCH(D289,tb_vendas[N° Pedido/Empresa],0))+E289*INDEX(tb_formas_pagamento[Dias_Intervalo],MATCH(INDEX(tb_vendas[Forma_Pagamento],MATCH(D289,tb_vendas[N° Pedido/Empresa],0)),tb_formas_pagamento[Nome_Forma],0))),\"\")","v":""},null,{"$f":"IF(OR(tb_pagamentos[[#This Row],[Data_Vencimento]]=\"\",tb_pagamentos[[#This Row],[Valor_Parcela]]=\"\",tb_pagamentos[[#This Row],[Qtd_Total_Parcelas]]=\"\",tb_pagamentos[[#This Row],[Nr_Pedido]]=\"\"),\"\",IF(tb_pagamentos[[#This Row],[Data_Pagamento]]<>\"\",\"Pago\",IF(AND(tb_pagamentos[[#This Row],[Data_Pagamento]]=\"\",tb_pagamentos[[#This Row],[Data_Vencimento]]<TODAY()),\"Em Atraso\",\"A vencer\")))","v":""}]
[null,null,"",{"$f":"IFERROR(INDEX(CALC_BASE!$N$3:$N$52,MATCH(ROW()-7,CALC_BASE!$M$3:$M$52,0)),\"\")","v":""},{"$f":"IFERROR(INDEX(CALC_BASE!$O$3:$O$52,MATCH(ROW()-7,CALC_BASE!$M$3:$M$52,0)),\"\")","v":""},{"$f":"IFERROR(INDEX(CALC_BASE!$P$3:$P$52,MATCH(ROW()-7,CALC_BASE!$M$3:$M$52,0)),\"\")","v":""},{"$f":"IFERROR(IF(D290=\"\",\"\",INDEX(tb_vendas[Preço de Venda],MATCH(D290,tb_vendas[N° Pedido/Empresa],0))/F290),\"\")","v":""},{"$f":"IFERROR(IF(D290=\"\",\"\",INDEX(tb_vendas[Data Fechamento],MATCH(D290,tb_vendas[N° Pedido/Empresa],0))+E290*INDEX(tb_formas_pagamento[Dias_Intervalo],MATCH(INDEX(tb_vendas[Forma_Pagamento],MATCH(D290,tb_vendas[N° Pedido/Empresa],0)),tb_formas_pagamento[Nome_Forma],0))),\"\")","v":""},null,{"$f":"IF(OR(tb_pagamentos[[#This Row],[Data_Vencimento]]=\"\",tb_pagamentos[[#This Row],[Valor_Parcela]]=\"\",tb_pagamentos[[#This Row],[Qtd_Total_Parcelas]]=\"\",tb_pagamentos[[#This Row],[Nr_Pedido]]=\"\"),\"\",IF(tb_pagamentos[[#This Row],[Data_Pagamento]]<>\"\",\"Pago\",IF(AND(tb_pagamentos[[#This Row],[Data_Pagamento]]=\"\",tb_pagamentos[[#This Row],[Data_Vencimento]]<TODAY()),\"Em Atraso\",\"A vencer\")))","v":""}]
[null,null,"",{"$f":"IFERROR(INDEX(CALC_BASE!$N$3:$N$52,MATCH(ROW()-7,CALC_BASE!$M$3:$M$52,0)),\"\")","v":""},{"$f":"IFERROR(INDEX(CALC_BASE!$O$3:$O$52,MATCH(ROW()-7,CALC_BASE!$M$3:$M$52,0)),\"\")","v":""},{"$f":"IFERROR(INDEX(CALC_BASE!$P$3:$P$52,MATCH(ROW()-7,CALC_BASE!$M$3:$M$52,0)),\"\")","v":""},{"$f":"IFERROR(IF(D291=\"\",\"\",INDEX(tb_vendas[Preço de Venda],MATCH(D291,tb_vendas[N° Pedido/Empresa],0))/F291),\"\")","v":""},{"$f":"IFERROR(IF(D291=\"\",\"\",INDEX(tb_vendas[Data Fechamento],MATCH(D291,tb_vendas[N° Pedido/Empresa],0))+E291*INDEX(tb_formas_pagamento[Dias_Intervalo],MATCH(INDEX(tb_vendas[Forma_Pagamento],MATCH(D291,tb_vendas[N° Pedido/Empresa],0)),tb_formas_pagamento[Nome_Forma],0))),\"\")","v":""},null,{"$f":"IF(OR(tb_pagamentos[[#This Row],[Data_Vencimento]]=\"\",tb_pagamentos[[#This Row],[Valor_Parcela]]=\"\",tb_pagamentos[[#This Row],[Qtd_Total_Parcelas]]=\"\",tb_pagamentos[[#This Row],[Nr_Pedido]]=\"\"),\"\",IF(tb_pagamentos[[#This Row],[Data_Pagamento]]<>\"\",\"Pago\",IF(AND(tb_pagamentos[[#This Row],[Data_Pagamento]]=\"\",tb_pagamentos[[#This Row],[Data_Vencimento]]<TODAY()),\"Em Atraso\",\"A vencer\")))","v":""}]
[null,null,"",{"$f":"IFERROR(INDEX(CALC_BASE!$N$3:$N$52,MATCH(ROW()-7,CALC_BASE!$M$3:$M$52,0)),\"\")","v":""},{"$f":"IFERROR(INDEX(CALC_BASE!$O$3:$O$52,MATCH(ROW()-7,CALC_BASE!$M$3:$M$52,0)),\"\")","v":""},{"$f":"IFERROR(INDEX(CALC_BASE!$P$3:$P$52,MATCH(ROW()-7,CALC_BASE!$M$3:$M$52,0)),\"\")","v":""},{"$f":"IFERROR(IF(D292=\"\",\"\",INDEX(tb_vendas[Preço de Venda],MATCH(D292,tb_vendas[N° Pedido/Empresa],0))/F292),\"\")","v":""},{"$f":"IFERROR(IF(D292=\"\",\"\",INDEX(tb_vendas[Data Fechamento],MATCH(D292,tb_vendas[N° Pedido/Empresa],0))+E292*INDEX(tb_formas_pagamento[Dias_Intervalo],MATCH(INDEX(tb_vendas[Forma_Pagamento],MATCH(D292,tb_vendas[N° Pedido/Empresa],0)),tb_formas_pagamento[Nome_Forma],0))),\"\")","v":""},null,{"$f":"IF(OR(tb_pagamentos[[#This Row],[Data_Vencimento]]=\"\",tb_pagamentos[[#This Row],[Valor_Parcela]]=\"\",tb_pagamentos[[#This Row],[Qtd_Total_Parcelas]]=\"\",tb_pagamentos[[#This Row],[Nr_Pedido]]=\"\"),\"\",IF(tb_pagamentos[[#This Row],[Data_Pagamento]]<>\"\",\"Pago\",IF(AND(tb_pagamentos[[#This Row],[Data_Pagamento]]=\"\",tb_pagamentos[[#This Row],[Data_Vencimento]]<TODAY()),\"Em Atraso\",\"A vencer\")))","v":""}]
[null,null,"",{"$f":"IFERROR(INDEX(CALC_BASE!$N$3:$N$52,MATCH(ROW()-7,CALC_BASE!$M$3:$M$52,0)),\"\")","v":""},{"$f":"IFERROR(INDEX(CALC_BASE!$O$3:$O$52,MATCH(ROW()-7,CALC_BASE!$M$3:$M$52,0)),\"\")","v":""},{"$f":"IFERROR(INDEX(CALC_BASE!$P$3:$P$52,MATCH(ROW()-7,CALC_BASE!$M$3:$M$52,0)),\"\")","v":""},{"$f":"IFERROR(IF(D293=\"\",\"\",INDEX(tb_vendas[Preço de Venda],MATCH(D293,tb_vendas[N° Pedido/Empresa],0))/F293),\"\")","v":""},{"$f":"IFERROR(IF(D293=\"\",\"\",INDEX(tb_vendas[Data Fechamento],MATCH(D293,tb_vendas[N° Pedido/Empresa],0))+E293*INDEX(tb_formas_pagamento[Dias_Intervalo],MATCH(INDEX(tb_vendas[Forma_Pagamento],MATCH(D293,tb_vendas[N° Pedido/Empresa],0)),tb_formas_pagamento[Nome_Forma],0))),\"\")","v":""},null,{"$f":"IF(OR(tb_pagamentos[[#This Row],[Data_Vencimento]]=\"\",tb_pagamentos[[#This Row],[Valor_Parcela]]=\"\",tb_pagamentos[[#This Row],[Qtd_Total_Parcelas]]=\"\",tb_pagamentos[[#This Row],[Nr_Pedido]]=\"\"),\"\",IF(tb_pagamentos[[#This Row],[Data_Pagamento]]<>\"\",\"Pago\",IF(AND(tb_pagamentos[[#This Row],[Data_Pagamento]]=\"\",tb_pagamentos[[#This Row],[Data_Vencimento]]<TODAY()),\"Em Atraso\",\"A vencer\")))","v":""}]
[null,null,"",{"$f":"IFERROR(INDEX(CALC_BASE!$N$3:$N$52,MATCH(ROW()-7,CALC_BASE!$M$3:$M$52,0)),\"\")","v":""},{"$f":"IFERROR(INDEX(CALC_BASE!$O$3:$O$52,MATCH(ROW()-7,CALC_BASE!$M$3:$M$52,0)),\"\")","v":""},{"$f":"IFERROR(INDEX(CALC_BASE!$P$3:$P$52,MATCH(ROW()-7,CALC_BASE!$M$3:$M$52,0)),\"\")","v":""},{"$f":"IFERROR(IF(D294=\"\",\"\",INDEX(tb_vendas[Preço de Venda],MATCH(D294,tb_vendas[N° Pedido/Empresa],0))/F294),\"\")","v":""},{"$f":"IFERROR(IF(D294=\"\",\"\",INDEX(tb_vendas[Data Fechamento],MATCH(D294,tb_vendas[N° Pedido/Empresa],0))+E294*INDEX(tb_formas_pagamento[Dias_Intervalo],MATCH(INDEX(tb_vendas[Forma_Pagamento],MATCH(D294,tb_vendas[N° Pedido/Empresa],0)),tb_formas_pagamento[Nome_Forma],0))),\"\")","v":""},null,{"$f":"IF(OR(tb_pagamentos[[#This Row],[Data_Vencimento]]=\"\",tb_pagamentos[[#This Row],[Valor_Parcela]]=\"\",tb_pagamentos[[#This Row],[Qtd_Total_Parcelas]]=\"\",tb_pagamentos[[#This Row],[Nr_Pedido]]=\"\"),\"\",IF(tb_pagamentos[[#This Row],[Data_Pagamento]]<>\"\",\"Pago\",IF(AND(tb_pagamentos[[#This Row],[Data_Pagamento]]=\"\",tb_pagamentos[[#This Row],[Data_Vencimento]]<TODAY()),\"Em Atraso\",\"A vencer\")))","v":""}]
[null,null,"",{"$f":"IFERROR(INDEX(CALC_BASE!$N$3:$N$52,MATCH(ROW()-7,CALC_BASE!$M$3:$M$52,0)),\"\")","v":""},{"$f":"IFERROR(INDEX(CALC_BASE!$O$3:$O$52,MATCH(ROW()-7,CALC_BASE!$M$3:$M$52,0)),\"\")","v":""},{"$f":"IFERROR(INDEX(CALC_BASE!$P$3:$P$52,MATCH(ROW()-7,CALC_BASE!$M$3:$M$52,0)),\"\")","v":""},{"$f":"IFERROR(IF(D295=\"\",\"\",INDEX(tb_vendas[Preço de Venda],MATCH(D295,tb_vendas[N° Pedido/Empresa],0))/F295),\"\")","v":""},{"$f":"IFERROR(IF(D295=\"\",\"\",INDEX(tb_vendas[Data Fechamento],MATCH(D295,tb_vendas[N° Pedido/Empresa],0))+E295*INDEX(tb_formas_pagamento[Dias_Intervalo],MATCH(INDEX(tb_vendas[Forma_Pagamento],MATCH(D295,tb_vendas[N° Pedido/Empresa],0)),tb_formas_pagamento[Nome_Forma],0))),\"\")","v":""},null,{"$f":"IF(OR(tb_pagamentos[[#This Row],[Data_Vencimento]]=\"\",tb_pagamentos[[#This Row],[Valor_Parcela]]=\"\",tb_pagamentos[[#This Row],[Qtd_Total_Parcelas]]=\"\",tb_pagamentos[[#This Row],[Nr_Pedido]]=\"\"),\"\",IF(tb_pagamentos[[#This Row],[Data_Pagamento]]<>\"\",\"Pago\",IF(AND(tb_pagamentos[[#This Row],[Data_Pagamento]]=\"\",tb_pagamentos[[#This Row],[Data_Vencimento]]<TODAY()),\"Em Atraso\",\"A vencer\")))","v":""}]
[null,null,"",{"$f":"IFERROR(INDEX(CALC_BASE!$N$3:$N$52,MATCH(ROW()-7,CALC_BASE!$M$3:$M$52,0)),\"\")","v":""},{"$f":"IFERROR(INDEX(CALC_BASE!$O$3:$O$52,MATCH(ROW()-7,CALC_BASE!$M$3:$M$52,0)),\"\")","v":""},{"$f":"IFERROR(INDEX(CALC_BASE!$P$3:$P$52,MATCH(ROW()-7,CALC_BASE!$M$3:$M$52,0)),\"\")","v":""},{"$f":"IFERROR(IF(D296=\"\",\"\",INDEX(tb_vendas[Preço de Venda],MATCH(D296,tb_vendas[N° Pedido/Empresa],0))/F296),\"\")","v":""},{"$f":"IFERROR(IF(D296=\"\",\"\",INDEX(tb_vendas[Data Fechamento],MATCH(D296,tb_vendas[N° Pedido/Empresa],0))+E296*INDEX(tb_formas_pagamento[Dias_Intervalo],MATCH(INDEX(tb_vendas[Forma_Pagamento],MATCH(D296,tb_vendas[N° Pedido/Empresa],0)),tb_formas_pagamento[Nome_Forma],0))),\"\")","v":""},null,{"$f":"IF(OR(tb_pagamentos[[#This Row],[Data_Vencimento]]=\"\",tb_pagamentos[[#This Row],[Valor_Parcela]]=\"\",tb_pagamentos[[#This Row],[Qtd_Total_Parcelas]]=\"\",tb_pagamentos[[#This Row],[Nr_Pedido]]=\"\"),\"\",IF(tb_pagamentos[[#This Row],[Data_Pagamento]]<>\"\",\"Pago\",IF(AND(tb_pagamentos[[#This Row],[Data_Pagamento]]=\"\",tb_pagamentos[[#This Row],[Data_Vencimento]]<TODAY()),\"Em Atraso\",\"A vencer\")))","v":""}]
[null,null,"",{"$f":"IFERROR(INDEX(CALC_BASE!$N$3:$N$52,MATCH(ROW()-7,CALC_BASE!$M$3:$M$52,0)),\"\")","v":""},{"$f":"IFERROR(INDEX(CALC_BASE!$O$3:$O$52,MATCH(ROW()-7,CALC_BASE!$M$3:$M$52,0)),\"\")","v":""},{"$f":"IFERROR(INDEX(CALC_BASE!$P$3:$P$52,MATCH(ROW()-7,CALC_BASE!$M$3:$M$52,0)),\"\")","v":""},{"$f":"IFERROR(IF(D297=\"\",\"\",INDEX(tb_vendas[Preço de Venda],MATCH(D297,tb_vendas[N° Pedido/Empresa],0))/F297),\"\")","v":""},{"$f":"IFERROR(IF(D297=\"\",\"\",INDEX(tb_vendas[Data Fechamento],MATCH(D297,tb_vendas[N° Pedido/Empresa],0))+E297*INDEX(tb_formas_pagamento[Dias_Intervalo],MATCH(INDEX(tb_vendas[Forma_Pagamento],MATCH(D297,tb_vendas[N° Pedido/Empresa],0)),tb_formas_pagamento[Nome_Forma],0))),\"\")","v":""},null,{"$f":"IF(OR(tb_pagamentos[[#This Row],[Data_Vencimento]]=\"\",tb_pagamentos[[#This Row],[Valor_Parcela]]=\"\",tb_pagamentos[[#This Row],[Qtd_Total_Parcelas]]=\"\",tb_pagamentos[[#This Row],[Nr_Pedido]]=\"\"),\"\",IF(tb_pagamentos[[#This Row],[Data_Pagamento]]<>\"\",\"Pago\",IF(AND(tb_pagamentos[[#This Row],[Data_Pagamento]]=\"\",tb_pagamentos[[#This Row],[Data_Vencimento]]<TODAY()),\"Em Atraso\",\"A vencer\")))","v":""}]
[null,null,"",{"$f":"IFERROR(INDEX(CALC_BASE!$N$3:$N$52,MATCH(ROW()-7,CALC_BASE!$M$3:$M$52,0)),\"\")","v":""},{"$f":"IFERROR(INDEX(CALC_BASE!$O$3:$O$52,MATCH(ROW()-7,CALC_BASE!$M$3:$M$52,0)),\"\")","v":""},{"$f":"IFERROR(INDEX(CALC_BASE!$P$3:$P$52,MATCH(ROW()-7,CALC_BASE!$M$3:$M$52,0)),\"\")","v":""},{"$f":"IFERROR(IF(D298=\"\",\"\",INDEX(tb_vendas[Preço de Venda],MATCH(D298,tb_vendas[N° Pedido/Empresa],0))/F298),\"\")","v":""},{"$f":"IFERROR(IF(D298=\"\",\"\",INDEX(tb_vendas[Data Fechamento],MATCH(D298,tb_vendas[N° Pedido/Empresa],0))+E298*INDEX(tb_formas_pagamento[Dias_Intervalo],MATCH(INDEX(tb_vendas[Forma_Pagamento],MATCH(D298,tb_vendas[N° Pedido/Empresa],0)),tb_formas_pagamento[Nome_Forma],0))),\"\")","v":""},null,{"$f":"IF(OR(tb_pagamentos[[#This Row],[Data_Vencimento]]=\"\",tb_pagamentos[[#This Row],[Valor_Parcela]]=\"\",tb_pagamentos[[#This Row],[Qtd_Total_Parcelas]]=\"\",tb_pagamentos[[#This Row],[Nr_Pedido]]=\"\"),\"\",IF(tb_pagamentos[[#This Row],[Data_Pagamento]]<>\"\",\"Pago\",IF(AND(tb_pagamentos[[#This Row],[Data_Pagamento]]=\"\",tb_pagamentos[[#This Row],[Data_Vencimento]]<TODAY()),\"Em Atraso\",\"A vencer\")))","v":""}]
[null,null,"",{"$f":"IFERROR(INDEX(CALC_BASE!$N$3:$N$52,MATCH(ROW()-7,CALC_BASE!$M$3:$M$52,0)),\"\")","v":""},{"$f":"IFERROR(INDEX(CALC_BASE!$O$3:$O$52,MATCH(ROW()-7,CALC_BASE!$M$3:$M$52,0)),\"\")","v":""},{"$f":"IFERROR(INDEX(CALC_BASE!$P$3:$P$52,MATCH(ROW()-7,CALC_BASE!$M$3:$M$52,0)),\"\")","v":""},{"$f":"IFERROR(IF(D299=\"\",\"\",INDEX(tb_vendas[Preço de Venda],MATCH(D299,tb_vendas[N° Pedido/Empresa],0))/F299),\"\")","v":""},{"$f":"IFERROR(IF(D299=\"\",\"\",INDEX(tb_vendas[Data Fechamento],MATCH(D299,tb_vendas[N° Pedido/Empresa],0))+E299*INDEX(tb_formas_pagamento[Dias_Intervalo],MATCH(INDEX(tb_vendas[Forma_Pagamento],MATCH(D299,tb_vendas[N° Pedido/Empresa],0)),tb_formas_pagamento[Nome_Forma],0))),\"\")","v":""},null,{"$f":"IF(OR(tb_pagamentos[[#This Row],[Data_Vencimento]]=\"\",tb_pagamentos[[#This Row],[Valor_Parcela]]=\"\",tb_pagamentos[[#This Row],[Qtd_Total_Parcelas]]=\"\",tb_pagamentos[[#This Row],[Nr_Pedido]]=\"\"),\"\",IF(tb_pagamentos[[#This Row],[Data_Pagamento]]<>\"\",\"Pago\",IF(AND(tb_pagamentos[[#This Row],[Data_Pagamento]]=\"\",tb_pagamentos[[#This Row],[Data_Vencimento]]<TODAY()),\"Em Atraso\",\"A vencer\")))","v":""}]
[null,null,"",{"$f":"IFERROR(INDEX(CALC_BASE!$N$3:$N$52,MATCH(ROW()-7,CALC_BASE!$M$3:$M$52,0)),\"\")","v":""},{"$f":"IFERROR(INDEX(CALC_BASE!$O$3:$O$52,MATCH(ROW()-7,CALC_BASE!$M$3:$M$52,0)),\"\")","v":""},{"$f":"IFERROR(INDEX(CALC_BASE!$P$3:$P$52,MATCH(ROW()-7,CALC_BASE!$M$3:$M$52,0)),\"\")","v":""},{"$f":"IFERROR(IF(D300=\"\",\"\",INDEX(tb_vendas[Preço de Venda],MATCH(D300,tb_vendas[N° Pedido/Empresa],0))/F300),\"\")","v":""},{"$f":"IFERROR(IF(D300=\"\",\"\",INDEX(tb_vendas[Data Fechamento],MATCH(D300,tb_vendas[N° Pedido/Empresa],0))+E300*INDEX(tb_formas_pagamento[Dias_Intervalo],MATCH(INDEX(tb_vendas[Forma_Pagamento],MATCH(D300,tb_vendas[N° Pedido/Empresa],0)),tb_formas_pagamento[Nome_Forma],0))),\"\")","v":""},null,{"$f":"IF(OR(tb_pagamentos[[#This Row],[Data_Vencimento]]=\"\",tb_pagamentos[[#This Row],[Valor_Parcela]]=\"\",tb_pagamentos[[#This Row],[Qtd_Total_Parcelas]]=\"\",tb_pagamentos[[#This Row],[Nr_Pedido]]=\"\"),\"\",IF(tb_pagamentos[[#This Row],[Data_Pagamento]]<>\"\",\"Pago\",IF(AND(tb_pagamentos[[#This Row],[Data_Pagamento]]=\"\",tb_pagamentos[[#This Row],[Data_Vencimento]]<TODAY()),\"Em Atraso\",\"A vencer\")))","v":""}]
[null,null,"",{"$f":"IFERROR(INDEX(CALC_BASE!$N$3:$N$52,MATCH(ROW()-7,CALC_BASE!$M$3:$M$52,0)),\"\")","v":""},{"$f":"IFERROR(INDEX(CALC_BASE!$O$3:$O$52,MATCH(ROW()-7,CALC_BASE!$M$3:$M$52,0)),\"\")","v":""},{"$f":"IFERROR(INDEX(CALC_BASE!$P$3:$P$52,MATCH(ROW()-7,CALC_BASE!$M$3:$M$52,0)),\"\")","v":""},{"$f":"IFERROR(IF(D301=\"\",\"\",INDEX(tb_vendas[Preço de Venda],MATCH(D301,tb_vendas[N° Pedido/Empresa],0))/F301),\"\")","v":""},{"$f":"IFERROR(IF(D301=\"\",\"\",INDEX(tb_vendas[Data Fechamento],MATCH(D301,tb_vendas[N° Pedido/Empresa],0))+E301*INDEX(tb_formas_pagamento[Dias_Intervalo],MATCH(INDEX(tb_vendas[Forma_Pagamento],MATCH(D301,tb_vendas[N° Pedido/Empresa],0)),tb_formas_pagamento[Nome_Forma],0))),\"\")","v":""},null,{"$f":"IF(OR(tb_pagamentos[[#This Row],[Data_Vencimento]]=\"\",tb_pagamentos[[#This Row],[Valor_Parcela]]=\"\",tb_pagamentos[[#This Row],[Qtd_Total_Parcelas]]=\"\",tb_pagamentos[[#This Row],[Nr_Pedido]]=\"\"),\"\",IF(tb_pagamentos[[#This Row],[Data_Pagamento]]<>\"\",\"Pago\",IF(AND(tb_pagamentos[[#This Row],[Data_Pagamento]]=\"\",tb_pagamentos[[#This Row],[Data_Vencimento]]<TODAY()),\"Em Atraso\",\"A vencer\")))","v":""}]
[null,null,"",{"$f":"IFERROR(INDEX(CALC_BASE!$N$3:$N$52,MATCH(ROW()-7,CALC_BASE!$M$3:$M$52,0)),\"\")","v":""},{"$f":"IFERROR(INDEX(CALC_BASE!$O$3:$O$52,MATCH(ROW()-7,CALC_BASE!$M$3:$M$52,0)),\"\")","v":""},{"$f":"IFERROR(INDEX(CALC_BASE!$P$3:$P$52,MATCH(ROW()-7,CALC_BASE!$M$3:$M$52,0)),\"\")","v":""},{"$f":"IFERROR(IF(D302=\"\",\"\",INDEX(tb_vendas[Preço de Venda],MATCH(D302,tb_vendas[N° Pedido/Empresa],0))/F302),\"\")","v":""},{"$f":"IFERROR(IF(D302=\"\",\"\",INDEX(tb_vendas[Data Fechamento],MATCH(D302,tb_vendas[N° Pedido/Empresa],0))+E302*INDEX(tb_formas_pagamento[Dias_Intervalo],MATCH(INDEX(tb_vendas[Forma_Pagamento],MATCH(D302,tb_vendas[N° Pedido/Empresa],0)),tb_formas_pagamento[Nome_Forma],0))),\"\")","v":""},null,{"$f":"IF(OR(tb_pagamentos[[#This Row],[Data_Vencimento]]=\"\",tb_pagamentos[[#This Row],[Valor_Parcela]]=\"\",tb_pagamentos[[#This Row],[Qtd_Total_Parcelas]]=\"\",tb_pagamentos[[#This Row],[Nr_Pedido]]=\"\"),\"\",IF(tb_pagamentos[[#This Row],[Data_Pagamento]]<>\"\",\"Pago\",IF(AND(tb_pagamentos[[#This Row],[Data_Pagamento]]=\"\",tb_pagamentos[[#This Row],[Data_Vencimento]]<TODAY()),\"Em Atraso\",\"A vencer\")))","v":""}]
[null,null,"",{"$f":"IFERROR(INDEX(CALC_BASE!$N$3:$N$52,MATCH(ROW()-7,CALC_BASE!$M$3:$M$52,0)),\"\")","v":""},{"$f":"IFERROR(INDEX(CALC_BASE!$O$3:$O$52,MATCH(ROW()-7,CALC_BASE!$M$3:$M$52,0)),\"\")","v":""},{"$f":"IFERROR(INDEX(CALC_BASE!$P$3:$P$52,MATCH(ROW()-7,CALC_BASE!$M$3:$M$52,0)),\"\")","v":""},{"$f":"IFERROR(IF(D303=\"\",\"\",INDEX(tb_vendas[Preço de Venda],MATCH(D303,tb_vendas[N° Pedido/Empresa],0))/F303),\"\")","v":""},{"$f":"IFERROR(IF(D303=\"\",\"\",INDEX(tb_vendas[Data Fechamento],MATCH(D303,tb_vendas[N° Pedido/Empresa],0))+E303*INDEX(tb_formas_pagamento[Dias_Intervalo],MATCH(INDEX(tb_vendas[Forma_Pagamento],MATCH(D303,tb_vendas[N° Pedido/Empresa],0)),tb_formas_pagamento[Nome_Forma],0))),\"\")","v":""},null,{"$f":"IF(OR(tb_pagamentos[[#This Row],[Data_Vencimento]]=\"\",tb_pagamentos[[#This Row],[Valor_Parcela]]=\"\",tb_pagamentos[[#This Row],[Qtd_Total_Parcelas]]=\"\",tb_pagamentos[[#This Row],[Nr_Pedido]]=\"\"),\"\",IF(tb_pagamentos[[#This Row],[Data_Pagamento]]<>\"\",\"Pago\",IF(AND(tb_pagamentos[[#This Row],[Data_Pagamento]]=\"\",tb_pagamentos[[#This Row],[Data_Vencimento]]<TODAY()),\"Em Atraso\",\"A vencer\")))","v":""}]
[null,null,"",{"$f":"IFERROR(INDEX(CALC_BASE!$N$3:$N$52,MATCH(ROW()-7,CALC_BASE!$M$3:$M$52,0)),\"\")","v":""},{"$f":"IFERROR(INDEX(CALC_BASE!$O$3:$O$52,MATCH(ROW()-7,CALC_BASE!$M$3:$M$52,0)),\"\")","v":""},{"$f":"IFERROR(INDEX(CALC_BASE!$P$3:$P$52,MATCH(ROW()-7,CALC_BASE!$M$3:$M$52,0)),\"\")","v":""},{"$f":"IFERROR(IF(D304=\"\",\"\",INDEX(tb_vendas[Preço de Venda],MATCH(D304,tb_vendas[N° Pedido/Empresa],0))/F304),\"\")","v":""},{"$f":"IFERROR(IF(D304=\"\",\"\",INDEX(tb_vendas[Data Fechamento],MATCH(D304,tb_vendas[N° Pedido/Empresa],0))+E304*INDEX(tb_formas_pagamento[Dias_Intervalo],MATCH(INDEX(tb_vendas[Forma_Pagamento],MATCH(D304,tb_vendas[N° Pedido/Empresa],0)),tb_formas_pagamento[Nome_Forma],0))),\"\")","v":""},null,{"$f":"IF(OR(tb_pagamentos[[#This Row],[Data_Vencimento]]=\"\",tb_pagamentos[[#This Row],[Valor_Parcela]]=\"\",tb_pagamentos[[#This Row],[Qtd_Total_Parcelas]]=\"\",tb_pagamentos[[#This Row],[Nr_Pedido]]=\"\"),\"\",IF(tb_pagamentos[[#This Row],[Data_Pagamento]]<>\"\",\"Pago\",IF(AND(tb_pagamentos[[#This Row],[Data_Pagamento]]=\"\",tb_pagamentos[[#This Row],[Data_Vencimento]]<TODAY()),\"Em Atraso\",\"A vencer\")))","v":""}]
[null,null,"",{"$f":"IFERROR(INDEX(CALC_BASE!$N$3:$N$52,MATCH(ROW()-7,CALC_BASE!$M$3:$M$52,0)),\"\")","v":""},{"$f":"IFERROR(INDEX(CALC_BASE!$O$3:$O$52,MATCH(ROW()-7,CALC_BASE!$M$3:$M$52,0)),\"\")","v":""},{"$f":"IFERROR(INDEX(CALC_BASE!$P$3:$P$52,MATCH(ROW()-7,CALC_BASE!$M$3:$M$52,0)),\"\")","v":""},{"$f":"IFERROR(IF(D305=\"\",\"\",INDEX(tb_vendas[Preço de Venda],MATCH(D305,tb_vendas[N° Pedido/Empresa],0))/F305),\"\")","v":""},{"$f":"IFERROR(IF(D305=\"\",\"\",INDEX(tb_vendas[Data Fechamento],MATCH(D305,tb_vendas[N° Pedido/Empresa],0))+E305*INDEX(tb_formas_pagamento[Dias_Intervalo],MATCH(INDEX(tb_vendas[Forma_Pagamento],MATCH(D305,tb_vendas[N° Pedido/Empresa],0)),tb_formas_pagamento[Nome_Forma],0))),\"\")","v":""},null,{"$f":"IF(OR(tb_pagamentos[[#This Row],[Data_Vencimento]]=\"\",tb_pagamentos[[#This Row],[Valor_Parcela]]=\"\",tb_pagamentos[[#This Row],[Qtd_Total_Parcelas]]=\"\",tb_pagamentos[[#This Row],[Nr_Pedido]]=\"\"),\"\",IF(tb_pagamentos[[#This Row],[Data_Pagamento]]<>\"\",\"Pago\",IF(AND(tb_pagamentos[[#This Row],[Data_Pagamento]]=\"\",tb_pagamentos[[#This Row],[Data_Vencimento]]<TODAY()),\"Em Atraso\",\"A vencer\")))","v":""}]
[null,null,"",{"$f":"IFERROR(INDEX(CALC_BASE!$N$3:$N$52,MATCH(ROW()-7,CALC_BASE!$M$3:$M$52,0)),\"\")","v":""},{"$f":"IFERROR(INDEX(CALC_BASE!$O$3:$O$52,MATCH(ROW()-7,CALC_BASE!$M$3:$M$52,0)),\"\")","v":""},{"$f":"IFERROR(INDEX(CALC_BASE!$P$3:$P$52,MATCH(ROW()-7,CALC_BASE!$M$3:$M$52,0)),\"\")","v":""},{"$f":"IFERROR(IF(D306=\"\",\"\",INDEX(tb_vendas[Preço de Venda],MATCH(D306,tb_vendas[N° Pedido/Empresa],0))/F306),\"\")","v":""},{"$f":"IFERROR(IF(D306=\"\",\"\",INDEX(tb_vendas[Data Fechamento],MATCH(D306,tb_vendas[N° Pedido/Empresa],0))+E306*INDEX(tb_formas_pagamento[Dias_Intervalo],MATCH(INDEX(tb_vendas[Forma_Pagamento],MATCH(D306,tb_vendas[N° Pedido/Empresa],0)),tb_formas_pagamento[Nome_Forma],0))),\"\")","v":""},null,{"$f":"IF(OR(tb_pagamentos[[#This Row],[Data_Vencimento]]=\"\",tb_pagamentos[[#This Row],[Valor_Parcela]]=\"\",tb_pagamentos[[#This Row],[Qtd_Total_Parcelas]]=\"\",tb_pagamentos[[#This Row],[Nr_Pedido]]=\"\"),\"\",IF(tb_pagamentos[[#This Row],[Data_Pagamento]]<>\"\",\"Pago\",IF(AND(tb_pagamentos[[#This Row],[Data_Pagamento]]=\"\",tb_pagamentos[[#This Row],[Data_Vencimento]]<TODAY()),\"Em Atraso\",\"A vencer\")))","v":""}]
[null,null,"",{"$f":"IFERROR(INDEX(CALC_BASE!$N$3:$N$52,MATCH(ROW()-7,CALC_BASE!$M$3:$M$52,0)),\"\")","v":""},{"$f":"IFERROR(INDEX(CALC_BASE!$O$3:$O$52,MATCH(ROW()-7,CALC_BASE!$M$3:$M$52,0)),\"\")","v":""},{"$f":"IFERROR(INDEX(CALC_BASE!$P$3:$P$52,MATCH(ROW()-7,CALC_BASE!$M$3:$M$52,0)),\"\")","v":""},{"$f":"IFERROR(IF(D307=\"\",\"\",INDEX(tb_vendas[Preço de Venda],MATCH(D307,tb_vendas[N° Pedido/Empresa],0))/F307),\"\")","v":""},{"$f":"IFERROR(IF(D307=\"\",\"\",INDEX(tb_vendas[Data Fechamento],MATCH(D307,tb_vendas[N° Pedido/Empresa],0))+E307*INDEX(tb_formas_pagamento[Dias_Intervalo],MATCH(INDEX(tb_vendas[Forma_Pagamento],MATCH(D307,tb_vendas[N° Pedido/Empresa],0)),tb_formas_pagamento[Nome_Forma],0))),\"\")","v":""},null,{"$f":"IF(OR(tb_pagamentos[[#This Row],[Data_Vencimento]]=\"\",tb_pagamentos[[#This Row],[Valor_Parcela]]=\"\",tb_pagamentos[[#This Row],[Qtd_Total_Parcelas]]=\"\",tb_pagamentos[[#This Row],[Nr_Pedido]]=\"\"),\"\",IF(tb_pagamentos[[#This Row],[Data_Pagamento]]<>\"\",\"Pago\",IF(AND(tb_pagamentos[[#This Row],[Data_Pagamento]]=\"\",tb_pagamentos[[#This Row],[Data_Vencimento]]<TODAY()),\"Em Atraso\",\"A vencer\")))","v":""}]
[null,null,"",{"$f":"IFERROR(INDEX(CALC_BASE!$N$3:$N$52,MATCH(ROW()-7,CALC_BASE!$M$3:$M$52,0)),\"\")","v":""},{"$f":"IFERROR(INDEX(CALC_BASE!$O$3:$O$52,MATCH(ROW()-7,CALC_BASE!$M$3:$M$52,0)),\"\")","v":""},{"$f":"IFERROR(INDEX(CALC_BASE!$P$3:$P$52,MATCH(ROW()-7,CALC_BASE!$M$3:$M$52,0)),\"\")","v":""},{"$f":"IFERROR(IF(D308=\"\",\"\",INDEX(tb_vendas[Preço de Venda],MATCH(D308,tb_vendas[N° Pedido/Empresa],0))/F308),\"\")","v":""},{"$f":"IFERROR(IF(D308=\"\",\"\",INDEX(tb_vendas[Data Fechamento],MATCH(D308,tb_vendas[N° Pedido/Empresa],0))+E308*INDEX(tb_formas_pagamento[Dias_Intervalo],MATCH(INDEX(tb_vendas[Forma_Pagamento],MATCH(D308,tb_vendas[N° Pedido/Empresa],0)),tb_formas_pagamento[Nome_Forma],0))),\"\")","v":""},null,{"$f":"IF(OR(tb_pagamentos[[#This Row],[Data_Vencimento]]=\"\",tb_pagamentos[[#This Row],[Valor_Parcela]]=\"\",tb_pagamentos[[#This Row],[Qtd_Total_Parcelas]]=\"\",tb_pagamentos[[#This Row],[Nr_Pedido]]=\"\"),\"\",IF(tb_pagamentos[[#This Row],[Data_Pagamento]]<>\"\",\"Pago\",IF(AND(tb_pagamentos[[#This Row],[Data_Pagamento]]=\"\",tb_pagamentos[[#This Row],[Data_Vencimento]]<TODAY()),\"Em Atraso\",\"A vencer\")))","v":""}]
[null,null,"",{"$f":"IFERROR(INDEX(CALC_BASE!$N$3:$N$52,MATCH(ROW()-7,CALC_BASE!$M$3:$M$52,0)),\"\")","v":""},{"$f":"IFERROR(INDEX(CALC_BASE!$O$3:$O$52,MATCH(ROW()-7,CALC_BASE!$M$3:$M$52,0)),\"\")","v":""},{"$f":"IFERROR(INDEX(CALC_BASE!$P$3:$P$52,MATCH(ROW()-7,CALC_BASE!$M$3:$M$52,0)),\"\")","v":""},{"$f":"IFERROR(IF(D309=\"\",\"\",INDEX(tb_vendas[Preço de Venda],MATCH(D309,tb_vendas[N° Pedido/Empresa],0))/F309),\"\")","v":""},{"$f":"IFERROR(IF(D309=\"\",\"\",INDEX(tb_vendas[Data Fechamento],MATCH(D309,tb_vendas[N° Pedido/Empresa],0))+E309*INDEX(tb_formas_pagamento[Dias_Intervalo],MATCH(INDEX(tb_vendas[Forma_Pagamento],MATCH(D309,tb_vendas[N° Pedido/Empresa],0)),tb_formas_pagamento[Nome_Forma],0))),\"\")","v":""},null,{"$f":"IF(OR(tb_pagamentos[[#This Row],[Data_Vencimento]]=\"\",tb_pagamentos[[#This Row],[Valor_Parcela]]=\"\",tb_pagamentos[[#This Row],[Qtd_Total_Parcelas]]=\"\",tb_pagamentos[[#This Row],[Nr_Pedido]]=\"\"),\"\",IF(tb_pagamentos[[#This Row],[Data_Pagamento]]<>\"\",\"Pago\",IF(AND(tb_pagamentos[[#This Row],[Data_Pagamento]]=\"\",tb_pagamentos[[#This Row],[Data_Vencimento]]<TODAY()),\"Em Atraso\",\"A vencer\")))","v":""}]
[null,null,"",{"$f":"IFERROR(INDEX(CALC_BASE!$N$3:$N$52,MATCH(ROW()-7,CALC_BASE!$M$3:$M$52,0)),\"\")","v":""},{"$f":"IFERROR(INDEX(CALC_BASE!$O$3:$O$52,MATCH(ROW()-7,CALC_BASE!$M$3:$M$52,0)),\"\")","v":""},{"$f":"IFERROR(INDEX(CALC_BASE!$P$3:$P$52,MATCH(ROW()-7,CALC_BASE!$M$3:$M$52,0)),\"\")","v":""},{"$f":"IFERROR(IF(D310=\"\",\"\",INDEX(tb_vendas[Preço de Venda],MATCH(D310,tb_vendas[N° Pedido/Empresa],0))/F310),\"\")","v":""},{"$f":"IFERROR(IF(D310=\"\",\"\",INDEX(tb_vendas[Data Fechamento],MATCH(D310,tb_vendas[N° Pedido/Empresa],0))+E310*INDEX(tb_formas_pagamento[Dias_Intervalo],MATCH(INDEX(tb_vendas[Forma_Pagamento],MATCH(D310,tb_vendas[N° Pedido/Empresa],0)),tb_formas_pagamento[Nome_Forma],0))),\"\")","v":""},null,{"$f":"IF(OR(tb_pagamentos[[#This Row],[Data_Vencimento]]=\"\",tb_pagamentos[[#This Row],[Valor_Parcela]]=\"\",tb_pagamentos[[#This Row],[Qtd_Total_Parcelas]]=\"\",tb_pagamentos[[#This Row],[Nr_Pedido]]=\"\"),\"\",IF(tb_pagamentos[[#This Row],[Data_Pagamento]]<>\"\",\"Pago\",IF(AND(tb_pagamentos[[#This Row],[Data_Pagamento]]=\"\",tb_pagamentos[[#This Row],[Data_Vencimento]]<TODAY()),\"Em Atraso\",\"A vencer\")))","v":""}]
[null,null,"",{"$f":"IFERROR(INDEX(CALC_BASE!$N$3:$N$52,MATCH(ROW()-7,CALC_BASE!$M$3:$M$52,0)),\"\")","v":""},{"$f":"IFERROR(INDEX(CALC_BASE!$O$3:$O$52,MATCH(ROW()-7,CALC_BASE!$M$3:$M$52,0)),\"\")","v":""},{"$f":"IFERROR(INDEX(CALC_BASE!$P$3:$P$52,MATCH(ROW()-7,CALC_BASE!$M$3:$M$52,0)),\"\")","v":""},{"$f":"IFERROR(IF(D311=\"\",\"\",INDEX(tb_vendas[Preço de Venda],MATCH(D311,tb_vendas[N° Pedido/Empresa],0))/F311),\"\")","v":""},{"$f":"IFERROR(IF(D311=\"\",\"\",INDEX(tb_vendas[Data Fechamento],MATCH(D311,tb_vendas[N° Pedido/Empresa],0))+E311*INDEX(tb_formas_pagamento[Dias_Intervalo],MATCH(INDEX(tb_vendas[Forma_Pagamento],MATCH(D311,tb_vendas[N° Pedido/Empresa],0)),tb_formas_pagamento[Nome_Forma],0))),\"\")","v":""},null,{"$f":"IF(OR(tb_pagamentos[[#This Row],[Data_Vencimento]]=\"\",tb_pagamentos[[#This Row],[Valor_Parcela]]=\"\",tb_pagamentos[[#This Row],[Qtd_Total_Parcelas]]=\"\",tb_pagamentos[[#This Row],[Nr_Pedido]]=\"\"),\"\",IF(tb_pagamentos[[#This Row],[Data_Pagamento]]<>\"\",\"Pago\",IF(AND(tb_pagamentos[[#This Row],[Data_Pagamento]]=\"\",tb_pagamentos[[#This Row],[Data_Vencimento]]<TODAY()),\"Em Atraso\",\"A vencer\")))","v":""}]
[null,null,"",{"$f":"IFERROR(INDEX(CALC_BASE!$N$3:$N$52,MATCH(ROW()-7,CALC_BASE!$M$3:$M$52,0)),\"\")","v":""},{"$f":"IFERROR(INDEX(CALC_BASE!$O$3:$O$52,MATCH(ROW()-7,CALC_BASE!$M$3:$M$52,0)),\"\")","v":""},{"$f":"IFERROR(INDEX(CALC_BASE!$P$3:$P$52,MATCH(ROW()-7,CALC_BASE!$M$3:$M$52,0)),\"\")","v":""},{"$f":"IFERROR(IF(D312=\"\",\"\",INDEX(tb_vendas[Preço de Venda],MATCH(D312,tb_vendas[N° Pedido/Empresa],0))/F312),\"\")","v":""},{"$f":"IFERROR(IF(D312=\"\",\"\",INDEX(tb_vendas[Data Fechamento],MATCH(D312,tb_vendas[N° Pedido/Empresa],0))+E312*INDEX(tb_formas_pagamento[Dias_Intervalo],MATCH(INDEX(tb_vendas[Forma_Pagamento],MATCH(D312,tb_vendas[N° Pedido/Empresa],0)),tb_formas_pagamento[Nome_Forma],0))),\"\")","v":""},null,{"$f":"IF(OR(tb_pagamentos[[#This Row],[Data_Vencimento]]=\"\",tb_pagamentos[[#This Row],[Valor_Parcela]]=\"\",tb_pagamentos[[#This Row],[Qtd_Total_Parcelas]]=\"\",tb_pagamentos[[#This Row],[Nr_Pedido]]=\"\"),\"\",IF(tb_pagamentos[[#This Row],[Data_Pagamento]]<>\"\",\"Pago\",IF(AND(tb_pagamentos[[#This Row],[Data_Pagamento]]=\"\",tb_pagamentos[[#This Row],[Data_Vencimento]]<TODAY()),\"Em Atraso\",\"A vencer\")))","v":""}]
[null,null,"",{"$f":"IFERROR(INDEX(CALC_BASE!$N$3:$N$52,MATCH(ROW()-7,CALC_BASE!$M$3:$M$52,0)),\"\")","v":""},{"$f":"IFERROR(INDEX(CALC_BASE!$O$3:$O$52,MATCH(ROW()-7,CALC_BASE!$M$3:$M$52,0)),\"\")","v":""},{"$f":"IFERROR(INDEX(CALC_BASE!$P$3:$P$52,MATCH(ROW()-7,CALC_BASE!$M$3:$M$52,0)),\"\")","v":""},{"$f":"IFERROR(IF(D313=\"\",\"\",INDEX(tb_vendas[Preço de Venda],MATCH(D313,tb_vendas[N° Pedido/Empresa],0))/F313),\"\")","v":""},{"$f":"IFERROR(IF(D313=\"\",\"\",INDEX(tb_vendas[Data Fechamento],MATCH(D313,tb_vendas[N° Pedido/Empresa],0))+E313*INDEX(tb_formas_pagamento[Dias_Intervalo],MATCH(INDEX(tb_vendas[Forma_Pagamento],MATCH(D313,tb_vendas[N° Pedido/Empresa],0)),tb_formas_pagamento[Nome_Forma],0))),\"\")","v":""},null,{"$f":"IF(OR(tb_pagamentos[[#This Row],[Data_Vencimento]]=\"\",tb_pagamentos[[#This Row],[Valor_Parcela]]=\"\",tb_pagamentos[[#This Row],[Qtd_Total_Parcelas]]=\"\",tb_pagamentos[[#This Row],[Nr_Pedido]]=\"\"),\"\",IF(tb_pagamentos[[#This Row],[Data_Pagamento]]<>\"\",\"Pago\",IF(AND(tb_pagamentos[[#This Row],[Data_Pagamento]]=\"\",tb_pagamentos[[#This Row],[Data_Vencimento]]<TODAY()),\"Em Atraso\",\"A vencer\")))","v":""}]
[null,null,"",{"$f":"IFERROR(INDEX(CALC_BASE!$N$3:$N$52,MATCH(ROW()-7,CALC_BASE!$M$3:$M$52,0)),\"\")","v":""},{"$f":"IFERROR(INDEX(CALC_BASE!$O$3:$O$52,MATCH(ROW()-7,CALC_BASE!$M$3:$M$52,0)),\"\")","v":""},{"$f":"IFERROR(INDEX(CALC_BASE!$P$3:$P$52,MATCH(ROW()-7,CALC_BASE!$M$3:$M$52,0)),\"\")","v":""},{"$f":"IFERROR(IF(D314=\"\",\"\",INDEX(tb_vendas[Preço de Venda],MATCH(D314,tb_vendas[N° Pedido/Empresa],0))/F314),\"\")","v":""},{"$f":"IFERROR(IF(D314=\"\",\"\",INDEX(tb_vendas[Data Fechamento],MATCH(D314,tb_vendas[N° Pedido/Empresa],0))+E314*INDEX(tb_formas_pagamento[Dias_Intervalo],MATCH(INDEX(tb_vendas[Forma_Pagamento],MATCH(D314,tb_vendas[N° Pedido/Empresa],0)),tb_formas_pagamento[Nome_Forma],0))),\"\")","v":""},null,{"$f":"IF(OR(tb_pagamentos[[#This Row],[Data_Vencimento]]=\"\",tb_pagamentos[[#This Row],[Valor_Parcela]]=\"\",tb_pagamentos[[#This Row],[Qtd_Total_Parcelas]]=\"\",tb_pagamentos[[#This Row],[Nr_Pedido]]=\"\"),\"\",IF(tb_pagamentos[[#This Row],[Data_Pagamento]]<>\"\",\"Pago\",IF(AND(tb_pagamentos[[#This Row],[Data_Pagamento]]=\"\",tb_pagamentos[[#This Row],[Data_Vencimento]]<TODAY()),\"Em Atraso\",\"A vencer\")))","v":""}]
[null,null,"",{"$f":"IFERROR(INDEX(CALC_BASE!$N$3:$N$52,MATCH(ROW()-7,CALC_BASE!$M$3:$M$52,0)),\"\")","v":""},{"$f":"IFERROR(INDEX(CALC_BASE!$O$3:$O$52,MATCH(ROW()-7,CALC_BASE!$M$3:$M$52,0)),\"\")","v":""},{"$f":"IFERROR(INDEX(CALC_BASE!$P$3:$P$52,MATCH(ROW()-7,CALC_BASE!$M$3:$M$52,0)),\"\")","v":""},{"$f":"IFERROR(IF(D315=\"\",\"\",INDEX(tb_vendas[Preço de Venda],MATCH(D315,tb_vendas[N° Pedido/Empresa],0))/F315),\"\")","v":""},{"$f":"IFERROR(IF(D315=\"\",\"\",INDEX(tb_vendas[Data Fechamento],MATCH(D315,tb_vendas[N° Pedido/Empresa],0))+E315*INDEX(tb_formas_pagamento[Dias_Intervalo],MATCH(INDEX(tb_vendas[Forma_Pagamento],MATCH(D315,tb_vendas[N° Pedido/Empresa],0)),tb_formas_pagamento[Nome_Forma],0))),\"\")","v":""},null,{"$f":"IF(OR(tb_pagamentos[[#This Row],[Data_Vencimento]]=\"\",tb_pagamentos[[#This Row],[Valor_Parcela]]=\"\",tb_pagamentos[[#This Row],[Qtd_Total_Parcelas]]=\"\",tb_pagamentos[[#This Row],[Nr_Pedido]]=\"\"),\"\",IF(tb_pagamentos[[#This Row],[Data_Pagamento]]<>\"\",\"Pago\",IF(AND(tb_pagamentos[[#This Row],[Data_Pagamento]]=\"\",tb_pagamentos[[#This Row],[Data_Vencimento]]<TODAY()),\"Em Atraso\",\"A vencer\")))","v":""}]
[null,null,"",{"$f":"IFERROR(INDEX(CALC_BASE!$N$3:$N$52,MATCH(ROW()-7,CALC_BASE!$M$3:$M$52,0)),\"\")","v":""},{"$f":"IFERROR(INDEX(CALC_BASE!$O$3:$O$52,MATCH(ROW()-7,CALC_BASE!$M$3:$M$52,0)),\"\")","v":""},{"$f":"IFERROR(INDEX(CALC_BASE!$P$3:$P$52,MATCH(ROW()-7,CALC_BASE!$M$3:$M$52,0)),\"\")","v":""},{"$f":"IFERROR(IF(D316=\"\",\"\",INDEX(tb_vendas[Preço de Venda],MATCH(D316,tb_vendas[N° Pedido/Empresa],0))/F316),\"\")","v":""},{"$f":"IFERROR(IF(D316=\"\",\"\",INDEX(tb_vendas[Data Fechamento],MATCH(D316,tb_vendas[N° Pedido/Empresa],0))+E316*INDEX(tb_formas_pagamento[Dias_Intervalo],MATCH(INDEX(tb_vendas[Forma_Pagamento],MATCH(D316,tb_vendas[N° Pedido/Empresa],0)),tb_formas_pagamento[Nome_Forma],0))),\"\")","v":""},null,{"$f":"IF(OR(tb_pagamentos[[#This Row],[Data_Vencimento]]=\"\",tb_pagamentos[[#This Row],[Valor_Parcela]]=\"\",tb_pagamentos[[#This Row],[Qtd_Total_Parcelas]]=\"\",tb_pagamentos[[#This Row],[Nr_Pedido]]=\"\"),\"\",IF(tb_pagamentos[[#This Row],[Data_Pagamento]]<>\"\",\"Pago\",IF(AND(tb_pagamentos[[#This Row],[Data_Pagamento]]=\"\",tb_pagamentos[[#This Row],[Data_Vencimento]]<TODAY()),\"Em Atraso\",\"A vencer\")))","v":""}]
[null,null,"",{"$f":"IFERROR(INDEX(CALC_BASE!$N$3:$N$52,MATCH(ROW()-7,CALC_BASE!$M$3:$M$52,0)),\"\")","v":""},{"$f":"IFERROR(INDEX(CALC_BASE!$O$3:$O$52,MATCH(ROW()-7,CALC_BASE!$M$3:$M$52,0)),\"\")","v":""},{"$f":"IFERROR(INDEX(CALC_BASE!$P$3:$P$52,MATCH(ROW()-7,CALC_BASE!$M$3:$M$52,0)),\"\")","v":""},{"$f":"IFERROR(IF(D317=\"\",\"\",INDEX(tb_vendas[Preço de Venda],MATCH(D317,tb_vendas[N° Pedido/Empresa],0))/F317),\"\")","v":""},{"$f":"IFERROR(IF(D317=\"\",\"\",INDEX(tb_vendas[Data Fechamento],MATCH(D317,tb_vendas[N° Pedido/Empresa],0))+E317*INDEX(tb_formas_pagamento[Dias_Intervalo],MATCH(INDEX(tb_vendas[Forma_Pagamento],MATCH(D317,tb_vendas[N° Pedido/Empresa],0)),tb_formas_pagamento[Nome_Forma],0))),\"\")","v":""},null,{"$f":"IF(OR(tb_pagamentos[[#This Row],[Data_Vencimento]]=\"\",tb_pagamentos[[#This Row],[Valor_Parcela]]=\"\",tb_pagamentos[[#This Row],[Qtd_Total_Parcelas]]=\"\",tb_pagamentos[[#This Row],[Nr_Pedido]]=\"\"),\"\",IF(tb_pagamentos[[#This Row],[Data_Pagamento]]<>\"\",\"Pago\",IF(AND(tb_pagamentos[[#This Row],[Data_Pagamento]]=\"\",tb_pagamentos[[#This Row],[Data_Vencimento]]<TODAY()),\"Em Atraso\",\"A vencer\")))","v":""}]
[null,null,"",{"$f":"IFERROR(INDEX(CALC_BASE!$N$3:$N$52,MATCH(ROW()-7,CALC_BASE!$M$3:$M$52,0)),\"\")","v":""},{"$f":"IFERROR(INDEX(CALC_BASE!$O$3:$O$52,MATCH(ROW()-7,CALC_BASE!$M$3:$M$52,0)),\"\")","v":""},{"$f":"IFERROR(INDEX(CALC_BASE!$P$3:$P$52,MATCH(ROW()-7,CALC_BASE!$M$3:$M$52,0)),\"\")","v":""},{"$f":"IFERROR(IF(D318=\"\",\"\",INDEX(tb_vendas[Preço de Venda],MATCH(D318,tb_vendas[N° Pedido/Empresa],0))/F318),\"\")","v":""},{"$f":"IFERROR(IF(D318=\"\",\"\",INDEX(tb_vendas[Data Fechamento],MATCH(D318,tb_vendas[N° Pedido/Empresa],0))+E318*INDEX(tb_formas_pagamento[Dias_Intervalo],MATCH(INDEX(tb_vendas[Forma_Pagamento],MATCH(D318,tb_vendas[N° Pedido/Empresa],0)),tb_formas_pagamento[Nome_Forma],0))),\"\")","v":""},null,{"$f":"IF(OR(tb_pagamentos[[#This Row],[Data_Vencimento]]=\"\",tb_pagamentos[[#This Row],[Valor_Parcela]]=\"\",tb_pagamentos[[#This Row],[Qtd_Total_Parcelas]]=\"\",tb_pagamentos[[#This Row],[Nr_Pedido]]=\"\"),\"\",IF(tb_pagamentos[[#This Row],[Data_Pagamento]]<>\"\",\"Pago\",IF(AND(tb_pagamentos[[#This Row],[Data_Pagamento]]=\"\",tb_pagamentos[[#This Row],[Data_Vencimento]]<TODAY()),\"Em Atraso\",\"A vencer\")))","v":""}]
[null,null,"",{"$f":"IFERROR(INDEX(CALC_BASE!$N$3:$N$52,MATCH(ROW()-7,CALC_BASE!$M$3:$M$52,0)),\"\")","v":""},{"$f":"IFERROR(INDEX(CALC_BASE!$O$3:$O$52,MATCH(ROW()-7,CALC_BASE!$M$3:$M$52,0)),\"\")","v":""},{"$f":"IFERROR(INDEX(CALC_BASE!$P$3:$P$52,MATCH(ROW()-7,CALC_BASE!$M$3:$M$52,0)),\"\")","v":""},{"$f":"IFERROR(IF(D319=\"\",\"\",INDEX(tb_vendas[Preço de Venda],MATCH(D319,tb_vendas[N° Pedido/Empresa],0))/F319),\"\")","v":""},{"$f":"IFERROR(IF(D319=\"\",\"\",INDEX(tb_vendas[Data Fechamento],MATCH(D319,tb_vendas[N° Pedido/Empresa],0))+E319*INDEX(tb_formas_pagamento[Dias_Intervalo],MATCH(INDEX(tb_vendas[Forma_Pagamento],MATCH(D319,tb_vendas[N° Pedido/Empresa],0)),tb_formas_pagamento[Nome_Forma],0))),\"\")","v":""},null,{"$f":"IF(OR(tb_pagamentos[[#This Row],[Data_Vencimento]]=\"\",tb_pagamentos[[#This Row],[Valor_Parcela]]=\"\",tb_pagamentos[[#This Row],[Qtd_Total_Parcelas]]=\"\",tb_pagamentos[[#This Row],[Nr_Pedido]]=\"\"),\"\",IF(tb_pagamentos[[#This Row],[Data_Pagamento]]<>\"\",\"Pago\",IF(AND(tb_pagamentos[[#This Row],[Data_Pagamento]]=\"\",tb_pagamentos[[#This Row],[Data_Vencimento]]<TODAY()),\"Em Atraso\",\"A vencer\")))","v":""}]
[null,null,"",{"$f":"IFERROR(INDEX(CALC_BASE!$N$3:$N$52,MATCH(ROW()-7,CALC_BASE!$M$3:$M$52,0)),\"\")","v":""},{"$f":"IFERROR(INDEX(CALC_BASE!$O$3:$O$52,MATCH(ROW()-7,CALC_BASE!$M$3:$M$52,0)),\"\")","v":""},{"$f":"IFERROR(INDEX(CALC_BASE!$P$3:$P$52,MATCH(ROW()-7,CALC_BASE!$M$3:$M$52,0)),\"\")","v":""},{"$f":"IFERROR(IF(D320=\"\",\"\",INDEX(tb_vendas[Preço de Venda],MATCH(D320,tb_vendas[N° Pedido/Empresa],0))/F320),\"\")","v":""},{"$f":"IFERROR(IF(D320=\"\",\"\",INDEX(tb_vendas[Data Fechamento],MATCH(D320,tb_vendas[N° Pedido/Empresa],0))+E320*INDEX(tb_formas_pagamento[Dias_Intervalo],MATCH(INDEX(tb_vendas[Forma_Pagamento],MATCH(D320,tb_vendas[N° Pedido/Empresa],0)),tb_formas_pagamento[Nome_Forma],0))),\"\")","v":""},null,{"$f":"IF(OR(tb_pagamentos[[#This Row],[Data_Vencimento]]=\"\",tb_pagamentos[[#This Row],[Valor_Parcela]]=\"\",tb_pagamentos[[#This Row],[Qtd_Total_Parcelas]]=\"\",tb_pagamentos[[#This Row],[Nr_Pedido]]=\"\"),\"\",IF(tb_pagamentos[[#This Row],[Data_Pagamento]]<>\"\",\"Pago\",IF(AND(tb_pagamentos[[#This Row],[Data_Pagamento]]=\"\",tb_pagamentos[[#This Row],[Data_Vencimento]]<TODAY()),\"Em Atraso\",\"A vencer\")))","v":""}]
[null,null,"",{"$f":"IFERROR(INDEX(CALC_BASE!$N$3:$N$52,MATCH(ROW()-7,CALC_BASE!$M$3:$M$52,0)),\"\")","v":""},{"$f":"IFERROR(INDEX(CALC_BASE!$O$3:$O$52,MATCH(ROW()-7,CALC_BASE!$M$3:$M$52,0)),\"\")","v":""},{"$f":"IFERROR(INDEX(CALC_BASE!$P$3:$P$52,MATCH(ROW()-7,CALC_BASE!$M$3:$M$52,0)),\"\")","v":""},{"$f":"IFERROR(IF(D321=\"\",\"\",INDEX(tb_vendas[Preço de Venda],MATCH(D321,tb_vendas[N° Pedido/Empresa],0))/F321),\"\")","v":""},{"$f":"IFERROR(IF(D321=\"\",\"\",INDEX(tb_vendas[Data Fechamento],MATCH(D321,tb_vendas[N° Pedido/Empresa],0))+E321*INDEX(tb_formas_pagamento[Dias_Intervalo],MATCH(INDEX(tb_vendas[Forma_Pagamento],MATCH(D321,tb_vendas[N° Pedido/Empresa],0)),tb_formas_pagamento[Nome_Forma],0))),\"\")","v":""},null,{"$f":"IF(OR(tb_pagamentos[[#This Row],[Data_Vencimento]]=\"\",tb_pagamentos[[#This Row],[Valor_Parcela]]=\"\",tb_pagamentos[[#This Row],[Qtd_Total_Parcelas]]=\"\",tb_pagamentos[[#This Row],[Nr_Pedido]]=\"\"),\"\",IF(tb_pagamentos[[#This Row],[Data_Pagamento]]<>\"\",\"Pago\",IF(AND(tb_pagamentos[[#This Row],[Data_Pagamento]]=\"\",tb_pagamentos[[#This Row],[Data_Vencimento]]<TODAY()),\"Em Atraso\",\"A vencer\")))","v":""}]
[null,null,"",{"$f":"IFERROR(INDEX(CALC_BASE!$N$3:$N$52,MATCH(ROW()-7,CALC_BASE!$M$3:$M$52,0)),\"\")","v":""},{"$f":"IFERROR(INDEX(CALC_BASE!$O$3:$O$52,MATCH(ROW()-7,CALC_BASE!$M$3:$M$52,0)),\"\")","v":""},{"$f":"IFERROR(INDEX(CALC_BASE!$P$3:$P$52,MATCH(ROW()-7,CALC_BASE!$M$3:$M$52,0)),\"\")","v":""},{"$f":"IFERROR(IF(D322=\"\",\"\",INDEX(tb_vendas[Preço de Venda],MATCH(D322,tb_vendas[N° Pedido/Empresa],0))/F322),\"\")","v":""},{"$f":"IFERROR(IF(D322=\"\",\"\",INDEX(tb_vendas[Data Fechamento],MATCH(D322,tb_vendas[N° Pedido/Empresa],0))+E322*INDEX(tb_formas_pagamento[Dias_Intervalo],MATCH(INDEX(tb_vendas[Forma_Pagamento],MATCH(D322,tb_vendas[N° Pedido/Empresa],0)),tb_formas_pagamento[Nome_Forma],0))),\"\")","v":""},null,{"$f":"IF(OR(tb_pagamentos[[#This Row],[Data_Vencimento]]=\"\",tb_pagamentos[[#This Row],[Valor_Parcela]]=\"\",tb_pagamentos[[#This Row],[Qtd_Total_Parcelas]]=\"\",tb_pagamentos[[#This Row],[Nr_Pedido]]=\"\"),\"\",IF(tb_pagamentos[[#This Row],[Data_Pagamento]]<>\"\",\"Pago\",IF(AND(tb_pagamentos[[#This Row],[Data_Pagamento]]=\"\",tb_pagamentos[[#This Row],[Data_Vencimento]]<TODAY()),\"Em Atraso\",\"A vencer\")))","v":""}]
[null,null,"",{"$f":"IFERROR(INDEX(CALC_BASE!$N$3:$N$52,MATCH(ROW()-7,CALC_BASE!$M$3:$M$52,0)),\"\")","v":""},{"$f":"IFERROR(INDEX(CALC_BASE!$O$3:$O$52,MATCH(ROW()-7,CALC_BASE!$M$3:$M$52,0)),\"\")","v":""},{"$f":"IFERROR(INDEX(CALC_BASE!$P$3:$P$52,MATCH(ROW()-7,CALC_BASE!$M$3:$M$52,0)),\"\")","v":""},{"$f":"IFERROR(IF(D323=\"\",\"\",INDEX(tb_vendas[Preço de Venda],MATCH(D323,tb_vendas[N° Pedido/Empresa],0))/F323),\"\")","v":""},{"$f":"IFERROR(IF(D323=\"\",\"\",INDEX(tb_vendas[Data Fechamento],MATCH(D323,tb_vendas[N° Pedido/Empresa],0))+E323*INDEX(tb_formas_pagamento[Dias_Intervalo],MATCH(INDEX(tb_vendas[Forma_Pagamento],MATCH(D323,tb_vendas[N° Pedido/Empresa],0)),tb_formas_pagamento[Nome_Forma],0))),\"\")","v":""},null,{"$f":"IF(OR(tb_pagamentos[[#This Row],[Data_Vencimento]]=\"\",tb_pagamentos[[#This Row],[Valor_Parcela]]=\"\",tb_pagamentos[[#This Row],[Qtd_Total_Parcelas]]=\"\",tb_pagamentos[[#This Row],[Nr_Pedido]]=\"\"),\"\",IF(tb_pagamentos[[#This Row],[Data_Pagamento]]<>\"\",\"Pago\",IF(AND(tb_pagamentos[[#This Row],[Data_Pagamento]]=\"\",tb_pagamentos[[#This Row],[Data_Vencimento]]<TODAY()),\"Em Atraso\",\"A vencer\")))","v":""}]
[null,null,"",{"$f":"IFERROR(INDEX(CALC_BASE!$N$3:$N$52,MATCH(ROW()-7,CALC_BASE!$M$3:$M$52,0)),\"\")","v":""},{"$f":"IFERROR(INDEX(CALC_BASE!$O$3:$O$52,MATCH(ROW()-7,CALC_BASE!$M$3:$M$52,0)),\"\")","v":""},{"$f":"IFERROR(INDEX(CALC_BASE!$P$3:$P$52,MATCH(ROW()-7,CALC_BASE!$M$3:$M$52,0)),\"\")","v":""},{"$f":"IFERROR(IF(D324=\"\",\"\",INDEX(tb_vendas[Preço de Venda],MATCH(D324,tb_vendas[N° Pedido/Empresa],0))/F324),\"\")","v":""},{"$f":"IFERROR(IF(D324=\"\",\"\",INDEX(tb_vendas[Data Fechamento],MATCH(D324,tb_vendas[N° Pedido/Empresa],0))+E324*INDEX(tb_formas_pagamento[Dias_Intervalo],MATCH(INDEX(tb_vendas[Forma_Pagamento],MATCH(D324,tb_vendas[N° Pedido/Empresa],0)),tb_formas_pagamento[Nome_Forma],0))),\"\")","v":""},null,{"$f":"IF(OR(tb_pagamentos[[#This Row],[Data_Vencimento]]=\"\",tb_pagamentos[[#This Row],[Valor_Parcela]]=\"\",tb_pagamentos[[#This Row],[Qtd_Total_Parcelas]]=\"\",tb_pagamentos[[#This Row],[Nr_Pedido]]=\"\"),\"\",IF(tb_pagamentos[[#This Row],[Data_Pagamento]]<>\"\",\"Pago\",IF(AND(tb_pagamentos[[#This Row],[Data_Pagamento]]=\"\",tb_pagamentos[[#This Row],[Data_Vencimento]]<TODAY()),\"Em Atraso\",\"A vencer\")))","v":""}]
[null,null,"",{"$f":"IFERROR(INDEX(CALC_BASE!$N$3:$N$52,MATCH(ROW()-7,CALC_BASE!$M$3:$M$52,0)),\"\")","v":""},{"$f":"IFERROR(INDEX(CALC_BASE!$O$3:$O$52,MATCH(ROW()-7,CALC_BASE!$M$3:$M$52,0)),\"\")","v":""},{"$f":"IFERROR(INDEX(CALC_BASE!$P$3:$P$52,MATCH(ROW()-7,CALC_BASE!$M$3:$M$52,0)),\"\")","v":""},{"$f":"IFERROR(IF(D325=\"\",\"\",INDEX(tb_vendas[Preço de Venda],MATCH(D325,tb_vendas[N° Pedido/Empresa],0))/F325),\"\")","v":""},{"$f":"IFERROR(IF(D325=\"\",\"\",INDEX(tb_vendas[Data Fechamento],MATCH(D325,tb_vendas[N° Pedido/Empresa],0))+E325*INDEX(tb_formas_pagamento[Dias_Intervalo],MATCH(INDEX(tb_vendas[Forma_Pagamento],MATCH(D325,tb_vendas[N° Pedido/Empresa],0)),tb_formas_pagamento[Nome_Forma],0))),\"\")","v":""},null,{"$f":"IF(OR(tb_pagamentos[[#This Row],[Data_Vencimento]]=\"\",tb_pagamentos[[#This Row],[Valor_Parcela]]=\"\",tb_pagamentos[[#This Row],[Qtd_Total_Parcelas]]=\"\",tb_pagamentos[[#This Row],[Nr_Pedido]]=\"\"),\"\",IF(tb_pagamentos[[#This Row],[Data_Pagamento]]<>\"\",\"Pago\",IF(AND(tb_pagamentos[[#This Row],[Data_Pagamento]]=\"\",tb_pagamentos[[#This Row],[Data_Vencimento]]<TODAY()),\"Em Atraso\",\"A vencer\")))","v":""}]
[null,null,"",{"$f":"IFERROR(INDEX(CALC_BASE!$N$3:$N$52,MATCH(ROW()-7,CALC_BASE!$M$3:$M$52,0)),\"\")","v":""},{"$f":"IFERROR(INDEX(CALC_BASE!$O$3:$O$52,MATCH(ROW()-7,CALC_BASE!$M$3:$M$52,0)),\"\")","v":""},{"$f":"IFERROR(INDEX(CALC_BASE!$P$3:$P$52,MATCH(ROW()-7,CALC_BASE!$M$3:$M$52,0)),\"\")","v":""},{"$f":"IFERROR(IF(D326=\"\",\"\",INDEX(tb_vendas[Preço de Venda],MATCH(D326,tb_vendas[N° Pedido/Empresa],0))/F326),\"\")","v":""},{"$f":"IFERROR(IF(D326=\"\",\"\",INDEX(tb_vendas[Data Fechamento],MATCH(D326,tb_vendas[N° Pedido/Empresa],0))+E326*INDEX(tb_formas_pagamento[Dias_Intervalo],MATCH(INDEX(tb_vendas[Forma_Pagamento],MATCH(D326,tb_vendas[N° Pedido/Empresa],0)),tb_formas_pagamento[Nome_Forma],0))),\"\")","v":""},null,{"$f":"IF(OR(tb_pagamentos[[#This Row],[Data_Vencimento]]=\"\",tb_pagamentos[[#This Row],[Valor_Parcela]]=\"\",tb_pagamentos[[#This Row],[Qtd_Total_Parcelas]]=\"\",tb_pagamentos[[#This Row],[Nr_Pedido]]=\"\"),\"\",IF(tb_pagamentos[[#This Row],[Data_Pagamento]]<>\"\",\"Pago\",IF(AND(tb_pagamentos[[#This Row],[Data_Pagamento]]=\"\",tb_pagamentos[[#This Row],[Data_Vencimento]]<TODAY()),\"Em Atraso\",\"A vencer\")))","v":""}]
[null,null,"",{"$f":"IFERROR(INDEX(CALC_BASE!$N$3:$N$52,MATCH(ROW()-7,CALC_BASE!$M$3:$M$52,0)),\"\")","v":""},{"$f":"IFERROR(INDEX(CALC_BASE!$O$3:$O$52,MATCH(ROW()-7,CALC_BASE!$M$3:$M$52,0)),\"\")","v":""},{"$f":"IFERROR(INDEX(CALC_BASE!$P$3:$P$52,MATCH(ROW()-7,CALC_BASE!$M$3:$M$52,0)),\"\")","v":""},{"$f":"IFERROR(IF(D327=\"\",\"\",INDEX(tb_vendas[Preço de Venda],MATCH(D327,tb_vendas[N° Pedido/Empresa],0))/F327),\"\")","v":""},{"$f":"IFERROR(IF(D327=\"\",\"\",INDEX(tb_vendas[Data Fechamento],MATCH(D327,tb_vendas[N° Pedido/Empresa],0))+E327*INDEX(tb_formas_pagamento[Dias_Intervalo],MATCH(INDEX(tb_vendas[Forma_Pagamento],MATCH(D327,tb_vendas[N° Pedido/Empresa],0)),tb_formas_pagamento[Nome_Forma],0))),\"\")","v":""},null,{"$f":"IF(OR(tb_pagamentos[[#This Row],[Data_Vencimento]]=\"\",tb_pagamentos[[#This Row],[Valor_Parcela]]=\"\",tb_pagamentos[[#This Row],[Qtd_Total_Parcelas]]=\"\",tb_pagamentos[[#This Row],[Nr_Pedido]]=\"\"),\"\",IF(tb_pagamentos[[#This Row],[Data_Pagamento]]<>\"\",\"Pago\",IF(AND(tb_pagamentos[[#This Row],[Data_Pagamento]]=\"\",tb_pagamentos[[#This Row],[Data_Vencimento]]<TODAY()),\"Em Atraso\",\"A vencer\")))","v":""}]
[null,null,"",{"$f":"IFERROR(INDEX(CALC_BASE!$N$3:$N$52,MATCH(ROW()-7,CALC_BASE!$M$3:$M$52,0)),\"\")","v":""},{"$f":"IFERROR(INDEX(CALC_BASE!$O$3:$O$52,MATCH(ROW()-7,CALC_BASE!$M$3:$M$52,0)),\"\")","v":""},{"$f":"IFERROR(INDEX(CALC_BASE!$P$3:$P$52,MATCH(ROW()-7,CALC_BASE!$M$3:$M$52,0)),\"\")","v":""},{"$f":"IFERROR(IF(D328=\"\",\"\",INDEX(tb_vendas[Preço de Venda],MATCH(D328,tb_vendas[N° Pedido/Empresa],0))/F328),\"\")","v":""},{"$f":"IFERROR(IF(D328=\"\",\"\",INDEX(tb_vendas[Data Fechamento],MATCH(D328,tb_vendas[N° Pedido/Empresa],0))+E328*INDEX(tb_formas_pagamento[Dias_Intervalo],MATCH(INDEX(tb_vendas[Forma_Pagamento],MATCH(D328,tb_vendas[N° Pedido/Empresa],0)),tb_formas_pagamento[Nome_Forma],0))),\"\")","v":""},null,{"$f":"IF(OR(tb_pagamentos[[#This Row],[Data_Vencimento]]=\"\",tb_pagamentos[[#This Row],[Valor_Parcela]]=\"\",tb_pagamentos[[#This Row],[Qtd_Total_Parcelas]]=\"\",tb_pagamentos[[#This Row],[Nr_Pedido]]=\"\"),\"\",IF(tb_pagamentos[[#This Row],[Data_Pagamento]]<>\"\",\"Pago\",IF(AND(tb_pagamentos[[#This Row],[Data_Pagamento]]=\"\",tb_pagamentos[[#This Row],[Data_Vencimento]]<TODAY()),\"Em Atraso\",\"A vencer\")))","v":""}]
[null,null,"",{"$f":"IFERROR(INDEX(CALC_BASE!$N$3:$N$52,MATCH(ROW()-7,CALC_BASE!$M$3:$M$52,0)),\"\")","v":""},{"$f":"IFERROR(INDEX(CALC_BASE!$O$3:$O$52,MATCH(ROW()-7,CALC_BASE!$M$3:$M$52,0)),\"\")","v":""},{"$f":"IFERROR(INDEX(CALC_BASE!$P$3:$P$52,MATCH(ROW()-7,CALC_BASE!$M$3:$M$52,0)),\"\")","v":""},{"$f":"IFERROR(IF(D329=\"\",\"\",INDEX(tb_vendas[Preço de Venda],MATCH(D329,tb_vendas[N° Pedido/Empresa],0))/F329),\"\")","v":""},{"$f":"IFERROR(IF(D329=\"\",\"\",INDEX(tb_vendas[Data Fechamento],MATCH(D329,tb_vendas[N° Pedido/Empresa],0))+E329*INDEX(tb_formas_pagamento[Dias_Intervalo],MATCH(INDEX(tb_vendas[Forma_Pagamento],MATCH(D329,tb_vendas[N° Pedido/Empresa],0)),tb_formas_pagamento[Nome_Forma],0))),\"\")","v":""},null,{"$f":"IF(OR(tb_pagamentos[[#This Row],[Data_Vencimento]]=\"\",tb_pagamentos[[#This Row],[Valor_Parcela]]=\"\",tb_pagamentos[[#This Row],[Qtd_Total_Parcelas]]=\"\",tb_pagamentos[[#This Row],[Nr_Pedido]]=\"\"),\"\",IF(tb_pagamentos[[#This Row],[Data_Pagamento]]<>\"\",\"Pago\",IF(AND(tb_pagamentos[[#This Row],[Data_Pagamento]]=\"\",tb_pagamentos[[#This Row],[Data_Vencimento]]<TODAY()),\"Em Atraso\",\"A vencer\")))","v":""}]
[null,null,"",{"$f":"IFERROR(INDEX(CALC_BASE!$N$3:$N$52,MATCH(ROW()-7,CALC_BASE!$M$3:$M$52,0)),\"\")","v":""},{"$f":"IFERROR(INDEX(CALC_BASE!$O$3:$O$52,MATCH(ROW()-7,CALC_BASE!$M$3:$M$52,0)),\"\")","v":""},{"$f":"IFERROR(INDEX(CALC_BASE!$P$3:$P$52,MATCH(ROW()-7,CALC_BASE!$M$3:$M$52,0)),\"\")","v":""},{"$f":"IFERROR(IF(D330=\"\",\"\",INDEX(tb_vendas[Preço de Venda],MATCH(D330,tb_vendas[N° Pedido/Empresa],0))/F330),\"\")","v":""},{"$f":"IFERROR(IF(D330=\"\",\"\",INDEX(tb_vendas[Data Fechamento],MATCH(D330,tb_vendas[N° Pedido/Empresa],0))+E330*INDEX(tb_formas_pagamento[Dias_Intervalo],MATCH(INDEX(tb_vendas[Forma_Pagamento],MATCH(D330,tb_vendas[N° Pedido/Empresa],0)),tb_formas_pagamento[Nome_Forma],0))),\"\")","v":""},null,{"$f":"IF(OR(tb_pagamentos[[#This Row],[Data_Vencimento]]=\"\",tb_pagamentos[[#This Row],[Valor_Parcela]]=\"\",tb_pagamentos[[#This Row],[Qtd_Total_Parcelas]]=\"\",tb_pagamentos[[#This Row],[Nr_Pedido]]=\"\"),\"\",IF(tb_pagamentos[[#This Row],[Data_Pagamento]]<>\"\",\"Pago\",IF(AND(tb_pagamentos[[#This Row],[Data_Pagamento]]=\"\",tb_pagamentos[[#This Row],[Data_Vencimento]]<TODAY()),\"Em Atraso\",\"A vencer\")))","v":""}]
[null,null,"",{"$f":"IFERROR(INDEX(CALC_BASE!$N$3:$N$52,MATCH(ROW()-7,CALC_BASE!$M$3:$M$52,0)),\"\")","v":""},{"$f":"IFERROR(INDEX(CALC_BASE!$O$3:$O$52,MATCH(ROW()-7,CALC_BASE!$M$3:$M$52,0)),\"\")","v":""},{"$f":"IFERROR(INDEX(CALC_BASE!$P$3:$P$52,MATCH(ROW()-7,CALC_BASE!$M$3:$M$52,0)),\"\")","v":""},{"$f":"IFERROR(IF(D331=\"\",\"\",INDEX(tb_vendas[Preço de Venda],MATCH(D331,tb_vendas[N° Pedido/Empresa],0))/F331),\"\")","v":""},{"$f":"IFERROR(IF(D331=\"\",\"\",INDEX(tb_vendas[Data Fechamento],MATCH(D331,tb_vendas[N° Pedido/Empresa],0))+E331*INDEX(tb_formas_pagamento[Dias_Intervalo],MATCH(INDEX(tb_vendas[Forma_Pagamento],MATCH(D331,tb_vendas[N° Pedido/Empresa],0)),tb_formas_pagamento[Nome_Forma],0))),\"\")","v":""},null,{"$f":"IF(OR(tb_pagamentos[[#This Row],[Data_Vencimento]]=\"\",tb_pagamentos[[#This Row],[Valor_Parcela]]=\"\",tb_pagamentos[[#This Row],[Qtd_Total_Parcelas]]=\"\",tb_pagamentos[[#This Row],[Nr_Pedido]]=\"\"),\"\",IF(tb_pagamentos[[#This Row],[Data_Pagamento]]<>\"\",\"Pago\",IF(AND(tb_pagamentos[[#This Row],[Data_Pagamento]]=\"\",tb_pagamentos[[#This Row],[Data_Vencimento]]<TODAY()),\"Em Atraso\",\"A vencer\")))","v":""}]
[null,null,"",{"$f":"IFERROR(INDEX(CALC_BASE!$N$3:$N$52,MATCH(ROW()-7,CALC_BASE!$M$3:$M$52,0)),\"\")","v":""},{"$f":"IFERROR(INDEX(CALC_BASE!$O$3:$O$52,MATCH(ROW()-7,CALC_BASE!$M$3:$M$52,0)),\"\")","v":""},{"$f":"IFERROR(INDEX(CALC_BASE!$P$3:$P$52,MATCH(ROW()-7,CALC_BASE!$M$3:$M$52,0)),\"\")","v":""},{"$f":"IFERROR(IF(D332=\"\",\"\",INDEX(tb_vendas[Preço de Venda],MATCH(D332,tb_vendas[N° Pedido/Empresa],0))/F332),\"\")","v":""},{"$f":"IFERROR(IF(D332=\"\",\"\",INDEX(tb_vendas[Data Fechamento],MATCH(D332,tb_vendas[N° Pedido/Empresa],0))+E332*INDEX(tb_formas_pagamento[Dias_Intervalo],MATCH(INDEX(tb_vendas[Forma_Pagamento],MATCH(D332,tb_vendas[N° Pedido/Empresa],0)),tb_formas_pagamento[Nome_Forma],0))),\"\")","v":""},null,{"$f":"IF(OR(tb_pagamentos[[#This Row],[Data_Vencimento]]=\"\",tb_pagamentos[[#This Row],[Valor_Parcela]]=\"\",tb_pagamentos[[#This Row],[Qtd_Total_Parcelas]]=\"\",tb_pagamentos[[#This Row],[Nr_Pedido]]=\"\"),\"\",IF(tb_pagamentos[[#This Row],[Data_Pagamento]]<>\"\",\"Pago\",IF(AND(tb_pagamentos[[#This Row],[Data_Pagamento]]=\"\",tb_pagamentos[[#This Row],[Data_Vencimento]]<TODAY()),\"Em Atraso\",\"A vencer\")))","v":""}]
[null,null,"",{"$f":"IFERROR(INDEX(CALC_BASE!$N$3:$N$52,MATCH(ROW()-7,CALC_BASE!$M$3:$M$52,0)),\"\")","v":""},{"$f":"IFERROR(INDEX(CALC_BASE!$O$3:$O$52,MATCH(ROW()-7,CALC_BASE!$M$3:$M$52,0)),\"\")","v":""},{"$f":"IFERROR(INDEX(CALC_BASE!$P$3:$P$52,MATCH(ROW()-7,CALC_BASE!$M$3:$M$52,0)),\"\")","v":""},{"$f":"IFERROR(IF(D333=\"\",\"\",INDEX(tb_vendas[Preço de Venda],MATCH(D333,tb_vendas[N° Pedido/Empresa],0))/F333),\"\")","v":""},{"$f":"IFERROR(IF(D333=\"\",\"\",INDEX(tb_vendas[Data Fechamento],MATCH(D333,tb_vendas[N° Pedido/Empresa],0))+E333*INDEX(tb_formas_pagamento[Dias_Intervalo],MATCH(INDEX(tb_vendas[Forma_Pagamento],MATCH(D333,tb_vendas[N° Pedido/Empresa],0)),tb_formas_pagamento[Nome_Forma],0))),\"\")","v":""},null,{"$f":"IF(OR(tb_pagamentos[[#This Row],[Data_Vencimento]]=\"\",tb_pagamentos[[#This Row],[Valor_Parcela]]=\"\",tb_pagamentos[[#This Row],[Qtd_Total_Parcelas]]=\"\",tb_pagamentos[[#This Row],[Nr_Pedido]]=\"\"),\"\",IF(tb_pagamentos[[#This Row],[Data_Pagamento]]<>\"\",\"Pago\",IF(AND(tb_pagamentos[[#This Row],[Data_Pagamento]]=\"\",tb_pagamentos[[#This Row],[Data_Vencimento]]<TODAY()),\"Em Atraso\",\"A vencer\")))","v":""}]
[null,null,"",{"$f":"IFERROR(INDEX(CALC_BASE!$N$3:$N$52,MATCH(ROW()-7,CALC_BASE!$M$3:$M$52,0)),\"\")","v":""},{"$f":"IFERROR(INDEX(CALC_BASE!$O$3:$O$52,MATCH(ROW()-7,CALC_BASE!$M$3:$M$52,0)),\"\")","v":""},{"$f":"IFERROR(INDEX(CALC_BASE!$P$3:$P$52,MATCH(ROW()-7,CALC_BASE!$M$3:$M$52,0)),\"\")","v":""},{"$f":"IFERROR(IF(D334=\"\",\"\",INDEX(tb_vendas[Preço de Venda],MATCH(D334,tb_vendas[N° Pedido/Empresa],0))/F334),\"\")","v":""},{"$f":"IFERROR(IF(D334=\"\",\"\",INDEX(tb_vendas[Data Fechamento],MATCH(D334,tb_vendas[N° Pedido/Empresa],0))+E334*INDEX(tb_formas_pagamento[Dias_Intervalo],MATCH(INDEX(tb_vendas[Forma_Pagamento],MATCH(D334,tb_vendas[N° Pedido/Empresa],0)),tb_formas_pagamento[Nome_Forma],0))),\"\")","v":""},null,{"$f":"IF(OR(tb_pagamentos[[#This Row],[Data_Vencimento]]=\"\",tb_pagamentos[[#This Row],[Valor_Parcela]]=\"\",tb_pagamentos[[#This Row],[Qtd_Total_Parcelas]]=\"\",tb_pagamentos[[#This Row],[Nr_Pedido]]=\"\"),\"\",IF(tb_pagamentos[[#This Row],[Data_Pagamento]]<>\"\",\"Pago\",IF(AND(tb_pagamentos[[#This Row],[Data_Pagamento]]=\"\",tb_pagamentos[[#This Row],[Data_Vencimento]]<TODAY()),\"Em Atraso\",\"A vencer\")))","v":""}]
[null,null,{"$f":"IF(OR(D335=\"\",E335=\"\"),\"\",D335&\"-\"&E335)","v":""},{"$f":"IFERROR(INDEX(CALC_BASE!$N$3:$N$52,MATCH(ROW()-7,CALC_BASE!$M$3:$M$52,0)),\"\")","v":""},{"$f":"IFERROR(INDEX(CALC_BASE!$O$3:$O$52,MATCH(ROW()-7,CALC_BASE!$M$3:$M$52,0)),\"\")","v":""},{"$f":"IFERROR(INDEX(CALC_BASE!$P$3:$P$52,MATCH(ROW()-7,CALC_BASE!$M$3:$M$52,0)),\"\")","v":""},{"$f":"IFERROR(IF(D335=\"\",\"\",INDEX(tb_vendas[Preço de Venda],MATCH(D335,tb_vendas[N° Pedido/Empresa],0))/F335),\"\")","v":""},{"$f":"IFERROR(IF(D335=\"\",\"\",INDEX(tb_vendas[Data Fechamento],MATCH(D335,tb_vendas[N° Pedido/Empresa],0))+E335*INDEX(tb_formas_pagamento[Dias_Intervalo],MATCH(INDEX(tb_vendas[Forma_Pagamento],MATCH(D335,tb_vendas[N° Pedido/Empresa],0)),tb_formas_pagamento[Nome_Forma],0))),\"\")","v":""},null,{"$f":"IF(OR(tb_pagamentos[[#This Row],[Data_Vencimento]]=\"\",tb_pagamentos[[#This Row],[Valor_Parcela]]=\"\",tb_pagamentos[[#This Row],[Qtd_Total_Parcelas]]=\"\",tb_pagamentos[[#This Row],[Nr_Pedido]]=\"\"),\"\",IF(tb_pagamentos[[#This Row],[Data_Pagamento]]<>\"\",\"Pago\",IF(AND(tb_pagamentos[[#This Row],[Data_Pagamento]]=\"\",tb_pagamentos[[#This Row],[Data_Vencimento]]<TODAY()),\"Em Atraso\",\"A vencer\")))","v":""}]
[null,null,"",{"$f":"IFERROR(INDEX(CALC_BASE!$N$3:$N$52,MATCH(ROW()-7,CALC_BASE!$M$3:$M$52,0)),\"\")","v":""},{"$f":"IFERROR(INDEX(CALC_BASE!$O$3:$O$52,MATCH(ROW()-7,CALC_BASE!$M$3:$M$52,0)),\"\")","v":""},{"$f":"IFERROR(INDEX(CALC_BASE!$P$3:$P$52,MATCH(ROW()-7,CALC_BASE!$M$3:$M$52,0)),\"\")","v":""},{"$f":"IFERROR(IF(D336=\"\",\"\",INDEX(tb_vendas[Preço de Venda],MATCH(D336,tb_vendas[N° Pedido/Empresa],0))/F336),\"\")","v":""},{"$f":"IFERROR(IF(D336=\"\",\"\",INDEX(tb_vendas[Data Fechamento],MATCH(D336,tb_vendas[N° Pedido/Empresa],0))+E336*INDEX(tb_formas_pagamento[Dias_Intervalo],MATCH(INDEX(tb_vendas[Forma_Pagamento],MATCH(D336,tb_vendas[N° Pedido/Empresa],0)),tb_formas_pagamento[Nome_Forma],0))),\"\")","v":""},null,{"$f":"IF(OR(tb_pagamentos[[#This Row],[Data_Vencimento]]=\"\",tb_pagamentos[[#This Row],[Valor_Parcela]]=\"\",tb_pagamentos[[#This Row],[Qtd_Total_Parcelas]]=\"\",tb_pagamentos[[#This Row],[Nr_Pedido]]=\"\"),\"\",IF(tb_pagamentos[[#This Row],[Data_Pagamento]]<>\"\",\"Pago\",IF(AND(tb_pagamentos[[#This Row],[Data_Pagamento]]=\"\",tb_pagamentos[[#This Row],[Data_Vencimento]]<TODAY()),\"Em Atraso\",\"A vencer\")))","v":""}]
[null,null,"",{"$f":"IFERROR(INDEX(CALC_BASE!$N$3:$N$52,MATCH(ROW()-7,CALC_BASE!$M$3:$M$52,0)),\"\")","v":""},{"$f":"IFERROR(INDEX(CALC_BASE!$O$3:$O$52,MATCH(ROW()-7,CALC_BASE!$M$3:$M$52,0)),\"\")","v":""},{"$f":"IFERROR(INDEX(CALC_BASE!$P$3:$P$52,MATCH(ROW()-7,CALC_BASE!$M$3:$M$52,0)),\"\")","v":""},{"$f":"IFERROR(IF(D337=\"\",\"\",INDEX(tb_vendas[Preço de Venda],MATCH(D337,tb_vendas[N° Pedido/Empresa],0))/F337),\"\")","v":""},{"$f":"IFERROR(IF(D337=\"\",\"\",INDEX(tb_vendas[Data Fechamento],MATCH(D337,tb_vendas[N° Pedido/Empresa],0))+E337*INDEX(tb_formas_pagamento[Dias_Intervalo],MATCH(INDEX(tb_vendas[Forma_Pagamento],MATCH(D337,tb_vendas[N° Pedido/Empresa],0)),tb_formas_pagamento[Nome_Forma],0))),\"\")","v":""},null,{"$f":"IF(OR(tb_pagamentos[[#This Row],[Data_Vencimento]]=\"\",tb_pagamentos[[#This Row],[Valor_Parcela]]=\"\",tb_pagamentos[[#This Row],[Qtd_Total_Parcelas]]=\"\",tb_pagamentos[[#This Row],[Nr_Pedido]]=\"\"),\"\",IF(tb_pagamentos[[#This Row],[Data_Pagamento]]<>\"\",\"Pago\",IF(AND(tb_pagamentos[[#This Row],[Data_Pagamento]]=\"\",tb_pagamentos[[#This Row],[Data_Vencimento]]<TODAY()),\"Em Atraso\",\"A vencer\")))","v":""}]
[null,null,"",{"$f":"IFERROR(INDEX(CALC_BASE!$N$3:$N$52,MATCH(ROW()-7,CALC_BASE!$M$3:$M$52,0)),\"\")","v":""},{"$f":"IFERROR(INDEX(CALC_BASE!$O$3:$O$52,MATCH(ROW()-7,CALC_BASE!$M$3:$M$52,0)),\"\")","v":""},{"$f":"IFERROR(INDEX(CALC_BASE!$P$3:$P$52,MATCH(ROW()-7,CALC_BASE!$M$3:$M$52,0)),\"\")","v":""},{"$f":"IFERROR(IF(D338=\"\",\"\",INDEX(tb_vendas[Preço de Venda],MATCH(D338,tb_vendas[N° Pedido/Empresa],0))/F338),\"\")","v":""},{"$f":"IFERROR(IF(D338=\"\",\"\",INDEX(tb_vendas[Data Fechamento],MATCH(D338,tb_vendas[N° Pedido/Empresa],0))+E338*INDEX(tb_formas_pagamento[Dias_Intervalo],MATCH(INDEX(tb_vendas[Forma_Pagamento],MATCH(D338,tb_vendas[N° Pedido/Empresa],0)),tb_formas_pagamento[Nome_Forma],0))),\"\")","v":""},null,{"$f":"IF(OR(tb_pagamentos[[#This Row],[Data_Vencimento]]=\"\",tb_pagamentos[[#This Row],[Valor_Parcela]]=\"\",tb_pagamentos[[#This Row],[Qtd_Total_Parcelas]]=\"\",tb_pagamentos[[#This Row],[Nr_Pedido]]=\"\"),\"\",IF(tb_pagamentos[[#This Row],[Data_Pagamento]]<>\"\",\"Pago\",IF(AND(tb_pagamentos[[#This Row],[Data_Pagamento]]=\"\",tb_pagamentos[[#This Row],[Data_Vencimento]]<TODAY()),\"Em Atraso\",\"A vencer\")))","v":""}]
[null,null,"",{"$f":"IFERROR(INDEX(CALC_BASE!$N$3:$N$52,MATCH(ROW()-7,CALC_BASE!$M$3:$M$52,0)),\"\")","v":""},{"$f":"IFERROR(INDEX(CALC_BASE!$O$3:$O$52,MATCH(ROW()-7,CALC_BASE!$M$3:$M$52,0)),\"\")","v":""},{"$f":"IFERROR(INDEX(CALC_BASE!$P$3:$P$52,MATCH(ROW()-7,CALC_BASE!$M$3:$M$52,0)),\"\")","v":""},{"$f":"IFERROR(IF(D339=\"\",\"\",INDEX(tb_vendas[Preço de Venda],MATCH(D339,tb_vendas[N° Pedido/Empresa],0))/F339),\"\")","v":""},{"$f":"IFERROR(IF(D339=\"\",\"\",INDEX(tb_vendas[Data Fechamento],MATCH(D339,tb_vendas[N° Pedido/Empresa],0))+E339*INDEX(tb_formas_pagamento[Dias_Intervalo],MATCH(INDEX(tb_vendas[Forma_Pagamento],MATCH(D339,tb_vendas[N° Pedido/Empresa],0)),tb_formas_pagamento[Nome_Forma],0))),\"\")","v":""},null,{"$f":"IF(OR(tb_pagamentos[[#This Row],[Data_Vencimento]]=\"\",tb_pagamentos[[#This Row],[Valor_Parcela]]=\"\",tb_pagamentos[[#This Row],[Qtd_Total_Parcelas]]=\"\",tb_pagamentos[[#This Row],[Nr_Pedido]]=\"\"),\"\",IF(tb_pagamentos[[#This Row],[Data_Pagamento]]<>\"\",\"Pago\",IF(AND(tb_pagamentos[[#This Row],[Data_Pagamento]]=\"\",tb_pagamentos[[#This Row],[Data_Vencimento]]<TODAY()),\"Em Atraso\",\"A vencer\")))","v":""}]
[null,null,"",{"$f":"IFERROR(INDEX(CALC_BASE!$N$3:$N$52,MATCH(ROW()-7,CALC_BASE!$M$3:$M$52,0)),\"\")","v":""},{"$f":"IFERROR(INDEX(CALC_BASE!$O$3:$O$52,MATCH(ROW()-7,CALC_BASE!$M$3:$M$52,0)),\"\")","v":""},{"$f":"IFERROR(INDEX(CALC_BASE!$P$3:$P$52,MATCH(ROW()-7,CALC_BASE!$M$3:$M$52,0)),\"\")","v":""},{"$f":"IFERROR(IF(D340=\"\",\"\",INDEX(tb_vendas[Preço de Venda],MATCH(D340,tb_vendas[N° Pedido/Empresa],0))/F340),\"\")","v":""},{"$f":"IFERROR(IF(D340=\"\",\"\",INDEX(tb_vendas[Data Fechamento],MATCH(D340,tb_vendas[N° Pedido/Empresa],0))+E340*INDEX(tb_formas_pagamento[Dias_Intervalo],MATCH(INDEX(tb_vendas[Forma_Pagamento],MATCH(D340,tb_vendas[N° Pedido/Empresa],0)),tb_formas_pagamento[Nome_Forma],0))),\"\")","v":""},null,{"$f":"IF(OR(tb_pagamentos[[#This Row],[Data_Vencimento]]=\"\",tb_pagamentos[[#This Row],[Valor_Parcela]]=\"\",tb_pagamentos[[#This Row],[Qtd_Total_Parcelas]]=\"\",tb_pagamentos[[#This Row],[Nr_Pedido]]=\"\"),\"\",IF(tb_pagamentos[[#This Row],[Data_Pagamento]]<>\"\",\"Pago\",IF(AND(tb_pagamentos[[#This Row],[Data_Pagamento]]=\"\",tb_pagamentos[[#This Row],[Data_Vencimento]]<TODAY()),\"Em Atraso\",\"A vencer\")))","v":""}]
[null,null,"",{"$f":"IFERROR(INDEX(CALC_BASE!$N$3:$N$52,MATCH(ROW()-7,CALC_BASE!$M$3:$M$52,0)),\"\")","v":""},{"$f":"IFERROR(INDEX(CALC_BASE!$O$3:$O$52,MATCH(ROW()-7,CALC_BASE!$M$3:$M$52,0)),\"\")","v":""},{"$f":"IFERROR(INDEX(CALC_BASE!$P$3:$P$52,MATCH(ROW()-7,CALC_BASE!$M$3:$M$52,0)),\"\")","v":""},{"$f":"IFERROR(IF(D341=\"\",\"\",INDEX(tb_vendas[Preço de Venda],MATCH(D341,tb_vendas[N° Pedido/Empresa],0))/F341),\"\")","v":""},{"$f":"IFERROR(IF(D341=\"\",\"\",INDEX(tb_vendas[Data Fechamento],MATCH(D341,tb_vendas[N° Pedido/Empresa],0))+E341*INDEX(tb_formas_pagamento[Dias_Intervalo],MATCH(INDEX(tb_vendas[Forma_Pagamento],MATCH(D341,tb_vendas[N° Pedido/Empresa],0)),tb_formas_pagamento[Nome_Forma],0))),\"\")","v":""},null,{"$f":"IF(OR(tb_pagamentos[[#This Row],[Data_Vencimento]]=\"\",tb_pagamentos[[#This Row],[Valor_Parcela]]=\"\",tb_pagamentos[[#This Row],[Qtd_Total_Parcelas]]=\"\",tb_pagamentos[[#This Row],[Nr_Pedido]]=\"\"),\"\",IF(tb_pagamentos[[#This Row],[Data_Pagamento]]<>\"\",\"Pago\",IF(AND(tb_pagamentos[[#This Row],[Data_Pagamento]]=\"\",tb_pagamentos[[#This Row],[Data_Vencimento]]<TODAY()),\"Em Atraso\",\"A vencer\")))","v":""}]
[null,null,"",{"$f":"IFERROR(INDEX(CALC_BASE!$N$3:$N$52,MATCH(ROW()-7,CALC_BASE!$M$3:$M$52,0)),\"\")","v":""},{"$f":"IFERROR(INDEX(CALC_BASE!$O$3:$O$52,MATCH(ROW()-7,CALC_BASE!$M$3:$M$52,0)),\"\")","v":""},{"$f":"IFERROR(INDEX(CALC_BASE!$P$3:$P$52,MATCH(ROW()-7,CALC_BASE!$M$3:$M$52,0)),\"\")","v":""},{"$f":"IFERROR(IF(D342=\"\",\"\",INDEX(tb_vendas[Preço de Venda],MATCH(D342,tb_vendas[N° Pedido/Empresa],0))/F342),\"\")","v":""},{"$f":"IFERROR(IF(D342=\"\",\"\",INDEX(tb_vendas[Data Fechamento],MATCH(D342,tb_vendas[N° Pedido/Empresa],0))+E342*INDEX(tb_formas_pagamento[Dias_Intervalo],MATCH(INDEX(tb_vendas[Forma_Pagamento],MATCH(D342,tb_vendas[N° Pedido/Empresa],0)),tb_formas_pagamento[Nome_Forma],0))),\"\")","v":""},null,{"$f":"IF(OR(tb_pagamentos[[#This Row],[Data_Vencimento]]=\"\",tb_pagamentos[[#This Row],[Valor_Parcela]]=\"\",tb_pagamentos[[#This Row],[Qtd_Total_Parcelas]]=\"\",tb_pagamentos[[#This Row],[Nr_Pedido]]=\"\"),\"\",IF(tb_pagamentos[[#This Row],[Data_Pagamento]]<>\"\",\"Pago\",IF(AND(tb_pagamentos[[#This Row],[Data_Pagamento]]=\"\",tb_pagamentos[[#This Row],[Data_Vencimento]]<TODAY()),\"Em Atraso\",\"A vencer\")))","v":""}]
[null,null,"",{"$f":"IFERROR(INDEX(CALC_BASE!$N$3:$N$52,MATCH(ROW()-7,CALC_BASE!$M$3:$M$52,0)),\"\")","v":""},{"$f":"IFERROR(INDEX(CALC_BASE!$O$3:$O$52,MATCH(ROW()-7,CALC_BASE!$M$3:$M$52,0)),\"\")","v":""},{"$f":"IFERROR(INDEX(CALC_BASE!$P$3:$P$52,MATCH(ROW()-7,CALC_BASE!$M$3:$M$52,0)),\"\")","v":""},{"$f":"IFERROR(IF(D343=\"\",\"\",INDEX(tb_vendas[Preço de Venda],MATCH(D343,tb_vendas[N° Pedido/Empresa],0))/F343),\"\")","v":""},{"$f":"IFERROR(IF(D343=\"\",\"\",INDEX(tb_vendas[Data Fechamento],MATCH(D343,tb_vendas[N° Pedido/Empresa],0))+E343*INDEX(tb_formas_pagamento[Dias_Intervalo],MATCH(INDEX(tb_vendas[Forma_Pagamento],MATCH(D343,tb_vendas[N° Pedido/Empresa],0)),tb_formas_pagamento[Nome_Forma],0))),\"\")","v":""},null,{"$f":"IF(OR(tb_pagamentos[[#This Row],[Data_Vencimento]]=\"\",tb_pagamentos[[#This Row],[Valor_Parcela]]=\"\",tb_pagamentos[[#This Row],[Qtd_Total_Parcelas]]=\"\",tb_pagamentos[[#This Row],[Nr_Pedido]]=\"\"),\"\",IF(tb_pagamentos[[#This Row],[Data_Pagamento]]<>\"\",\"Pago\",IF(AND(tb_pagamentos[[#This Row],[Data_Pagamento]]=\"\",tb_pagamentos[[#This Row],[Data_Vencimento]]<TODAY()),\"Em Atraso\",\"A vencer\")))","v":""}]
[null,null,"",{"$f":"IFERROR(INDEX(CALC_BASE!$N$3:$N$52,MATCH(ROW()-7,CALC_BASE!$M$3:$M$52,0)),\"\")","v":""},{"$f":"IFERROR(INDEX(CALC_BASE!$O$3:$O$52,MATCH(ROW()-7,CALC_BASE!$M$3:$M$52,0)),\"\")","v":""},{"$f":"IFERROR(INDEX(CALC_BASE!$P$3:$P$52,MATCH(ROW()-7,CALC_BASE!$M$3:$M$52,0)),\"\")","v":""},{"$f":"IFERROR(IF(D344=\"\",\"\",INDEX(tb_vendas[Preço de Venda],MATCH(D344,tb_vendas[N° Pedido/Empresa],0))/F344),\"\")","v":""},{"$f":"IFERROR(IF(D344=\"\",\"\",INDEX(tb_vendas[Data Fechamento],MATCH(D344,tb_vendas[N° Pedido/Empresa],0))+E344*INDEX(tb_formas_pagamento[Dias_Intervalo],MATCH(INDEX(tb_vendas[Forma_Pagamento],MATCH(D344,tb_vendas[N° Pedido/Empresa],0)),tb_formas_pagamento[Nome_Forma],0))),\"\")","v":""},null,{"$f":"IF(OR(tb_pagamentos[[#This Row],[Data_Vencimento]]=\"\",tb_pagamentos[[#This Row],[Valor_Parcela]]=\"\",tb_pagamentos[[#This Row],[Qtd_Total_Parcelas]]=\"\",tb_pagamentos[[#This Row],[Nr_Pedido]]=\"\"),\"\",IF(tb_pagamentos[[#This Row],[Data_Pagamento]]<>\"\",\"Pago\",IF(AND(tb_pagamentos[[#This Row],[Data_Pagamento]]=\"\",tb_pagamentos[[#This Row],[Data_Vencimento]]<TODAY()),\"Em Atraso\",\"A vencer\")))","v":""}]
[null,null,"",{"$f":"IFERROR(INDEX(CALC_BASE!$N$3:$N$52,MATCH(ROW()-7,CALC_BASE!$M$3:$M$52,0)),\"\")","v":""},{"$f":"IFERROR(INDEX(CALC_BASE!$O$3:$O$52,MATCH(ROW()-7,CALC_BASE!$M$3:$M$52,0)),\"\")","v":""},{"$f":"IFERROR(INDEX(CALC_BASE!$P$3:$P$52,MATCH(ROW()-7,CALC_BASE!$M$3:$M$52,0)),\"\")","v":""},{"$f":"IFERROR(IF(D345=\"\",\"\",INDEX(tb_vendas[Preço de Venda],MATCH(D345,tb_vendas[N° Pedido/Empresa],0))/F345),\"\")","v":""},{"$f":"IFERROR(IF(D345=\"\",\"\",INDEX(tb_vendas[Data Fechamento],MATCH(D345,tb_vendas[N° Pedido/Empresa],0))+E345*INDEX(tb_formas_pagamento[Dias_Intervalo],MATCH(INDEX(tb_vendas[Forma_Pagamento],MATCH(D345,tb_vendas[N° Pedido/Empresa],0)),tb_formas_pagamento[Nome_Forma],0))),\"\")","v":""},null,{"$f":"IF(OR(tb_pagamentos[[#This Row],[Data_Vencimento]]=\"\",tb_pagamentos[[#This Row],[Valor_Parcela]]=\"\",tb_pagamentos[[#This Row],[Qtd_Total_Parcelas]]=\"\",tb_pagamentos[[#This Row],[Nr_Pedido]]=\"\"),\"\",IF(tb_pagamentos[[#This Row],[Data_Pagamento]]<>\"\",\"Pago\",IF(AND(tb_pagamentos[[#This Row],[Data_Pagamento]]=\"\",tb_pagamentos[[#This Row],[Data_Vencimento]]<TODAY()),\"Em Atraso\",\"A vencer\")))","v":""}]
[null,null,"",{"$f":"IFERROR(INDEX(CALC_BASE!$N$3:$N$52,MATCH(ROW()-7,CALC_BASE!$M$3:$M$52,0)),\"\")","v":""},{"$f":"IFERROR(INDEX(CALC_BASE!$O$3:$O$52,MATCH(ROW()-7,CALC_BASE!$M$3:$M$52,0)),\"\")","v":""},{"$f":"IFERROR(INDEX(CALC_BASE!$P$3:$P$52,MATCH(ROW()-7,CALC_BASE!$M$3:$M$52,0)),\"\")","v":""},{"$f":"IFERROR(IF(D346=\"\",\"\",INDEX(tb_vendas[Preço de Venda],MATCH(D346,tb_vendas[N° Pedido/Empresa],0))/F346),\"\")","v":""},{"$f":"IFERROR(IF(D346=\"\",\"\",INDEX(tb_vendas[Data Fechamento],MATCH(D346,tb_vendas[N° Pedido/Empresa],0))+E346*INDEX(tb_formas_pagamento[Dias_Intervalo],MATCH(INDEX(tb_vendas[Forma_Pagamento],MATCH(D346,tb_vendas[N° Pedido/Empresa],0)),tb_formas_pagamento[Nome_Forma],0))),\"\")","v":""},null,{"$f":"IF(OR(tb_pagamentos[[#This Row],[Data_Vencimento]]=\"\",tb_pagamentos[[#This Row],[Valor_Parcela]]=\"\",tb_pagamentos[[#This Row],[Qtd_Total_Parcelas]]=\"\",tb_pagamentos[[#This Row],[Nr_Pedido]]=\"\"),\"\",IF(tb_pagamentos[[#This Row],[Data_Pagamento]]<>\"\",\"Pago\",IF(AND(tb_pagamentos[[#This Row],[Data_Pagamento]]=\"\",tb_pagamentos[[#This Row],[Data_Vencimento]]<TODAY()),\"Em Atraso\",\"A vencer\")))","v":""}]
[null,null,"",{"$f":"IFERROR(INDEX(CALC_BASE!$N$3:$N$52,MATCH(ROW()-7,CALC_BASE!$M$3:$M$52,0)),\"\")","v":""},{"$f":"IFERROR(INDEX(CALC_BASE!$O$3:$O$52,MATCH(ROW()-7,CALC_BASE!$M$3:$M$52,0)),\"\")","v":""},{"$f":"IFERROR(INDEX(CALC_BASE!$P$3:$P$52,MATCH(ROW()-7,CALC_BASE!$M$3:$M$52,0)),\"\")","v":""},{"$f":"IFERROR(IF(D347=\"\",\"\",INDEX(tb_vendas[Preço de Venda],MATCH(D347,tb_vendas[N° Pedido/Empresa],0))/F347),\"\")","v":""},{"$f":"IFERROR(IF(D347=\"\",\"\",INDEX(tb_vendas[Data Fechamento],MATCH(D347,tb_vendas[N° Pedido/Empresa],0))+E347*INDEX(tb_formas_pagamento[Dias_Intervalo],MATCH(INDEX(tb_vendas[Forma_Pagamento],MATCH(D347,tb_vendas[N° Pedido/Empresa],0)),tb_formas_pagamento[Nome_Forma],0))),\"\")","v":""},null,{"$f":"IF(OR(tb_pagamentos[[#This Row],[Data_Vencimento]]=\"\",tb_pagamentos[[#This Row],[Valor_Parcela]]=\"\",tb_pagamentos[[#This Row],[Qtd_Total_Parcelas]]=\"\",tb_pagamentos[[#This Row],[Nr_Pedido]]=\"\"),\"\",IF(tb_pagamentos[[#This Row],[Data_Pagamento]]<>\"\",\"Pago\",IF(AND(tb_pagamentos[[#This Row],[Data_Pagamento]]=\"\",tb_pagamentos[[#This Row],[Data_Vencimento]]<TODAY()),\"Em Atraso\",\"A vencer\")))","v":""}]
[null,null,"",{"$f":"IFERROR(INDEX(CALC_BASE!$N$3:$N$52,MATCH(ROW()-7,CALC_BASE!$M$3:$M$52,0)),\"\")","v":""},{"$f":"IFERROR(INDEX(CALC_BASE!$O$3:$O$52,MATCH(ROW()-7,CALC_BASE!$M$3:$M$52,0)),\"\")","v":""},{"$f":"IFERROR(INDEX(CALC_BASE!$P$3:$P$52,MATCH(ROW()-7,CALC_BASE!$M$3:$M$52,0)),\"\")","v":""},{"$f":"IFERROR(IF(D348=\"\",\"\",INDEX(tb_vendas[Preço de Venda],MATCH(D348,tb_vendas[N° Pedido/Empresa],0))/F348),\"\")","v":""},{"$f":"IFERROR(IF(D348=\"\",\"\",INDEX(tb_vendas[Data Fechamento],MATCH(D348,tb_vendas[N° Pedido/Empresa],0))+E348*INDEX(tb_formas_pagamento[Dias_Intervalo],MATCH(INDEX(tb_vendas[Forma_Pagamento],MATCH(D348,tb_vendas[N° Pedido/Empresa],0)),tb_formas_pagamento[Nome_Forma],0))),\"\")","v":""},null,{"$f":"IF(OR(tb_pagamentos[[#This Row],[Data_Vencimento]]=\"\",tb_pagamentos[[#This Row],[Valor_Parcela]]=\"\",tb_pagamentos[[#This Row],[Qtd_Total_Parcelas]]=\"\",tb_pagamentos[[#This Row],[Nr_Pedido]]=\"\"),\"\",IF(tb_pagamentos[[#This Row],[Data_Pagamento]]<>\"\",\"Pago\",IF(AND(tb_pagamentos[[#This Row],[Data_Pagamento]]=\"\",tb_pagamentos[[#This Row],[Data_Vencimento]]<TODAY()),\"Em Atraso\",\"A vencer\")))","v":""}]
[null,null,"",{"$f":"IFERROR(INDEX(CALC_BASE!$N$3:$N$52,MATCH(ROW()-7,CALC_BASE!$M$3:$M$52,0)),\"\")","v":""},{"$f":"IFERROR(INDEX(CALC_BASE!$O$3:$O$52,MATCH(ROW()-7,CALC_BASE!$M$3:$M$52,0)),\"\")","v":""},{"$f":"IFERROR(INDEX(CALC_BASE!$P$3:$P$52,MATCH(ROW()-7,CALC_BASE!$M$3:$M$52,0)),\"\")","v":""},{"$f":"IFERROR(IF(D349=\"\",\"\",INDEX(tb_vendas[Preço de Venda],MATCH(D349,tb_vendas[N° Pedido/Empresa],0))/F349),\"\")","v":""},{"$f":"IFERROR(IF(D349=\"\",\"\",INDEX(tb_vendas[Data Fechamento],MATCH(D349,tb_vendas[N° Pedido/Empresa],0))+E349*INDEX(tb_formas_pagamento[Dias_Intervalo],MATCH(INDEX(tb_vendas[Forma_Pagamento],MATCH(D349,tb_vendas[N° Pedido/Empresa],0)),tb_formas_pagamento[Nome_Forma],0))),\"\")","v":""},null,{"$f":"IF(OR(tb_pagamentos[[#This Row],[Data_Vencimento]]=\"\",tb_pagamentos[[#This Row],[Valor_Parcela]]=\"\",tb_pagamentos[[#This Row],[Qtd_Total_Parcelas]]=\"\",tb_pagamentos[[#This Row],[Nr_Pedido]]=\"\"),\"\",IF(tb_pagamentos[[#This Row],[Data_Pagamento]]<>\"\",\"Pago\",IF(AND(tb_pagamentos[[#This Row],[Data_Pagamento]]=\"\",tb_pagamentos[[#This Row],[Data_Vencimento]]<TODAY()),\"Em Atraso\",\"A vencer\")))","v":""}]
[null,null,"",{"$f":"IFERROR(INDEX(CALC_BASE!$N$3:$N$52,MATCH(ROW()-7,CALC_BASE!$M$3:$M$52,0)),\"\")","v":""},{"$f":"IFERROR(INDEX(CALC_BASE!$O$3:$O$52,MATCH(ROW()-7,CALC_BASE!$M$3:$M$52,0)),\"\")","v":""},{"$f":"IFERROR(INDEX(CALC_BASE!$P$3:$P$52,MATCH(ROW()-7,CALC_BASE!$M$3:$M$52,0)),\"\")","v":""},{"$f":"IFERROR(IF(D350=\"\",\"\",INDEX(tb_vendas[Preço de Venda],MATCH(D350,tb_vendas[N° Pedido/Empresa],0))/F350),\"\")","v":""},{"$f":"IFERROR(IF(D350=\"\",\"\",INDEX(tb_vendas[Data Fechamento],MATCH(D350,tb_vendas[N° Pedido/Empresa],0))+E350*INDEX(tb_formas_pagamento[Dias_Intervalo],MATCH(INDEX(tb_vendas[Forma_Pagamento],MATCH(D350,tb_vendas[N° Pedido/Empresa],0)),tb_formas_pagamento[Nome_Forma],0))),\"\")","v":""},null,{"$f":"IF(OR(tb_pagamentos[[#This Row],[Data_Vencimento]]=\"\",tb_pagamentos[[#This Row],[Valor_Parcela]]=\"\",tb_pagamentos[[#This Row],[Qtd_Total_Parcelas]]=\"\",tb_pagamentos[[#This Row],[Nr_Pedido]]=\"\"),\"\",IF(tb_pagamentos[[#This Row],[Data_Pagamento]]<>\"\",\"Pago\",IF(AND(tb_pagamentos[[#This Row],[Data_Pagamento]]=\"\",tb_pagamentos[[#This Row],[Data_Vencimento]]<TODAY()),\"Em Atraso\",\"A vencer\")))","v":""}]
[null,null,"",{"$f":"IFERROR(INDEX(CALC_BASE!$N$3:$N$52,MATCH(ROW()-7,CALC_BASE!$M$3:$M$52,0)),\"\")","v":""},{"$f":"IFERROR(INDEX(CALC_BASE!$O$3:$O$52,MATCH(ROW()-7,CALC_BASE!$M$3:$M$52,0)),\"\")","v":""},{"$f":"IFERROR(INDEX(CALC_BASE!$P$3:$P$52,MATCH(ROW()-7,CALC_BASE!$M$3:$M$52,0)),\"\")","v":""},{"$f":"IFERROR(IF(D351=\"\",\"\",INDEX(tb_vendas[Preço de Venda],MATCH(D351,tb_vendas[N° Pedido/Empresa],0))/F351),\"\")","v":""},{"$f":"IFERROR(IF(D351=\"\",\"\",INDEX(tb_vendas[Data Fechamento],MATCH(D351,tb_vendas[N° Pedido/Empresa],0))+E351*INDEX(tb_formas_pagamento[Dias_Intervalo],MATCH(INDEX(tb_vendas[Forma_Pagamento],MATCH(D351,tb_vendas[N° Pedido/Empresa],0)),tb_formas_pagamento[Nome_Forma],0))),\"\")","v":""},null,{"$f":"IF(OR(tb_pagamentos[[#This Row],[Data_Vencimento]]=\"\",tb_pagamentos[[#This Row],[Valor_Parcela]]=\"\",tb_pagamentos[[#This Row],[Qtd_Total_Parcelas]]=\"\",tb_pagamentos[[#This Row],[Nr_Pedido]]=\"\"),\"\",IF(tb_pagamentos[[#This Row],[Data_Pagamento]]<>\"\",\"Pago\",IF(AND(tb_pagamentos[[#This Row],[Data_Pagamento]]=\"\",tb_pagamentos[[#This Row],[Data_Vencimento]]<TODAY()),\"Em Atraso\",\"A vencer\")))","v":""}]
[null,null,"",{"$f":"IFERROR(INDEX(CALC_BASE!$N$3:$N$52,MATCH(ROW()-7,CALC_BASE!$M$3:$M$52,0)),\"\")","v":""},{"$f":"IFERROR(INDEX(CALC_BASE!$O$3:$O$52,MATCH(ROW()-7,CALC_BASE!$M$3:$M$52,0)),\"\")","v":""},{"$f":"IFERROR(INDEX(CALC_BASE!$P$3:$P$52,MATCH(ROW()-7,CALC_BASE!$M$3:$M$52,0)),\"\")","v":""},{"$f":"IFERROR(IF(D352=\"\",\"\",INDEX(tb_vendas[Preço de Venda],MATCH(D352,tb_vendas[N° Pedido/Empresa],0))/F352),\"\")","v":""},{"$f":"IFERROR(IF(D352=\"\",\"\",INDEX(tb_vendas[Data Fechamento],MATCH(D352,tb_vendas[N° Pedido/Empresa],0))+E352*INDEX(tb_formas_pagamento[Dias_Intervalo],MATCH(INDEX(tb_vendas[Forma_Pagamento],MATCH(D352,tb_vendas[N° Pedido/Empresa],0)),tb_formas_pagamento[Nome_Forma],0))),\"\")","v":""},null,{"$f":"IF(OR(tb_pagamentos[[#This Row],[Data_Vencimento]]=\"\",tb_pagamentos[[#This Row],[Valor_Parcela]]=\"\",tb_pagamentos[[#This Row],[Qtd_Total_Parcelas]]=\"\",tb_pagamentos[[#This Row],[Nr_Pedido]]=\"\"),\"\",IF(tb_pagamentos[[#This Row],[Data_Pagamento]]<>\"\",\"Pago\",IF(AND(tb_pagamentos[[#This Row],[Data_Pagamento]]=\"\",tb_pagamentos[[#This Row],[Data_Vencimento]]<TODAY()),\"Em Atraso\",\"A vencer\")))","v":""}]
[null,null,"",{"$f":"IFERROR(INDEX(CALC_BASE!$N$3:$N$52,MATCH(ROW()-7,CALC_BASE!$M$3:$M$52,0)),\"\")","v":""},{"$f":"IFERROR(INDEX(CALC_BASE!$O$3:$O$52,MATCH(ROW()-7,CALC_BASE!$M$3:$M$52,0)),\"\")","v":""},{"$f":"IFERROR(INDEX(CALC_BASE!$P$3:$P$52,MATCH(ROW()-7,CALC_BASE!$M$3:$M$52,0)),\"\")","v":""},{"$f":"IFERROR(IF(D353=\"\",\"\",INDEX(tb_vendas[Preço de Venda],MATCH(D353,tb_vendas[N° Pedido/Empresa],0))/F353),\"\")","v":""},{"$f":"IFERROR(IF(D353=\"\",\"\",INDEX(tb_vendas[Data Fechamento],MATCH(D353,tb_vendas[N° Pedido/Empresa],0))+E353*INDEX(tb_formas_pagamento[Dias_Intervalo],MATCH(INDEX(tb_vendas[Forma_Pagamento],MATCH(D353,tb_vendas[N° Pedido/Empresa],0)),tb_formas_pagamento[Nome_Forma],0))),\"\")","v":""},null,{"$f":"IF(OR(tb_pagamentos[[#This Row],[Data_Vencimento]]=\"\",tb_pagamentos[[#This Row],[Valor_Parcela]]=\"\",tb_pagamentos[[#This Row],[Qtd_Total_Parcelas]]=\"\",tb_pagamentos[[#This Row],[Nr_Pedido]]=\"\"),\"\",IF(tb_pagamentos[[#This Row],[Data_Pagamento]]<>\"\",\"Pago\",IF(AND(tb_pagamentos[[#This Row],[Data_Pagamento]]=\"\",tb_pagamentos[[#This Row],[Data_Vencimento]]<TODAY()),\"Em Atraso\",\"A vencer\")))","v":""}]
[null,null,"",{"$f":"IFERROR(INDEX(CALC_BASE!$N$3:$N$52,MATCH(ROW()-7,CALC_BASE!$M$3:$M$52,0)),\"\")","v":""},{"$f":"IFERROR(INDEX(CALC_BASE!$O$3:$O$52,MATCH(ROW()-7,CALC_BASE!$M$3:$M$52,0)),\"\")","v":""},{"$f":"IFERROR(INDEX(CALC_BASE!$P$3:$P$52,MATCH(ROW()-7,CALC_BASE!$M$3:$M$52,0)),\"\")","v":""},{"$f":"IFERROR(IF(D354=\"\",\"\",INDEX(tb_vendas[Preço de Venda],MATCH(D354,tb_vendas[N° Pedido/Empresa],0))/F354),\"\")","v":""},{"$f":"IFERROR(IF(D354=\"\",\"\",INDEX(tb_vendas[Data Fechamento],MATCH(D354,tb_vendas[N° Pedido/Empresa],0))+E354*INDEX(tb_formas_pagamento[Dias_Intervalo],MATCH(INDEX(tb_vendas[Forma_Pagamento],MATCH(D354,tb_vendas[N° Pedido/Empresa],0)),tb_formas_pagamento[Nome_Forma],0))),\"\")","v":""},null,{"$f":"IF(OR(tb_pagamentos[[#This Row],[Data_Vencimento]]=\"\",tb_pagamentos[[#This Row],[Valor_Parcela]]=\"\",tb_pagamentos[[#This Row],[Qtd_Total_Parcelas]]=\"\",tb_pagamentos[[#This Row],[Nr_Pedido]]=\"\"),\"\",IF(tb_pagamentos[[#This Row],[Data_Pagamento]]<>\"\",\"Pago\",IF(AND(tb_pagamentos[[#This Row],[Data_Pagamento]]=\"\",tb_pagamentos[[#This Row],[Data_Vencimento]]<TODAY()),\"Em Atraso\",\"A vencer\")))","v":""}]
[null,null,"",{"$f":"IFERROR(INDEX(CALC_BASE!$N$3:$N$52,MATCH(ROW()-7,CALC_BASE!$M$3:$M$52,0)),\"\")","v":""},{"$f":"IFERROR(INDEX(CALC_BASE!$O$3:$O$52,MATCH(ROW()-7,CALC_BASE!$M$3:$M$52,0)),\"\")","v":""},{"$f":"IFERROR(INDEX(CALC_BASE!$P$3:$P$52,MATCH(ROW()-7,CALC_BASE!$M$3:$M$52,0)),\"\")","v":""},{"$f":"IFERROR(IF(D355=\"\",\"\",INDEX(tb_vendas[Preço de Venda],MATCH(D355,tb_vendas[N° Pedido/Empresa],0))/F355),\"\")","v":""},{"$f":"IFERROR(IF(D355=\"\",\"\",INDEX(tb_vendas[Data Fechamento],MATCH(D355,tb_vendas[N° Pedido/Empresa],0))+E355*INDEX(tb_formas_pagamento[Dias_Intervalo],MATCH(INDEX(tb_vendas[Forma_Pagamento],MATCH(D355,tb_vendas[N° Pedido/Empresa],0)),tb_formas_pagamento[Nome_Forma],0))),\"\")","v":""},null,{"$f":"IF(OR(tb_pagamentos[[#This Row],[Data_Vencimento]]=\"\",tb_pagamentos[[#This Row],[Valor_Parcela]]=\"\",tb_pagamentos[[#This Row],[Qtd_Total_Parcelas]]=\"\",tb_pagamentos[[#This Row],[Nr_Pedido]]=\"\"),\"\",IF(tb_pagamentos[[#This Row],[Data_Pagamento]]<>\"\",\"Pago\",IF(AND(tb_pagamentos[[#This Row],[Data_Pagamento]]=\"\",tb_pagamentos[[#This Row],[Data_Vencimento]]<TODAY()),\"Em Atraso\",\"A vencer\")))","v":""}]
[null,null,"",{"$f":"IFERROR(INDEX(CALC_BASE!$N$3:$N$52,MATCH(ROW()-7,CALC_BASE!$M$3:$M$52,0)),\"\")","v":""},{"$f":"IFERROR(INDEX(CALC_BASE!$O$3:$O$52,MATCH(ROW()-7,CALC_BASE!$M$3:$M$52,0)),\"\")","v":""},{"$f":"IFERROR(INDEX(CALC_BASE!$P$3:$P$52,MATCH(ROW()-7,CALC_BASE!$M$3:$M$52,0)),\"\")","v":""},{"$f":"IFERROR(IF(D356=\"\",\"\",INDEX(tb_vendas[Preço de Venda],MATCH(D356,tb_vendas[N° Pedido/Empresa],0))/F356),\"\")","v":""},{"$f":"IFERROR(IF(D356=\"\",\"\",INDEX(tb_vendas[Data Fechamento],MATCH(D356,tb_vendas[N° Pedido/Empresa],0))+E356*INDEX(tb_formas_pagamento[Dias_Intervalo],MATCH(INDEX(tb_vendas[Forma_Pagamento],MATCH(D356,tb_vendas[N° Pedido/Empresa],0)),tb_formas_pagamento[Nome_Forma],0))),\"\")","v":""},null,{"$f":"IF(OR(tb_pagamentos[[#This Row],[Data_Vencimento]]=\"\",tb_pagamentos[[#This Row],[Valor_Parcela]]=\"\",tb_pagamentos[[#This Row],[Qtd_Total_Parcelas]]=\"\",tb_pagamentos[[#This Row],[Nr_Pedido]]=\"\"),\"\",IF(tb_pagamentos[[#This Row],[Data_Pagamento]]<>\"\",\"Pago\",IF(AND(tb_pagamentos[[#This Row],[Data_Pagamento]]=\"\",tb_pagamentos[[#This Row],[Data_Vencimento]]<TODAY()),\"Em Atraso\",\"A vencer\")))","v":""}]
[null,null,"",{"$f":"IFERROR(INDEX(CALC_BASE!$N$3:$N$52,MATCH(ROW()-7,CALC_BASE!$M$3:$M$52,0)),\"\")","v":""},{"$f":"IFERROR(INDEX(CALC_BASE!$O$3:$O$52,MATCH(ROW()-7,CALC_BASE!$M$3:$M$52,0)),\"\")","v":""},{"$f":"IFERROR(INDEX(CALC_BASE!$P$3:$P$52,MATCH(ROW()-7,CALC_BASE!$M$3:$M$52,0)),\"\")","v":""},{"$f":"IFERROR(IF(D357=\"\",\"\",INDEX(tb_vendas[Preço de Venda],MATCH(D357,tb_vendas[N° Pedido/Empresa],0))/F357),\"\")","v":""},{"$f":"IFERROR(IF(D357=\"\",\"\",INDEX(tb_vendas[Data Fechamento],MATCH(D357,tb_vendas[N° Pedido/Empresa],0))+E357*INDEX(tb_formas_pagamento[Dias_Intervalo],MATCH(INDEX(tb_vendas[Forma_Pagamento],MATCH(D357,tb_vendas[N° Pedido/Empresa],0)),tb_formas_pagamento[Nome_Forma],0))),\"\")","v":""},null,{"$f":"IF(OR(tb_pagamentos[[#This Row],[Data_Vencimento]]=\"\",tb_pagamentos[[#This Row],[Valor_Parcela]]=\"\",tb_pagamentos[[#This Row],[Qtd_Total_Parcelas]]=\"\",tb_pagamentos[[#This Row],[Nr_Pedido]]=\"\"),\"\",IF(tb_pagamentos[[#This Row],[Data_Pagamento]]<>\"\",\"Pago\",IF(AND(tb_pagamentos[[#This Row],[Data_Pagamento]]=\"\",tb_pagamentos[[#This Row],[Data_Vencimento]]<TODAY()),\"Em Atraso\",\"A vencer\")))","v":""}]
[null,null,"",{"$f":"IFERROR(INDEX(CALC_BASE!$N$3:$N$52,MATCH(ROW()-7,CALC_BASE!$M$3:$M$52,0)),\"\")","v":""},{"$f":"IFERROR(INDEX(CALC_BASE!$O$3:$O$52,MATCH(ROW()-7,CALC_BASE!$M$3:$M$52,0)),\"\")","v":""},{"$f":"IFERROR(INDEX(CALC_BASE!$P$3:$P$52,MATCH(ROW()-7,CALC_BASE!$M$3:$M$52,0)),\"\")","v":""},{"$f":"IFERROR(IF(D358=\"\",\"\",INDEX(tb_vendas[Preço de Venda],MATCH(D358,tb_vendas[N° Pedido/Empresa],0))/F358),\"\")","v":""},{"$f":"IFERROR(IF(D358=\"\",\"\",INDEX(tb_vendas[Data Fechamento],MATCH(D358,tb_vendas[N° Pedido/Empresa],0))+E358*INDEX(tb_formas_pagamento[Dias_Intervalo],MATCH(INDEX(tb_vendas[Forma_Pagamento],MATCH(D358,tb_vendas[N° Pedido/Empresa],0)),tb_formas_pagamento[Nome_Forma],0))),\"\")","v":""},null,{"$f":"IF(OR(tb_pagamentos[[#This Row],[Data_Vencimento]]=\"\",tb_pagamentos[[#This Row],[Valor_Parcela]]=\"\",tb_pagamentos[[#This Row],[Qtd_Total_Parcelas]]=\"\",tb_pagamentos[[#This Row],[Nr_Pedido]]=\"\"),\"\",IF(tb_pagamentos[[#This Row],[Data_Pagamento]]<>\"\",\"Pago\",IF(AND(tb_pagamentos[[#This Row],[Data_Pagamento]]=\"\",tb_pagamentos[[#This Row],[Data_Vencimento]]<TODAY()),\"Em Atraso\",\"A vencer\")))","v":""}]
[null,null,"",{"$f":"IFERROR(INDEX(CALC_BASE!$N$3:$N$52,MATCH(ROW()-7,CALC_BASE!$M$3:$M$52,0)),\"\")","v":""},{"$f":"IFERROR(INDEX(CALC_BASE!$O$3:$O$52,MATCH(ROW()-7,CALC_BASE!$M$3:$M$52,0)),\"\")","v":""},{"$f":"IFERROR(INDEX(CALC_BASE!$P$3:$P$52,MATCH(ROW()-7,CALC_BASE!$M$3:$M$52,0)),\"\")","v":""},{"$f":"IFERROR(IF(D359=\"\",\"\",INDEX(tb_vendas[Preço de Venda],MATCH(D359,tb_vendas[N° Pedido/Empresa],0))/F359),\"\")","v":""},{"$f":"IFERROR(IF(D359=\"\",\"\",INDEX(tb_vendas[Data Fechamento],MATCH(D359,tb_vendas[N° Pedido/Empresa],0))+E359*INDEX(tb_formas_pagamento[Dias_Intervalo],MATCH(INDEX(tb_vendas[Forma_Pagamento],MATCH(D359,tb_vendas[N° Pedido/Empresa],0)),tb_formas_pagamento[Nome_Forma],0))),\"\")","v":""},null,{"$f":"IF(OR(tb_pagamentos[[#This Row],[Data_Vencimento]]=\"\",tb_pagamentos[[#This Row],[Valor_Parcela]]=\"\",tb_pagamentos[[#This Row],[Qtd_Total_Parcelas]]=\"\",tb_pagamentos[[#This Row],[Nr_Pedido]]=\"\"),\"\",IF(tb_pagamentos[[#This Row],[Data_Pagamento]]<>\"\",\"Pago\",IF(AND(tb_pagamentos[[#This Row],[Data_Pagamento]]=\"\",tb_pagamentos[[#This Row],[Data_Vencimento]]<TODAY()),\"Em Atraso\",\"A vencer\")))","v":""}]
[null,null,"",{"$f":"IFERROR(INDEX(CALC_BASE!$N$3:$N$52,MATCH(ROW()-7,CALC_BASE!$M$3:$M$52,0)),\"\")","v":""},{"$f":"IFERROR(INDEX(CALC_BASE!$O$3:$O$52,MATCH(ROW()-7,CALC_BASE!$M$3:$M$52,0)),\"\")","v":""},{"$f":"IFERROR(INDEX(CALC_BASE!$P$3:$P$52,MATCH(ROW()-7,CALC_BASE!$M$3:$M$52,0)),\"\")","v":""},{"$f":"IFERROR(IF(D360=\"\",\"\",INDEX(tb_vendas[Preço de Venda],MATCH(D360,tb_vendas[N° Pedido/Empresa],0))/F360),\"\")","v":""},{"$f":"IFERROR(IF(D360=\"\",\"\",INDEX(tb_vendas[Data Fechamento],MATCH(D360,tb_vendas[N° Pedido/Empresa],0))+E360*INDEX(tb_formas_pagamento[Dias_Intervalo],MATCH(INDEX(tb_vendas[Forma_Pagamento],MATCH(D360,tb_vendas[N° Pedido/Empresa],0)),tb_formas_pagamento[Nome_Forma],0))),\"\")","v":""},null,{"$f":"IF(OR(tb_pagamentos[[#This Row],[Data_Vencimento]]=\"\",tb_pagamentos[[#This Row],[Valor_Parcela]]=\"\",tb_pagamentos[[#This Row],[Qtd_Total_Parcelas]]=\"\",tb_pagamentos[[#This Row],[Nr_Pedido]]=\"\"),\"\",IF(tb_pagamentos[[#This Row],[Data_Pagamento]]<>\"\",\"Pago\",IF(AND(tb_pagamentos[[#This Row],[Data_Pagamento]]=\"\",tb_pagamentos[[#This Row],[Data_Vencimento]]<TODAY()),\"Em Atraso\",\"A vencer\")))","v":""}]
[null,null,"",{"$f":"IFERROR(INDEX(CALC_BASE!$N$3:$N$52,MATCH(ROW()-7,CALC_BASE!$M$3:$M$52,0)),\"\")","v":""},{"$f":"IFERROR(INDEX(CALC_BASE!$O$3:$O$52,MATCH(ROW()-7,CALC_BASE!$M$3:$M$52,0)),\"\")","v":""},{"$f":"IFERROR(INDEX(CALC_BASE!$P$3:$P$52,MATCH(ROW()-7,CALC_BASE!$M$3:$M$52,0)),\"\")","v":""},{"$f":"IFERROR(IF(D361=\"\",\"\",INDEX(tb_vendas[Preço de Venda],MATCH(D361,tb_vendas[N° Pedido/Empresa],0))/F361),\"\")","v":""},{"$f":"IFERROR(IF(D361=\"\",\"\",INDEX(tb_vendas[Data Fechamento],MATCH(D361,tb_vendas[N° Pedido/Empresa],0))+E361*INDEX(tb_formas_pagamento[Dias_Intervalo],MATCH(INDEX(tb_vendas[Forma_Pagamento],MATCH(D361,tb_vendas[N° Pedido/Empresa],0)),tb_formas_pagamento[Nome_Forma],0))),\"\")","v":""},null,{"$f":"IF(OR(tb_pagamentos[[#This Row],[Data_Vencimento]]=\"\",tb_pagamentos[[#This Row],[Valor_Parcela]]=\"\",tb_pagamentos[[#This Row],[Qtd_Total_Parcelas]]=\"\",tb_pagamentos[[#This Row],[Nr_Pedido]]=\"\"),\"\",IF(tb_pagamentos[[#This Row],[Data_Pagamento]]<>\"\",\"Pago\",IF(AND(tb_pagamentos[[#This Row],[Data_Pagamento]]=\"\",tb_pagamentos[[#This Row],[Data_Vencimento]]<TODAY()),\"Em Atraso\",\"A vencer\")))","v":""}]
[null,null,"",{"$f":"IFERROR(INDEX(CALC_BASE!$N$3:$N$52,MATCH(ROW()-7,CALC_BASE!$M$3:$M$52,0)),\"\")","v":""},{"$f":"IFERROR(INDEX(CALC_BASE!$O$3:$O$52,MATCH(ROW()-7,CALC_BASE!$M$3:$M$52,0)),\"\")","v":""},{"$f":"IFERROR(INDEX(CALC_BASE!$P$3:$P$52,MATCH(ROW()-7,CALC_BASE!$M$3:$M$52,0)),\"\")","v":""},{"$f":"IFERROR(IF(D362=\"\",\"\",INDEX(tb_vendas[Preço de Venda],MATCH(D362,tb_vendas[N° Pedido/Empresa],0))/F362),\"\")","v":""},{"$f":"IFERROR(IF(D362=\"\",\"\",INDEX(tb_vendas[Data Fechamento],MATCH(D362,tb_vendas[N° Pedido/Empresa],0))+E362*INDEX(tb_formas_pagamento[Dias_Intervalo],MATCH(INDEX(tb_vendas[Forma_Pagamento],MATCH(D362,tb_vendas[N° Pedido/Empresa],0)),tb_formas_pagamento[Nome_Forma],0))),\"\")","v":""},null,{"$f":"IF(OR(tb_pagamentos[[#This Row],[Data_Vencimento]]=\"\",tb_pagamentos[[#This Row],[Valor_Parcela]]=\"\",tb_pagamentos[[#This Row],[Qtd_Total_Parcelas]]=\"\",tb_pagamentos[[#This Row],[Nr_Pedido]]=\"\"),\"\",IF(tb_pagamentos[[#This Row],[Data_Pagamento]]<>\"\",\"Pago\",IF(AND(tb_pagamentos[[#This Row],[Data_Pagamento]]=\"\",tb_pagamentos[[#This Row],[Data_Vencimento]]<TODAY()),\"Em Atraso\",\"A vencer\")))","v":""}]
[null,null,"",{"$f":"IFERROR(INDEX(CALC_BASE!$N$3:$N$52,MATCH(ROW()-7,CALC_BASE!$M$3:$M$52,0)),\"\")","v":""},{"$f":"IFERROR(INDEX(CALC_BASE!$O$3:$O$52,MATCH(ROW()-7,CALC_BASE!$M$3:$M$52,0)),\"\")","v":""},{"$f":"IFERROR(INDEX(CALC_BASE!$P$3:$P$52,MATCH(ROW()-7,CALC_BASE!$M$3:$M$52,0)),\"\")","v":""},{"$f":"IFERROR(IF(D363=\"\",\"\",INDEX(tb_vendas[Preço de Venda],MATCH(D363,tb_vendas[N° Pedido/Empresa],0))/F363),\"\")","v":""},{"$f":"IFERROR(IF(D363=\"\",\"\",INDEX(tb_vendas[Data Fechamento],MATCH(D363,tb_vendas[N° Pedido/Empresa],0))+E363*INDEX(tb_formas_pagamento[Dias_Intervalo],MATCH(INDEX(tb_vendas[Forma_Pagamento],MATCH(D363,tb_vendas[N° Pedido/Empresa],0)),tb_formas_pagamento[Nome_Forma],0))),\"\")","v":""},null,{"$f":"IF(OR(tb_pagamentos[[#This Row],[Data_Vencimento]]=\"\",tb_pagamentos[[#This Row],[Valor_Parcela]]=\"\",tb_pagamentos[[#This Row],[Qtd_Total_Parcelas]]=\"\",tb_pagamentos[[#This Row],[Nr_Pedido]]=\"\"),\"\",IF(tb_pagamentos[[#This Row],[Data_Pagamento]]<>\"\",\"Pago\",IF(AND(tb_pagamentos[[#This Row],[Data_Pagamento]]=\"\",tb_pagamentos[[#This Row],[Data_Vencimento]]<TODAY()),\"Em Atraso\",\"A vencer\")))","v":""}]
[null,null,"",{"$f":"IFERROR(INDEX(CALC_BASE!$N$3:$N$52,MATCH(ROW()-7,CALC_BASE!$M$3:$M$52,0)),\"\")","v":""},{"$f":"IFERROR(INDEX(CALC_BASE!$O$3:$O$52,MATCH(ROW()-7,CALC_BASE!$M$3:$M$52,0)),\"\")","v":""},{"$f":"IFERROR(INDEX(CALC_BASE!$P$3:$P$52,MATCH(ROW()-7,CALC_BASE!$M$3:$M$52,0)),\"\")","v":""},{"$f":"IFERROR(IF(D364=\"\",\"\",INDEX(tb_vendas[Preço de Venda],MATCH(D364,tb_vendas[N° Pedido/Empresa],0))/F364),\"\")","v":""},{"$f":"IFERROR(IF(D364=\"\",\"\",INDEX(tb_vendas[Data Fechamento],MATCH(D364,tb_vendas[N° Pedido/Empresa],0))+E364*INDEX(tb_formas_pagamento[Dias_Intervalo],MATCH(INDEX(tb_vendas[Forma_Pagamento],MATCH(D364,tb_vendas[N° Pedido/Empresa],0)),tb_formas_pagamento[Nome_Forma],0))),\"\")","v":""},null,{"$f":"IF(OR(tb_pagamentos[[#This Row],[Data_Vencimento]]=\"\",tb_pagamentos[[#This Row],[Valor_Parcela]]=\"\",tb_pagamentos[[#This Row],[Qtd_Total_Parcelas]]=\"\",tb_pagamentos[[#This Row],[Nr_Pedido]]=\"\"),\"\",IF(tb_pagamentos[[#This Row],[Data_Pagamento]]<>\"\",\"Pago\",IF(AND(tb_pagamentos[[#This Row],[Data_Pagamento]]=\"\",tb_pagamentos[[#This Row],[Data_Vencimento]]<TODAY()),\"Em Atraso\",\"A vencer\")))","v":""}]
[null,null,"",{"$f":"IFERROR(INDEX(CALC_BASE!$N$3:$N$52,MATCH(ROW()-7,CALC_BASE!$M$3:$M$52,0)),\"\")","v":""},{"$f":"IFERROR(INDEX(CALC_BASE!$O$3:$O$52,MATCH(ROW()-7,CALC_BASE!$M$3:$M$52,0)),\"\")","v":""},{"$f":"IFERROR(INDEX(CALC_BASE!$P$3:$P$52,MATCH(ROW()-7,CALC_BASE!$M$3:$M$52,0)),\"\")","v":""},{"$f":"IFERROR(IF(D365=\"\",\"\",INDEX(tb_vendas[Preço de Venda],MATCH(D365,tb_vendas[N° Pedido/Empresa],0))/F365),\"\")","v":""},{"$f":"IFERROR(IF(D365=\"\",\"\",INDEX(tb_vendas[Data Fechamento],MATCH(D365,tb_vendas[N° Pedido/Empresa],0))+E365*INDEX(tb_formas_pagamento[Dias_Intervalo],MATCH(INDEX(tb_vendas[Forma_Pagamento],MATCH(D365,tb_vendas[N° Pedido/Empresa],0)),tb_formas_pagamento[Nome_Forma],0))),\"\")","v":""},null,{"$f":"IF(OR(tb_pagamentos[[#This Row],[Data_Vencimento]]=\"\",tb_pagamentos[[#This Row],[Valor_Parcela]]=\"\",tb_pagamentos[[#This Row],[Qtd_Total_Parcelas]]=\"\",tb_pagamentos[[#This Row],[Nr_Pedido]]=\"\"),\"\",IF(tb_pagamentos[[#This Row],[Data_Pagamento]]<>\"\",\"Pago\",IF(AND(tb_pagamentos[[#This Row],[Data_Pagamento]]=\"\",tb_pagamentos[[#This Row],[Data_Vencimento]]<TODAY()),\"Em Atraso\",\"A vencer\")))","v":""}]
[null,null,"",{"$f":"IFERROR(INDEX(CALC_BASE!$N$3:$N$52,MATCH(ROW()-7,CALC_BASE!$M$3:$M$52,0)),\"\")","v":""},{"$f":"IFERROR(INDEX(CALC_BASE!$O$3:$O$52,MATCH(ROW()-7,CALC_BASE!$M$3:$M$52,0)),\"\")","v":""},{"$f":"IFERROR(INDEX(CALC_BASE!$P$3:$P$52,MATCH(ROW()-7,CALC_BASE!$M$3:$M$52,0)),\"\")","v":""},{"$f":"IFERROR(IF(D366=\"\",\"\",INDEX(tb_vendas[Preço de Venda],MATCH(D366,tb_vendas[N° Pedido/Empresa],0))/F366),\"\")","v":""},{"$f":"IFERROR(IF(D366=\"\",\"\",INDEX(tb_vendas[Data Fechamento],MATCH(D366,tb_vendas[N° Pedido/Empresa],0))+E366*INDEX(tb_formas_pagamento[Dias_Intervalo],MATCH(INDEX(tb_vendas[Forma_Pagamento],MATCH(D366,tb_vendas[N° Pedido/Empresa],0)),tb_formas_pagamento[Nome_Forma],0))),\"\")","v":""},null,{"$f":"IF(OR(tb_pagamentos[[#This Row],[Data_Vencimento]]=\"\",tb_pagamentos[[#This Row],[Valor_Parcela]]=\"\",tb_pagamentos[[#This Row],[Qtd_Total_Parcelas]]=\"\",tb_pagamentos[[#This Row],[Nr_Pedido]]=\"\"),\"\",IF(tb_pagamentos[[#This Row],[Data_Pagamento]]<>\"\",\"Pago\",IF(AND(tb_pagamentos[[#This Row],[Data_Pagamento]]=\"\",tb_pagamentos[[#This Row],[Data_Vencimento]]<TODAY()),\"Em Atraso\",\"A vencer\")))","v":""}]
[null,null,"",{"$f":"IFERROR(INDEX(CALC_BASE!$N$3:$N$52,MATCH(ROW()-7,CALC_BASE!$M$3:$M$52,0)),\"\")","v":""},{"$f":"IFERROR(INDEX(CALC_BASE!$O$3:$O$52,MATCH(ROW()-7,CALC_BASE!$M$3:$M$52,0)),\"\")","v":""},{"$f":"IFERROR(INDEX(CALC_BASE!$P$3:$P$52,MATCH(ROW()-7,CALC_BASE!$M$3:$M$52,0)),\"\")","v":""},{"$f":"IFERROR(IF(D367=\"\",\"\",INDEX(tb_vendas[Preço de Venda],MATCH(D367,tb_vendas[N° Pedido/Empresa],0))/F367),\"\")","v":""},{"$f":"IFERROR(IF(D367=\"\",\"\",INDEX(tb_vendas[Data Fechamento],MATCH(D367,tb_vendas[N° Pedido/Empresa],0))+E367*INDEX(tb_formas_pagamento[Dias_Intervalo],MATCH(INDEX(tb_vendas[Forma_Pagamento],MATCH(D367,tb_vendas[N° Pedido/Empresa],0)),tb_formas_pagamento[Nome_Forma],0))),\"\")","v":""},null,{"$f":"IF(OR(tb_pagamentos[[#This Row],[Data_Vencimento]]=\"\",tb_pagamentos[[#This Row],[Valor_Parcela]]=\"\",tb_pagamentos[[#This Row],[Qtd_Total_Parcelas]]=\"\",tb_pagamentos[[#This Row],[Nr_Pedido]]=\"\"),\"\",IF(tb_pagamentos[[#This Row],[Data_Pagamento]]<>\"\",\"Pago\",IF(AND(tb_pagamentos[[#This Row],[Data_Pagamento]]=\"\",tb_pagamentos[[#This Row],[Data_Vencimento]]<TODAY()),\"Em Atraso\",\"A vencer\")))","v":""}]
[null,null,"",{"$f":"IFERROR(INDEX(CALC_BASE!$N$3:$N$52,MATCH(ROW()-7,CALC_BASE!$M$3:$M$52,0)),\"\")","v":""},{"$f":"IFERROR(INDEX(CALC_BASE!$O$3:$O$52,MATCH(ROW()-7,CALC_BASE!$M$3:$M$52,0)),\"\")","v":""},{"$f":"IFERROR(INDEX(CALC_BASE!$P$3:$P$52,MATCH(ROW()-7,CALC_BASE!$M$3:$M$52,0)),\"\")","v":""},{"$f":"IFERROR(IF(D368=\"\",\"\",INDEX(tb_vendas[Preço de Venda],MATCH(D368,tb_vendas[N° Pedido/Empresa],0))/F368),\"\")","v":""},{"$f":"IFERROR(IF(D368=\"\",\"\",INDEX(tb_vendas[Data Fechamento],MATCH(D368,tb_vendas[N° Pedido/Empresa],0))+E368*INDEX(tb_formas_pagamento[Dias_Intervalo],MATCH(INDEX(tb_vendas[Forma_Pagamento],MATCH(D368,tb_vendas[N° Pedido/Empresa],0)),tb_formas_pagamento[Nome_Forma],0))),\"\")","v":""},null,{"$f":"IF(OR(tb_pagamentos[[#This Row],[Data_Vencimento]]=\"\",tb_pagamentos[[#This Row],[Valor_Parcela]]=\"\",tb_pagamentos[[#This Row],[Qtd_Total_Parcelas]]=\"\",tb_pagamentos[[#This Row],[Nr_Pedido]]=\"\"),\"\",IF(tb_pagamentos[[#This Row],[Data_Pagamento]]<>\"\",\"Pago\",IF(AND(tb_pagamentos[[#This Row],[Data_Pagamento]]=\"\",tb_pagamentos[[#This Row],[Data_Vencimento]]<TODAY()),\"Em Atraso\",\"A vencer\")))","v":""}]
[null,null,"",{"$f":"IFERROR(INDEX(CALC_BASE!$N$3:$N$52,MATCH(ROW()-7,CALC_BASE!$M$3:$M$52,0)),\"\")","v":""},{"$f":"IFERROR(INDEX(CALC_BASE!$O$3:$O$52,MATCH(ROW()-7,CALC_BASE!$M$3:$M$52,0)),\"\")","v":""},{"$f":"IFERROR(INDEX(CALC_BASE!$P$3:$P$52,MATCH(ROW()-7,CALC_BASE!$M$3:$M$52,0)),\"\")","v":""},{"$f":"IFERROR(IF(D369=\"\",\"\",INDEX(tb_vendas[Preço de Venda],MATCH(D369,tb_vendas[N° Pedido/Empresa],0))/F369),\"\")","v":""},{"$f":"IFERROR(IF(D369=\"\",\"\",INDEX(tb_vendas[Data Fechamento],MATCH(D369,tb_vendas[N° Pedido/Empresa],0))+E369*INDEX(tb_formas_pagamento[Dias_Intervalo],MATCH(INDEX(tb_vendas[Forma_Pagamento],MATCH(D369,tb_vendas[N° Pedido/Empresa],0)),tb_formas_pagamento[Nome_Forma],0))),\"\")","v":""},null,{"$f":"IF(OR(tb_pagamentos[[#This Row],[Data_Vencimento]]=\"\",tb_pagamentos[[#This Row],[Valor_Parcela]]=\"\",tb_pagamentos[[#This Row],[Qtd_Total_Parcelas]]=\"\",tb_pagamentos[[#This Row],[Nr_Pedido]]=\"\"),\"\",IF(tb_pagamentos[[#This Row],[Data_Pagamento]]<>\"\",\"Pago\",IF(AND(tb_pagamentos[[#This Row],[Data_Pagamento]]=\"\",tb_pagamentos[[#This Row],[Data_Vencimento]]<TODAY()),\"Em Atraso\",\"A vencer\")))","v":""}]
[null,null,"",{"$f":"IFERROR(INDEX(CALC_BASE!$N$3:$N$52,MATCH(ROW()-7,CALC_BASE!$M$3:$M$52,0)),\"\")","v":""},{"$f":"IFERROR(INDEX(CALC_BASE!$O$3:$O$52,MATCH(ROW()-7,CALC_BASE!$M$3:$M$52,0)),\"\")","v":""},{"$f":"IFERROR(INDEX(CALC_BASE!$P$3:$P$52,MATCH(ROW()-7,CALC_BASE!$M$3:$M$52,0)),\"\")","v":""},{"$f":"IFERROR(IF(D370=\"\",\"\",INDEX(tb_vendas[Preço de Venda],MATCH(D370,tb_vendas[N° Pedido/Empresa],0))/F370),\"\")","v":""},{"$f":"IFERROR(IF(D370=\"\",\"\",INDEX(tb_vendas[Data Fechamento],MATCH(D370,tb_vendas[N° Pedido/Empresa],0))+E370*INDEX(tb_formas_pagamento[Dias_Intervalo],MATCH(INDEX(tb_vendas[Forma_Pagamento],MATCH(D370,tb_vendas[N° Pedido/Empresa],0)),tb_formas_pagamento[Nome_Forma],0))),\"\")","v":""},null,{"$f":"IF(OR(tb_pagamentos[[#This Row],[Data_Vencimento]]=\"\",tb_pagamentos[[#This Row],[Valor_Parcela]]=\"\",tb_pagamentos[[#This Row],[Qtd_Total_Parcelas]]=\"\",tb_pagamentos[[#This Row],[Nr_Pedido]]=\"\"),\"\",IF(tb_pagamentos[[#This Row],[Data_Pagamento]]<>\"\",\"Pago\",IF(AND(tb_pagamentos[[#This Row],[Data_Pagamento]]=\"\",tb_pagamentos[[#This Row],[Data_Vencimento]]<TODAY()),\"Em Atraso\",\"A vencer\")))","v":""}]
[null,null,"",{"$f":"IFERROR(INDEX(CALC_BASE!$N$3:$N$52,MATCH(ROW()-7,CALC_BASE!$M$3:$M$52,0)),\"\")","v":""},{"$f":"IFERROR(INDEX(CALC_BASE!$O$3:$O$52,MATCH(ROW()-7,CALC_BASE!$M$3:$M$52,0)),\"\")","v":""},{"$f":"IFERROR(INDEX(CALC_BASE!$P$3:$P$52,MATCH(ROW()-7,CALC_BASE!$M$3:$M$52,0)),\"\")","v":""},{"$f":"IFERROR(IF(D371=\"\",\"\",INDEX(tb_vendas[Preço de Venda],MATCH(D371,tb_vendas[N° Pedido/Empresa],0))/F371),\"\")","v":""},{"$f":"IFERROR(IF(D371=\"\",\"\",INDEX(tb_vendas[Data Fechamento],MATCH(D371,tb_vendas[N° Pedido/Empresa],0))+E371*INDEX(tb_formas_pagamento[Dias_Intervalo],MATCH(INDEX(tb_vendas[Forma_Pagamento],MATCH(D371,tb_vendas[N° Pedido/Empresa],0)),tb_formas_pagamento[Nome_Forma],0))),\"\")","v":""},null,{"$f":"IF(OR(tb_pagamentos[[#This Row],[Data_Vencimento]]=\"\",tb_pagamentos[[#This Row],[Valor_Parcela]]=\"\",tb_pagamentos[[#This Row],[Qtd_Total_Parcelas]]=\"\",tb_pagamentos[[#This Row],[Nr_Pedido]]=\"\"),\"\",IF(tb_pagamentos[[#This Row],[Data_Pagamento]]<>\"\",\"Pago\",IF(AND(tb_pagamentos[[#This Row],[Data_Pagamento]]=\"\",tb_pagamentos[[#This Row],[Data_Vencimento]]<TODAY()),\"Em Atraso\",\"A vencer\")))","v":""}]
[null,null,"",{"$f":"IFERROR(INDEX(CALC_BASE!$N$3:$N$52,MATCH(ROW()-7,CALC_BASE!$M$3:$M$52,0)),\"\")","v":""},{"$f":"IFERROR(INDEX(CALC_BASE!$O$3:$O$52,MATCH(ROW()-7,CALC_BASE!$M$3:$M$52,0)),\"\")","v":""},{"$f":"IFERROR(INDEX(CALC_BASE!$P$3:$P$52,MATCH(ROW()-7,CALC_BASE!$M$3:$M$52,0)),\"\")","v":""},{"$f":"IFERROR(IF(D372=\"\",\"\",INDEX(tb_vendas[Preço de Venda],MATCH(D372,tb_vendas[N° Pedido/Empresa],0))/F372),\"\")","v":""},{"$f":"IFERROR(IF(D372=\"\",\"\",INDEX(tb_vendas[Data Fechamento],MATCH(D372,tb_vendas[N° Pedido/Empresa],0))+E372*INDEX(tb_formas_pagamento[Dias_Intervalo],MATCH(INDEX(tb_vendas[Forma_Pagamento],MATCH(D372,tb_vendas[N° Pedido/Empresa],0)),tb_formas_pagamento[Nome_Forma],0))),\"\")","v":""},null,{"$f":"IF(OR(tb_pagamentos[[#This Row],[Data_Vencimento]]=\"\",tb_pagamentos[[#This Row],[Valor_Parcela]]=\"\",tb_pagamentos[[#This Row],[Qtd_Total_Parcelas]]=\"\",tb_pagamentos[[#This Row],[Nr_Pedido]]=\"\"),\"\",IF(tb_pagamentos[[#This Row],[Data_Pagamento]]<>\"\",\"Pago\",IF(AND(tb_pagamentos[[#This Row],[Data_Pagamento]]=\"\",tb_pagamentos[[#This Row],[Data_Vencimento]]<TODAY()),\"Em Atraso\",\"A vencer\")))","v":""}]
[null,null,"",{"$f":"IFERROR(INDEX(CALC_BASE!$N$3:$N$52,MATCH(ROW()-7,CALC_BASE!$M$3:$M$52,0)),\"\")","v":""},{"$f":"IFERROR(INDEX(CALC_BASE!$O$3:$O$52,MATCH(ROW()-7,CALC_BASE!$M$3:$M$52,0)),\"\")","v":""},{"$f":"IFERROR(INDEX(CALC_BASE!$P$3:$P$52,MATCH(ROW()-7,CALC_BASE!$M$3:$M$52,0)),\"\")","v":""},{"$f":"IFERROR(IF(D373=\"\",\"\",INDEX(tb_vendas[Preço de Venda],MATCH(D373,tb_vendas[N° Pedido/Empresa],0))/F373),\"\")","v":""},{"$f":"IFERROR(IF(D373=\"\",\"\",INDEX(tb_vendas[Data Fechamento],MATCH(D373,tb_vendas[N° Pedido/Empresa],0))+E373*INDEX(tb_formas_pagamento[Dias_Intervalo],MATCH(INDEX(tb_vendas[Forma_Pagamento],MATCH(D373,tb_vendas[N° Pedido/Empresa],0)),tb_formas_pagamento[Nome_Forma],0))),\"\")","v":""},null,{"$f":"IF(OR(tb_pagamentos[[#This Row],[Data_Vencimento]]=\"\",tb_pagamentos[[#This Row],[Valor_Parcela]]=\"\",tb_pagamentos[[#This Row],[Qtd_Total_Parcelas]]=\"\",tb_pagamentos[[#This Row],[Nr_Pedido]]=\"\"),\"\",IF(tb_pagamentos[[#This Row],[Data_Pagamento]]<>\"\",\"Pago\",IF(AND(tb_pagamentos[[#This Row],[Data_Pagamento]]=\"\",tb_pagamentos[[#This Row],[Data_Vencimento]]<TODAY()),\"Em Atraso\",\"A vencer\")))","v":""}]
[null,null,"",{"$f":"IFERROR(INDEX(CALC_BASE!$N$3:$N$52,MATCH(ROW()-7,CALC_BASE!$M$3:$M$52,0)),\"\")","v":""},{"$f":"IFERROR(INDEX(CALC_BASE!$O$3:$O$52,MATCH(ROW()-7,CALC_BASE!$M$3:$M$52,0)),\"\")","v":""},{"$f":"IFERROR(INDEX(CALC_BASE!$P$3:$P$52,MATCH(ROW()-7,CALC_BASE!$M$3:$M$52,0)),\"\")","v":""},{"$f":"IFERROR(IF(D374=\"\",\"\",INDEX(tb_vendas[Preço de Venda],MATCH(D374,tb_vendas[N° Pedido/Empresa],0))/F374),\"\")","v":""},{"$f":"IFERROR(IF(D374=\"\",\"\",INDEX(tb_vendas[Data Fechamento],MATCH(D374,tb_vendas[N° Pedido/Empresa],0))+E374*INDEX(tb_formas_pagamento[Dias_Intervalo],MATCH(INDEX(tb_vendas[Forma_Pagamento],MATCH(D374,tb_vendas[N° Pedido/Empresa],0)),tb_formas_pagamento[Nome_Forma],0))),\"\")","v":""},null,{"$f":"IF(OR(tb_pagamentos[[#This Row],[Data_Vencimento]]=\"\",tb_pagamentos[[#This Row],[Valor_Parcela]]=\"\",tb_pagamentos[[#This Row],[Qtd_Total_Parcelas]]=\"\",tb_pagamentos[[#This Row],[Nr_Pedido]]=\"\"),\"\",IF(tb_pagamentos[[#This Row],[Data_Pagamento]]<>\"\",\"Pago\",IF(AND(tb_pagamentos[[#This Row],[Data_Pagamento]]=\"\",tb_pagamentos[[#This Row],[Data_Vencimento]]<TODAY()),\"Em Atraso\",\"A vencer\")))","v":""}]
[null,null,"",{"$f":"IFERROR(INDEX(CALC_BASE!$N$3:$N$52,MATCH(ROW()-7,CALC_BASE!$M$3:$M$52,0)),\"\")","v":""},{"$f":"IFERROR(INDEX(CALC_BASE!$O$3:$O$52,MATCH(ROW()-7,CALC_BASE!$M$3:$M$52,0)),\"\")","v":""},{"$f":"IFERROR(INDEX(CALC_BASE!$P$3:$P$52,MATCH(ROW()-7,CALC_BASE!$M$3:$M$52,0)),\"\")","v":""},{"$f":"IFERROR(IF(D375=\"\",\"\",INDEX(tb_vendas[Preço de Venda],MATCH(D375,tb_vendas[N° Pedido/Empresa],0))/F375),\"\")","v":""},{"$f":"IFERROR(IF(D375=\"\",\"\",INDEX(tb_vendas[Data Fechamento],MATCH(D375,tb_vendas[N° Pedido/Empresa],0))+E375*INDEX(tb_formas_pagamento[Dias_Intervalo],MATCH(INDEX(tb_vendas[Forma_Pagamento],MATCH(D375,tb_vendas[N° Pedido/Empresa],0)),tb_formas_pagamento[Nome_Forma],0))),\"\")","v":""},null,{"$f":"IF(OR(tb_pagamentos[[#This Row],[Data_Vencimento]]=\"\",tb_pagamentos[[#This Row],[Valor_Parcela]]=\"\",tb_pagamentos[[#This Row],[Qtd_Total_Parcelas]]=\"\",tb_pagamentos[[#This Row],[Nr_Pedido]]=\"\"),\"\",IF(tb_pagamentos[[#This Row],[Data_Pagamento]]<>\"\",\"Pago\",IF(AND(tb_pagamentos[[#This Row],[Data_Pagamento]]=\"\",tb_pagamentos[[#This Row],[Data_Vencimento]]<TODAY()),\"Em Atraso\",\"A vencer\")))","v":""}]
[null,null,"",{"$f":"IFERROR(INDEX(CALC_BASE!$N$3:$N$52,MATCH(ROW()-7,CALC_BASE!$M$3:$M$52,0)),\"\")","v":""},{"$f":"IFERROR(INDEX(CALC_BASE!$O$3:$O$52,MATCH(ROW()-7,CALC_BASE!$M$3:$M$52,0)),\"\")","v":""},{"$f":"IFERROR(INDEX(CALC_BASE!$P$3:$P$52,MATCH(ROW()-7,CALC_BASE!$M$3:$M$52,0)),\"\")","v":""},{"$f":"IFERROR(IF(D376=\"\",\"\",INDEX(tb_vendas[Preço de Venda],MATCH(D376,tb_vendas[N° Pedido/Empresa],0))/F376),\"\")","v":""},{"$f":"IFERROR(IF(D376=\"\",\"\",INDEX(tb_vendas[Data Fechamento],MATCH(D376,tb_vendas[N° Pedido/Empresa],0))+E376*INDEX(tb_formas_pagamento[Dias_Intervalo],MATCH(INDEX(tb_vendas[Forma_Pagamento],MATCH(D376,tb_vendas[N° Pedido/Empresa],0)),tb_formas_pagamento[Nome_Forma],0))),\"\")","v":""},null,{"$f":"IF(OR(tb_pagamentos[[#This Row],[Data_Vencimento]]=\"\",tb_pagamentos[[#This Row],[Valor_Parcela]]=\"\",tb_pagamentos[[#This Row],[Qtd_Total_Parcelas]]=\"\",tb_pagamentos[[#This Row],[Nr_Pedido]]=\"\"),\"\",IF(tb_pagamentos[[#This Row],[Data_Pagamento]]<>\"\",\"Pago\",IF(AND(tb_pagamentos[[#This Row],[Data_Pagamento]]=\"\",tb_pagamentos[[#This Row],[Data_Vencimento]]<TODAY()),\"Em Atraso\",\"A vencer\")))","v":""}]
[null,null,"",{"$f":"IFERROR(INDEX(CALC_BASE!$N$3:$N$52,MATCH(ROW()-7,CALC_BASE!$M$3:$M$52,0)),\"\")","v":""},{"$f":"IFERROR(INDEX(CALC_BASE!$O$3:$O$52,MATCH(ROW()-7,CALC_BASE!$M$3:$M$52,0)),\"\")","v":""},{"$f":"IFERROR(INDEX(CALC_BASE!$P$3:$P$52,MATCH(ROW()-7,CALC_BASE!$M$3:$M$52,0)),\"\")","v":""},{"$f":"IFERROR(IF(D377=\"\",\"\",INDEX(tb_vendas[Preço de Venda],MATCH(D377,tb_vendas[N° Pedido/Empresa],0))/F377),\"\")","v":""},{"$f":"IFERROR(IF(D377=\"\",\"\",INDEX(tb_vendas[Data Fechamento],MATCH(D377,tb_vendas[N° Pedido/Empresa],0))+E377*INDEX(tb_formas_pagamento[Dias_Intervalo],MATCH(INDEX(tb_vendas[Forma_Pagamento],MATCH(D377,tb_vendas[N° Pedido/Empresa],0)),tb_formas_pagamento[Nome_Forma],0))),\"\")","v":""},null,{"$f":"IF(OR(tb_pagamentos[[#This Row],[Data_Vencimento]]=\"\",tb_pagamentos[[#This Row],[Valor_Parcela]]=\"\",tb_pagamentos[[#This Row],[Qtd_Total_Parcelas]]=\"\",tb_pagamentos[[#This Row],[Nr_Pedido]]=\"\"),\"\",IF(tb_pagamentos[[#This Row],[Data_Pagamento]]<>\"\",\"Pago\",IF(AND(tb_pagamentos[[#This Row],[Data_Pagamento]]=\"\",tb_pagamentos[[#This Row],[Data_Vencimento]]<TODAY()),\"Em Atraso\",\"A vencer\")))","v":""}]
[null,null,"",{"$f":"IFERROR(INDEX(CALC_BASE!$N$3:$N$52,MATCH(ROW()-7,CALC_BASE!$M$3:$M$52,0)),\"\")","v":""},{"$f":"IFERROR(INDEX(CALC_BASE!$O$3:$O$52,MATCH(ROW()-7,CALC_BASE!$M$3:$M$52,0)),\"\")","v":""},{"$f":"IFERROR(INDEX(CALC_BASE!$P$3:$P$52,MATCH(ROW()-7,CALC_BASE!$M$3:$M$52,0)),\"\")","v":""},{"$f":"IFERROR(IF(D378=\"\",\"\",INDEX(tb_vendas[Preço de Venda],MATCH(D378,tb_vendas[N° Pedido/Empresa],0))/F378),\"\")","v":""},{"$f":"IFERROR(IF(D378=\"\",\"\",INDEX(tb_vendas[Data Fechamento],MATCH(D378,tb_vendas[N° Pedido/Empresa],0))+E378*INDEX(tb_formas_pagamento[Dias_Intervalo],MATCH(INDEX(tb_vendas[Forma_Pagamento],MATCH(D378,tb_vendas[N° Pedido/Empresa],0)),tb_formas_pagamento[Nome_Forma],0))),\"\")","v":""},null,{"$f":"IF(OR(tb_pagamentos[[#This Row],[Data_Vencimento]]=\"\",tb_pagamentos[[#This Row],[Valor_Parcela]]=\"\",tb_pagamentos[[#This Row],[Qtd_Total_Parcelas]]=\"\",tb_pagamentos[[#This Row],[Nr_Pedido]]=\"\"),\"\",IF(tb_pagamentos[[#This Row],[Data_Pagamento]]<>\"\",\"Pago\",IF(AND(tb_pagamentos[[#This Row],[Data_Pagamento]]=\"\",tb_pagamentos[[#This Row],[Data_Vencimento]]<TODAY()),\"Em Atraso\",\"A vencer\")))","v":""}]
[null,null,"",{"$f":"IFERROR(INDEX(CALC_BASE!$N$3:$N$52,MATCH(ROW()-7,CALC_BASE!$M$3:$M$52,0)),\"\")","v":""},{"$f":"IFERROR(INDEX(CALC_BASE!$O$3:$O$52,MATCH(ROW()-7,CALC_BASE!$M$3:$M$52,0)),\"\")","v":""},{"$f":"IFERROR(INDEX(CALC_BASE!$P$3:$P$52,MATCH(ROW()-7,CALC_BASE!$M$3:$M$52,0)),\"\")","v":""},{"$f":"IFERROR(IF(D379=\"\",\"\",INDEX(tb_vendas[Preço de Venda],MATCH(D379,tb_vendas[N° Pedido/Empresa],0))/F379),\"\")","v":""},{"$f":"IFERROR(IF(D379=\"\",\"\",INDEX(tb_vendas[Data Fechamento],MATCH(D379,tb_vendas[N° Pedido/Empresa],0))+E379*INDEX(tb_formas_pagamento[Dias_Intervalo],MATCH(INDEX(tb_vendas[Forma_Pagamento],MATCH(D379,tb_vendas[N° Pedido/Empresa],0)),tb_formas_pagamento[Nome_Forma],0))),\"\")","v":""},null,{"$f":"IF(OR(tb_pagamentos[[#This Row],[Data_Vencimento]]=\"\",tb_pagamentos[[#This Row],[Valor_Parcela]]=\"\",tb_pagamentos[[#This Row],[Qtd_Total_Parcelas]]=\"\",tb_pagamentos[[#This Row],[Nr_Pedido]]=\"\"),\"\",IF(tb_pagamentos[[#This Row],[Data_Pagamento]]<>\"\",\"Pago\",IF(AND(tb_pagamentos[[#This Row],[Data_Pagamento]]=\"\",tb_pagamentos[[#This Row],[Data_Vencimento]]<TODAY()),\"Em Atraso\",\"A vencer\")))","v":""}]
[null,null,"",{"$f":"IFERROR(INDEX(CALC_BASE!$N$3:$N$52,MATCH(ROW()-7,CALC_BASE!$M$3:$M$52,0)),\"\")","v":""},{"$f":"IFERROR(INDEX(CALC_BASE!$O$3:$O$52,MATCH(ROW()-7,CALC_BASE!$M$3:$M$52,0)),\"\")","v":""},{"$f":"IFERROR(INDEX(CALC_BASE!$P$3:$P$52,MATCH(ROW()-7,CALC_BASE!$M$3:$M$52,0)),\"\")","v":""},{"$f":"IFERROR(IF(D380=\"\",\"\",INDEX(tb_vendas[Preço de Venda],MATCH(D380,tb_vendas[N° Pedido/Empresa],0))/F380),\"\")","v":""},{"$f":"IFERROR(IF(D380=\"\",\"\",INDEX(tb_vendas[Data Fechamento],MATCH(D380,tb_vendas[N° Pedido/Empresa],0))+E380*INDEX(tb_formas_pagamento[Dias_Intervalo],MATCH(INDEX(tb_vendas[Forma_Pagamento],MATCH(D380,tb_vendas[N° Pedido/Empresa],0)),tb_formas_pagamento[Nome_Forma],0))),\"\")","v":""},null,{"$f":"IF(OR(tb_pagamentos[[#This Row],[Data_Vencimento]]=\"\",tb_pagamentos[[#This Row],[Valor_Parcela]]=\"\",tb_pagamentos[[#This Row],[Qtd_Total_Parcelas]]=\"\",tb_pagamentos[[#This Row],[Nr_Pedido]]=\"\"),\"\",IF(tb_pagamentos[[#This Row],[Data_Pagamento]]<>\"\",\"Pago\",IF(AND(tb_pagamentos[[#This Row],[Data_Pagamento]]=\"\",tb_pagamentos[[#This Row],[Data_Vencimento]]<TODAY()),\"Em Atraso\",\"A vencer\")))","v":""}]
[null,null,"",{"$f":"IFERROR(INDEX(CALC_BASE!$N$3:$N$52,MATCH(ROW()-7,CALC_BASE!$M$3:$M$52,0)),\"\")","v":""},{"$f":"IFERROR(INDEX(CALC_BASE!$O$3:$O$52,MATCH(ROW()-7,CALC_BASE!$M$3:$M$52,0)),\"\")","v":""},{"$f":"IFERROR(INDEX(CALC_BASE!$P$3:$P$52,MATCH(ROW()-7,CALC_BASE!$M$3:$M$52,0)),\"\")","v":""},{"$f":"IFERROR(IF(D381=\"\",\"\",INDEX(tb_vendas[Preço de Venda],MATCH(D381,tb_vendas[N° Pedido/Empresa],0))/F381),\"\")","v":""},{"$f":"IFERROR(IF(D381=\"\",\"\",INDEX(tb_vendas[Data Fechamento],MATCH(D381,tb_vendas[N° Pedido/Empresa],0))+E381*INDEX(tb_formas_pagamento[Dias_Intervalo],MATCH(INDEX(tb_vendas[Forma_Pagamento],MATCH(D381,tb_vendas[N° Pedido/Empresa],0)),tb_formas_pagamento[Nome_Forma],0))),\"\")","v":""},null,{"$f":"IF(OR(tb_pagamentos[[#This Row],[Data_Vencimento]]=\"\",tb_pagamentos[[#This Row],[Valor_Parcela]]=\"\",tb_pagamentos[[#This Row],[Qtd_Total_Parcelas]]=\"\",tb_pagamentos[[#This Row],[Nr_Pedido]]=\"\"),\"\",IF(tb_pagamentos[[#This Row],[Data_Pagamento]]<>\"\",\"Pago\",IF(AND(tb_pagamentos[[#This Row],[Data_Pagamento]]=\"\",tb_pagamentos[[#This Row],[Data_Vencimento]]<TODAY()),\"Em Atraso\",\"A vencer\")))","v":""}]
[null,null,"",{"$f":"IFERROR(INDEX(CALC_BASE!$N$3:$N$52,MATCH(ROW()-7,CALC_BASE!$M$3:$M$52,0)),\"\")","v":""},{"$f":"IFERROR(INDEX(CALC_BASE!$O$3:$O$52,MATCH(ROW()-7,CALC_BASE!$M$3:$M$52,0)),\"\")","v":""},{"$f":"IFERROR(INDEX(CALC_BASE!$P$3:$P$52,MATCH(ROW()-7,CALC_BASE!$M$3:$M$52,0)),\"\")","v":""},{"$f":"IFERROR(IF(D382=\"\",\"\",INDEX(tb_vendas[Preço de Venda],MATCH(D382,tb_vendas[N° Pedido/Empresa],0))/F382),\"\")","v":""},{"$f":"IFERROR(IF(D382=\"\",\"\",INDEX(tb_vendas[Data Fechamento],MATCH(D382,tb_vendas[N° Pedido/Empresa],0))+E382*INDEX(tb_formas_pagamento[Dias_Intervalo],MATCH(INDEX(tb_vendas[Forma_Pagamento],MATCH(D382,tb_vendas[N° Pedido/Empresa],0)),tb_formas_pagamento[Nome_Forma],0))),\"\")","v":""},null,{"$f":"IF(OR(tb_pagamentos[[#This Row],[Data_Vencimento]]=\"\",tb_pagamentos[[#This Row],[Valor_Parcela]]=\"\",tb_pagamentos[[#This Row],[Qtd_Total_Parcelas]]=\"\",tb_pagamentos[[#This Row],[Nr_Pedido]]=\"\"),\"\",IF(tb_pagamentos[[#This Row],[Data_Pagamento]]<>\"\",\"Pago\",IF(AND(tb_pagamentos[[#This Row],[Data_Pagamento]]=\"\",tb_pagamentos[[#This Row],[Data_Vencimento]]<TODAY()),\"Em Atraso\",\"A vencer\")))","v":""}]
[null,null,"",{"$f":"IFERROR(INDEX(CALC_BASE!$N$3:$N$52,MATCH(ROW()-7,CALC_BASE!$M$3:$M$52,0)),\"\")","v":""},{"$f":"IFERROR(INDEX(CALC_BASE!$O$3:$O$52,MATCH(ROW()-7,CALC_BASE!$M$3:$M$52,0)),\"\")","v":""},{"$f":"IFERROR(INDEX(CALC_BASE!$P$3:$P$52,MATCH(ROW()-7,CALC_BASE!$M$3:$M$52,0)),\"\")","v":""},{"$f":"IFERROR(IF(D383=\"\",\"\",INDEX(tb_vendas[Preço de Venda],MATCH(D383,tb_vendas[N° Pedido/Empresa],0))/F383),\"\")","v":""},{"$f":"IFERROR(IF(D383=\"\",\"\",INDEX(tb_vendas[Data Fechamento],MATCH(D383,tb_vendas[N° Pedido/Empresa],0))+E383*INDEX(tb_formas_pagamento[Dias_Intervalo],MATCH(INDEX(tb_vendas[Forma_Pagamento],MATCH(D383,tb_vendas[N° Pedido/Empresa],0)),tb_formas_pagamento[Nome_Forma],0))),\"\")","v":""},null,{"$f":"IF(OR(tb_pagamentos[[#This Row],[Data_Vencimento]]=\"\",tb_pagamentos[[#This Row],[Valor_Parcela]]=\"\",tb_pagamentos[[#This Row],[Qtd_Total_Parcelas]]=\"\",tb_pagamentos[[#This Row],[Nr_Pedido]]=\"\"),\"\",IF(tb_pagamentos[[#This Row],[Data_Pagamento]]<>\"\",\"Pago\",IF(AND(tb_pagamentos[[#This Row],[Data_Pagamento]]=\"\",tb_pagamentos[[#This Row],[Data_Vencimento]]<TODAY()),\"Em Atraso\",\"A vencer\")))","v":""}]
[null,null,"",{"$f":"IFERROR(INDEX(CALC_BASE!$N$3:$N$52,MATCH(ROW()-7,CALC_BASE!$M$3:$M$52,0)),\"\")","v":""},{"$f":"IFERROR(INDEX(CALC_BASE!$O$3:$O$52,MATCH(ROW()-7,CALC_BASE!$M$3:$M$52,0)),\"\")","v":""},{"$f":"IFERROR(INDEX(CALC_BASE!$P$3:$P$52,MATCH(ROW()-7,CALC_BASE!$M$3:$M$52,0)),\"\")","v":""},{"$f":"IFERROR(IF(D384=\"\",\"\",INDEX(tb_vendas[Preço de Venda],MATCH(D384,tb_vendas[N° Pedido/Empresa],0))/F384),\"\")","v":""},{"$f":"IFERROR(IF(D384=\"\",\"\",INDEX(tb_vendas[Data Fechamento],MATCH(D384,tb_vendas[N° Pedido/Empresa],0))+E384*INDEX(tb_formas_pagamento[Dias_Intervalo],MATCH(INDEX(tb_vendas[Forma_Pagamento],MATCH(D384,tb_vendas[N° Pedido/Empresa],0)),tb_formas_pagamento[Nome_Forma],0))),\"\")","v":""},null,{"$f":"IF(OR(tb_pagamentos[[#This Row],[Data_Vencimento]]=\"\",tb_pagamentos[[#This Row],[Valor_Parcela]]=\"\",tb_pagamentos[[#This Row],[Qtd_Total_Parcelas]]=\"\",tb_pagamentos[[#This Row],[Nr_Pedido]]=\"\"),\"\",IF(tb_pagamentos[[#This Row],[Data_Pagamento]]<>\"\",\"Pago\",IF(AND(tb_pagamentos[[#This Row],[Data_Pagamento]]=\"\",tb_pagamentos[[#This Row],[Data_Vencimento]]<TODAY()),\"Em Atraso\",\"A vencer\")))","v":""}]
[null,null,"",{"$f":"IFERROR(INDEX(CALC_BASE!$N$3:$N$52,MATCH(ROW()-7,CALC_BASE!$M$3:$M$52,0)),\"\")","v":""},{"$f":"IFERROR(INDEX(CALC_BASE!$O$3:$O$52,MATCH(ROW()-7,CALC_BASE!$M$3:$M$52,0)),\"\")","v":""},{"$f":"IFERROR(INDEX(CALC_BASE!$P$3:$P$52,MATCH(ROW()-7,CALC_BASE!$M$3:$M$52,0)),\"\")","v":""},{"$f":"IFERROR(IF(D385=\"\",\"\",INDEX(tb_vendas[Preço de Venda],MATCH(D385,tb_vendas[N° Pedido/Empresa],0))/F385),\"\")","v":""},{"$f":"IFERROR(IF(D385=\"\",\"\",INDEX(tb_vendas[Data Fechamento],MATCH(D385,tb_vendas[N° Pedido/Empresa],0))+E385*INDEX(tb_formas_pagamento[Dias_Intervalo],MATCH(INDEX(tb_vendas[Forma_Pagamento],MATCH(D385,tb_vendas[N° Pedido/Empresa],0)),tb_formas_pagamento[Nome_Forma],0))),\"\")","v":""},null,{"$f":"IF(OR(tb_pagamentos[[#This Row],[Data_Vencimento]]=\"\",tb_pagamentos[[#This Row],[Valor_Parcela]]=\"\",tb_pagamentos[[#This Row],[Qtd_Total_Parcelas]]=\"\",tb_pagamentos[[#This Row],[Nr_Pedido]]=\"\"),\"\",IF(tb_pagamentos[[#This Row],[Data_Pagamento]]<>\"\",\"Pago\",IF(AND(tb_pagamentos[[#This Row],[Data_Pagamento]]=\"\",tb_pagamentos[[#This Row],[Data_Vencimento]]<TODAY()),\"Em Atraso\",\"A vencer\")))","v":""}]
[null,null,"",{"$f":"IFERROR(INDEX(CALC_BASE!$N$3:$N$52,MATCH(ROW()-7,CALC_BASE!$M$3:$M$52,0)),\"\")","v":""},{"$f":"IFERROR(INDEX(CALC_BASE!$O$3:$O$52,MATCH(ROW()-7,CALC_BASE!$M$3:$M$52,0)),\"\")","v":""},{"$f":"IFERROR(INDEX(CALC_BASE!$P$3:$P$52,MATCH(ROW()-7,CALC_BASE!$M$3:$M$52,0)),\"\")","v":""},{"$f":"IFERROR(IF(D386=\"\",\"\",INDEX(tb_vendas[Preço de Venda],MATCH(D386,tb_vendas[N° Pedido/Empresa],0))/F386),\"\")","v":""},{"$f":"IFERROR(IF(D386=\"\",\"\",INDEX(tb_vendas[Data Fechamento],MATCH(D386,tb_vendas[N° Pedido/Empresa],0))+E386*INDEX(tb_formas_pagamento[Dias_Intervalo],MATCH(INDEX(tb_vendas[Forma_Pagamento],MATCH(D386,tb_vendas[N° Pedido/Empresa],0)),tb_formas_pagamento[Nome_Forma],0))),\"\")","v":""},null,{"$f":"IF(OR(tb_pagamentos[[#This Row],[Data_Vencimento]]=\"\",tb_pagamentos[[#This Row],[Valor_Parcela]]=\"\",tb_pagamentos[[#This Row],[Qtd_Total_Parcelas]]=\"\",tb_pagamentos[[#This Row],[Nr_Pedido]]=\"\"),\"\",IF(tb_pagamentos[[#This Row],[Data_Pagamento]]<>\"\",\"Pago\",IF(AND(tb_pagamentos[[#This Row],[Data_Pagamento]]=\"\",tb_pagamentos[[#This Row],[Data_Vencimento]]<TODAY()),\"Em Atraso\",\"A vencer\")))","v":""}]
[null,null,"",{"$f":"IFERROR(INDEX(CALC_BASE!$N$3:$N$52,MATCH(ROW()-7,CALC_BASE!$M$3:$M$52,0)),\"\")","v":""},{"$f":"IFERROR(INDEX(CALC_BASE!$O$3:$O$52,MATCH(ROW()-7,CALC_BASE!$M$3:$M$52,0)),\"\")","v":""},{"$f":"IFERROR(INDEX(CALC_BASE!$P$3:$P$52,MATCH(ROW()-7,CALC_BASE!$M$3:$M$52,0)),\"\")","v":""},{"$f":"IFERROR(IF(D387=\"\",\"\",INDEX(tb_vendas[Preço de Venda],MATCH(D387,tb_vendas[N° Pedido/Empresa],0))/F387),\"\")","v":""},{"$f":"IFERROR(IF(D387=\"\",\"\",INDEX(tb_vendas[Data Fechamento],MATCH(D387,tb_vendas[N° Pedido/Empresa],0))+E387*INDEX(tb_formas_pagamento[Dias_Intervalo],MATCH(INDEX(tb_vendas[Forma_Pagamento],MATCH(D387,tb_vendas[N° Pedido/Empresa],0)),tb_formas_pagamento[Nome_Forma],0))),\"\")","v":""},null,{"$f":"IF(OR(tb_pagamentos[[#This Row],[Data_Vencimento]]=\"\",tb_pagamentos[[#This Row],[Valor_Parcela]]=\"\",tb_pagamentos[[#This Row],[Qtd_Total_Parcelas]]=\"\",tb_pagamentos[[#This Row],[Nr_Pedido]]=\"\"),\"\",IF(tb_pagamentos[[#This Row],[Data_Pagamento]]<>\"\",\"Pago\",IF(AND(tb_pagamentos[[#This Row],[Data_Pagamento]]=\"\",tb_pagamentos[[#This Row],[Data_Vencimento]]<TODAY()),\"Em Atraso\",\"A vencer\")))","v":""}]
[null,null,"",{"$f":"IFERROR(INDEX(CALC_BASE!$N$3:$N$52,MATCH(ROW()-7,CALC_BASE!$M$3:$M$52,0)),\"\")","v":""},{"$f":"IFERROR(INDEX(CALC_BASE!$O$3:$O$52,MATCH(ROW()-7,CALC_BASE!$M$3:$M$52,0)),\"\")","v":""},{"$f":"IFERROR(INDEX(CALC_BASE!$P$3:$P$52,MATCH(ROW()-7,CALC_BASE!$M$3:$M$52,0)),\"\")","v":""},{"$f":"IFERROR(IF(D388=\"\",\"\",INDEX(tb_vendas[Preço de Venda],MATCH(D388,tb_vendas[N° Pedido/Empresa],0))/F388),\"\")","v":""},{"$f":"IFERROR(IF(D388=\"\",\"\",INDEX(tb_vendas[Data Fechamento],MATCH(D388,tb_vendas[N° Pedido/Empresa],0))+E388*INDEX(tb_formas_pagamento[Dias_Intervalo],MATCH(INDEX(tb_vendas[Forma_Pagamento],MATCH(D388,tb_vendas[N° Pedido/Empresa],0)),tb_formas_pagamento[Nome_Forma],0))),\"\")","v":""},null,{"$f":"IF(OR(tb_pagamentos[[#This Row],[Data_Vencimento]]=\"\",tb_pagamentos[[#This Row],[Valor_Parcela]]=\"\",tb_pagamentos[[#This Row],[Qtd_Total_Parcelas]]=\"\",tb_pagamentos[[#This Row],[Nr_Pedido]]=\"\"),\"\",IF(tb_pagamentos[[#This Row],[Data_Pagamento]]<>\"\",\"Pago\",IF(AND(tb_pagamentos[[#This Row],[Data_Pagamento]]=\"\",tb_pagamentos[[#This Row],[Data_Vencimento]]<TODAY()),\"Em Atraso\",\"A vencer\")))","v":""}]
[null,null,"",{"$f":"IFERROR(INDEX(CALC_BASE!$N$3:$N$52,MATCH(ROW()-7,CALC_BASE!$M$3:$M$52,0)),\"\")","v":""},{"$f":"IFERROR(INDEX(CALC_BASE!$O$3:$O$52,MATCH(ROW()-7,CALC_BASE!$M$3:$M$52,0)),\"\")","v":""},{"$f":"IFERROR(INDEX(CALC_BASE!$P$3:$P$52,MATCH(ROW()-7,CALC_BASE!$M$3:$M$52,0)),\"\")","v":""},{"$f":"IFERROR(IF(D389=\"\",\"\",INDEX(tb_vendas[Preço de Venda],MATCH(D389,tb_vendas[N° Pedido/Empresa],0))/F389),\"\")","v":""},{"$f":"IFERROR(IF(D389=\"\",\"\",INDEX(tb_vendas[Data Fechamento],MATCH(D389,tb_vendas[N° Pedido/Empresa],0))+E389*INDEX(tb_formas_pagamento[Dias_Intervalo],MATCH(INDEX(tb_vendas[Forma_Pagamento],MATCH(D389,tb_vendas[N° Pedido/Empresa],0)),tb_formas_pagamento[Nome_Forma],0))),\"\")","v":""},null,{"$f":"IF(OR(tb_pagamentos[[#This Row],[Data_Vencimento]]=\"\",tb_pagamentos[[#This Row],[Valor_Parcela]]=\"\",tb_pagamentos[[#This Row],[Qtd_Total_Parcelas]]=\"\",tb_pagamentos[[#This Row],[Nr_Pedido]]=\"\"),\"\",IF(tb_pagamentos[[#This Row],[Data_Pagamento]]<>\"\",\"Pago\",IF(AND(tb_pagamentos[[#This Row],[Data_Pagamento]]=\"\",tb_pagamentos[[#This Row],[Data_Vencimento]]<TODAY()),\"Em Atraso\",\"A vencer\")))","v":""}]
[null,null,"",{"$f":"IFERROR(INDEX(CALC_BASE!$N$3:$N$52,MATCH(ROW()-7,CALC_BASE!$M$3:$M$52,0)),\"\")","v":""},{"$f":"IFERROR(INDEX(CALC_BASE!$O$3:$O$52,MATCH(ROW()-7,CALC_BASE!$M$3:$M$52,0)),\"\")","v":""},{"$f":"IFERROR(INDEX(CALC_BASE!$P$3:$P$52,MATCH(ROW()-7,CALC_BASE!$M$3:$M$52,0)),\"\")","v":""},{"$f":"IFERROR(IF(D390=\"\",\"\",INDEX(tb_vendas[Preço de Venda],MATCH(D390,tb_vendas[N° Pedido/Empresa],0))/F390),\"\")","v":""},{"$f":"IFERROR(IF(D390=\"\",\"\",INDEX(tb_vendas[Data Fechamento],MATCH(D390,tb_vendas[N° Pedido/Empresa],0))+E390*INDEX(tb_formas_pagamento[Dias_Intervalo],MATCH(INDEX(tb_vendas[Forma_Pagamento],MATCH(D390,tb_vendas[N° Pedido/Empresa],0)),tb_formas_pagamento[Nome_Forma],0))),\"\")","v":""},null,{"$f":"IF(OR(tb_pagamentos[[#This Row],[Data_Vencimento]]=\"\",tb_pagamentos[[#This Row],[Valor_Parcela]]=\"\",tb_pagamentos[[#This Row],[Qtd_Total_Parcelas]]=\"\",tb_pagamentos[[#This Row],[Nr_Pedido]]=\"\"),\"\",IF(tb_pagamentos[[#This Row],[Data_Pagamento]]<>\"\",\"Pago\",IF(AND(tb_pagamentos[[#This Row],[Data_Pagamento]]=\"\",tb_pagamentos[[#This Row],[Data_Vencimento]]<TODAY()),\"Em Atraso\",\"A vencer\")))","v":""}]
[null,null,"",{"$f":"IFERROR(INDEX(CALC_BASE!$N$3:$N$52,MATCH(ROW()-7,CALC_BASE!$M$3:$M$52,0)),\"\")","v":""},{"$f":"IFERROR(INDEX(CALC_BASE!$O$3:$O$52,MATCH(ROW()-7,CALC_BASE!$M$3:$M$52,0)),\"\")","v":""},{"$f":"IFERROR(INDEX(CALC_BASE!$P$3:$P$52,MATCH(ROW()-7,CALC_BASE!$M$3:$M$52,0)),\"\")","v":""},{"$f":"IFERROR(IF(D391=\"\",\"\",INDEX(tb_vendas[Preço de Venda],MATCH(D391,tb_vendas[N° Pedido/Empresa],0))/F391),\"\")","v":""},{"$f":"IFERROR(IF(D391=\"\",\"\",INDEX(tb_vendas[Data Fechamento],MATCH(D391,tb_vendas[N° Pedido/Empresa],0))+E391*INDEX(tb_formas_pagamento[Dias_Intervalo],MATCH(INDEX(tb_vendas[Forma_Pagamento],MATCH(D391,tb_vendas[N° Pedido/Empresa],0)),tb_formas_pagamento[Nome_Forma],0))),\"\")","v":""},null,{"$f":"IF(OR(tb_pagamentos[[#This Row],[Data_Vencimento]]=\"\",tb_pagamentos[[#This Row],[Valor_Parcela]]=\"\",tb_pagamentos[[#This Row],[Qtd_Total_Parcelas]]=\"\",tb_pagamentos[[#This Row],[Nr_Pedido]]=\"\"),\"\",IF(tb_pagamentos[[#This Row],[Data_Pagamento]]<>\"\",\"Pago\",IF(AND(tb_pagamentos[[#This Row],[Data_Pagamento]]=\"\",tb_pagamentos[[#This Row],[Data_Vencimento]]<TODAY()),\"Em Atraso\",\"A vencer\")))","v":""}]
[null,null,"",{"$f":"IFERROR(INDEX(CALC_BASE!$N$3:$N$52,MATCH(ROW()-7,CALC_BASE!$M$3:$M$52,0)),\"\")","v":""},{"$f":"IFERROR(INDEX(CALC_BASE!$O$3:$O$52,MATCH(ROW()-7,CALC_BASE!$M$3:$M$52,0)),\"\")","v":""},{"$f":"IFERROR(INDEX(CALC_BASE!$P$3:$P$52,MATCH(ROW()-7,CALC_BASE!$M$3:$M$52,0)),\"\")","v":""},{"$f":"IFERROR(IF(D392=\"\",\"\",INDEX(tb_vendas[Preço de Venda],MATCH(D392,tb_vendas[N° Pedido/Empresa],0))/F392),\"\")","v":""},{"$f":"IFERROR(IF(D392=\"\",\"\",INDEX(tb_vendas[Data Fechamento],MATCH(D392,tb_vendas[N° Pedido/Empresa],0))+E392*INDEX(tb_formas_pagamento[Dias_Intervalo],MATCH(INDEX(tb_vendas[Forma_Pagamento],MATCH(D392,tb_vendas[N° Pedido/Empresa],0)),tb_formas_pagamento[Nome_Forma],0))),\"\")","v":""},null,{"$f":"IF(OR(tb_pagamentos[[#This Row],[Data_Vencimento]]=\"\",tb_pagamentos[[#This Row],[Valor_Parcela]]=\"\",tb_pagamentos[[#This Row],[Qtd_Total_Parcelas]]=\"\",tb_pagamentos[[#This Row],[Nr_Pedido]]=\"\"),\"\",IF(tb_pagamentos[[#This Row],[Data_Pagamento]]<>\"\",\"Pago\",IF(AND(tb_pagamentos[[#This Row],[Data_Pagamento]]=\"\",tb_pagamentos[[#This Row],[Data_Vencimento]]<TODAY()),\"Em Atraso\",\"A vencer\")))","v":""}]
[null,null,"",{"$f":"IFERROR(INDEX(CALC_BASE!$N$3:$N$52,MATCH(ROW()-7,CALC_BASE!$M$3:$M$52,0)),\"\")","v":""},{"$f":"IFERROR(INDEX(CALC_BASE!$O$3:$O$52,MATCH(ROW()-7,CALC_BASE!$M$3:$M$52,0)),\"\")","v":""},{"$f":"IFERROR(INDEX(CALC_BASE!$P$3:$P$52,MATCH(ROW()-7,CALC_BASE!$M$3:$M$52,0)),\"\")","v":""},{"$f":"IFERROR(IF(D393=\"\",\"\",INDEX(tb_vendas[Preço de Venda],MATCH(D393,tb_vendas[N° Pedido/Empresa],0))/F393),\"\")","v":""},{"$f":"IFERROR(IF(D393=\"\",\"\",INDEX(tb_vendas[Data Fechamento],MATCH(D393,tb_vendas[N° Pedido/Empresa],0))+E393*INDEX(tb_formas_pagamento[Dias_Intervalo],MATCH(INDEX(tb_vendas[Forma_Pagamento],MATCH(D393,tb_vendas[N° Pedido/Empresa],0)),tb_formas_pagamento[Nome_Forma],0))),\"\")","v":""},null,{"$f":"IF(OR(tb_pagamentos[[#This Row],[Data_Vencimento]]=\"\",tb_pagamentos[[#This Row],[Valor_Parcela]]=\"\",tb_pagamentos[[#This Row],[Qtd_Total_Parcelas]]=\"\",tb_pagamentos[[#This Row],[Nr_Pedido]]=\"\"),\"\",IF(tb_pagamentos[[#This Row],[Data_Pagamento]]<>\"\",\"Pago\",IF(AND(tb_pagamentos[[#This Row],[Data_Pagamento]]=\"\",tb_pagamentos[[#This Row],[Data_Vencimento]]<TODAY()),\"Em Atraso\",\"A vencer\")))","v":""}]
[null,null,"",{"$f":"IFERROR(INDEX(CALC_BASE!$N$3:$N$52,MATCH(ROW()-7,CALC_BASE!$M$3:$M$52,0)),\"\")","v":""},{"$f":"IFERROR(INDEX(CALC_BASE!$O$3:$O$52,MATCH(ROW()-7,CALC_BASE!$M$3:$M$52,0)),\"\")","v":""},{"$f":"IFERROR(INDEX(CALC_BASE!$P$3:$P$52,MATCH(ROW()-7,CALC_BASE!$M$3:$M$52,0)),\"\")","v":""},{"$f":"IFERROR(IF(D394=\"\",\"\",INDEX(tb_vendas[Preço de Venda],MATCH(D394,tb_vendas[N° Pedido/Empresa],0))/F394),\"\")","v":""},{"$f":"IFERROR(IF(D394=\"\",\"\",INDEX(tb_vendas[Data Fechamento],MATCH(D394,tb_vendas[N° Pedido/Empresa],0))+E394*INDEX(tb_formas_pagamento[Dias_Intervalo],MATCH(INDEX(tb_vendas[Forma_Pagamento],MATCH(D394,tb_vendas[N° Pedido/Empresa],0)),tb_formas_pagamento[Nome_Forma],0))),\"\")","v":""},null,{"$f":"IF(OR(tb_pagamentos[[#This Row],[Data_Vencimento]]=\"\",tb_pagamentos[[#This Row],[Valor_Parcela]]=\"\",tb_pagamentos[[#This Row],[Qtd_Total_Parcelas]]=\"\",tb_pagamentos[[#This Row],[Nr_Pedido]]=\"\"),\"\",IF(tb_pagamentos[[#This Row],[Data_Pagamento]]<>\"\",\"Pago\",IF(AND(tb_pagamentos[[#This Row],[Data_Pagamento]]=\"\",tb_pagamentos[[#This Row],[Data_Vencimento]]<TODAY()),\"Em Atraso\",\"A vencer\")))","v":""}]
[null,null,"",{"$f":"IFERROR(INDEX(CALC_BASE!$N$3:$N$52,MATCH(ROW()-7,CALC_BASE!$M$3:$M$52,0)),\"\")","v":""},{"$f":"IFERROR(INDEX(CALC_BASE!$O$3:$O$52,MATCH(ROW()-7,CALC_BASE!$M$3:$M$52,0)),\"\")","v":""},{"$f":"IFERROR(INDEX(CALC_BASE!$P$3:$P$52,MATCH(ROW()-7,CALC_BASE!$M$3:$M$52,0)),\"\")","v":""},{"$f":"IFERROR(IF(D395=\"\",\"\",INDEX(tb_vendas[Preço de Venda],MATCH(D395,tb_vendas[N° Pedido/Empresa],0))/F395),\"\")","v":""},{"$f":"IFERROR(IF(D395=\"\",\"\",INDEX(tb_vendas[Data Fechamento],MATCH(D395,tb_vendas[N° Pedido/Empresa],0))+E395*INDEX(tb_formas_pagamento[Dias_Intervalo],MATCH(INDEX(tb_vendas[Forma_Pagamento],MATCH(D395,tb_vendas[N° Pedido/Empresa],0)),tb_formas_pagamento[Nome_Forma],0))),\"\")","v":""},null,{"$f":"IF(OR(tb_pagamentos[[#This Row],[Data_Vencimento]]=\"\",tb_pagamentos[[#This Row],[Valor_Parcela]]=\"\",tb_pagamentos[[#This Row],[Qtd_Total_Parcelas]]=\"\",tb_pagamentos[[#This Row],[Nr_Pedido]]=\"\"),\"\",IF(tb_pagamentos[[#This Row],[Data_Pagamento]]<>\"\",\"Pago\",IF(AND(tb_pagamentos[[#This Row],[Data_Pagamento]]=\"\",tb_pagamentos[[#This Row],[Data_Vencimento]]<TODAY()),\"Em Atraso\",\"A vencer\")))","v":""}]
[null,null,"",{"$f":"IFERROR(INDEX(CALC_BASE!$N$3:$N$52,MATCH(ROW()-7,CALC_BASE!$M$3:$M$52,0)),\"\")","v":""},{"$f":"IFERROR(INDEX(CALC_BASE!$O$3:$O$52,MATCH(ROW()-7,CALC_BASE!$M$3:$M$52,0)),\"\")","v":""},{"$f":"IFERROR(INDEX(CALC_BASE!$P$3:$P$52,MATCH(ROW()-7,CALC_BASE!$M$3:$M$52,0)),\"\")","v":""},{"$f":"IFERROR(IF(D396=\"\",\"\",INDEX(tb_vendas[Preço de Venda],MATCH(D396,tb_vendas[N° Pedido/Empresa],0))/F396),\"\")","v":""},{"$f":"IFERROR(IF(D396=\"\",\"\",INDEX(tb_vendas[Data Fechamento],MATCH(D396,tb_vendas[N° Pedido/Empresa],0))+E396*INDEX(tb_formas_pagamento[Dias_Intervalo],MATCH(INDEX(tb_vendas[Forma_Pagamento],MATCH(D396,tb_vendas[N° Pedido/Empresa],0)),tb_formas_pagamento[Nome_Forma],0))),\"\")","v":""},null,{"$f":"IF(OR(tb_pagamentos[[#This Row],[Data_Vencimento]]=\"\",tb_pagamentos[[#This Row],[Valor_Parcela]]=\"\",tb_pagamentos[[#This Row],[Qtd_Total_Parcelas]]=\"\",tb_pagamentos[[#This Row],[Nr_Pedido]]=\"\"),\"\",IF(tb_pagamentos[[#This Row],[Data_Pagamento]]<>\"\",\"Pago\",IF(AND(tb_pagamentos[[#This Row],[Data_Pagamento]]=\"\",tb_pagamentos[[#This Row],[Data_Vencimento]]<TODAY()),\"Em Atraso\",\"A vencer\")))","v":""}]
[null,null,"",{"$f":"IFERROR(INDEX(CALC_BASE!$N$3:$N$52,MATCH(ROW()-7,CALC_BASE!$M$3:$M$52,0)),\"\")","v":""},{"$f":"IFERROR(INDEX(CALC_BASE!$O$3:$O$52,MATCH(ROW()-7,CALC_BASE!$M$3:$M$52,0)),\"\")","v":""},{"$f":"IFERROR(INDEX(CALC_BASE!$P$3:$P$52,MATCH(ROW()-7,CALC_BASE!$M$3:$M$52,0)),\"\")","v":""},{"$f":"IFERROR(IF(D397=\"\",\"\",INDEX(tb_vendas[Preço de Venda],MATCH(D397,tb_vendas[N° Pedido/Empresa],0))/F397),\"\")","v":""},{"$f":"IFERROR(IF(D397=\"\",\"\",INDEX(tb_vendas[Data Fechamento],MATCH(D397,tb_vendas[N° Pedido/Empresa],0))+E397*INDEX(tb_formas_pagamento[Dias_Intervalo],MATCH(INDEX(tb_vendas[Forma_Pagamento],MATCH(D397,tb_vendas[N° Pedido/Empresa],0)),tb_formas_pagamento[Nome_Forma],0))),\"\")","v":""},null,{"$f":"IF(OR(tb_pagamentos[[#This Row],[Data_Vencimento]]=\"\",tb_pagamentos[[#This Row],[Valor_Parcela]]=\"\",tb_pagamentos[[#This Row],[Qtd_Total_Parcelas]]=\"\",tb_pagamentos[[#This Row],[Nr_Pedido]]=\"\"),\"\",IF(tb_pagamentos[[#This Row],[Data_Pagamento]]<>\"\",\"Pago\",IF(AND(tb_pagamentos[[#This Row],[Data_Pagamento]]=\"\",tb_pagamentos[[#This Row],[Data_Vencimento]]<TODAY()),\"Em Atraso\",\"A vencer\")))","v":""}]
[null,null,"",{"$f":"IFERROR(INDEX(CALC_BASE!$N$3:$N$52,MATCH(ROW()-7,CALC_BASE!$M$3:$M$52,0)),\"\")","v":""},{"$f":"IFERROR(INDEX(CALC_BASE!$O$3:$O$52,MATCH(ROW()-7,CALC_BASE!$M$3:$M$52,0)),\"\")","v":""},{"$f":"IFERROR(INDEX(CALC_BASE!$P$3:$P$52,MATCH(ROW()-7,CALC_BASE!$M$3:$M$52,0)),\"\")","v":""},{"$f":"IFERROR(IF(D398=\"\",\"\",INDEX(tb_vendas[Preço de Venda],MATCH(D398,tb_vendas[N° Pedido/Empresa],0))/F398),\"\")","v":""},{"$f":"IFERROR(IF(D398=\"\",\"\",INDEX(tb_vendas[Data Fechamento],MATCH(D398,tb_vendas[N° Pedido/Empresa],0))+E398*INDEX(tb_formas_pagamento[Dias_Intervalo],MATCH(INDEX(tb_vendas[Forma_Pagamento],MATCH(D398,tb_vendas[N° Pedido/Empresa],0)),tb_formas_pagamento[Nome_Forma],0))),\"\")","v":""},null,{"$f":"IF(OR(tb_pagamentos[[#This Row],[Data_Vencimento]]=\"\",tb_pagamentos[[#This Row],[Valor_Parcela]]=\"\",tb_pagamentos[[#This Row],[Qtd_Total_Parcelas]]=\"\",tb_pagamentos[[#This Row],[Nr_Pedido]]=\"\"),\"\",IF(tb_pagamentos[[#This Row],[Data_Pagamento]]<>\"\",\"Pago\",IF(AND(tb_pagamentos[[#This Row],[Data_Pagamento]]=\"\",tb_pagamentos[[#This Row],[Data_Vencimento]]<TODAY()),\"Em Atraso\",\"A vencer\")))","v":""}]
[null,null,{"$f":"IF(OR(D399=\"\",E399=\"\"),\"\",D399&\"-\"&E399)","v":""},{"$f":"IFERROR(INDEX(CALC_BASE!$N$3:$N$52,MATCH(ROW()-7,CALC_BASE!$M$3:$M$52,0)),\"\")","v":""},{"$f":"IFERROR(INDEX(CALC_BASE!$O$3:$O$52,MATCH(ROW()-7,CALC_BASE!$M$3:$M$52,0)),\"\")","v":""},{"$f":"IFERROR(INDEX(CALC_BASE!$P$3:$P$52,MATCH(ROW()-7,CALC_BASE!$M$3:$M$52,0)),\"\")","v":""},{"$f":"IFERROR(IF(D399=\"\",\"\",INDEX(tb_vendas[Preço de Venda],MATCH(D399,tb_vendas[N° Pedido/Empresa],0))/F399),\"\")","v":""},{"$f":"IFERROR(IF(D399=\"\",\"\",INDEX(tb_vendas[Data Fechamento],MATCH(D399,tb_vendas[N° Pedido/Empresa],0))+E399*INDEX(tb_formas_pagamento[Dias_Intervalo],MATCH(INDEX(tb_vendas[Forma_Pagamento],MATCH(D399,tb_vendas[N° Pedido/Empresa],0)),tb_formas_pagamento[Nome_Forma],0))),\"\")","v":""},null,{"$f":"IF(OR(tb_pagamentos[[#This Row],[Data_Vencimento]]=\"\",tb_pagamentos[[#This Row],[Valor_Parcela]]=\"\",tb_pagamentos[[#This Row],[Qtd_Total_Parcelas]]=\"\",tb_pagamentos[[#This Row],[Nr_Pedido]]=\"\"),\"\",IF(tb_pagamentos[[#This Row],[Data_Pagamento]]<>\"\",\"Pago\",IF(AND(tb_pagamentos[[#This Row],[Data_Pagamento]]=\"\",tb_pagamentos[[#This Row],[Data_Vencimento]]<TODAY()),\"Em Atraso\",\"A vencer\")))","v":""}]
[null,null,"",{"$f":"IFERROR(INDEX(CALC_BASE!$N$3:$N$52,MATCH(ROW()-7,CALC_BASE!$M$3:$M$52,0)),\"\")","v":""},{"$f":"IFERROR(INDEX(CALC_BASE!$O$3:$O$52,MATCH(ROW()-7,CALC_BASE!$M$3:$M$52,0)),\"\")","v":""},{"$f":"IFERROR(INDEX(CALC_BASE!$P$3:$P$52,MATCH(ROW()-7,CALC_BASE!$M$3:$M$52,0)),\"\")","v":""},{"$f":"IFERROR(IF(D400=\"\",\"\",INDEX(tb_vendas[Preço de Venda],MATCH(D400,tb_vendas[N° Pedido/Empresa],0))/F400),\"\")","v":""},{"$f":"IFERROR(IF(D400=\"\",\"\",INDEX(tb_vendas[Data Fechamento],MATCH(D400,tb_vendas[N° Pedido/Empresa],0))+E400*INDEX(tb_formas_pagamento[Dias_Intervalo],MATCH(INDEX(tb_vendas[Forma_Pagamento],MATCH(D400,tb_vendas[N° Pedido/Empresa],0)),tb_formas_pagamento[Nome_Forma],0))),\"\")","v":""},null,{"$f":"IF(OR(tb_pagamentos[[#This Row],[Data_Vencimento]]=\"\",tb_pagamentos[[#This Row],[Valor_Parcela]]=\"\",tb_pagamentos[[#This Row],[Qtd_Total_Parcelas]]=\"\",tb_pagamentos[[#This Row],[Nr_Pedido]]=\"\"),\"\",IF(tb_pagamentos[[#This Row],[Data_Pagamento]]<>\"\",\"Pago\",IF(AND(tb_pagamentos[[#This Row],[Data_Pagamento]]=\"\",tb_pagamentos[[#This Row],[Data_Vencimento]]<TODAY()),\"Em Atraso\",\"A vencer\")))","v":""}]
[null,null,"",{"$f":"IFERROR(INDEX(CALC_BASE!$N$3:$N$52,MATCH(ROW()-7,CALC_BASE!$M$3:$M$52,0)),\"\")","v":""},{"$f":"IFERROR(INDEX(CALC_BASE!$O$3:$O$52,MATCH(ROW()-7,CALC_BASE!$M$3:$M$52,0)),\"\")","v":""},{"$f":"IFERROR(INDEX(CALC_BASE!$P$3:$P$52,MATCH(ROW()-7,CALC_BASE!$M$3:$M$52,0)),\"\")","v":""},{"$f":"IFERROR(IF(D401=\"\",\"\",INDEX(tb_vendas[Preço de Venda],MATCH(D401,tb_vendas[N° Pedido/Empresa],0))/F401),\"\")","v":""},{"$f":"IFERROR(IF(D401=\"\",\"\",INDEX(tb_vendas[Data Fechamento],MATCH(D401,tb_vendas[N° Pedido/Empresa],0))+E401*INDEX(tb_formas_pagamento[Dias_Intervalo],MATCH(INDEX(tb_vendas[Forma_Pagamento],MATCH(D401,tb_vendas[N° Pedido/Empresa],0)),tb_formas_pagamento[Nome_Forma],0))),\"\")","v":""},null,{"$f":"IF(OR(tb_pagamentos[[#This Row],[Data_Vencimento]]=\"\",tb_pagamentos[[#This Row],[Valor_Parcela]]=\"\",tb_pagamentos[[#This Row],[Qtd_Total_Parcelas]]=\"\",tb_pagamentos[[#This Row],[Nr_Pedido]]=\"\"),\"\",IF(tb_pagamentos[[#This Row],[Data_Pagamento]]<>\"\",\"Pago\",IF(AND(tb_pagamentos[[#This Row],[Data_Pagamento]]=\"\",tb_pagamentos[[#This Row],[Data_Vencimento]]<TODAY()),\"Em Atraso\",\"A vencer\")))","v":""}]
[null,null,"",{"$f":"IFERROR(INDEX(CALC_BASE!$N$3:$N$52,MATCH(ROW()-7,CALC_BASE!$M$3:$M$52,0)),\"\")","v":""},{"$f":"IFERROR(INDEX(CALC_BASE!$O$3:$O$52,MATCH(ROW()-7,CALC_BASE!$M$3:$M$52,0)),\"\")","v":""},{"$f":"IFERROR(INDEX(CALC_BASE!$P$3:$P$52,MATCH(ROW()-7,CALC_BASE!$M$3:$M$52,0)),\"\")","v":""},{"$f":"IFERROR(IF(D402=\"\",\"\",INDEX(tb_vendas[Preço de Venda],MATCH(D402,tb_vendas[N° Pedido/Empresa],0))/F402),\"\")","v":""},{"$f":"IFERROR(IF(D402=\"\",\"\",INDEX(tb_vendas[Data Fechamento],MATCH(D402,tb_vendas[N° Pedido/Empresa],0))+E402*INDEX(tb_formas_pagamento[Dias_Intervalo],MATCH(INDEX(tb_vendas[Forma_Pagamento],MATCH(D402,tb_vendas[N° Pedido/Empresa],0)),tb_formas_pagamento[Nome_Forma],0))),\"\")","v":""},null,{"$f":"IF(OR(tb_pagamentos[[#This Row],[Data_Vencimento]]=\"\",tb_pagamentos[[#This Row],[Valor_Parcela]]=\"\",tb_pagamentos[[#This Row],[Qtd_Total_Parcelas]]=\"\",tb_pagamentos[[#This Row],[Nr_Pedido]]=\"\"),\"\",IF(tb_pagamentos[[#This Row],[Data_Pagamento]]<>\"\",\"Pago\",IF(AND(tb_pagamentos[[#This Row],[Data_Pagamento]]=\"\",tb_pagamentos[[#This Row],[Data_Vencimento]]<TODAY()),\"Em Atraso\",\"A vencer\")))","v":""}]
[null,null,"",{"$f":"IFERROR(INDEX(CALC_BASE!$N$3:$N$52,MATCH(ROW()-7,CALC_BASE!$M$3:$M$52,0)),\"\")","v":""},{"$f":"IFERROR(INDEX(CALC_BASE!$O$3:$O$52,MATCH(ROW()-7,CALC_BASE!$M$3:$M$52,0)),\"\")","v":""},{"$f":"IFERROR(INDEX(CALC_BASE!$P$3:$P$52,MATCH(ROW()-7,CALC_BASE!$M$3:$M$52,0)),\"\")","v":""},{"$f":"IFERROR(IF(D403=\"\",\"\",INDEX(tb_vendas[Preço de Venda],MATCH(D403,tb_vendas[N° Pedido/Empresa],0))/F403),\"\")","v":""},{"$f":"IFERROR(IF(D403=\"\",\"\",INDEX(tb_vendas[Data Fechamento],MATCH(D403,tb_vendas[N° Pedido/Empresa],0))+E403*INDEX(tb_formas_pagamento[Dias_Intervalo],MATCH(INDEX(tb_vendas[Forma_Pagamento],MATCH(D403,tb_vendas[N° Pedido/Empresa],0)),tb_formas_pagamento[Nome_Forma],0))),\"\")","v":""},null,{"$f":"IF(OR(tb_pagamentos[[#This Row],[Data_Vencimento]]=\"\",tb_pagamentos[[#This Row],[Valor_Parcela]]=\"\",tb_pagamentos[[#This Row],[Qtd_Total_Parcelas]]=\"\",tb_pagamentos[[#This Row],[Nr_Pedido]]=\"\"),\"\",IF(tb_pagamentos[[#This Row],[Data_Pagamento]]<>\"\",\"Pago\",IF(AND(tb_pagamentos[[#This Row],[Data_Pagamento]]=\"\",tb_pagamentos[[#This Row],[Data_Vencimento]]<TODAY()),\"Em Atraso\",\"A vencer\")))","v":""}]
[null,null,"",{"$f":"IFERROR(INDEX(CALC_BASE!$N$3:$N$52,MATCH(ROW()-7,CALC_BASE!$M$3:$M$52,0)),\"\")","v":""},{"$f":"IFERROR(INDEX(CALC_BASE!$O$3:$O$52,MATCH(ROW()-7,CALC_BASE!$M$3:$M$52,0)),\"\")","v":""},{"$f":"IFERROR(INDEX(CALC_BASE!$P$3:$P$52,MATCH(ROW()-7,CALC_BASE!$M$3:$M$52,0)),\"\")","v":""},{"$f":"IFERROR(IF(D404=\"\",\"\",INDEX(tb_vendas[Preço de Venda],MATCH(D404,tb_vendas[N° Pedido/Empresa],0))/F404),\"\")","v":""},{"$f":"IFERROR(IF(D404=\"\",\"\",INDEX(tb_vendas[Data Fechamento],MATCH(D404,tb_vendas[N° Pedido/Empresa],0))+E404*INDEX(tb_formas_pagamento[Dias_Intervalo],MATCH(INDEX(tb_vendas[Forma_Pagamento],MATCH(D404,tb_vendas[N° Pedido/Empresa],0)),tb_formas_pagamento[Nome_Forma],0))),\"\")","v":""},null,{"$f":"IF(OR(tb_pagamentos[[#This Row],[Data_Vencimento]]=\"\",tb_pagamentos[[#This Row],[Valor_Parcela]]=\"\",tb_pagamentos[[#This Row],[Qtd_Total_Parcelas]]=\"\",tb_pagamentos[[#This Row],[Nr_Pedido]]=\"\"),\"\",IF(tb_pagamentos[[#This Row],[Data_Pagamento]]<>\"\",\"Pago\",IF(AND(tb_pagamentos[[#This Row],[Data_Pagamento]]=\"\",tb_pagamentos[[#This Row],[Data_Vencimento]]<TODAY()),\"Em Atraso\",\"A vencer\")))","v":""}]
[null,null,"",{"$f":"IFERROR(INDEX(CALC_BASE!$N$3:$N$52,MATCH(ROW()-7,CALC_BASE!$M$3:$M$52,0)),\"\")","v":""},{"$f":"IFERROR(INDEX(CALC_BASE!$O$3:$O$52,MATCH(ROW()-7,CALC_BASE!$M$3:$M$52,0)),\"\")","v":""},{"$f":"IFERROR(INDEX(CALC_BASE!$P$3:$P$52,MATCH(ROW()-7,CALC_BASE!$M$3:$M$52,0)),\"\")","v":""},{"$f":"IFERROR(IF(D405=\"\",\"\",INDEX(tb_vendas[Preço de Venda],MATCH(D405,tb_vendas[N° Pedido/Empresa],0))/F405),\"\")","v":""},{"$f":"IFERROR(IF(D405=\"\",\"\",INDEX(tb_vendas[Data Fechamento],MATCH(D405,tb_vendas[N° Pedido/Empresa],0))+E405*INDEX(tb_formas_pagamento[Dias_Intervalo],MATCH(INDEX(tb_vendas[Forma_Pagamento],MATCH(D405,tb_vendas[N° Pedido/Empresa],0)),tb_formas_pagamento[Nome_Forma],0))),\"\")","v":""},null,{"$f":"IF(OR(tb_pagamentos[[#This Row],[Data_Vencimento]]=\"\",tb_pagamentos[[#This Row],[Valor_Parcela]]=\"\",tb_pagamentos[[#This Row],[Qtd_Total_Parcelas]]=\"\",tb_pagamentos[[#This Row],[Nr_Pedido]]=\"\"),\"\",IF(tb_pagamentos[[#This Row],[Data_Pagamento]]<>\"\",\"Pago\",IF(AND(tb_pagamentos[[#This Row],[Data_Pagamento]]=\"\",tb_pagamentos[[#This Row],[Data_Vencimento]]<TODAY()),\"Em Atraso\",\"A vencer\")))","v":""}]
[null,null,"",{"$f":"IFERROR(INDEX(CALC_BASE!$N$3:$N$52,MATCH(ROW()-7,CALC_BASE!$M$3:$M$52,0)),\"\")","v":""},{"$f":"IFERROR(INDEX(CALC_BASE!$O$3:$O$52,MATCH(ROW()-7,CALC_BASE!$M$3:$M$52,0)),\"\")","v":""},{"$f":"IFERROR(INDEX(CALC_BASE!$P$3:$P$52,MATCH(ROW()-7,CALC_BASE!$M$3:$M$52,0)),\"\")","v":""},{"$f":"IFERROR(IF(D406=\"\",\"\",INDEX(tb_vendas[Preço de Venda],MATCH(D406,tb_vendas[N° Pedido/Empresa],0))/F406),\"\")","v":""},{"$f":"IFERROR(IF(D406=\"\",\"\",INDEX(tb_vendas[Data Fechamento],MATCH(D406,tb_vendas[N° Pedido/Empresa],0))+E406*INDEX(tb_formas_pagamento[Dias_Intervalo],MATCH(INDEX(tb_vendas[Forma_Pagamento],MATCH(D406,tb_vendas[N° Pedido/Empresa],0)),tb_formas_pagamento[Nome_Forma],0))),\"\")","v":""},null,{"$f":"IF(OR(tb_pagamentos[[#This Row],[Data_Vencimento]]=\"\",tb_pagamentos[[#This Row],[Valor_Parcela]]=\"\",tb_pagamentos[[#This Row],[Qtd_Total_Parcelas]]=\"\",tb_pagamentos[[#This Row],[Nr_Pedido]]=\"\"),\"\",IF(tb_pagamentos[[#This Row],[Data_Pagamento]]<>\"\",\"Pago\",IF(AND(tb_pagamentos[[#This Row],[Data_Pagamento]]=\"\",tb_pagamentos[[#This Row],[Data_Vencimento]]<TODAY()),\"Em Atraso\",\"A vencer\")))","v":""}]
[null,null,"",{"$f":"IFERROR(INDEX(CALC_BASE!$N$3:$N$52,MATCH(ROW()-7,CALC_BASE!$M$3:$M$52,0)),\"\")","v":""},{"$f":"IFERROR(INDEX(CALC_BASE!$O$3:$O$52,MATCH(ROW()-7,CALC_BASE!$M$3:$M$52,0)),\"\")","v":""},{"$f":"IFERROR(INDEX(CALC_BASE!$P$3:$P$52,MATCH(ROW()-7,CALC_BASE!$M$3:$M$52,0)),\"\")","v":""},{"$f":"IFERROR(IF(D407=\"\",\"\",INDEX(tb_vendas[Preço de Venda],MATCH(D407,tb_vendas[N° Pedido/Empresa],0))/F407),\"\")","v":""},{"$f":"IFERROR(IF(D407=\"\",\"\",INDEX(tb_vendas[Data Fechamento],MATCH(D407,tb_vendas[N° Pedido/Empresa],0))+E407*INDEX(tb_formas_pagamento[Dias_Intervalo],MATCH(INDEX(tb_vendas[Forma_Pagamento],MATCH(D407,tb_vendas[N° Pedido/Empresa],0)),tb_formas_pagamento[Nome_Forma],0))),\"\")","v":""},null,{"$f":"IF(OR(tb_pagamentos[[#This Row],[Data_Vencimento]]=\"\",tb_pagamentos[[#This Row],[Valor_Parcela]]=\"\",tb_pagamentos[[#This Row],[Qtd_Total_Parcelas]]=\"\",tb_pagamentos[[#This Row],[Nr_Pedido]]=\"\"),\"\",IF(tb_pagamentos[[#This Row],[Data_Pagamento]]<>\"\",\"Pago\",IF(AND(tb_pagamentos[[#This Row],[Data_Pagamento]]=\"\",tb_pagamentos[[#This Row],[Data_Vencimento]]<TODAY()),\"Em Atraso\",\"A vencer\")))","v":""}]
[null,null,"",{"$f":"IFERROR(INDEX(CALC_BASE!$N$3:$N$52,MATCH(ROW()-7,CALC_BASE!$M$3:$M$52,0)),\"\")","v":""},{"$f":"IFERROR(INDEX(CALC_BASE!$O$3:$O$52,MATCH(ROW()-7,CALC_BASE!$M$3:$M$52,0)),\"\")","v":""},{"$f":"IFERROR(INDEX(CALC_BASE!$P$3:$P$52,MATCH(ROW()-7,CALC_BASE!$M$3:$M$52,0)),\"\")","v":""},{"$f":"IFERROR(IF(D408=\"\",\"\",INDEX(tb_vendas[Preço de Venda],MATCH(D408,tb_vendas[N° Pedido/Empresa],0))/F408),\"\")","v":""},{"$f":"IFERROR(IF(D408=\"\",\"\",INDEX(tb_vendas[Data Fechamento],MATCH(D408,tb_vendas[N° Pedido/Empresa],0))+E408*INDEX(tb_formas_pagamento[Dias_Intervalo],MATCH(INDEX(tb_vendas[Forma_Pagamento],MATCH(D408,tb_vendas[N° Pedido/Empresa],0)),tb_formas_pagamento[Nome_Forma],0))),\"\")","v":""},null,{"$f":"IF(OR(tb_pagamentos[[#This Row],[Data_Vencimento]]=\"\",tb_pagamentos[[#This Row],[Valor_Parcela]]=\"\",tb_pagamentos[[#This Row],[Qtd_Total_Parcelas]]=\"\",tb_pagamentos[[#This Row],[Nr_Pedido]]=\"\"),\"\",IF(tb_pagamentos[[#This Row],[Data_Pagamento]]<>\"\",\"Pago\",IF(AND(tb_pagamentos[[#This Row],[Data_Pagamento]]=\"\",tb_pagamentos[[#This Row],[Data_Vencimento]]<TODAY()),\"Em Atraso\",\"A vencer\")))","v":""}]
[null,null,"",{"$f":"IFERROR(INDEX(CALC_BASE!$N$3:$N$52,MATCH(ROW()-7,CALC_BASE!$M$3:$M$52,0)),\"\")","v":""},{"$f":"IFERROR(INDEX(CALC_BASE!$O$3:$O$52,MATCH(ROW()-7,CALC_BASE!$M$3:$M$52,0)),\"\")","v":""},{"$f":"IFERROR(INDEX(CALC_BASE!$P$3:$P$52,MATCH(ROW()-7,CALC_BASE!$M$3:$M$52,0)),\"\")","v":""},{"$f":"IFERROR(IF(D409=\"\",\"\",INDEX(tb_vendas[Preço de Venda],MATCH(D409,tb_vendas[N° Pedido/Empresa],0))/F409),\"\")","v":""},{"$f":"IFERROR(IF(D409=\"\",\"\",INDEX(tb_vendas[Data Fechamento],MATCH(D409,tb_vendas[N° Pedido/Empresa],0))+E409*INDEX(tb_formas_pagamento[Dias_Intervalo],MATCH(INDEX(tb_vendas[Forma_Pagamento],MATCH(D409,tb_vendas[N° Pedido/Empresa],0)),tb_formas_pagamento[Nome_Forma],0))),\"\")","v":""},null,{"$f":"IF(OR(tb_pagamentos[[#This Row],[Data_Vencimento]]=\"\",tb_pagamentos[[#This Row],[Valor_Parcela]]=\"\",tb_pagamentos[[#This Row],[Qtd_Total_Parcelas]]=\"\",tb_pagamentos[[#This Row],[Nr_Pedido]]=\"\"),\"\",IF(tb_pagamentos[[#This Row],[Data_Pagamento]]<>\"\",\"Pago\",IF(AND(tb_pagamentos[[#This Row],[Data_Pagamento]]=\"\",tb_pagamentos[[#This Row],[Data_Vencimento]]<TODAY()),\"Em Atraso\",\"A vencer\")))","v":""}]
[null,null,"",{"$f":"IFERROR(INDEX(CALC_BASE!$N$3:$N$52,MATCH(ROW()-7,CALC_BASE!$M$3:$M$52,0)),\"\")","v":""},{"$f":"IFERROR(INDEX(CALC_BASE!$O$3:$O$52,MATCH(ROW()-7,CALC_BASE!$M$3:$M$52,0)),\"\")","v":""},{"$f":"IFERROR(INDEX(CALC_BASE!$P$3:$P$52,MATCH(ROW()-7,CALC_BASE!$M$3:$M$52,0)),\"\")","v":""},{"$f":"IFERROR(IF(D410=\"\",\"\",INDEX(tb_vendas[Preço de Venda],MATCH(D410,tb_vendas[N° Pedido/Empresa],0))/F410),\"\")","v":""},{"$f":"IFERROR(IF(D410=\"\",\"\",INDEX(tb_vendas[Data Fechamento],MATCH(D410,tb_vendas[N° Pedido/Empresa],0))+E410*INDEX(tb_formas_pagamento[Dias_Intervalo],MATCH(INDEX(tb_vendas[Forma_Pagamento],MATCH(D410,tb_vendas[N° Pedido/Empresa],0)),tb_formas_pagamento[Nome_Forma],0))),\"\")","v":""},null,{"$f":"IF(OR(tb_pagamentos[[#This Row],[Data_Vencimento]]=\"\",tb_pagamentos[[#This Row],[Valor_Parcela]]=\"\",tb_pagamentos[[#This Row],[Qtd_Total_Parcelas]]=\"\",tb_pagamentos[[#This Row],[Nr_Pedido]]=\"\"),\"\",IF(tb_pagamentos[[#This Row],[Data_Pagamento]]<>\"\",\"Pago\",IF(AND(tb_pagamentos[[#This Row],[Data_Pagamento]]=\"\",tb_pagamentos[[#This Row],[Data_Vencimento]]<TODAY()),\"Em Atraso\",\"A vencer\")))","v":""}]
[null,null,"",{"$f":"IFERROR(INDEX(CALC_BASE!$N$3:$N$52,MATCH(ROW()-7,CALC_BASE!$M$3:$M$52,0)),\"\")","v":""},{"$f":"IFERROR(INDEX(CALC_BASE!$O$3:$O$52,MATCH(ROW()-7,CALC_BASE!$M$3:$M$52,0)),\"\")","v":""},{"$f":"IFERROR(INDEX(CALC_BASE!$P$3:$P$52,MATCH(ROW()-7,CALC_BASE!$M$3:$M$52,0)),\"\")","v":""},{"$f":"IFERROR(IF(D411=\"\",\"\",INDEX(tb_vendas[Preço de Venda],MATCH(D411,tb_vendas[N° Pedido/Empresa],0))/F411),\"\")","v":""},{"$f":"IFERROR(IF(D411=\"\",\"\",INDEX(tb_vendas[Data Fechamento],MATCH(D411,tb_vendas[N° Pedido/Empresa],0))+E411*INDEX(tb_formas_pagamento[Dias_Intervalo],MATCH(INDEX(tb_vendas[Forma_Pagamento],MATCH(D411,tb_vendas[N° Pedido/Empresa],0)),tb_formas_pagamento[Nome_Forma],0))),\"\")","v":""},null,{"$f":"IF(OR(tb_pagamentos[[#This Row],[Data_Vencimento]]=\"\",tb_pagamentos[[#This Row],[Valor_Parcela]]=\"\",tb_pagamentos[[#This Row],[Qtd_Total_Parcelas]]=\"\",tb_pagamentos[[#This Row],[Nr_Pedido]]=\"\"),\"\",IF(tb_pagamentos[[#This Row],[Data_Pagamento]]<>\"\",\"Pago\",IF(AND(tb_pagamentos[[#This Row],[Data_Pagamento]]=\"\",tb_pagamentos[[#This Row],[Data_Vencimento]]<TODAY()),\"Em Atraso\",\"A vencer\")))","v":""}]
[null,null,"",{"$f":"IFERROR(INDEX(CALC_BASE!$N$3:$N$52,MATCH(ROW()-7,CALC_BASE!$M$3:$M$52,0)),\"\")","v":""},{"$f":"IFERROR(INDEX(CALC_BASE!$O$3:$O$52,MATCH(ROW()-7,CALC_BASE!$M$3:$M$52,0)),\"\")","v":""},{"$f":"IFERROR(INDEX(CALC_BASE!$P$3:$P$52,MATCH(ROW()-7,CALC_BASE!$M$3:$M$52,0)),\"\")","v":""},{"$f":"IFERROR(IF(D412=\"\",\"\",INDEX(tb_vendas[Preço de Venda],MATCH(D412,tb_vendas[N° Pedido/Empresa],0))/F412),\"\")","v":""},{"$f":"IFERROR(IF(D412=\"\",\"\",INDEX(tb_vendas[Data Fechamento],MATCH(D412,tb_vendas[N° Pedido/Empresa],0))+E412*INDEX(tb_formas_pagamento[Dias_Intervalo],MATCH(INDEX(tb_vendas[Forma_Pagamento],MATCH(D412,tb_vendas[N° Pedido/Empresa],0)),tb_formas_pagamento[Nome_Forma],0))),\"\")","v":""},null,{"$f":"IF(OR(tb_pagamentos[[#This Row],[Data_Vencimento]]=\"\",tb_pagamentos[[#This Row],[Valor_Parcela]]=\"\",tb_pagamentos[[#This Row],[Qtd_Total_Parcelas]]=\"\",tb_pagamentos[[#This Row],[Nr_Pedido]]=\"\"),\"\",IF(tb_pagamentos[[#This Row],[Data_Pagamento]]<>\"\",\"Pago\",IF(AND(tb_pagamentos[[#This Row],[Data_Pagamento]]=\"\",tb_pagamentos[[#This Row],[Data_Vencimento]]<TODAY()),\"Em Atraso\",\"A vencer\")))","v":""}]
[null,null,"",{"$f":"IFERROR(INDEX(CALC_BASE!$N$3:$N$52,MATCH(ROW()-7,CALC_BASE!$M$3:$M$52,0)),\"\")","v":""},{"$f":"IFERROR(INDEX(CALC_BASE!$O$3:$O$52,MATCH(ROW()-7,CALC_BASE!$M$3:$M$52,0)),\"\")","v":""},{"$f":"IFERROR(INDEX(CALC_BASE!$P$3:$P$52,MATCH(ROW()-7,CALC_BASE!$M$3:$M$52,0)),\"\")","v":""},{"$f":"IFERROR(IF(D413=\"\",\"\",INDEX(tb_vendas[Preço de Venda],MATCH(D413,tb_vendas[N° Pedido/Empresa],0))/F413),\"\")","v":""},{"$f":"IFERROR(IF(D413=\"\",\"\",INDEX(tb_vendas[Data Fechamento],MATCH(D413,tb_vendas[N° Pedido/Empresa],0))+E413*INDEX(tb_formas_pagamento[Dias_Intervalo],MATCH(INDEX(tb_vendas[Forma_Pagamento],MATCH(D413,tb_vendas[N° Pedido/Empresa],0)),tb_formas_pagamento[Nome_Forma],0))),\"\")","v":""},null,{"$f":"IF(OR(tb_pagamentos[[#This Row],[Data_Vencimento]]=\"\",tb_pagamentos[[#This Row],[Valor_Parcela]]=\"\",tb_pagamentos[[#This Row],[Qtd_Total_Parcelas]]=\"\",tb_pagamentos[[#This Row],[Nr_Pedido]]=\"\"),\"\",IF(tb_pagamentos[[#This Row],[Data_Pagamento]]<>\"\",\"Pago\",IF(AND(tb_pagamentos[[#This Row],[Data_Pagamento]]=\"\",tb_pagamentos[[#This Row],[Data_Vencimento]]<TODAY()),\"Em Atraso\",\"A vencer\")))","v":""}]
[null,null,"",{"$f":"IFERROR(INDEX(CALC_BASE!$N$3:$N$52,MATCH(ROW()-7,CALC_BASE!$M$3:$M$52,0)),\"\")","v":""},{"$f":"IFERROR(INDEX(CALC_BASE!$O$3:$O$52,MATCH(ROW()-7,CALC_BASE!$M$3:$M$52,0)),\"\")","v":""},{"$f":"IFERROR(INDEX(CALC_BASE!$P$3:$P$52,MATCH(ROW()-7,CALC_BASE!$M$3:$M$52,0)),\"\")","v":""},{"$f":"IFERROR(IF(D414=\"\",\"\",INDEX(tb_vendas[Preço de Venda],MATCH(D414,tb_vendas[N° Pedido/Empresa],0))/F414),\"\")","v":""},{"$f":"IFERROR(IF(D414=\"\",\"\",INDEX(tb_vendas[Data Fechamento],MATCH(D414,tb_vendas[N° Pedido/Empresa],0))+E414*INDEX(tb_formas_pagamento[Dias_Intervalo],MATCH(INDEX(tb_vendas[Forma_Pagamento],MATCH(D414,tb_vendas[N° Pedido/Empresa],0)),tb_formas_pagamento[Nome_Forma],0))),\"\")","v":""},null,{"$f":"IF(OR(tb_pagamentos[[#This Row],[Data_Vencimento]]=\"\",tb_pagamentos[[#This Row],[Valor_Parcela]]=\"\",tb_pagamentos[[#This Row],[Qtd_Total_Parcelas]]=\"\",tb_pagamentos[[#This Row],[Nr_Pedido]]=\"\"),\"\",IF(tb_pagamentos[[#This Row],[Data_Pagamento]]<>\"\",\"Pago\",IF(AND(tb_pagamentos[[#This Row],[Data_Pagamento]]=\"\",tb_pagamentos[[#This Row],[Data_Vencimento]]<TODAY()),\"Em Atraso\",\"A vencer\")))","v":""}]
[null,null,"",{"$f":"IFERROR(INDEX(CALC_BASE!$N$3:$N$52,MATCH(ROW()-7,CALC_BASE!$M$3:$M$52,0)),\"\")","v":""},{"$f":"IFERROR(INDEX(CALC_BASE!$O$3:$O$52,MATCH(ROW()-7,CALC_BASE!$M$3:$M$52,0)),\"\")","v":""},{"$f":"IFERROR(INDEX(CALC_BASE!$P$3:$P$52,MATCH(ROW()-7,CALC_BASE!$M$3:$M$52,0)),\"\")","v":""},{"$f":"IFERROR(IF(D415=\"\",\"\",INDEX(tb_vendas[Preço de Venda],MATCH(D415,tb_vendas[N° Pedido/Empresa],0))/F415),\"\")","v":""},{"$f":"IFERROR(IF(D415=\"\",\"\",INDEX(tb_vendas[Data Fechamento],MATCH(D415,tb_vendas[N° Pedido/Empresa],0))+E415*INDEX(tb_formas_pagamento[Dias_Intervalo],MATCH(INDEX(tb_vendas[Forma_Pagamento],MATCH(D415,tb_vendas[N° Pedido/Empresa],0)),tb_formas_pagamento[Nome_Forma],0))),\"\")","v":""},null,{"$f":"IF(OR(tb_pagamentos[[#This Row],[Data_Vencimento]]=\"\",tb_pagamentos[[#This Row],[Valor_Parcela]]=\"\",tb_pagamentos[[#This Row],[Qtd_Total_Parcelas]]=\"\",tb_pagamentos[[#This Row],[Nr_Pedido]]=\"\"),\"\",IF(tb_pagamentos[[#This Row],[Data_Pagamento]]<>\"\",\"Pago\",IF(AND(tb_pagamentos[[#This Row],[Data_Pagamento]]=\"\",tb_pagamentos[[#This Row],[Data_Vencimento]]<TODAY()),\"Em Atraso\",\"A vencer\")))","v":""}]
[null,null,"",{"$f":"IFERROR(INDEX(CALC_BASE!$N$3:$N$52,MATCH(ROW()-7,CALC_BASE!$M$3:$M$52,0)),\"\")","v":""},{"$f":"IFERROR(INDEX(CALC_BASE!$O$3:$O$52,MATCH(ROW()-7,CALC_BASE!$M$3:$M$52,0)),\"\")","v":""},{"$f":"IFERROR(INDEX(CALC_BASE!$P$3:$P$52,MATCH(ROW()-7,CALC_BASE!$M$3:$M$52,0)),\"\")","v":""},{"$f":"IFERROR(IF(D416=\"\",\"\",INDEX(tb_vendas[Preço de Venda],MATCH(D416,tb_vendas[N° Pedido/Empresa],0))/F416),\"\")","v":""},{"$f":"IFERROR(IF(D416=\"\",\"\",INDEX(tb_vendas[Data Fechamento],MATCH(D416,tb_vendas[N° Pedido/Empresa],0))+E416*INDEX(tb_formas_pagamento[Dias_Intervalo],MATCH(INDEX(tb_vendas[Forma_Pagamento],MATCH(D416,tb_vendas[N° Pedido/Empresa],0)),tb_formas_pagamento[Nome_Forma],0))),\"\")","v":""},null,{"$f":"IF(OR(tb_pagamentos[[#This Row],[Data_Vencimento]]=\"\",tb_pagamentos[[#This Row],[Valor_Parcela]]=\"\",tb_pagamentos[[#This Row],[Qtd_Total_Parcelas]]=\"\",tb_pagamentos[[#This Row],[Nr_Pedido]]=\"\"),\"\",IF(tb_pagamentos[[#This Row],[Data_Pagamento]]<>\"\",\"Pago\",IF(AND(tb_pagamentos[[#This Row],[Data_Pagamento]]=\"\",tb_pagamentos[[#This Row],[Data_Vencimento]]<TODAY()),\"Em Atraso\",\"A vencer\")))","v":""}]
[null,null,"",{"$f":"IFERROR(INDEX(CALC_BASE!$N$3:$N$52,MATCH(ROW()-7,CALC_BASE!$M$3:$M$52,0)),\"\")","v":""},{"$f":"IFERROR(INDEX(CALC_BASE!$O$3:$O$52,MATCH(ROW()-7,CALC_BASE!$M$3:$M$52,0)),\"\")","v":""},{"$f":"IFERROR(INDEX(CALC_BASE!$P$3:$P$52,MATCH(ROW()-7,CALC_BASE!$M$3:$M$52,0)),\"\")","v":""},{"$f":"IFERROR(IF(D417=\"\",\"\",INDEX(tb_vendas[Preço de Venda],MATCH(D417,tb_vendas[N° Pedido/Empresa],0))/F417),\"\")","v":""},{"$f":"IFERROR(IF(D417=\"\",\"\",INDEX(tb_vendas[Data Fechamento],MATCH(D417,tb_vendas[N° Pedido/Empresa],0))+E417*INDEX(tb_formas_pagamento[Dias_Intervalo],MATCH(INDEX(tb_vendas[Forma_Pagamento],MATCH(D417,tb_vendas[N° Pedido/Empresa],0)),tb_formas_pagamento[Nome_Forma],0))),\"\")","v":""},null,{"$f":"IF(OR(tb_pagamentos[[#This Row],[Data_Vencimento]]=\"\",tb_pagamentos[[#This Row],[Valor_Parcela]]=\"\",tb_pagamentos[[#This Row],[Qtd_Total_Parcelas]]=\"\",tb_pagamentos[[#This Row],[Nr_Pedido]]=\"\"),\"\",IF(tb_pagamentos[[#This Row],[Data_Pagamento]]<>\"\",\"Pago\",IF(AND(tb_pagamentos[[#This Row],[Data_Pagamento]]=\"\",tb_pagamentos[[#This Row],[Data_Vencimento]]<TODAY()),\"Em Atraso\",\"A vencer\")))","v":""}]
[null,null,"",{"$f":"IFERROR(INDEX(CALC_BASE!$N$3:$N$52,MATCH(ROW()-7,CALC_BASE!$M$3:$M$52,0)),\"\")","v":""},{"$f":"IFERROR(INDEX(CALC_BASE!$O$3:$O$52,MATCH(ROW()-7,CALC_BASE!$M$3:$M$52,0)),\"\")","v":""},{"$f":"IFERROR(INDEX(CALC_BASE!$P$3:$P$52,MATCH(ROW()-7,CALC_BASE!$M$3:$M$52,0)),\"\")","v":""},{"$f":"IFERROR(IF(D418=\"\",\"\",INDEX(tb_vendas[Preço de Venda],MATCH(D418,tb_vendas[N° Pedido/Empresa],0))/F418),\"\")","v":""},{"$f":"IFERROR(IF(D418=\"\",\"\",INDEX(tb_vendas[Data Fechamento],MATCH(D418,tb_vendas[N° Pedido/Empresa],0))+E418*INDEX(tb_formas_pagamento[Dias_Intervalo],MATCH(INDEX(tb_vendas[Forma_Pagamento],MATCH(D418,tb_vendas[N° Pedido/Empresa],0)),tb_formas_pagamento[Nome_Forma],0))),\"\")","v":""},null,{"$f":"IF(OR(tb_pagamentos[[#This Row],[Data_Vencimento]]=\"\",tb_pagamentos[[#This Row],[Valor_Parcela]]=\"\",tb_pagamentos[[#This Row],[Qtd_Total_Parcelas]]=\"\",tb_pagamentos[[#This Row],[Nr_Pedido]]=\"\"),\"\",IF(tb_pagamentos[[#This Row],[Data_Pagamento]]<>\"\",\"Pago\",IF(AND(tb_pagamentos[[#This Row],[Data_Pagamento]]=\"\",tb_pagamentos[[#This Row],[Data_Vencimento]]<TODAY()),\"Em Atraso\",\"A vencer\")))","v":""}]
[null,null,"",{"$f":"IFERROR(INDEX(CALC_BASE!$N$3:$N$52,MATCH(ROW()-7,CALC_BASE!$M$3:$M$52,0)),\"\")","v":""},{"$f":"IFERROR(INDEX(CALC_BASE!$O$3:$O$52,MATCH(ROW()-7,CALC_BASE!$M$3:$M$52,0)),\"\")","v":""},{"$f":"IFERROR(INDEX(CALC_BASE!$P$3:$P$52,MATCH(ROW()-7,CALC_BASE!$M$3:$M$52,0)),\"\")","v":""},{"$f":"IFERROR(IF(D419=\"\",\"\",INDEX(tb_vendas[Preço de Venda],MATCH(D419,tb_vendas[N° Pedido/Empresa],0))/F419),\"\")","v":""},{"$f":"IFERROR(IF(D419=\"\",\"\",INDEX(tb_vendas[Data Fechamento],MATCH(D419,tb_vendas[N° Pedido/Empresa],0))+E419*INDEX(tb_formas_pagamento[Dias_Intervalo],MATCH(INDEX(tb_vendas[Forma_Pagamento],MATCH(D419,tb_vendas[N° Pedido/Empresa],0)),tb_formas_pagamento[Nome_Forma],0))),\"\")","v":""},null,{"$f":"IF(OR(tb_pagamentos[[#This Row],[Data_Vencimento]]=\"\",tb_pagamentos[[#This Row],[Valor_Parcela]]=\"\",tb_pagamentos[[#This Row],[Qtd_Total_Parcelas]]=\"\",tb_pagamentos[[#This Row],[Nr_Pedido]]=\"\"),\"\",IF(tb_pagamentos[[#This Row],[Data_Pagamento]]<>\"\",\"Pago\",IF(AND(tb_pagamentos[[#This Row],[Data_Pagamento]]=\"\",tb_pagamentos[[#This Row],[Data_Vencimento]]<TODAY()),\"Em Atraso\",\"A vencer\")))","v":""}]
[null,null,"",{"$f":"IFERROR(INDEX(CALC_BASE!$N$3:$N$52,MATCH(ROW()-7,CALC_BASE!$M$3:$M$52,0)),\"\")","v":""},{"$f":"IFERROR(INDEX(CALC_BASE!$O$3:$O$52,MATCH(ROW()-7,CALC_BASE!$M$3:$M$52,0)),\"\")","v":""},{"$f":"IFERROR(INDEX(CALC_BASE!$P$3:$P$52,MATCH(ROW()-7,CALC_BASE!$M$3:$M$52,0)),\"\")","v":""},{"$f":"IFERROR(IF(D420=\"\",\"\",INDEX(tb_vendas[Preço de Venda],MATCH(D420,tb_vendas[N° Pedido/Empresa],0))/F420),\"\")","v":""},{"$f":"IFERROR(IF(D420=\"\",\"\",INDEX(tb_vendas[Data Fechamento],MATCH(D420,tb_vendas[N° Pedido/Empresa],0))+E420*INDEX(tb_formas_pagamento[Dias_Intervalo],MATCH(INDEX(tb_vendas[Forma_Pagamento],MATCH(D420,tb_vendas[N° Pedido/Empresa],0)),tb_formas_pagamento[Nome_Forma],0))),\"\")","v":""},null,{"$f":"IF(OR(tb_pagamentos[[#This Row],[Data_Vencimento]]=\"\",tb_pagamentos[[#This Row],[Valor_Parcela]]=\"\",tb_pagamentos[[#This Row],[Qtd_Total_Parcelas]]=\"\",tb_pagamentos[[#This Row],[Nr_Pedido]]=\"\"),\"\",IF(tb_pagamentos[[#This Row],[Data_Pagamento]]<>\"\",\"Pago\",IF(AND(tb_pagamentos[[#This Row],[Data_Pagamento]]=\"\",tb_pagamentos[[#This Row],[Data_Vencimento]]<TODAY()),\"Em Atraso\",\"A vencer\")))","v":""}]
[null,null,"",{"$f":"IFERROR(INDEX(CALC_BASE!$N$3:$N$52,MATCH(ROW()-7,CALC_BASE!$M$3:$M$52,0)),\"\")","v":""},{"$f":"IFERROR(INDEX(CALC_BASE!$O$3:$O$52,MATCH(ROW()-7,CALC_BASE!$M$3:$M$52,0)),\"\")","v":""},{"$f":"IFERROR(INDEX(CALC_BASE!$P$3:$P$52,MATCH(ROW()-7,CALC_BASE!$M$3:$M$52,0)),\"\")","v":""},{"$f":"IFERROR(IF(D421=\"\",\"\",INDEX(tb_vendas[Preço de Venda],MATCH(D421,tb_vendas[N° Pedido/Empresa],0))/F421),\"\")","v":""},{"$f":"IFERROR(IF(D421=\"\",\"\",INDEX(tb_vendas[Data Fechamento],MATCH(D421,tb_vendas[N° Pedido/Empresa],0))+E421*INDEX(tb_formas_pagamento[Dias_Intervalo],MATCH(INDEX(tb_vendas[Forma_Pagamento],MATCH(D421,tb_vendas[N° Pedido/Empresa],0)),tb_formas_pagamento[Nome_Forma],0))),\"\")","v":""},null,{"$f":"IF(OR(tb_pagamentos[[#This Row],[Data_Vencimento]]=\"\",tb_pagamentos[[#This Row],[Valor_Parcela]]=\"\",tb_pagamentos[[#This Row],[Qtd_Total_Parcelas]]=\"\",tb_pagamentos[[#This Row],[Nr_Pedido]]=\"\"),\"\",IF(tb_pagamentos[[#This Row],[Data_Pagamento]]<>\"\",\"Pago\",IF(AND(tb_pagamentos[[#This Row],[Data_Pagamento]]=\"\",tb_pagamentos[[#This Row],[Data_Vencimento]]<TODAY()),\"Em Atraso\",\"A vencer\")))","v":""}]
[null,null,"",{"$f":"IFERROR(INDEX(CALC_BASE!$N$3:$N$52,MATCH(ROW()-7,CALC_BASE!$M$3:$M$52,0)),\"\")","v":""},{"$f":"IFERROR(INDEX(CALC_BASE!$O$3:$O$52,MATCH(ROW()-7,CALC_BASE!$M$3:$M$52,0)),\"\")","v":""},{"$f":"IFERROR(INDEX(CALC_BASE!$P$3:$P$52,MATCH(ROW()-7,CALC_BASE!$M$3:$M$52,0)),\"\")","v":""},{"$f":"IFERROR(IF(D422=\"\",\"\",INDEX(tb_vendas[Preço de Venda],MATCH(D422,tb_vendas[N° Pedido/Empresa],0))/F422),\"\")","v":""},{"$f":"IFERROR(IF(D422=\"\",\"\",INDEX(tb_vendas[Data Fechamento],MATCH(D422,tb_vendas[N° Pedido/Empresa],0))+E422*INDEX(tb_formas_pagamento[Dias_Intervalo],MATCH(INDEX(tb_vendas[Forma_Pagamento],MATCH(D422,tb_vendas[N° Pedido/Empresa],0)),tb_formas_pagamento[Nome_Forma],0))),\"\")","v":""},null,{"$f":"IF(OR(tb_pagamentos[[#This Row],[Data_Vencimento]]=\"\",tb_pagamentos[[#This Row],[Valor_Parcela]]=\"\",tb_pagamentos[[#This Row],[Qtd_Total_Parcelas]]=\"\",tb_pagamentos[[#This Row],[Nr_Pedido]]=\"\"),\"\",IF(tb_pagamentos[[#This Row],[Data_Pagamento]]<>\"\",\"Pago\",IF(AND(tb_pagamentos[[#This Row],[Data_Pagamento]]=\"\",tb_pagamentos[[#This Row],[Data_Vencimento]]<TODAY()),\"Em Atraso\",\"A vencer\")))","v":""}]
[null,null,"",{"$f":"IFERROR(INDEX(CALC_BASE!$N$3:$N$52,MATCH(ROW()-7,CALC_BASE!$M$3:$M$52,0)),\"\")","v":""},{"$f":"IFERROR(INDEX(CALC_BASE!$O$3:$O$52,MATCH(ROW()-7,CALC_BASE!$M$3:$M$52,0)),\"\")","v":""},{"$f":"IFERROR(INDEX(CALC_BASE!$P$3:$P$52,MATCH(ROW()-7,CALC_BASE!$M$3:$M$52,0)),\"\")","v":""},{"$f":"IFERROR(IF(D423=\"\",\"\",INDEX(tb_vendas[Preço de Venda],MATCH(D423,tb_vendas[N° Pedido/Empresa],0))/F423),\"\")","v":""},{"$f":"IFERROR(IF(D423=\"\",\"\",INDEX(tb_vendas[Data Fechamento],MATCH(D423,tb_vendas[N° Pedido/Empresa],0))+E423*INDEX(tb_formas_pagamento[Dias_Intervalo],MATCH(INDEX(tb_vendas[Forma_Pagamento],MATCH(D423,tb_vendas[N° Pedido/Empresa],0)),tb_formas_pagamento[Nome_Forma],0))),\"\")","v":""},null,{"$f":"IF(OR(tb_pagamentos[[#This Row],[Data_Vencimento]]=\"\",tb_pagamentos[[#This Row],[Valor_Parcela]]=\"\",tb_pagamentos[[#This Row],[Qtd_Total_Parcelas]]=\"\",tb_pagamentos[[#This Row],[Nr_Pedido]]=\"\"),\"\",IF(tb_pagamentos[[#This Row],[Data_Pagamento]]<>\"\",\"Pago\",IF(AND(tb_pagamentos[[#This Row],[Data_Pagamento]]=\"\",tb_pagamentos[[#This Row],[Data_Vencimento]]<TODAY()),\"Em Atraso\",\"A vencer\")))","v":""}]
[null,null,"",{"$f":"IFERROR(INDEX(CALC_BASE!$N$3:$N$52,MATCH(ROW()-7,CALC_BASE!$M$3:$M$52,0)),\"\")","v":""},{"$f":"IFERROR(INDEX(CALC_BASE!$O$3:$O$52,MATCH(ROW()-7,CALC_BASE!$M$3:$M$52,0)),\"\")","v":""},{"$f":"IFERROR(INDEX(CALC_BASE!$P$3:$P$52,MATCH(ROW()-7,CALC_BASE!$M$3:$M$52,0)),\"\")","v":""},{"$f":"IFERROR(IF(D424=\"\",\"\",INDEX(tb_vendas[Preço de Venda],MATCH(D424,tb_vendas[N° Pedido/Empresa],0))/F424),\"\")","v":""},{"$f":"IFERROR(IF(D424=\"\",\"\",INDEX(tb_vendas[Data Fechamento],MATCH(D424,tb_vendas[N° Pedido/Empresa],0))+E424*INDEX(tb_formas_pagamento[Dias_Intervalo],MATCH(INDEX(tb_vendas[Forma_Pagamento],MATCH(D424,tb_vendas[N° Pedido/Empresa],0)),tb_formas_pagamento[Nome_Forma],0))),\"\")","v":""},null,{"$f":"IF(OR(tb_pagamentos[[#This Row],[Data_Vencimento]]=\"\",tb_pagamentos[[#This Row],[Valor_Parcela]]=\"\",tb_pagamentos[[#This Row],[Qtd_Total_Parcelas]]=\"\",tb_pagamentos[[#This Row],[Nr_Pedido]]=\"\"),\"\",IF(tb_pagamentos[[#This Row],[Data_Pagamento]]<>\"\",\"Pago\",IF(AND(tb_pagamentos[[#This Row],[Data_Pagamento]]=\"\",tb_pagamentos[[#This Row],[Data_Vencimento]]<TODAY()),\"Em Atraso\",\"A vencer\")))","v":""}]
[null,null,"",{"$f":"IFERROR(INDEX(CALC_BASE!$N$3:$N$52,MATCH(ROW()-7,CALC_BASE!$M$3:$M$52,0)),\"\")","v":""},{"$f":"IFERROR(INDEX(CALC_BASE!$O$3:$O$52,MATCH(ROW()-7,CALC_BASE!$M$3:$M$52,0)),\"\")","v":""},{"$f":"IFERROR(INDEX(CALC_BASE!$P$3:$P$52,MATCH(ROW()-7,CALC_BASE!$M$3:$M$52,0)),\"\")","v":""},{"$f":"IFERROR(IF(D425=\"\",\"\",INDEX(tb_vendas[Preço de Venda],MATCH(D425,tb_vendas[N° Pedido/Empresa],0))/F425),\"\")","v":""},{"$f":"IFERROR(IF(D425=\"\",\"\",INDEX(tb_vendas[Data Fechamento],MATCH(D425,tb_vendas[N° Pedido/Empresa],0))+E425*INDEX(tb_formas_pagamento[Dias_Intervalo],MATCH(INDEX(tb_vendas[Forma_Pagamento],MATCH(D425,tb_vendas[N° Pedido/Empresa],0)),tb_formas_pagamento[Nome_Forma],0))),\"\")","v":""},null,{"$f":"IF(OR(tb_pagamentos[[#This Row],[Data_Vencimento]]=\"\",tb_pagamentos[[#This Row],[Valor_Parcela]]=\"\",tb_pagamentos[[#This Row],[Qtd_Total_Parcelas]]=\"\",tb_pagamentos[[#This Row],[Nr_Pedido]]=\"\"),\"\",IF(tb_pagamentos[[#This Row],[Data_Pagamento]]<>\"\",\"Pago\",IF(AND(tb_pagamentos[[#This Row],[Data_Pagamento]]=\"\",tb_pagamentos[[#This Row],[Data_Vencimento]]<TODAY()),\"Em Atraso\",\"A vencer\")))","v":""}]
[null,null,"",{"$f":"IFERROR(INDEX(CALC_BASE!$N$3:$N$52,MATCH(ROW()-7,CALC_BASE!$M$3:$M$52,0)),\"\")","v":""},{"$f":"IFERROR(INDEX(CALC_BASE!$O$3:$O$52,MATCH(ROW()-7,CALC_BASE!$M$3:$M$52,0)),\"\")","v":""},{"$f":"IFERROR(INDEX(CALC_BASE!$P$3:$P$52,MATCH(ROW()-7,CALC_BASE!$M$3:$M$52,0)),\"\")","v":""},{"$f":"IFERROR(IF(D426=\"\",\"\",INDEX(tb_vendas[Preço de Venda],MATCH(D426,tb_vendas[N° Pedido/Empresa],0))/F426),\"\")","v":""},{"$f":"IFERROR(IF(D426=\"\",\"\",INDEX(tb_vendas[Data Fechamento],MATCH(D426,tb_vendas[N° Pedido/Empresa],0))+E426*INDEX(tb_formas_pagamento[Dias_Intervalo],MATCH(INDEX(tb_vendas[Forma_Pagamento],MATCH(D426,tb_vendas[N° Pedido/Empresa],0)),tb_formas_pagamento[Nome_Forma],0))),\"\")","v":""},null,{"$f":"IF(OR(tb_pagamentos[[#This Row],[Data_Vencimento]]=\"\",tb_pagamentos[[#This Row],[Valor_Parcela]]=\"\",tb_pagamentos[[#This Row],[Qtd_Total_Parcelas]]=\"\",tb_pagamentos[[#This Row],[Nr_Pedido]]=\"\"),\"\",IF(tb_pagamentos[[#This Row],[Data_Pagamento]]<>\"\",\"Pago\",IF(AND(tb_pagamentos[[#This Row],[Data_Pagamento]]=\"\",tb_pagamentos[[#This Row],[Data_Vencimento]]<TODAY()),\"Em Atraso\",\"A vencer\")))","v":""}]
[null,null,"",{"$f":"IFERROR(INDEX(CALC_BASE!$N$3:$N$52,MATCH(ROW()-7,CALC_BASE!$M$3:$M$52,0)),\"\")","v":""},{"$f":"IFERROR(INDEX(CALC_BASE!$O$3:$O$52,MATCH(ROW()-7,CALC_BASE!$M$3:$M$52,0)),\"\")","v":""},{"$f":"IFERROR(INDEX(CALC_BASE!$P$3:$P$52,MATCH(ROW()-7,CALC_BASE!$M$3:$M$52,0)),\"\")","v":""},{"$f":"IFERROR(IF(D427=\"\",\"\",INDEX(tb_vendas[Preço de Venda],MATCH(D427,tb_vendas[N° Pedido/Empresa],0))/F427),\"\")","v":""},{"$f":"IFERROR(IF(D427=\"\",\"\",INDEX(tb_vendas[Data Fechamento],MATCH(D427,tb_vendas[N° Pedido/Empresa],0))+E427*INDEX(tb_formas_pagamento[Dias_Intervalo],MATCH(INDEX(tb_vendas[Forma_Pagamento],MATCH(D427,tb_vendas[N° Pedido/Empresa],0)),tb_formas_pagamento[Nome_Forma],0))),\"\")","v":""},null,{"$f":"IF(OR(tb_pagamentos[[#This Row],[Data_Vencimento]]=\"\",tb_pagamentos[[#This Row],[Valor_Parcela]]=\"\",tb_pagamentos[[#This Row],[Qtd_Total_Parcelas]]=\"\",tb_pagamentos[[#This Row],[Nr_Pedido]]=\"\"),\"\",IF(tb_pagamentos[[#This Row],[Data_Pagamento]]<>\"\",\"Pago\",IF(AND(tb_pagamentos[[#This Row],[Data_Pagamento]]=\"\",tb_pagamentos[[#This Row],[Data_Vencimento]]<TODAY()),\"Em Atraso\",\"A vencer\")))","v":""}]
[null,null,"",{"$f":"IFERROR(INDEX(CALC_BASE!$N$3:$N$52,MATCH(ROW()-7,CALC_BASE!$M$3:$M$52,0)),\"\")","v":""},{"$f":"IFERROR(INDEX(CALC_BASE!$O$3:$O$52,MATCH(ROW()-7,CALC_BASE!$M$3:$M$52,0)),\"\")","v":""},{"$f":"IFERROR(INDEX(CALC_BASE!$P$3:$P$52,MATCH(ROW()-7,CALC_BASE!$M$3:$M$52,0)),\"\")","v":""},{"$f":"IFERROR(IF(D428=\"\",\"\",INDEX(tb_vendas[Preço de Venda],MATCH(D428,tb_vendas[N° Pedido/Empresa],0))/F428),\"\")","v":""},{"$f":"IFERROR(IF(D428=\"\",\"\",INDEX(tb_vendas[Data Fechamento],MATCH(D428,tb_vendas[N° Pedido/Empresa],0))+E428*INDEX(tb_formas_pagamento[Dias_Intervalo],MATCH(INDEX(tb_vendas[Forma_Pagamento],MATCH(D428,tb_vendas[N° Pedido/Empresa],0)),tb_formas_pagamento[Nome_Forma],0))),\"\")","v":""},null,{"$f":"IF(OR(tb_pagamentos[[#This Row],[Data_Vencimento]]=\"\",tb_pagamentos[[#This Row],[Valor_Parcela]]=\"\",tb_pagamentos[[#This Row],[Qtd_Total_Parcelas]]=\"\",tb_pagamentos[[#This Row],[Nr_Pedido]]=\"\"),\"\",IF(tb_pagamentos[[#This Row],[Data_Pagamento]]<>\"\",\"Pago\",IF(AND(tb_pagamentos[[#This Row],[Data_Pagamento]]=\"\",tb_pagamentos[[#This Row],[Data_Vencimento]]<TODAY()),\"Em Atraso\",\"A vencer\")))","v":""}]
[null,null,"",{"$f":"IFERROR(INDEX(CALC_BASE!$N$3:$N$52,MATCH(ROW()-7,CALC_BASE!$M$3:$M$52,0)),\"\")","v":""},{"$f":"IFERROR(INDEX(CALC_BASE!$O$3:$O$52,MATCH(ROW()-7,CALC_BASE!$M$3:$M$52,0)),\"\")","v":""},{"$f":"IFERROR(INDEX(CALC_BASE!$P$3:$P$52,MATCH(ROW()-7,CALC_BASE!$M$3:$M$52,0)),\"\")","v":""},{"$f":"IFERROR(IF(D429=\"\",\"\",INDEX(tb_vendas[Preço de Venda],MATCH(D429,tb_vendas[N° Pedido/Empresa],0))/F429),\"\")","v":""},{"$f":"IFERROR(IF(D429=\"\",\"\",INDEX(tb_vendas[Data Fechamento],MATCH(D429,tb_vendas[N° Pedido/Empresa],0))+E429*INDEX(tb_formas_pagamento[Dias_Intervalo],MATCH(INDEX(tb_vendas[Forma_Pagamento],MATCH(D429,tb_vendas[N° Pedido/Empresa],0)),tb_formas_pagamento[Nome_Forma],0))),\"\")","v":""},null,{"$f":"IF(OR(tb_pagamentos[[#This Row],[Data_Vencimento]]=\"\",tb_pagamentos[[#This Row],[Valor_Parcela]]=\"\",tb_pagamentos[[#This Row],[Qtd_Total_Parcelas]]=\"\",tb_pagamentos[[#This Row],[Nr_Pedido]]=\"\"),\"\",IF(tb_pagamentos[[#This Row],[Data_Pagamento]]<>\"\",\"Pago\",IF(AND(tb_pagamentos[[#This Row],[Data_Pagamento]]=\"\",tb_pagamentos[[#This Row],[Data_Vencimento]]<TODAY()),\"Em Atraso\",\"A vencer\")))","v":""}]
[null,null,"",{"$f":"IFERROR(INDEX(CALC_BASE!$N$3:$N$52,MATCH(ROW()-7,CALC_BASE!$M$3:$M$52,0)),\"\")","v":""},{"$f":"IFERROR(INDEX(CALC_BASE!$O$3:$O$52,MATCH(ROW()-7,CALC_BASE!$M$3:$M$52,0)),\"\")","v":""},{"$f":"IFERROR(INDEX(CALC_BASE!$P$3:$P$52,MATCH(ROW()-7,CALC_BASE!$M$3:$M$52,0)),\"\")","v":""},{"$f":"IFERROR(IF(D430=\"\",\"\",INDEX(tb_vendas[Preço de Venda],MATCH(D430,tb_vendas[N° Pedido/Empresa],0))/F430),\"\")","v":""},{"$f":"IFERROR(IF(D430=\"\",\"\",INDEX(tb_vendas[Data Fechamento],MATCH(D430,tb_vendas[N° Pedido/Empresa],0))+E430*INDEX(tb_formas_pagamento[Dias_Intervalo],MATCH(INDEX(tb_vendas[Forma_Pagamento],MATCH(D430,tb_vendas[N° Pedido/Empresa],0)),tb_formas_pagamento[Nome_Forma],0))),\"\")","v":""},null,{"$f":"IF(OR(tb_pagamentos[[#This Row],[Data_Vencimento]]=\"\",tb_pagamentos[[#This Row],[Valor_Parcela]]=\"\",tb_pagamentos[[#This Row],[Qtd_Total_Parcelas]]=\"\",tb_pagamentos[[#This Row],[Nr_Pedido]]=\"\"),\"\",IF(tb_pagamentos[[#This Row],[Data_Pagamento]]<>\"\",\"Pago\",IF(AND(tb_pagamentos[[#This Row],[Data_Pagamento]]=\"\",tb_pagamentos[[#This Row],[Data_Vencimento]]<TODAY()),\"Em Atraso\",\"A vencer\")))","v":""}]
[null,null,"",{"$f":"IFERROR(INDEX(CALC_BASE!$N$3:$N$52,MATCH(ROW()-7,CALC_BASE!$M$3:$M$52,0)),\"\")","v":""},{"$f":"IFERROR(INDEX(CALC_BASE!$O$3:$O$52,MATCH(ROW()-7,CALC_BASE!$M$3:$M$52,0)),\"\")","v":""},{"$f":"IFERROR(INDEX(CALC_BASE!$P$3:$P$52,MATCH(ROW()-7,CALC_BASE!$M$3:$M$52,0)),\"\")","v":""},{"$f":"IFERROR(IF(D431=\"\",\"\",INDEX(tb_vendas[Preço de Venda],MATCH(D431,tb_vendas[N° Pedido/Empresa],0))/F431),\"\")","v":""},{"$f":"IFERROR(IF(D431=\"\",\"\",INDEX(tb_vendas[Data Fechamento],MATCH(D431,tb_vendas[N° Pedido/Empresa],0))+E431*INDEX(tb_formas_pagamento[Dias_Intervalo],MATCH(INDEX(tb_vendas[Forma_Pagamento],MATCH(D431,tb_vendas[N° Pedido/Empresa],0)),tb_formas_pagamento[Nome_Forma],0))),\"\")","v":""},null,{"$f":"IF(OR(tb_pagamentos[[#This Row],[Data_Vencimento]]=\"\",tb_pagamentos[[#This Row],[Valor_Parcela]]=\"\",tb_pagamentos[[#This Row],[Qtd_Total_Parcelas]]=\"\",tb_pagamentos[[#This Row],[Nr_Pedido]]=\"\"),\"\",IF(tb_pagamentos[[#This Row],[Data_Pagamento]]<>\"\",\"Pago\",IF(AND(tb_pagamentos[[#This Row],[Data_Pagamento]]=\"\",tb_pagamentos[[#This Row],[Data_Vencimento]]<TODAY()),\"Em Atraso\",\"A vencer\")))","v":""}]
[null,null,"",{"$f":"IFERROR(INDEX(CALC_BASE!$N$3:$N$52,MATCH(ROW()-7,CALC_BASE!$M$3:$M$52,0)),\"\")","v":""},{"$f":"IFERROR(INDEX(CALC_BASE!$O$3:$O$52,MATCH(ROW()-7,CALC_BASE!$M$3:$M$52,0)),\"\")","v":""},{"$f":"IFERROR(INDEX(CALC_BASE!$P$3:$P$52,MATCH(ROW()-7,CALC_BASE!$M$3:$M$52,0)),\"\")","v":""},{"$f":"IFERROR(IF(D432=\"\",\"\",INDEX(tb_vendas[Preço de Venda],MATCH(D432,tb_vendas[N° Pedido/Empresa],0))/F432),\"\")","v":""},{"$f":"IFERROR(IF(D432=\"\",\"\",INDEX(tb_vendas[Data Fechamento],MATCH(D432,tb_vendas[N° Pedido/Empresa],0))+E432*INDEX(tb_formas_pagamento[Dias_Intervalo],MATCH(INDEX(tb_vendas[Forma_Pagamento],MATCH(D432,tb_vendas[N° Pedido/Empresa],0)),tb_formas_pagamento[Nome_Forma],0))),\"\")","v":""},null,{"$f":"IF(OR(tb_pagamentos[[#This Row],[Data_Vencimento]]=\"\",tb_pagamentos[[#This Row],[Valor_Parcela]]=\"\",tb_pagamentos[[#This Row],[Qtd_Total_Parcelas]]=\"\",tb_pagamentos[[#This Row],[Nr_Pedido]]=\"\"),\"\",IF(tb_pagamentos[[#This Row],[Data_Pagamento]]<>\"\",\"Pago\",IF(AND(tb_pagamentos[[#This Row],[Data_Pagamento]]=\"\",tb_pagamentos[[#This Row],[Data_Vencimento]]<TODAY()),\"Em Atraso\",\"A vencer\")))","v":""}]
[null,null,"",{"$f":"IFERROR(INDEX(CALC_BASE!$N$3:$N$52,MATCH(ROW()-7,CALC_BASE!$M$3:$M$52,0)),\"\")","v":""},{"$f":"IFERROR(INDEX(CALC_BASE!$O$3:$O$52,MATCH(ROW()-7,CALC_BASE!$M$3:$M$52,0)),\"\")","v":""},{"$f":"IFERROR(INDEX(CALC_BASE!$P$3:$P$52,MATCH(ROW()-7,CALC_BASE!$M$3:$M$52,0)),\"\")","v":""},{"$f":"IFERROR(IF(D433=\"\",\"\",INDEX(tb_vendas[Preço de Venda],MATCH(D433,tb_vendas[N° Pedido/Empresa],0))/F433),\"\")","v":""},{"$f":"IFERROR(IF(D433=\"\",\"\",INDEX(tb_vendas[Data Fechamento],MATCH(D433,tb_vendas[N° Pedido/Empresa],0))+E433*INDEX(tb_formas_pagamento[Dias_Intervalo],MATCH(INDEX(tb_vendas[Forma_Pagamento],MATCH(D433,tb_vendas[N° Pedido/Empresa],0)),tb_formas_pagamento[Nome_Forma],0))),\"\")","v":""},null,{"$f":"IF(OR(tb_pagamentos[[#This Row],[Data_Vencimento]]=\"\",tb_pagamentos[[#This Row],[Valor_Parcela]]=\"\",tb_pagamentos[[#This Row],[Qtd_Total_Parcelas]]=\"\",tb_pagamentos[[#This Row],[Nr_Pedido]]=\"\"),\"\",IF(tb_pagamentos[[#This Row],[Data_Pagamento]]<>\"\",\"Pago\",IF(AND(tb_pagamentos[[#This Row],[Data_Pagamento]]=\"\",tb_pagamentos[[#This Row],[Data_Vencimento]]<TODAY()),\"Em Atraso\",\"A vencer\")))","v":""}]
[null,null,"",{"$f":"IFERROR(INDEX(CALC_BASE!$N$3:$N$52,MATCH(ROW()-7,CALC_BASE!$M$3:$M$52,0)),\"\")","v":""},{"$f":"IFERROR(INDEX(CALC_BASE!$O$3:$O$52,MATCH(ROW()-7,CALC_BASE!$M$3:$M$52,0)),\"\")","v":""},{"$f":"IFERROR(INDEX(CALC_BASE!$P$3:$P$52,MATCH(ROW()-7,CALC_BASE!$M$3:$M$52,0)),\"\")","v":""},{"$f":"IFERROR(IF(D434=\"\",\"\",INDEX(tb_vendas[Preço de Venda],MATCH(D434,tb_vendas[N° Pedido/Empresa],0))/F434),\"\")","v":""},{"$f":"IFERROR(IF(D434=\"\",\"\",INDEX(tb_vendas[Data Fechamento],MATCH(D434,tb_vendas[N° Pedido/Empresa],0))+E434*INDEX(tb_formas_pagamento[Dias_Intervalo],MATCH(INDEX(tb_vendas[Forma_Pagamento],MATCH(D434,tb_vendas[N° Pedido/Empresa],0)),tb_formas_pagamento[Nome_Forma],0))),\"\")","v":""},null,{"$f":"IF(OR(tb_pagamentos[[#This Row],[Data_Vencimento]]=\"\",tb_pagamentos[[#This Row],[Valor_Parcela]]=\"\",tb_pagamentos[[#This Row],[Qtd_Total_Parcelas]]=\"\",tb_pagamentos[[#This Row],[Nr_Pedido]]=\"\"),\"\",IF(tb_pagamentos[[#This Row],[Data_Pagamento]]<>\"\",\"Pago\",IF(AND(tb_pagamentos[[#This Row],[Data_Pagamento]]=\"\",tb_pagamentos[[#This Row],[Data_Vencimento]]<TODAY()),\"Em Atraso\",\"A vencer\")))","v":""}]
[null,null,"",{"$f":"IFERROR(INDEX(CALC_BASE!$N$3:$N$52,MATCH(ROW()-7,CALC_BASE!$M$3:$M$52,0)),\"\")","v":""},{"$f":"IFERROR(INDEX(CALC_BASE!$O$3:$O$52,MATCH(ROW()-7,CALC_BASE!$M$3:$M$52,0)),\"\")","v":""},{"$f":"IFERROR(INDEX(CALC_BASE!$P$3:$P$52,MATCH(ROW()-7,CALC_BASE!$M$3:$M$52,0)),\"\")","v":""},{"$f":"IFERROR(IF(D435=\"\",\"\",INDEX(tb_vendas[Preço de Venda],MATCH(D435,tb_vendas[N° Pedido/Empresa],0))/F435),\"\")","v":""},{"$f":"IFERROR(IF(D435=\"\",\"\",INDEX(tb_vendas[Data Fechamento],MATCH(D435,tb_vendas[N° Pedido/Empresa],0))+E435*INDEX(tb_formas_pagamento[Dias_Intervalo],MATCH(INDEX(tb_vendas[Forma_Pagamento],MATCH(D435,tb_vendas[N° Pedido/Empresa],0)),tb_formas_pagamento[Nome_Forma],0))),\"\")","v":""},null,{"$f":"IF(OR(tb_pagamentos[[#This Row],[Data_Vencimento]]=\"\",tb_pagamentos[[#This Row],[Valor_Parcela]]=\"\",tb_pagamentos[[#This Row],[Qtd_Total_Parcelas]]=\"\",tb_pagamentos[[#This Row],[Nr_Pedido]]=\"\"),\"\",IF(tb_pagamentos[[#This Row],[Data_Pagamento]]<>\"\",\"Pago\",IF(AND(tb_pagamentos[[#This Row],[Data_Pagamento]]=\"\",tb_pagamentos[[#This Row],[Data_Vencimento]]<TODAY()),\"Em Atraso\",\"A vencer\")))","v":""}]
[null,null,"",{"$f":"IFERROR(INDEX(CALC_BASE!$N$3:$N$52,MATCH(ROW()-7,CALC_BASE!$M$3:$M$52,0)),\"\")","v":""},{"$f":"IFERROR(INDEX(CALC_BASE!$O$3:$O$52,MATCH(ROW()-7,CALC_BASE!$M$3:$M$52,0)),\"\")","v":""},{"$f":"IFERROR(INDEX(CALC_BASE!$P$3:$P$52,MATCH(ROW()-7,CALC_BASE!$M$3:$M$52,0)),\"\")","v":""},{"$f":"IFERROR(IF(D436=\"\",\"\",INDEX(tb_vendas[Preço de Venda],MATCH(D436,tb_vendas[N° Pedido/Empresa],0))/F436),\"\")","v":""},{"$f":"IFERROR(IF(D436=\"\",\"\",INDEX(tb_vendas[Data Fechamento],MATCH(D436,tb_vendas[N° Pedido/Empresa],0))+E436*INDEX(tb_formas_pagamento[Dias_Intervalo],MATCH(INDEX(tb_vendas[Forma_Pagamento],MATCH(D436,tb_vendas[N° Pedido/Empresa],0)),tb_formas_pagamento[Nome_Forma],0))),\"\")","v":""},null,{"$f":"IF(OR(tb_pagamentos[[#This Row],[Data_Vencimento]]=\"\",tb_pagamentos[[#This Row],[Valor_Parcela]]=\"\",tb_pagamentos[[#This Row],[Qtd_Total_Parcelas]]=\"\",tb_pagamentos[[#This Row],[Nr_Pedido]]=\"\"),\"\",IF(tb_pagamentos[[#This Row],[Data_Pagamento]]<>\"\",\"Pago\",IF(AND(tb_pagamentos[[#This Row],[Data_Pagamento]]=\"\",tb_pagamentos[[#This Row],[Data_Vencimento]]<TODAY()),\"Em Atraso\",\"A vencer\")))","v":""}]
[null,null,"",{"$f":"IFERROR(INDEX(CALC_BASE!$N$3:$N$52,MATCH(ROW()-7,CALC_BASE!$M$3:$M$52,0)),\"\")","v":""},{"$f":"IFERROR(INDEX(CALC_BASE!$O$3:$O$52,MATCH(ROW()-7,CALC_BASE!$M$3:$M$52,0)),\"\")","v":""},{"$f":"IFERROR(INDEX(CALC_BASE!$P$3:$P$52,MATCH(ROW()-7,CALC_BASE!$M$3:$M$52,0)),\"\")","v":""},{"$f":"IFERROR(IF(D437=\"\",\"\",INDEX(tb_vendas[Preço de Venda],MATCH(D437,tb_vendas[N° Pedido/Empresa],0))/F437),\"\")","v":""},{"$f":"IFERROR(IF(D437=\"\",\"\",INDEX(tb_vendas[Data Fechamento],MATCH(D437,tb_vendas[N° Pedido/Empresa],0))+E437*INDEX(tb_formas_pagamento[Dias_Intervalo],MATCH(INDEX(tb_vendas[Forma_Pagamento],MATCH(D437,tb_vendas[N° Pedido/Empresa],0)),tb_formas_pagamento[Nome_Forma],0))),\"\")","v":""},null,{"$f":"IF(OR(tb_pagamentos[[#This Row],[Data_Vencimento]]=\"\",tb_pagamentos[[#This Row],[Valor_Parcela]]=\"\",tb_pagamentos[[#This Row],[Qtd_Total_Parcelas]]=\"\",tb_pagamentos[[#This Row],[Nr_Pedido]]=\"\"),\"\",IF(tb_pagamentos[[#This Row],[Data_Pagamento]]<>\"\",\"Pago\",IF(AND(tb_pagamentos[[#This Row],[Data_Pagamento]]=\"\",tb_pagamentos[[#This Row],[Data_Vencimento]]<TODAY()),\"Em Atraso\",\"A vencer\")))","v":""}]
[null,null,"",{"$f":"IFERROR(INDEX(CALC_BASE!$N$3:$N$52,MATCH(ROW()-7,CALC_BASE!$M$3:$M$52,0)),\"\")","v":""},{"$f":"IFERROR(INDEX(CALC_BASE!$O$3:$O$52,MATCH(ROW()-7,CALC_BASE!$M$3:$M$52,0)),\"\")","v":""},{"$f":"IFERROR(INDEX(CALC_BASE!$P$3:$P$52,MATCH(ROW()-7,CALC_BASE!$M$3:$M$52,0)),\"\")","v":""},{"$f":"IFERROR(IF(D438=\"\",\"\",INDEX(tb_vendas[Preço de Venda],MATCH(D438,tb_vendas[N° Pedido/Empresa],0))/F438),\"\")","v":""},{"$f":"IFERROR(IF(D438=\"\",\"\",INDEX(tb_vendas[Data Fechamento],MATCH(D438,tb_vendas[N° Pedido/Empresa],0))+E438*INDEX(tb_formas_pagamento[Dias_Intervalo],MATCH(INDEX(tb_vendas[Forma_Pagamento],MATCH(D438,tb_vendas[N° Pedido/Empresa],0)),tb_formas_pagamento[Nome_Forma],0))),\"\")","v":""},null,{"$f":"IF(OR(tb_pagamentos[[#This Row],[Data_Vencimento]]=\"\",tb_pagamentos[[#This Row],[Valor_Parcela]]=\"\",tb_pagamentos[[#This Row],[Qtd_Total_Parcelas]]=\"\",tb_pagamentos[[#This Row],[Nr_Pedido]]=\"\"),\"\",IF(tb_pagamentos[[#This Row],[Data_Pagamento]]<>\"\",\"Pago\",IF(AND(tb_pagamentos[[#This Row],[Data_Pagamento]]=\"\",tb_pagamentos[[#This Row],[Data_Vencimento]]<TODAY()),\"Em Atraso\",\"A vencer\")))","v":""}]
[null,null,"",{"$f":"IFERROR(INDEX(CALC_BASE!$N$3:$N$52,MATCH(ROW()-7,CALC_BASE!$M$3:$M$52,0)),\"\")","v":""},{"$f":"IFERROR(INDEX(CALC_BASE!$O$3:$O$52,MATCH(ROW()-7,CALC_BASE!$M$3:$M$52,0)),\"\")","v":""},{"$f":"IFERROR(INDEX(CALC_BASE!$P$3:$P$52,MATCH(ROW()-7,CALC_BASE!$M$3:$M$52,0)),\"\")","v":""},{"$f":"IFERROR(IF(D439=\"\",\"\",INDEX(tb_vendas[Preço de Venda],MATCH(D439,tb_vendas[N° Pedido/Empresa],0))/F439),\"\")","v":""},{"$f":"IFERROR(IF(D439=\"\",\"\",INDEX(tb_vendas[Data Fechamento],MATCH(D439,tb_vendas[N° Pedido/Empresa],0))+E439*INDEX(tb_formas_pagamento[Dias_Intervalo],MATCH(INDEX(tb_vendas[Forma_Pagamento],MATCH(D439,tb_vendas[N° Pedido/Empresa],0)),tb_formas_pagamento[Nome_Forma],0))),\"\")","v":""},null,{"$f":"IF(OR(tb_pagamentos[[#This Row],[Data_Vencimento]]=\"\",tb_pagamentos[[#This Row],[Valor_Parcela]]=\"\",tb_pagamentos[[#This Row],[Qtd_Total_Parcelas]]=\"\",tb_pagamentos[[#This Row],[Nr_Pedido]]=\"\"),\"\",IF(tb_pagamentos[[#This Row],[Data_Pagamento]]<>\"\",\"Pago\",IF(AND(tb_pagamentos[[#This Row],[Data_Pagamento]]=\"\",tb_pagamentos[[#This Row],[Data_Vencimento]]<TODAY()),\"Em Atraso\",\"A vencer\")))","v":""}]
[null,null,"",{"$f":"IFERROR(INDEX(CALC_BASE!$N$3:$N$52,MATCH(ROW()-7,CALC_BASE!$M$3:$M$52,0)),\"\")","v":""},{"$f":"IFERROR(INDEX(CALC_BASE!$O$3:$O$52,MATCH(ROW()-7,CALC_BASE!$M$3:$M$52,0)),\"\")","v":""},{"$f":"IFERROR(INDEX(CALC_BASE!$P$3:$P$52,MATCH(ROW()-7,CALC_BASE!$M$3:$M$52,0)),\"\")","v":""},{"$f":"IFERROR(IF(D440=\"\",\"\",INDEX(tb_vendas[Preço de Venda],MATCH(D440,tb_vendas[N° Pedido/Empresa],0))/F440),\"\")","v":""},{"$f":"IFERROR(IF(D440=\"\",\"\",INDEX(tb_vendas[Data Fechamento],MATCH(D440,tb_vendas[N° Pedido/Empresa],0))+E440*INDEX(tb_formas_pagamento[Dias_Intervalo],MATCH(INDEX(tb_vendas[Forma_Pagamento],MATCH(D440,tb_vendas[N° Pedido/Empresa],0)),tb_formas_pagamento[Nome_Forma],0))),\"\")","v":""},null,{"$f":"IF(OR(tb_pagamentos[[#This Row],[Data_Vencimento]]=\"\",tb_pagamentos[[#This Row],[Valor_Parcela]]=\"\",tb_pagamentos[[#This Row],[Qtd_Total_Parcelas]]=\"\",tb_pagamentos[[#This Row],[Nr_Pedido]]=\"\"),\"\",IF(tb_pagamentos[[#This Row],[Data_Pagamento]]<>\"\",\"Pago\",IF(AND(tb_pagamentos[[#This Row],[Data_Pagamento]]=\"\",tb_pagamentos[[#This Row],[Data_Vencimento]]<TODAY()),\"Em Atraso\",\"A vencer\")))","v":""}]
[null,null,"",{"$f":"IFERROR(INDEX(CALC_BASE!$N$3:$N$52,MATCH(ROW()-7,CALC_BASE!$M$3:$M$52,0)),\"\")","v":""},{"$f":"IFERROR(INDEX(CALC_BASE!$O$3:$O$52,MATCH(ROW()-7,CALC_BASE!$M$3:$M$52,0)),\"\")","v":""},{"$f":"IFERROR(INDEX(CALC_BASE!$P$3:$P$52,MATCH(ROW()-7,CALC_BASE!$M$3:$M$52,0)),\"\")","v":""},{"$f":"IFERROR(IF(D441=\"\",\"\",INDEX(tb_vendas[Preço de Venda],MATCH(D441,tb_vendas[N° Pedido/Empresa],0))/F441),\"\")","v":""},{"$f":"IFERROR(IF(D441=\"\",\"\",INDEX(tb_vendas[Data Fechamento],MATCH(D441,tb_vendas[N° Pedido/Empresa],0))+E441*INDEX(tb_formas_pagamento[Dias_Intervalo],MATCH(INDEX(tb_vendas[Forma_Pagamento],MATCH(D441,tb_vendas[N° Pedido/Empresa],0)),tb_formas_pagamento[Nome_Forma],0))),\"\")","v":""},null,{"$f":"IF(OR(tb_pagamentos[[#This Row],[Data_Vencimento]]=\"\",tb_pagamentos[[#This Row],[Valor_Parcela]]=\"\",tb_pagamentos[[#This Row],[Qtd_Total_Parcelas]]=\"\",tb_pagamentos[[#This Row],[Nr_Pedido]]=\"\"),\"\",IF(tb_pagamentos[[#This Row],[Data_Pagamento]]<>\"\",\"Pago\",IF(AND(tb_pagamentos[[#This Row],[Data_Pagamento]]=\"\",tb_pagamentos[[#This Row],[Data_Vencimento]]<TODAY()),\"Em Atraso\",\"A vencer\")))","v":""}]
[null,null,"",{"$f":"IFERROR(INDEX(CALC_BASE!$N$3:$N$52,MATCH(ROW()-7,CALC_BASE!$M$3:$M$52,0)),\"\")","v":""},{"$f":"IFERROR(INDEX(CALC_BASE!$O$3:$O$52,MATCH(ROW()-7,CALC_BASE!$M$3:$M$52,0)),\"\")","v":""},{"$f":"IFERROR(INDEX(CALC_BASE!$P$3:$P$52,MATCH(ROW()-7,CALC_BASE!$M$3:$M$52,0)),\"\")","v":""},{"$f":"IFERROR(IF(D442=\"\",\"\",INDEX(tb_vendas[Preço de Venda],MATCH(D442,tb_vendas[N° Pedido/Empresa],0))/F442),\"\")","v":""},{"$f":"IFERROR(IF(D442=\"\",\"\",INDEX(tb_vendas[Data Fechamento],MATCH(D442,tb_vendas[N° Pedido/Empresa],0))+E442*INDEX(tb_formas_pagamento[Dias_Intervalo],MATCH(INDEX(tb_vendas[Forma_Pagamento],MATCH(D442,tb_vendas[N° Pedido/Empresa],0)),tb_formas_pagamento[Nome_Forma],0))),\"\")","v":""},null,{"$f":"IF(OR(tb_pagamentos[[#This Row],[Data_Vencimento]]=\"\",tb_pagamentos[[#This Row],[Valor_Parcela]]=\"\",tb_pagamentos[[#This Row],[Qtd_Total_Parcelas]]=\"\",tb_pagamentos[[#This Row],[Nr_Pedido]]=\"\"),\"\",IF(tb_pagamentos[[#This Row],[Data_Pagamento]]<>\"\",\"Pago\",IF(AND(tb_pagamentos[[#This Row],[Data_Pagamento]]=\"\",tb_pagamentos[[#This Row],[Data_Vencimento]]<TODAY()),\"Em Atraso\",\"A vencer\")))","v":""}]
[null,null,"",{"$f":"IFERROR(INDEX(CALC_BASE!$N$3:$N$52,MATCH(ROW()-7,CALC_BASE!$M$3:$M$52,0)),\"\")","v":""},{"$f":"IFERROR(INDEX(CALC_BASE!$O$3:$O$52,MATCH(ROW()-7,CALC_BASE!$M$3:$M$52,0)),\"\")","v":""},{"$f":"IFERROR(INDEX(CALC_BASE!$P$3:$P$52,MATCH(ROW()-7,CALC_BASE!$M$3:$M$52,0)),\"\")","v":""},{"$f":"IFERROR(IF(D443=\"\",\"\",INDEX(tb_vendas[Preço de Venda],MATCH(D443,tb_vendas[N° Pedido/Empresa],0))/F443),\"\")","v":""},{"$f":"IFERROR(IF(D443=\"\",\"\",INDEX(tb_vendas[Data Fechamento],MATCH(D443,tb_vendas[N° Pedido/Empresa],0))+E443*INDEX(tb_formas_pagamento[Dias_Intervalo],MATCH(INDEX(tb_vendas[Forma_Pagamento],MATCH(D443,tb_vendas[N° Pedido/Empresa],0)),tb_formas_pagamento[Nome_Forma],0))),\"\")","v":""},null,{"$f":"IF(OR(tb_pagamentos[[#This Row],[Data_Vencimento]]=\"\",tb_pagamentos[[#This Row],[Valor_Parcela]]=\"\",tb_pagamentos[[#This Row],[Qtd_Total_Parcelas]]=\"\",tb_pagamentos[[#This Row],[Nr_Pedido]]=\"\"),\"\",IF(tb_pagamentos[[#This Row],[Data_Pagamento]]<>\"\",\"Pago\",IF(AND(tb_pagamentos[[#This Row],[Data_Pagamento]]=\"\",tb_pagamentos[[#This Row],[Data_Vencimento]]<TODAY()),\"Em Atraso\",\"A vencer\")))","v":""}]
[null,null,"",{"$f":"IFERROR(INDEX(CALC_BASE!$N$3:$N$52,MATCH(ROW()-7,CALC_BASE!$M$3:$M$52,0)),\"\")","v":""},{"$f":"IFERROR(INDEX(CALC_BASE!$O$3:$O$52,MATCH(ROW()-7,CALC_BASE!$M$3:$M$52,0)),\"\")","v":""},{"$f":"IFERROR(INDEX(CALC_BASE!$P$3:$P$52,MATCH(ROW()-7,CALC_BASE!$M$3:$M$52,0)),\"\")","v":""},{"$f":"IFERROR(IF(D444=\"\",\"\",INDEX(tb_vendas[Preço de Venda],MATCH(D444,tb_vendas[N° Pedido/Empresa],0))/F444),\"\")","v":""},{"$f":"IFERROR(IF(D444=\"\",\"\",INDEX(tb_vendas[Data Fechamento],MATCH(D444,tb_vendas[N° Pedido/Empresa],0))+E444*INDEX(tb_formas_pagamento[Dias_Intervalo],MATCH(INDEX(tb_vendas[Forma_Pagamento],MATCH(D444,tb_vendas[N° Pedido/Empresa],0)),tb_formas_pagamento[Nome_Forma],0))),\"\")","v":""},null,{"$f":"IF(OR(tb_pagamentos[[#This Row],[Data_Vencimento]]=\"\",tb_pagamentos[[#This Row],[Valor_Parcela]]=\"\",tb_pagamentos[[#This Row],[Qtd_Total_Parcelas]]=\"\",tb_pagamentos[[#This Row],[Nr_Pedido]]=\"\"),\"\",IF(tb_pagamentos[[#This Row],[Data_Pagamento]]<>\"\",\"Pago\",IF(AND(tb_pagamentos[[#This Row],[Data_Pagamento]]=\"\",tb_pagamentos[[#This Row],[Data_Vencimento]]<TODAY()),\"Em Atraso\",\"A vencer\")))","v":""}]
[null,null,"",{"$f":"IFERROR(INDEX(CALC_BASE!$N$3:$N$52,MATCH(ROW()-7,CALC_BASE!$M$3:$M$52,0)),\"\")","v":""},{"$f":"IFERROR(INDEX(CALC_BASE!$O$3:$O$52,MATCH(ROW()-7,CALC_BASE!$M$3:$M$52,0)),\"\")","v":""},{"$f":"IFERROR(INDEX(CALC_BASE!$P$3:$P$52,MATCH(ROW()-7,CALC_BASE!$M$3:$M$52,0)),\"\")","v":""},{"$f":"IFERROR(IF(D445=\"\",\"\",INDEX(tb_vendas[Preço de Venda],MATCH(D445,tb_vendas[N° Pedido/Empresa],0))/F445),\"\")","v":""},{"$f":"IFERROR(IF(D445=\"\",\"\",INDEX(tb_vendas[Data Fechamento],MATCH(D445,tb_vendas[N° Pedido/Empresa],0))+E445*INDEX(tb_formas_pagamento[Dias_Intervalo],MATCH(INDEX(tb_vendas[Forma_Pagamento],MATCH(D445,tb_vendas[N° Pedido/Empresa],0)),tb_formas_pagamento[Nome_Forma],0))),\"\")","v":""},null,{"$f":"IF(OR(tb_pagamentos[[#This Row],[Data_Vencimento]]=\"\",tb_pagamentos[[#This Row],[Valor_Parcela]]=\"\",tb_pagamentos[[#This Row],[Qtd_Total_Parcelas]]=\"\",tb_pagamentos[[#This Row],[Nr_Pedido]]=\"\"),\"\",IF(tb_pagamentos[[#This Row],[Data_Pagamento]]<>\"\",\"Pago\",IF(AND(tb_pagamentos[[#This Row],[Data_Pagamento]]=\"\",tb_pagamentos[[#This Row],[Data_Vencimento]]<TODAY()),\"Em Atraso\",\"A vencer\")))","v":""}]
[null,null,"",{"$f":"IFERROR(INDEX(CALC_BASE!$N$3:$N$52,MATCH(ROW()-7,CALC_BASE!$M$3:$M$52,0)),\"\")","v":""},{"$f":"IFERROR(INDEX(CALC_BASE!$O$3:$O$52,MATCH(ROW()-7,CALC_BASE!$M$3:$M$52,0)),\"\")","v":""},{"$f":"IFERROR(INDEX(CALC_BASE!$P$3:$P$52,MATCH(ROW()-7,CALC_BASE!$M$3:$M$52,0)),\"\")","v":""},{"$f":"IFERROR(IF(D446=\"\",\"\",INDEX(tb_vendas[Preço de Venda],MATCH(D446,tb_vendas[N° Pedido/Empresa],0))/F446),\"\")","v":""},{"$f":"IFERROR(IF(D446=\"\",\"\",INDEX(tb_vendas[Data Fechamento],MATCH(D446,tb_vendas[N° Pedido/Empresa],0))+E446*INDEX(tb_formas_pagamento[Dias_Intervalo],MATCH(INDEX(tb_vendas[Forma_Pagamento],MATCH(D446,tb_vendas[N° Pedido/Empresa],0)),tb_formas_pagamento[Nome_Forma],0))),\"\")","v":""},null,{"$f":"IF(OR(tb_pagamentos[[#This Row],[Data_Vencimento]]=\"\",tb_pagamentos[[#This Row],[Valor_Parcela]]=\"\",tb_pagamentos[[#This Row],[Qtd_Total_Parcelas]]=\"\",tb_pagamentos[[#This Row],[Nr_Pedido]]=\"\"),\"\",IF(tb_pagamentos[[#This Row],[Data_Pagamento]]<>\"\",\"Pago\",IF(AND(tb_pagamentos[[#This Row],[Data_Pagamento]]=\"\",tb_pagamentos[[#This Row],[Data_Vencimento]]<TODAY()),\"Em Atraso\",\"A vencer\")))","v":""}]
[null,null,"",{"$f":"IFERROR(INDEX(CALC_BASE!$N$3:$N$52,MATCH(ROW()-7,CALC_BASE!$M$3:$M$52,0)),\"\")","v":""},{"$f":"IFERROR(INDEX(CALC_BASE!$O$3:$O$52,MATCH(ROW()-7,CALC_BASE!$M$3:$M$52,0)),\"\")","v":""},{"$f":"IFERROR(INDEX(CALC_BASE!$P$3:$P$52,MATCH(ROW()-7,CALC_BASE!$M$3:$M$52,0)),\"\")","v":""},{"$f":"IFERROR(IF(D447=\"\",\"\",INDEX(tb_vendas[Preço de Venda],MATCH(D447,tb_vendas[N° Pedido/Empresa],0))/F447),\"\")","v":""},{"$f":"IFERROR(IF(D447=\"\",\"\",INDEX(tb_vendas[Data Fechamento],MATCH(D447,tb_vendas[N° Pedido/Empresa],0))+E447*INDEX(tb_formas_pagamento[Dias_Intervalo],MATCH(INDEX(tb_vendas[Forma_Pagamento],MATCH(D447,tb_vendas[N° Pedido/Empresa],0)),tb_formas_pagamento[Nome_Forma],0))),\"\")","v":""},null,{"$f":"IF(OR(tb_pagamentos[[#This Row],[Data_Vencimento]]=\"\",tb_pagamentos[[#This Row],[Valor_Parcela]]=\"\",tb_pagamentos[[#This Row],[Qtd_Total_Parcelas]]=\"\",tb_pagamentos[[#This Row],[Nr_Pedido]]=\"\"),\"\",IF(tb_pagamentos[[#This Row],[Data_Pagamento]]<>\"\",\"Pago\",IF(AND(tb_pagamentos[[#This Row],[Data_Pagamento]]=\"\",tb_pagamentos[[#This Row],[Data_Vencimento]]<TODAY()),\"Em Atraso\",\"A vencer\")))","v":""}]
[null,null,"",{"$f":"IFERROR(INDEX(CALC_BASE!$N$3:$N$52,MATCH(ROW()-7,CALC_BASE!$M$3:$M$52,0)),\"\")","v":""},{"$f":"IFERROR(INDEX(CALC_BASE!$O$3:$O$52,MATCH(ROW()-7,CALC_BASE!$M$3:$M$52,0)),\"\")","v":""},{"$f":"IFERROR(INDEX(CALC_BASE!$P$3:$P$52,MATCH(ROW()-7,CALC_BASE!$M$3:$M$52,0)),\"\")","v":""},{"$f":"IFERROR(IF(D448=\"\",\"\",INDEX(tb_vendas[Preço de Venda],MATCH(D448,tb_vendas[N° Pedido/Empresa],0))/F448),\"\")","v":""},{"$f":"IFERROR(IF(D448=\"\",\"\",INDEX(tb_vendas[Data Fechamento],MATCH(D448,tb_vendas[N° Pedido/Empresa],0))+E448*INDEX(tb_formas_pagamento[Dias_Intervalo],MATCH(INDEX(tb_vendas[Forma_Pagamento],MATCH(D448,tb_vendas[N° Pedido/Empresa],0)),tb_formas_pagamento[Nome_Forma],0))),\"\")","v":""},null,{"$f":"IF(OR(tb_pagamentos[[#This Row],[Data_Vencimento]]=\"\",tb_pagamentos[[#This Row],[Valor_Parcela]]=\"\",tb_pagamentos[[#This Row],[Qtd_Total_Parcelas]]=\"\",tb_pagamentos[[#This Row],[Nr_Pedido]]=\"\"),\"\",IF(tb_pagamentos[[#This Row],[Data_Pagamento]]<>\"\",\"Pago\",IF(AND(tb_pagamentos[[#This Row],[Data_Pagamento]]=\"\",tb_pagamentos[[#This Row],[Data_Vencimento]]<TODAY()),\"Em Atraso\",\"A vencer\")))","v":""}]
[null,null,"",{"$f":"IFERROR(INDEX(CALC_BASE!$N$3:$N$52,MATCH(ROW()-7,CALC_BASE!$M$3:$M$52,0)),\"\")","v":""},{"$f":"IFERROR(INDEX(CALC_BASE!$O$3:$O$52,MATCH(ROW()-7,CALC_BASE!$M$3:$M$52,0)),\"\")","v":""},{"$f":"IFERROR(INDEX(CALC_BASE!$P$3:$P$52,MATCH(ROW()-7,CALC_BASE!$M$3:$M$52,0)),\"\")","v":""},{"$f":"IFERROR(IF(D449=\"\",\"\",INDEX(tb_vendas[Preço de Venda],MATCH(D449,tb_vendas[N° Pedido/Empresa],0))/F449),\"\")","v":""},{"$f":"IFERROR(IF(D449=\"\",\"\",INDEX(tb_vendas[Data Fechamento],MATCH(D449,tb_vendas[N° Pedido/Empresa],0))+E449*INDEX(tb_formas_pagamento[Dias_Intervalo],MATCH(INDEX(tb_vendas[Forma_Pagamento],MATCH(D449,tb_vendas[N° Pedido/Empresa],0)),tb_formas_pagamento[Nome_Forma],0))),\"\")","v":""},null,{"$f":"IF(OR(tb_pagamentos[[#This Row],[Data_Vencimento]]=\"\",tb_pagamentos[[#This Row],[Valor_Parcela]]=\"\",tb_pagamentos[[#This Row],[Qtd_Total_Parcelas]]=\"\",tb_pagamentos[[#This Row],[Nr_Pedido]]=\"\"),\"\",IF(tb_pagamentos[[#This Row],[Data_Pagamento]]<>\"\",\"Pago\",IF(AND(tb_pagamentos[[#This Row],[Data_Pagamento]]=\"\",tb_pagamentos[[#This Row],[Data_Vencimento]]<TODAY()),\"Em Atraso\",\"A vencer\")))","v":""}]
[null,null,"",{"$f":"IFERROR(INDEX(CALC_BASE!$N$3:$N$52,MATCH(ROW()-7,CALC_BASE!$M$3:$M$52,0)),\"\")","v":""},{"$f":"IFERROR(INDEX(CALC_BASE!$O$3:$O$52,MATCH(ROW()-7,CALC_BASE!$M$3:$M$52,0)),\"\")","v":""},{"$f":"IFERROR(INDEX(CALC_BASE!$P$3:$P$52,MATCH(ROW()-7,CALC_BASE!$M$3:$M$52,0)),\"\")","v":""},{"$f":"IFERROR(IF(D450=\"\",\"\",INDEX(tb_vendas[Preço de Venda],MATCH(D450,tb_vendas[N° Pedido/Empresa],0))/F450),\"\")","v":""},{"$f":"IFERROR(IF(D450=\"\",\"\",INDEX(tb_vendas[Data Fechamento],MATCH(D450,tb_vendas[N° Pedido/Empresa],0))+E450*INDEX(tb_formas_pagamento[Dias_Intervalo],MATCH(INDEX(tb_vendas[Forma_Pagamento],MATCH(D450,tb_vendas[N° Pedido/Empresa],0)),tb_formas_pagamento[Nome_Forma],0))),\"\")","v":""},null,{"$f":"IF(OR(tb_pagamentos[[#This Row],[Data_Vencimento]]=\"\",tb_pagamentos[[#This Row],[Valor_Parcela]]=\"\",tb_pagamentos[[#This Row],[Qtd_Total_Parcelas]]=\"\",tb_pagamentos[[#This Row],[Nr_Pedido]]=\"\"),\"\",IF(tb_pagamentos[[#This Row],[Data_Pagamento]]<>\"\",\"Pago\",IF(AND(tb_pagamentos[[#This Row],[Data_Pagamento]]=\"\",tb_pagamentos[[#This Row],[Data_Vencimento]]<TODAY()),\"Em Atraso\",\"A vencer\")))","v":""}]
[null,null,"",{"$f":"IFERROR(INDEX(CALC_BASE!$N$3:$N$52,MATCH(ROW()-7,CALC_BASE!$M$3:$M$52,0)),\"\")","v":""},{"$f":"IFERROR(INDEX(CALC_BASE!$O$3:$O$52,MATCH(ROW()-7,CALC_BASE!$M$3:$M$52,0)),\"\")","v":""},{"$f":"IFERROR(INDEX(CALC_BASE!$P$3:$P$52,MATCH(ROW()-7,CALC_BASE!$M$3:$M$52,0)),\"\")","v":""},{"$f":"IFERROR(IF(D451=\"\",\"\",INDEX(tb_vendas[Preço de Venda],MATCH(D451,tb_vendas[N° Pedido/Empresa],0))/F451),\"\")","v":""},{"$f":"IFERROR(IF(D451=\"\",\"\",INDEX(tb_vendas[Data Fechamento],MATCH(D451,tb_vendas[N° Pedido/Empresa],0))+E451*INDEX(tb_formas_pagamento[Dias_Intervalo],MATCH(INDEX(tb_vendas[Forma_Pagamento],MATCH(D451,tb_vendas[N° Pedido/Empresa],0)),tb_formas_pagamento[Nome_Forma],0))),\"\")","v":""},null,{"$f":"IF(OR(tb_pagamentos[[#This Row],[Data_Vencimento]]=\"\",tb_pagamentos[[#This Row],[Valor_Parcela]]=\"\",tb_pagamentos[[#This Row],[Qtd_Total_Parcelas]]=\"\",tb_pagamentos[[#This Row],[Nr_Pedido]]=\"\"),\"\",IF(tb_pagamentos[[#This Row],[Data_Pagamento]]<>\"\",\"Pago\",IF(AND(tb_pagamentos[[#This Row],[Data_Pagamento]]=\"\",tb_pagamentos[[#This Row],[Data_Vencimento]]<TODAY()),\"Em Atraso\",\"A vencer\")))","v":""}]
[null,null,"",{"$f":"IFERROR(INDEX(CALC_BASE!$N$3:$N$52,MATCH(ROW()-7,CALC_BASE!$M$3:$M$52,0)),\"\")","v":""},{"$f":"IFERROR(INDEX(CALC_BASE!$O$3:$O$52,MATCH(ROW()-7,CALC_BASE!$M$3:$M$52,0)),\"\")","v":""},{"$f":"IFERROR(INDEX(CALC_BASE!$P$3:$P$52,MATCH(ROW()-7,CALC_BASE!$M$3:$M$52,0)),\"\")","v":""},{"$f":"IFERROR(IF(D452=\"\",\"\",INDEX(tb_vendas[Preço de Venda],MATCH(D452,tb_vendas[N° Pedido/Empresa],0))/F452),\"\")","v":""},{"$f":"IFERROR(IF(D452=\"\",\"\",INDEX(tb_vendas[Data Fechamento],MATCH(D452,tb_vendas[N° Pedido/Empresa],0))+E452*INDEX(tb_formas_pagamento[Dias_Intervalo],MATCH(INDEX(tb_vendas[Forma_Pagamento],MATCH(D452,tb_vendas[N° Pedido/Empresa],0)),tb_formas_pagamento[Nome_Forma],0))),\"\")","v":""},null,{"$f":"IF(OR(tb_pagamentos[[#This Row],[Data_Vencimento]]=\"\",tb_pagamentos[[#This Row],[Valor_Parcela]]=\"\",tb_pagamentos[[#This Row],[Qtd_Total_Parcelas]]=\"\",tb_pagamentos[[#This Row],[Nr_Pedido]]=\"\"),\"\",IF(tb_pagamentos[[#This Row],[Data_Pagamento]]<>\"\",\"Pago\",IF(AND(tb_pagamentos[[#This Row],[Data_Pagamento]]=\"\",tb_pagamentos[[#This Row],[Data_Vencimento]]<TODAY()),\"Em Atraso\",\"A vencer\")))","v":""}]
[null,null,"",{"$f":"IFERROR(INDEX(CALC_BASE!$N$3:$N$52,MATCH(ROW()-7,CALC_BASE!$M$3:$M$52,0)),\"\")","v":""},{"$f":"IFERROR(INDEX(CALC_BASE!$O$3:$O$52,MATCH(ROW()-7,CALC_BASE!$M$3:$M$52,0)),\"\")","v":""},{"$f":"IFERROR(INDEX(CALC_BASE!$P$3:$P$52,MATCH(ROW()-7,CALC_BASE!$M$3:$M$52,0)),\"\")","v":""},{"$f":"IFERROR(IF(D453=\"\",\"\",INDEX(tb_vendas[Preço de Venda],MATCH(D453,tb_vendas[N° Pedido/Empresa],0))/F453),\"\")","v":""},{"$f":"IFERROR(IF(D453=\"\",\"\",INDEX(tb_vendas[Data Fechamento],MATCH(D453,tb_vendas[N° Pedido/Empresa],0))+E453*INDEX(tb_formas_pagamento[Dias_Intervalo],MATCH(INDEX(tb_vendas[Forma_Pagamento],MATCH(D453,tb_vendas[N° Pedido/Empresa],0)),tb_formas_pagamento[Nome_Forma],0))),\"\")","v":""},null,{"$f":"IF(OR(tb_pagamentos[[#This Row],[Data_Vencimento]]=\"\",tb_pagamentos[[#This Row],[Valor_Parcela]]=\"\",tb_pagamentos[[#This Row],[Qtd_Total_Parcelas]]=\"\",tb_pagamentos[[#This Row],[Nr_Pedido]]=\"\"),\"\",IF(tb_pagamentos[[#This Row],[Data_Pagamento]]<>\"\",\"Pago\",IF(AND(tb_pagamentos[[#This Row],[Data_Pagamento]]=\"\",tb_pagamentos[[#This Row],[Data_Vencimento]]<TODAY()),\"Em Atraso\",\"A vencer\")))","v":""}]
[null,null,"",{"$f":"IFERROR(INDEX(CALC_BASE!$N$3:$N$52,MATCH(ROW()-7,CALC_BASE!$M$3:$M$52,0)),\"\")","v":""},{"$f":"IFERROR(INDEX(CALC_BASE!$O$3:$O$52,MATCH(ROW()-7,CALC_BASE!$M$3:$M$52,0)),\"\")","v":""},{"$f":"IFERROR(INDEX(CALC_BASE!$P$3:$P$52,MATCH(ROW()-7,CALC_BASE!$M$3:$M$52,0)),\"\")","v":""},{"$f":"IFERROR(IF(D454=\"\",\"\",INDEX(tb_vendas[Preço de Venda],MATCH(D454,tb_vendas[N° Pedido/Empresa],0))/F454),\"\")","v":""},{"$f":"IFERROR(IF(D454=\"\",\"\",INDEX(tb_vendas[Data Fechamento],MATCH(D454,tb_vendas[N° Pedido/Empresa],0))+E454*INDEX(tb_formas_pagamento[Dias_Intervalo],MATCH(INDEX(tb_vendas[Forma_Pagamento],MATCH(D454,tb_vendas[N° Pedido/Empresa],0)),tb_formas_pagamento[Nome_Forma],0))),\"\")","v":""},null,{"$f":"IF(OR(tb_pagamentos[[#This Row],[Data_Vencimento]]=\"\",tb_pagamentos[[#This Row],[Valor_Parcela]]=\"\",tb_pagamentos[[#This Row],[Qtd_Total_Parcelas]]=\"\",tb_pagamentos[[#This Row],[Nr_Pedido]]=\"\"),\"\",IF(tb_pagamentos[[#This Row],[Data_Pagamento]]<>\"\",\"Pago\",IF(AND(tb_pagamentos[[#This Row],[Data_Pagamento]]=\"\",tb_pagamentos[[#This Row],[Data_Vencimento]]<TODAY()),\"Em Atraso\",\"A vencer\")))","v":""}]
[null,null,"",{"$f":"IFERROR(INDEX(CALC_BASE!$N$3:$N$52,MATCH(ROW()-7,CALC_BASE!$M$3:$M$52,0)),\"\")","v":""},{"$f":"IFERROR(INDEX(CALC_BASE!$O$3:$O$52,MATCH(ROW()-7,CALC_BASE!$M$3:$M$52,0)),\"\")","v":""},{"$f":"IFERROR(INDEX(CALC_BASE!$P$3:$P$52,MATCH(ROW()-7,CALC_BASE!$M$3:$M$52,0)),\"\")","v":""},{"$f":"IFERROR(IF(D455=\"\",\"\",INDEX(tb_vendas[Preço de Venda],MATCH(D455,tb_vendas[N° Pedido/Empresa],0))/F455),\"\")","v":""},{"$f":"IFERROR(IF(D455=\"\",\"\",INDEX(tb_vendas[Data Fechamento],MATCH(D455,tb_vendas[N° Pedido/Empresa],0))+E455*INDEX(tb_formas_pagamento[Dias_Intervalo],MATCH(INDEX(tb_vendas[Forma_Pagamento],MATCH(D455,tb_vendas[N° Pedido/Empresa],0)),tb_formas_pagamento[Nome_Forma],0))),\"\")","v":""},null,{"$f":"IF(OR(tb_pagamentos[[#This Row],[Data_Vencimento]]=\"\",tb_pagamentos[[#This Row],[Valor_Parcela]]=\"\",tb_pagamentos[[#This Row],[Qtd_Total_Parcelas]]=\"\",tb_pagamentos[[#This Row],[Nr_Pedido]]=\"\"),\"\",IF(tb_pagamentos[[#This Row],[Data_Pagamento]]<>\"\",\"Pago\",IF(AND(tb_pagamentos[[#This Row],[Data_Pagamento]]=\"\",tb_pagamentos[[#This Row],[Data_Vencimento]]<TODAY()),\"Em Atraso\",\"A vencer\")))","v":""}]
[null,null,"",{"$f":"IFERROR(INDEX(CALC_BASE!$N$3:$N$52,MATCH(ROW()-7,CALC_BASE!$M$3:$M$52,0)),\"\")","v":""},{"$f":"IFERROR(INDEX(CALC_BASE!$O$3:$O$52,MATCH(ROW()-7,CALC_BASE!$M$3:$M$52,0)),\"\")","v":""},{"$f":"IFERROR(INDEX(CALC_BASE!$P$3:$P$52,MATCH(ROW()-7,CALC_BASE!$M$3:$M$52,0)),\"\")","v":""},{"$f":"IFERROR(IF(D456=\"\",\"\",INDEX(tb_vendas[Preço de Venda],MATCH(D456,tb_vendas[N° Pedido/Empresa],0))/F456),\"\")","v":""},{"$f":"IFERROR(IF(D456=\"\",\"\",INDEX(tb_vendas[Data Fechamento],MATCH(D456,tb_vendas[N° Pedido/Empresa],0))+E456*INDEX(tb_formas_pagamento[Dias_Intervalo],MATCH(INDEX(tb_vendas[Forma_Pagamento],MATCH(D456,tb_vendas[N° Pedido/Empresa],0)),tb_formas_pagamento[Nome_Forma],0))),\"\")","v":""},null,{"$f":"IF(OR(tb_pagamentos[[#This Row],[Data_Vencimento]]=\"\",tb_pagamentos[[#This Row],[Valor_Parcela]]=\"\",tb_pagamentos[[#This Row],[Qtd_Total_Parcelas]]=\"\",tb_pagamentos[[#This Row],[Nr_Pedido]]=\"\"),\"\",IF(tb_pagamentos[[#This Row],[Data_Pagamento]]<>\"\",\"Pago\",IF(AND(tb_pagamentos[[#This Row],[Data_Pagamento]]=\"\",tb_pagamentos[[#This Row],[Data_Vencimento]]<TODAY()),\"Em Atraso\",\"A vencer\")))","v":""}]
[null,null,"",{"$f":"IFERROR(INDEX(CALC_BASE!$N$3:$N$52,MATCH(ROW()-7,CALC_BASE!$M$3:$M$52,0)),\"\")","v":""},{"$f":"IFERROR(INDEX(CALC_BASE!$O$3:$O$52,MATCH(ROW()-7,CALC_BASE!$M$3:$M$52,0)),\"\")","v":""},{"$f":"IFERROR(INDEX(CALC_BASE!$P$3:$P$52,MATCH(ROW()-7,CALC_BASE!$M$3:$M$52,0)),\"\")","v":""},{"$f":"IFERROR(IF(D457=\"\",\"\",INDEX(tb_vendas[Preço de Venda],MATCH(D457,tb_vendas[N° Pedido/Empresa],0))/F457),\"\")","v":""},{"$f":"IFERROR(IF(D457=\"\",\"\",INDEX(tb_vendas[Data Fechamento],MATCH(D457,tb_vendas[N° Pedido/Empresa],0))+E457*INDEX(tb_formas_pagamento[Dias_Intervalo],MATCH(INDEX(tb_vendas[Forma_Pagamento],MATCH(D457,tb_vendas[N° Pedido/Empresa],0)),tb_formas_pagamento[Nome_Forma],0))),\"\")","v":""},null,{"$f":"IF(OR(tb_pagamentos[[#This Row],[Data_Vencimento]]=\"\",tb_pagamentos[[#This Row],[Valor_Parcela]]=\"\",tb_pagamentos[[#This Row],[Qtd_Total_Parcelas]]=\"\",tb_pagamentos[[#This Row],[Nr_Pedido]]=\"\"),\"\",IF(tb_pagamentos[[#This Row],[Data_Pagamento]]<>\"\",\"Pago\",IF(AND(tb_pagamentos[[#This Row],[Data_Pagamento]]=\"\",tb_pagamentos[[#This Row],[Data_Vencimento]]<TODAY()),\"Em Atraso\",\"A vencer\")))","v":""}]
[null,null,"",{"$f":"IFERROR(INDEX(CALC_BASE!$N$3:$N$52,MATCH(ROW()-7,CALC_BASE!$M$3:$M$52,0)),\"\")","v":""},{"$f":"IFERROR(INDEX(CALC_BASE!$O$3:$O$52,MATCH(ROW()-7,CALC_BASE!$M$3:$M$52,0)),\"\")","v":""},{"$f":"IFERROR(INDEX(CALC_BASE!$P$3:$P$52,MATCH(ROW()-7,CALC_BASE!$M$3:$M$52,0)),\"\")","v":""},{"$f":"IFERROR(IF(D458=\"\",\"\",INDEX(tb_vendas[Preço de Venda],MATCH(D458,tb_vendas[N° Pedido/Empresa],0))/F458),\"\")","v":""},{"$f":"IFERROR(IF(D458=\"\",\"\",INDEX(tb_vendas[Data Fechamento],MATCH(D458,tb_vendas[N° Pedido/Empresa],0))+E458*INDEX(tb_formas_pagamento[Dias_Intervalo],MATCH(INDEX(tb_vendas[Forma_Pagamento],MATCH(D458,tb_vendas[N° Pedido/Empresa],0)),tb_formas_pagamento[Nome_Forma],0))),\"\")","v":""},null,{"$f":"IF(OR(tb_pagamentos[[#This Row],[Data_Vencimento]]=\"\",tb_pagamentos[[#This Row],[Valor_Parcela]]=\"\",tb_pagamentos[[#This Row],[Qtd_Total_Parcelas]]=\"\",tb_pagamentos[[#This Row],[Nr_Pedido]]=\"\"),\"\",IF(tb_pagamentos[[#This Row],[Data_Pagamento]]<>\"\",\"Pago\",IF(AND(tb_pagamentos[[#This Row],[Data_Pagamento]]=\"\",tb_pagamentos[[#This Row],[Data_Vencimento]]<TODAY()),\"Em Atraso\",\"A vencer\")))","v":""}]
[null,null,"",{"$f":"IFERROR(INDEX(CALC_BASE!$N$3:$N$52,MATCH(ROW()-7,CALC_BASE!$M$3:$M$52,0)),\"\")","v":""},{"$f":"IFERROR(INDEX(CALC_BASE!$O$3:$O$52,MATCH(ROW()-7,CALC_BASE!$M$3:$M$52,0)),\"\")","v":""},{"$f":"IFERROR(INDEX(CALC_BASE!$P$3:$P$52,MATCH(ROW()-7,CALC_BASE!$M$3:$M$52,0)),\"\")","v":""},{"$f":"IFERROR(IF(D459=\"\",\"\",INDEX(tb_vendas[Preço de Venda],MATCH(D459,tb_vendas[N° Pedido/Empresa],0))/F459),\"\")","v":""},{"$f":"IFERROR(IF(D459=\"\",\"\",INDEX(tb_vendas[Data Fechamento],MATCH(D459,tb_vendas[N° Pedido/Empresa],0))+E459*INDEX(tb_formas_pagamento[Dias_Intervalo],MATCH(INDEX(tb_vendas[Forma_Pagamento],MATCH(D459,tb_vendas[N° Pedido/Empresa],0)),tb_formas_pagamento[Nome_Forma],0))),\"\")","v":""},null,{"$f":"IF(OR(tb_pagamentos[[#This Row],[Data_Vencimento]]=\"\",tb_pagamentos[[#This Row],[Valor_Parcela]]=\"\",tb_pagamentos[[#This Row],[Qtd_Total_Parcelas]]=\"\",tb_pagamentos[[#This Row],[Nr_Pedido]]=\"\"),\"\",IF(tb_pagamentos[[#This Row],[Data_Pagamento]]<>\"\",\"Pago\",IF(AND(tb_pagamentos[[#This Row],[Data_Pagamento]]=\"\",tb_pagamentos[[#This Row],[Data_Vencimento]]<TODAY()),\"Em Atraso\",\"A vencer\")))","v":""}]
[null,null,"",{"$f":"IFERROR(INDEX(CALC_BASE!$N$3:$N$52,MATCH(ROW()-7,CALC_BASE!$M$3:$M$52,0)),\"\")","v":""},{"$f":"IFERROR(INDEX(CALC_BASE!$O$3:$O$52,MATCH(ROW()-7,CALC_BASE!$M$3:$M$52,0)),\"\")","v":""},{"$f":"IFERROR(INDEX(CALC_BASE!$P$3:$P$52,MATCH(ROW()-7,CALC_BASE!$M$3:$M$52,0)),\"\")","v":""},{"$f":"IFERROR(IF(D460=\"\",\"\",INDEX(tb_vendas[Preço de Venda],MATCH(D460,tb_vendas[N° Pedido/Empresa],0))/F460),\"\")","v":""},{"$f":"IFERROR(IF(D460=\"\",\"\",INDEX(tb_vendas[Data Fechamento],MATCH(D460,tb_vendas[N° Pedido/Empresa],0))+E460*INDEX(tb_formas_pagamento[Dias_Intervalo],MATCH(INDEX(tb_vendas[Forma_Pagamento],MATCH(D460,tb_vendas[N° Pedido/Empresa],0)),tb_formas_pagamento[Nome_Forma],0))),\"\")","v":""},null,{"$f":"IF(OR(tb_pagamentos[[#This Row],[Data_Vencimento]]=\"\",tb_pagamentos[[#This Row],[Valor_Parcela]]=\"\",tb_pagamentos[[#This Row],[Qtd_Total_Parcelas]]=\"\",tb_pagamentos[[#This Row],[Nr_Pedido]]=\"\"),\"\",IF(tb_pagamentos[[#This Row],[Data_Pagamento]]<>\"\",\"Pago\",IF(AND(tb_pagamentos[[#This Row],[Data_Pagamento]]=\"\",tb_pagamentos[[#This Row],[Data_Vencimento]]<TODAY()),\"Em Atraso\",\"A vencer\")))","v":""}]
[null,null,"",{"$f":"IFERROR(INDEX(CALC_BASE!$N$3:$N$52,MATCH(ROW()-7,CALC_BASE!$M$3:$M$52,0)),\"\")","v":""},{"$f":"IFERROR(INDEX(CALC_BASE!$O$3:$O$52,MATCH(ROW()-7,CALC_BASE!$M$3:$M$52,0)),\"\")","v":""},{"$f":"IFERROR(INDEX(CALC_BASE!$P$3:$P$52,MATCH(ROW()-7,CALC_BASE!$M$3:$M$52,0)),\"\")","v":""},{"$f":"IFERROR(IF(D461=\"\",\"\",INDEX(tb_vendas[Preço de Venda],MATCH(D461,tb_vendas[N° Pedido/Empresa],0))/F461),\"\")","v":""},{"$f":"IFERROR(IF(D461=\"\",\"\",INDEX(tb_vendas[Data Fechamento],MATCH(D461,tb_vendas[N° Pedido/Empresa],0))+E461*INDEX(tb_formas_pagamento[Dias_Intervalo],MATCH(INDEX(tb_vendas[Forma_Pagamento],MATCH(D461,tb_vendas[N° Pedido/Empresa],0)),tb_formas_pagamento[Nome_Forma],0))),\"\")","v":""},null,{"$f":"IF(OR(tb_pagamentos[[#This Row],[Data_Vencimento]]=\"\",tb_pagamentos[[#This Row],[Valor_Parcela]]=\"\",tb_pagamentos[[#This Row],[Qtd_Total_Parcelas]]=\"\",tb_pagamentos[[#This Row],[Nr_Pedido]]=\"\"),\"\",IF(tb_pagamentos[[#This Row],[Data_Pagamento]]<>\"\",\"Pago\",IF(AND(tb_pagamentos[[#This Row],[Data_Pagamento]]=\"\",tb_pagamentos[[#This Row],[Data_Vencimento]]<TODAY()),\"Em Atraso\",\"A vencer\")))","v":""}]
[null,null,"",{"$f":"IFERROR(INDEX(CALC_BASE!$N$3:$N$52,MATCH(ROW()-7,CALC_BASE!$M$3:$M$52,0)),\"\")","v":""},{"$f":"IFERROR(INDEX(CALC_BASE!$O$3:$O$52,MATCH(ROW()-7,CALC_BASE!$M$3:$M$52,0)),\"\")","v":""},{"$f":"IFERROR(INDEX(CALC_BASE!$P$3:$P$52,MATCH(ROW()-7,CALC_BASE!$M$3:$M$52,0)),\"\")","v":""},{"$f":"IFERROR(IF(D462=\"\",\"\",INDEX(tb_vendas[Preço de Venda],MATCH(D462,tb_vendas[N° Pedido/Empresa],0))/F462),\"\")","v":""},{"$f":"IFERROR(IF(D462=\"\",\"\",INDEX(tb_vendas[Data Fechamento],MATCH(D462,tb_vendas[N° Pedido/Empresa],0))+E462*INDEX(tb_formas_pagamento[Dias_Intervalo],MATCH(INDEX(tb_vendas[Forma_Pagamento],MATCH(D462,tb_vendas[N° Pedido/Empresa],0)),tb_formas_pagamento[Nome_Forma],0))),\"\")","v":""},null,{"$f":"IF(OR(tb_pagamentos[[#This Row],[Data_Vencimento]]=\"\",tb_pagamentos[[#This Row],[Valor_Parcela]]=\"\",tb_pagamentos[[#This Row],[Qtd_Total_Parcelas]]=\"\",tb_pagamentos[[#This Row],[Nr_Pedido]]=\"\"),\"\",IF(tb_pagamentos[[#This Row],[Data_Pagamento]]<>\"\",\"Pago\",IF(AND(tb_pagamentos[[#This Row],[Data_Pagamento]]=\"\",tb_pagamentos[[#This Row],[Data_Vencimento]]<TODAY()),\"Em Atraso\",\"A vencer\")))","v":""}]
[null,null,{"$f":"IF(OR(D463=\"\",E463=\"\"),\"\",D463&\"-\"&E463)","v":""},{"$f":"IFERROR(INDEX(CALC_BASE!$N$3:$N$52,MATCH(ROW()-7,CALC_BASE!$M$3:$M$52,0)),\"\")","v":""},{"$f":"IFERROR(INDEX(CALC_BASE!$O$3:$O$52,MATCH(ROW()-7,CALC_BASE!$M$3:$M$52,0)),\"\")","v":""},{"$f":"IFERROR(INDEX(CALC_BASE!$P$3:$P$52,MATCH(ROW()-7,CALC_BASE!$M$3:$M$52,0)),\"\")","v":""},{"$f":"IFERROR(IF(D463=\"\",\"\",INDEX(tb_vendas[Preço de Venda],MATCH(D463,tb_vendas[N° Pedido/Empresa],0))/F463),\"\")","v":""},{"$f":"IFERROR(IF(D463=\"\",\"\",INDEX(tb_vendas[Data Fechamento],MATCH(D463,tb_vendas[N° Pedido/Empresa],0))+E463*INDEX(tb_formas_pagamento[Dias_Intervalo],MATCH(INDEX(tb_vendas[Forma_Pagamento],MATCH(D463,tb_vendas[N° Pedido/Empresa],0)),tb_formas_pagamento[Nome_Forma],0))),\"\")","v":""},null,{"$f":"IF(OR(tb_pagamentos[[#This Row],[Data_Vencimento]]=\"\",tb_pagamentos[[#This Row],[Valor_Parcela]]=\"\",tb_pagamentos[[#This Row],[Qtd_Total_Parcelas]]=\"\",tb_pagamentos[[#This Row],[Nr_Pedido]]=\"\"),\"\",IF(tb_pagamentos[[#This Row],[Data_Pagamento]]<>\"\",\"Pago\",IF(AND(tb_pagamentos[[#This Row],[Data_Pagamento]]=\"\",tb_pagamentos[[#This Row],[Data_Vencimento]]<TODAY()),\"Em Atraso\",\"A vencer\")))","v":""}]
[null,null,"",{"$f":"IFERROR(INDEX(CALC_BASE!$N$3:$N$52,MATCH(ROW()-7,CALC_BASE!$M$3:$M$52,0)),\"\")","v":""},{"$f":"IFERROR(INDEX(CALC_BASE!$O$3:$O$52,MATCH(ROW()-7,CALC_BASE!$M$3:$M$52,0)),\"\")","v":""},{"$f":"IFERROR(INDEX(CALC_BASE!$P$3:$P$52,MATCH(ROW()-7,CALC_BASE!$M$3:$M$52,0)),\"\")","v":""},{"$f":"IFERROR(IF(D464=\"\",\"\",INDEX(tb_vendas[Preço de Venda],MATCH(D464,tb_vendas[N° Pedido/Empresa],0))/F464),\"\")","v":""},{"$f":"IFERROR(IF(D464=\"\",\"\",INDEX(tb_vendas[Data Fechamento],MATCH(D464,tb_vendas[N° Pedido/Empresa],0))+E464*INDEX(tb_formas_pagamento[Dias_Intervalo],MATCH(INDEX(tb_vendas[Forma_Pagamento],MATCH(D464,tb_vendas[N° Pedido/Empresa],0)),tb_formas_pagamento[Nome_Forma],0))),\"\")","v":""},null,{"$f":"IF(OR(tb_pagamentos[[#This Row],[Data_Vencimento]]=\"\",tb_pagamentos[[#This Row],[Valor_Parcela]]=\"\",tb_pagamentos[[#This Row],[Qtd_Total_Parcelas]]=\"\",tb_pagamentos[[#This Row],[Nr_Pedido]]=\"\"),\"\",IF(tb_pagamentos[[#This Row],[Data_Pagamento]]<>\"\",\"Pago\",IF(AND(tb_pagamentos[[#This Row],[Data_Pagamento]]=\"\",tb_pagamentos[[#This Row],[Data_Vencimento]]<TODAY()),\"Em Atraso\",\"A vencer\")))","v":""}]
[null,null,"",{"$f":"IFERROR(INDEX(CALC_BASE!$N$3:$N$52,MATCH(ROW()-7,CALC_BASE!$M$3:$M$52,0)),\"\")","v":""},{"$f":"IFERROR(INDEX(CALC_BASE!$O$3:$O$52,MATCH(ROW()-7,CALC_BASE!$M$3:$M$52,0)),\"\")","v":""},{"$f":"IFERROR(INDEX(CALC_BASE!$P$3:$P$52,MATCH(ROW()-7,CALC_BASE!$M$3:$M$52,0)),\"\")","v":""},{"$f":"IFERROR(IF(D465=\"\",\"\",INDEX(tb_vendas[Preço de Venda],MATCH(D465,tb_vendas[N° Pedido/Empresa],0))/F465),\"\")","v":""},{"$f":"IFERROR(IF(D465=\"\",\"\",INDEX(tb_vendas[Data Fechamento],MATCH(D465,tb_vendas[N° Pedido/Empresa],0))+E465*INDEX(tb_formas_pagamento[Dias_Intervalo],MATCH(INDEX(tb_vendas[Forma_Pagamento],MATCH(D465,tb_vendas[N° Pedido/Empresa],0)),tb_formas_pagamento[Nome_Forma],0))),\"\")","v":""},null,{"$f":"IF(OR(tb_pagamentos[[#This Row],[Data_Vencimento]]=\"\",tb_pagamentos[[#This Row],[Valor_Parcela]]=\"\",tb_pagamentos[[#This Row],[Qtd_Total_Parcelas]]=\"\",tb_pagamentos[[#This Row],[Nr_Pedido]]=\"\"),\"\",IF(tb_pagamentos[[#This Row],[Data_Pagamento]]<>\"\",\"Pago\",IF(AND(tb_pagamentos[[#This Row],[Data_Pagamento]]=\"\",tb_pagamentos[[#This Row],[Data_Vencimento]]<TODAY()),\"Em Atraso\",\"A vencer\")))","v":""}]
[null,null,"",{"$f":"IFERROR(INDEX(CALC_BASE!$N$3:$N$52,MATCH(ROW()-7,CALC_BASE!$M$3:$M$52,0)),\"\")","v":""},{"$f":"IFERROR(INDEX(CALC_BASE!$O$3:$O$52,MATCH(ROW()-7,CALC_BASE!$M$3:$M$52,0)),\"\")","v":""},{"$f":"IFERROR(INDEX(CALC_BASE!$P$3:$P$52,MATCH(ROW()-7,CALC_BASE!$M$3:$M$52,0)),\"\")","v":""},{"$f":"IFERROR(IF(D466=\"\",\"\",INDEX(tb_vendas[Preço de Venda],MATCH(D466,tb_vendas[N° Pedido/Empresa],0))/F466),\"\")","v":""},{"$f":"IFERROR(IF(D466=\"\",\"\",INDEX(tb_vendas[Data Fechamento],MATCH(D466,tb_vendas[N° Pedido/Empresa],0))+E466*INDEX(tb_formas_pagamento[Dias_Intervalo],MATCH(INDEX(tb_vendas[Forma_Pagamento],MATCH(D466,tb_vendas[N° Pedido/Empresa],0)),tb_formas_pagamento[Nome_Forma],0))),\"\")","v":""},null,{"$f":"IF(OR(tb_pagamentos[[#This Row],[Data_Vencimento]]=\"\",tb_pagamentos[[#This Row],[Valor_Parcela]]=\"\",tb_pagamentos[[#This Row],[Qtd_Total_Parcelas]]=\"\",tb_pagamentos[[#This Row],[Nr_Pedido]]=\"\"),\"\",IF(tb_pagamentos[[#This Row],[Data_Pagamento]]<>\"\",\"Pago\",IF(AND(tb_pagamentos[[#This Row],[Data_Pagamento]]=\"\",tb_pagamentos[[#This Row],[Data_Vencimento]]<TODAY()),\"Em Atraso\",\"A vencer\")))","v":""}]
[null,null,"",{"$f":"IFERROR(INDEX(CALC_BASE!$N$3:$N$52,MATCH(ROW()-7,CALC_BASE!$M$3:$M$52,0)),\"\")","v":""},{"$f":"IFERROR(INDEX(CALC_BASE!$O$3:$O$52,MATCH(ROW()-7,CALC_BASE!$M$3:$M$52,0)),\"\")","v":""},{"$f":"IFERROR(INDEX(CALC_BASE!$P$3:$P$52,MATCH(ROW()-7,CALC_BASE!$M$3:$M$52,0)),\"\")","v":""},{"$f":"IFERROR(IF(D467=\"\",\"\",INDEX(tb_vendas[Preço de Venda],MATCH(D467,tb_vendas[N° Pedido/Empresa],0))/F467),\"\")","v":""},{"$f":"IFERROR(IF(D467=\"\",\"\",INDEX(tb_vendas[Data Fechamento],MATCH(D467,tb_vendas[N° Pedido/Empresa],0))+E467*INDEX(tb_formas_pagamento[Dias_Intervalo],MATCH(INDEX(tb_vendas[Forma_Pagamento],MATCH(D467,tb_vendas[N° Pedido/Empresa],0)),tb_formas_pagamento[Nome_Forma],0))),\"\")","v":""},null,{"$f":"IF(OR(tb_pagamentos[[#This Row],[Data_Vencimento]]=\"\",tb_pagamentos[[#This Row],[Valor_Parcela]]=\"\",tb_pagamentos[[#This Row],[Qtd_Total_Parcelas]]=\"\",tb_pagamentos[[#This Row],[Nr_Pedido]]=\"\"),\"\",IF(tb_pagamentos[[#This Row],[Data_Pagamento]]<>\"\",\"Pago\",IF(AND(tb_pagamentos[[#This Row],[Data_Pagamento]]=\"\",tb_pagamentos[[#This Row],[Data_Vencimento]]<TODAY()),\"Em Atraso\",\"A vencer\")))","v":""}]
[null,null,"",{"$f":"IFERROR(INDEX(CALC_BASE!$N$3:$N$52,MATCH(ROW()-7,CALC_BASE!$M$3:$M$52,0)),\"\")","v":""},{"$f":"IFERROR(INDEX(CALC_BASE!$O$3:$O$52,MATCH(ROW()-7,CALC_BASE!$M$3:$M$52,0)),\"\")","v":""},{"$f":"IFERROR(INDEX(CALC_BASE!$P$3:$P$52,MATCH(ROW()-7,CALC_BASE!$M$3:$M$52,0)),\"\")","v":""},{"$f":"IFERROR(IF(D468=\"\",\"\",INDEX(tb_vendas[Preço de Venda],MATCH(D468,tb_vendas[N° Pedido/Empresa],0))/F468),\"\")","v":""},{"$f":"IFERROR(IF(D468=\"\",\"\",INDEX(tb_vendas[Data Fechamento],MATCH(D468,tb_vendas[N° Pedido/Empresa],0))+E468*INDEX(tb_formas_pagamento[Dias_Intervalo],MATCH(INDEX(tb_vendas[Forma_Pagamento],MATCH(D468,tb_vendas[N° Pedido/Empresa],0)),tb_formas_pagamento[Nome_Forma],0))),\"\")","v":""},null,{"$f":"IF(OR(tb_pagamentos[[#This Row],[Data_Vencimento]]=\"\",tb_pagamentos[[#This Row],[Valor_Parcela]]=\"\",tb_pagamentos[[#This Row],[Qtd_Total_Parcelas]]=\"\",tb_pagamentos[[#This Row],[Nr_Pedido]]=\"\"),\"\",IF(tb_pagamentos[[#This Row],[Data_Pagamento]]<>\"\",\"Pago\",IF(AND(tb_pagamentos[[#This Row],[Data_Pagamento]]=\"\",tb_pagamentos[[#This Row],[Data_Vencimento]]<TODAY()),\"Em Atraso\",\"A vencer\")))","v":""}]
[null,null,"",{"$f":"IFERROR(INDEX(CALC_BASE!$N$3:$N$52,MATCH(ROW()-7,CALC_BASE!$M$3:$M$52,0)),\"\")","v":""},{"$f":"IFERROR(INDEX(CALC_BASE!$O$3:$O$52,MATCH(ROW()-7,CALC_BASE!$M$3:$M$52,0)),\"\")","v":""},{"$f":"IFERROR(INDEX(CALC_BASE!$P$3:$P$52,MATCH(ROW()-7,CALC_BASE!$M$3:$M$52,0)),\"\")","v":""},{"$f":"IFERROR(IF(D469=\"\",\"\",INDEX(tb_vendas[Preço de Venda],MATCH(D469,tb_vendas[N° Pedido/Empresa],0))/F469),\"\")","v":""},{"$f":"IFERROR(IF(D469=\"\",\"\",INDEX(tb_vendas[Data Fechamento],MATCH(D469,tb_vendas[N° Pedido/Empresa],0))+E469*INDEX(tb_formas_pagamento[Dias_Intervalo],MATCH(INDEX(tb_vendas[Forma_Pagamento],MATCH(D469,tb_vendas[N° Pedido/Empresa],0)),tb_formas_pagamento[Nome_Forma],0))),\"\")","v":""},null,{"$f":"IF(OR(tb_pagamentos[[#This Row],[Data_Vencimento]]=\"\",tb_pagamentos[[#This Row],[Valor_Parcela]]=\"\",tb_pagamentos[[#This Row],[Qtd_Total_Parcelas]]=\"\",tb_pagamentos[[#This Row],[Nr_Pedido]]=\"\"),\"\",IF(tb_pagamentos[[#This Row],[Data_Pagamento]]<>\"\",\"Pago\",IF(AND(tb_pagamentos[[#This Row],[Data_Pagamento]]=\"\",tb_pagamentos[[#This Row],[Data_Vencimento]]<TODAY()),\"Em Atraso\",\"A vencer\")))","v":""}]
[null,null,"",{"$f":"IFERROR(INDEX(CALC_BASE!$N$3:$N$52,MATCH(ROW()-7,CALC_BASE!$M$3:$M$52,0)),\"\")","v":""},{"$f":"IFERROR(INDEX(CALC_BASE!$O$3:$O$52,MATCH(ROW()-7,CALC_BASE!$M$3:$M$52,0)),\"\")","v":""},{"$f":"IFERROR(INDEX(CALC_BASE!$P$3:$P$52,MATCH(ROW()-7,CALC_BASE!$M$3:$M$52,0)),\"\")","v":""},{"$f":"IFERROR(IF(D470=\"\",\"\",INDEX(tb_vendas[Preço de Venda],MATCH(D470,tb_vendas[N° Pedido/Empresa],0))/F470),\"\")","v":""},{"$f":"IFERROR(IF(D470=\"\",\"\",INDEX(tb_vendas[Data Fechamento],MATCH(D470,tb_vendas[N° Pedido/Empresa],0))+E470*INDEX(tb_formas_pagamento[Dias_Intervalo],MATCH(INDEX(tb_vendas[Forma_Pagamento],MATCH(D470,tb_vendas[N° Pedido/Empresa],0)),tb_formas_pagamento[Nome_Forma],0))),\"\")","v":""},null,{"$f":"IF(OR(tb_pagamentos[[#This Row],[Data_Vencimento]]=\"\",tb_pagamentos[[#This Row],[Valor_Parcela]]=\"\",tb_pagamentos[[#This Row],[Qtd_Total_Parcelas]]=\"\",tb_pagamentos[[#This Row],[Nr_Pedido]]=\"\"),\"\",IF(tb_pagamentos[[#This Row],[Data_Pagamento]]<>\"\",\"Pago\",IF(AND(tb_pagamentos[[#This Row],[Data_Pagamento]]=\"\",tb_pagamentos[[#This Row],[Data_Vencimento]]<TODAY()),\"Em Atraso\",\"A vencer\")))","v":""}]
[null,null,"",{"$f":"IFERROR(INDEX(CALC_BASE!$N$3:$N$52,MATCH(ROW()-7,CALC_BASE!$M$3:$M$52,0)),\"\")","v":""},{"$f":"IFERROR(INDEX(CALC_BASE!$O$3:$O$52,MATCH(ROW()-7,CALC_BASE!$M$3:$M$52,0)),\"\")","v":""},{"$f":"IFERROR(INDEX(CALC_BASE!$P$3:$P$52,MATCH(ROW()-7,CALC_BASE!$M$3:$M$52,0)),\"\")","v":""},{"$f":"IFERROR(IF(D471=\"\",\"\",INDEX(tb_vendas[Preço de Venda],MATCH(D471,tb_vendas[N° Pedido/Empresa],0))/F471),\"\")","v":""},{"$f":"IFERROR(IF(D471=\"\",\"\",INDEX(tb_vendas[Data Fechamento],MATCH(D471,tb_vendas[N° Pedido/Empresa],0))+E471*INDEX(tb_formas_pagamento[Dias_Intervalo],MATCH(INDEX(tb_vendas[Forma_Pagamento],MATCH(D471,tb_vendas[N° Pedido/Empresa],0)),tb_formas_pagamento[Nome_Forma],0))),\"\")","v":""},null,{"$f":"IF(OR(tb_pagamentos[[#This Row],[Data_Vencimento]]=\"\",tb_pagamentos[[#This Row],[Valor_Parcela]]=\"\",tb_pagamentos[[#This Row],[Qtd_Total_Parcelas]]=\"\",tb_pagamentos[[#This Row],[Nr_Pedido]]=\"\"),\"\",IF(tb_pagamentos[[#This Row],[Data_Pagamento]]<>\"\",\"Pago\",IF(AND(tb_pagamentos[[#This Row],[Data_Pagamento]]=\"\",tb_pagamentos[[#This Row],[Data_Vencimento]]<TODAY()),\"Em Atraso\",\"A vencer\")))","v":""}]
[null,null,"",{"$f":"IFERROR(INDEX(CALC_BASE!$N$3:$N$52,MATCH(ROW()-7,CALC_BASE!$M$3:$M$52,0)),\"\")","v":""},{"$f":"IFERROR(INDEX(CALC_BASE!$O$3:$O$52,MATCH(ROW()-7,CALC_BASE!$M$3:$M$52,0)),\"\")","v":""},{"$f":"IFERROR(INDEX(CALC_BASE!$P$3:$P$52,MATCH(ROW()-7,CALC_BASE!$M$3:$M$52,0)),\"\")","v":""},{"$f":"IFERROR(IF(D472=\"\",\"\",INDEX(tb_vendas[Preço de Venda],MATCH(D472,tb_vendas[N° Pedido/Empresa],0))/F472),\"\")","v":""},{"$f":"IFERROR(IF(D472=\"\",\"\",INDEX(tb_vendas[Data Fechamento],MATCH(D472,tb_vendas[N° Pedido/Empresa],0))+E472*INDEX(tb_formas_pagamento[Dias_Intervalo],MATCH(INDEX(tb_vendas[Forma_Pagamento],MATCH(D472,tb_vendas[N° Pedido/Empresa],0)),tb_formas_pagamento[Nome_Forma],0))),\"\")","v":""},null,{"$f":"IF(OR(tb_pagamentos[[#This Row],[Data_Vencimento]]=\"\",tb_pagamentos[[#This Row],[Valor_Parcela]]=\"\",tb_pagamentos[[#This Row],[Qtd_Total_Parcelas]]=\"\",tb_pagamentos[[#This Row],[Nr_Pedido]]=\"\"),\"\",IF(tb_pagamentos[[#This Row],[Data_Pagamento]]<>\"\",\"Pago\",IF(AND(tb_pagamentos[[#This Row],[Data_Pagamento]]=\"\",tb_pagamentos[[#This Row],[Data_Vencimento]]<TODAY()),\"Em Atraso\",\"A vencer\")))","v":""}]
[null,null,"",{"$f":"IFERROR(INDEX(CALC_BASE!$N$3:$N$52,MATCH(ROW()-7,CALC_BASE!$M$3:$M$52,0)),\"\")","v":""},{"$f":"IFERROR(INDEX(CALC_BASE!$O$3:$O$52,MATCH(ROW()-7,CALC_BASE!$M$3:$M$52,0)),\"\")","v":""},{"$f":"IFERROR(INDEX(CALC_BASE!$P$3:$P$52,MATCH(ROW()-7,CALC_BASE!$M$3:$M$52,0)),\"\")","v":""},{"$f":"IFERROR(IF(D473=\"\",\"\",INDEX(tb_vendas[Preço de Venda],MATCH(D473,tb_vendas[N° Pedido/Empresa],0))/F473),\"\")","v":""},{"$f":"IFERROR(IF(D473=\"\",\"\",INDEX(tb_vendas[Data Fechamento],MATCH(D473,tb_vendas[N° Pedido/Empresa],0))+E473*INDEX(tb_formas_pagamento[Dias_Intervalo],MATCH(INDEX(tb_vendas[Forma_Pagamento],MATCH(D473,tb_vendas[N° Pedido/Empresa],0)),tb_formas_pagamento[Nome_Forma],0))),\"\")","v":""},null,{"$f":"IF(OR(tb_pagamentos[[#This Row],[Data_Vencimento]]=\"\",tb_pagamentos[[#This Row],[Valor_Parcela]]=\"\",tb_pagamentos[[#This Row],[Qtd_Total_Parcelas]]=\"\",tb_pagamentos[[#This Row],[Nr_Pedido]]=\"\"),\"\",IF(tb_pagamentos[[#This Row],[Data_Pagamento]]<>\"\",\"Pago\",IF(AND(tb_pagamentos[[#This Row],[Data_Pagamento]]=\"\",tb_pagamentos[[#This Row],[Data_Vencimento]]<TODAY()),\"Em Atraso\",\"A vencer\")))","v":""}]
[null,null,"",{"$f":"IFERROR(INDEX(CALC_BASE!$N$3:$N$52,MATCH(ROW()-7,CALC_BASE!$M$3:$M$52,0)),\"\")","v":""},{"$f":"IFERROR(INDEX(CALC_BASE!$O$3:$O$52,MATCH(ROW()-7,CALC_BASE!$M$3:$M$52,0)),\"\")","v":""},{"$f":"IFERROR(INDEX(CALC_BASE!$P$3:$P$52,MATCH(ROW()-7,CALC_BASE!$M$3:$M$52,0)),\"\")","v":""},{"$f":"IFERROR(IF(D474=\"\",\"\",INDEX(tb_vendas[Preço de Venda],MATCH(D474,tb_vendas[N° Pedido/Empresa],0))/F474),\"\")","v":""},{"$f":"IFERROR(IF(D474=\"\",\"\",INDEX(tb_vendas[Data Fechamento],MATCH(D474,tb_vendas[N° Pedido/Empresa],0))+E474*INDEX(tb_formas_pagamento[Dias_Intervalo],MATCH(INDEX(tb_vendas[Forma_Pagamento],MATCH(D474,tb_vendas[N° Pedido/Empresa],0)),tb_formas_pagamento[Nome_Forma],0))),\"\")","v":""},null,{"$f":"IF(OR(tb_pagamentos[[#This Row],[Data_Vencimento]]=\"\",tb_pagamentos[[#This Row],[Valor_Parcela]]=\"\",tb_pagamentos[[#This Row],[Qtd_Total_Parcelas]]=\"\",tb_pagamentos[[#This Row],[Nr_Pedido]]=\"\"),\"\",IF(tb_pagamentos[[#This Row],[Data_Pagamento]]<>\"\",\"Pago\",IF(AND(tb_pagamentos[[#This Row],[Data_Pagamento]]=\"\",tb_pagamentos[[#This Row],[Data_Vencimento]]<TODAY()),\"Em Atraso\",\"A vencer\")))","v":""}]
[null,null,"",{"$f":"IFERROR(INDEX(CALC_BASE!$N$3:$N$52,MATCH(ROW()-7,CALC_BASE!$M$3:$M$52,0)),\"\")","v":""},{"$f":"IFERROR(INDEX(CALC_BASE!$O$3:$O$52,MATCH(ROW()-7,CALC_BASE!$M$3:$M$52,0)),\"\")","v":""},{"$f":"IFERROR(INDEX(CALC_BASE!$P$3:$P$52,MATCH(ROW()-7,CALC_BASE!$M$3:$M$52,0)),\"\")","v":""},{"$f":"IFERROR(IF(D475=\"\",\"\",INDEX(tb_vendas[Preço de Venda],MATCH(D475,tb_vendas[N° Pedido/Empresa],0))/F475),\"\")","v":""},{"$f":"IFERROR(IF(D475=\"\",\"\",INDEX(tb_vendas[Data Fechamento],MATCH(D475,tb_vendas[N° Pedido/Empresa],0))+E475*INDEX(tb_formas_pagamento[Dias_Intervalo],MATCH(INDEX(tb_vendas[Forma_Pagamento],MATCH(D475,tb_vendas[N° Pedido/Empresa],0)),tb_formas_pagamento[Nome_Forma],0))),\"\")","v":""},null,{"$f":"IF(OR(tb_pagamentos[[#This Row],[Data_Vencimento]]=\"\",tb_pagamentos[[#This Row],[Valor_Parcela]]=\"\",tb_pagamentos[[#This Row],[Qtd_Total_Parcelas]]=\"\",tb_pagamentos[[#This Row],[Nr_Pedido]]=\"\"),\"\",IF(tb_pagamentos[[#This Row],[Data_Pagamento]]<>\"\",\"Pago\",IF(AND(tb_pagamentos[[#This Row],[Data_Pagamento]]=\"\",tb_pagamentos[[#This Row],[Data_Vencimento]]<TODAY()),\"Em Atraso\",\"A vencer\")))","v":""}]
[null,null,"",{"$f":"IFERROR(INDEX(CALC_BASE!$N$3:$N$52,MATCH(ROW()-7,CALC_BASE!$M$3:$M$52,0)),\"\")","v":""},{"$f":"IFERROR(INDEX(CALC_BASE!$O$3:$O$52,MATCH(ROW()-7,CALC_BASE!$M$3:$M$52,0)),\"\")","v":""},{"$f":"IFERROR(INDEX(CALC_BASE!$P$3:$P$52,MATCH(ROW()-7,CALC_BASE!$M$3:$M$52,0)),\"\")","v":""},{"$f":"IFERROR(IF(D476=\"\",\"\",INDEX(tb_vendas[Preço de Venda],MATCH(D476,tb_vendas[N° Pedido/Empresa],0))/F476),\"\")","v":""},{"$f":"IFERROR(IF(D476=\"\",\"\",INDEX(tb_vendas[Data Fechamento],MATCH(D476,tb_vendas[N° Pedido/Empresa],0))+E476*INDEX(tb_formas_pagamento[Dias_Intervalo],MATCH(INDEX(tb_vendas[Forma_Pagamento],MATCH(D476,tb_vendas[N° Pedido/Empresa],0)),tb_formas_pagamento[Nome_Forma],0))),\"\")","v":""},null,{"$f":"IF(OR(tb_pagamentos[[#This Row],[Data_Vencimento]]=\"\",tb_pagamentos[[#This Row],[Valor_Parcela]]=\"\",tb_pagamentos[[#This Row],[Qtd_Total_Parcelas]]=\"\",tb_pagamentos[[#This Row],[Nr_Pedido]]=\"\"),\"\",IF(tb_pagamentos[[#This Row],[Data_Pagamento]]<>\"\",\"Pago\",IF(AND(tb_pagamentos[[#This Row],[Data_Pagamento]]=\"\",tb_pagamentos[[#This Row],[Data_Vencimento]]<TODAY()),\"Em Atraso\",\"A vencer\")))","v":""}]
[null,null,"",{"$f":"IFERROR(INDEX(CALC_BASE!$N$3:$N$52,MATCH(ROW()-7,CALC_BASE!$M$3:$M$52,0)),\"\")","v":""},{"$f":"IFERROR(INDEX(CALC_BASE!$O$3:$O$52,MATCH(ROW()-7,CALC_BASE!$M$3:$M$52,0)),\"\")","v":""},{"$f":"IFERROR(INDEX(CALC_BASE!$P$3:$P$52,MATCH(ROW()-7,CALC_BASE!$M$3:$M$52,0)),\"\")","v":""},{"$f":"IFERROR(IF(D477=\"\",\"\",INDEX(tb_vendas[Preço de Venda],MATCH(D477,tb_vendas[N° Pedido/Empresa],0))/F477),\"\")","v":""},{"$f":"IFERROR(IF(D477=\"\",\"\",INDEX(tb_vendas[Data Fechamento],MATCH(D477,tb_vendas[N° Pedido/Empresa],0))+E477*INDEX(tb_formas_pagamento[Dias_Intervalo],MATCH(INDEX(tb_vendas[Forma_Pagamento],MATCH(D477,tb_vendas[N° Pedido/Empresa],0)),tb_formas_pagamento[Nome_Forma],0))),\"\")","v":""},null,{"$f":"IF(OR(tb_pagamentos[[#This Row],[Data_Vencimento]]=\"\",tb_pagamentos[[#This Row],[Valor_Parcela]]=\"\",tb_pagamentos[[#This Row],[Qtd_Total_Parcelas]]=\"\",tb_pagamentos[[#This Row],[Nr_Pedido]]=\"\"),\"\",IF(tb_pagamentos[[#This Row],[Data_Pagamento]]<>\"\",\"Pago\",IF(AND(tb_pagamentos[[#This Row],[Data_Pagamento]]=\"\",tb_pagamentos[[#This Row],[Data_Vencimento]]<TODAY()),\"Em Atraso\",\"A vencer\")))","v":""}]
[null,null,"",{"$f":"IFERROR(INDEX(CALC_BASE!$N$3:$N$52,MATCH(ROW()-7,CALC_BASE!$M$3:$M$52,0)),\"\")","v":""},{"$f":"IFERROR(INDEX(CALC_BASE!$O$3:$O$52,MATCH(ROW()-7,CALC_BASE!$M$3:$M$52,0)),\"\")","v":""},{"$f":"IFERROR(INDEX(CALC_BASE!$P$3:$P$52,MATCH(ROW()-7,CALC_BASE!$M$3:$M$52,0)),\"\")","v":""},{"$f":"IFERROR(IF(D478=\"\",\"\",INDEX(tb_vendas[Preço de Venda],MATCH(D478,tb_vendas[N° Pedido/Empresa],0))/F478),\"\")","v":""},{"$f":"IFERROR(IF(D478=\"\",\"\",INDEX(tb_vendas[Data Fechamento],MATCH(D478,tb_vendas[N° Pedido/Empresa],0))+E478*INDEX(tb_formas_pagamento[Dias_Intervalo],MATCH(INDEX(tb_vendas[Forma_Pagamento],MATCH(D478,tb_vendas[N° Pedido/Empresa],0)),tb_formas_pagamento[Nome_Forma],0))),\"\")","v":""},null,{"$f":"IF(OR(tb_pagamentos[[#This Row],[Data_Vencimento]]=\"\",tb_pagamentos[[#This Row],[Valor_Parcela]]=\"\",tb_pagamentos[[#This Row],[Qtd_Total_Parcelas]]=\"\",tb_pagamentos[[#This Row],[Nr_Pedido]]=\"\"),\"\",IF(tb_pagamentos[[#This Row],[Data_Pagamento]]<>\"\",\"Pago\",IF(AND(tb_pagamentos[[#This Row],[Data_Pagamento]]=\"\",tb_pagamentos[[#This Row],[Data_Vencimento]]<TODAY()),\"Em Atraso\",\"A vencer\")))","v":""}]
[null,null,"",{"$f":"IFERROR(INDEX(CALC_BASE!$N$3:$N$52,MATCH(ROW()-7,CALC_BASE!$M$3:$M$52,0)),\"\")","v":""},{"$f":"IFERROR(INDEX(CALC_BASE!$O$3:$O$52,MATCH(ROW()-7,CALC_BASE!$M$3:$M$52,0)),\"\")","v":""},{"$f":"IFERROR(INDEX(CALC_BASE!$P$3:$P$52,MATCH(ROW()-7,CALC_BASE!$M$3:$M$52,0)),\"\")","v":""},{"$f":"IFERROR(IF(D479=\"\",\"\",INDEX(tb_vendas[Preço de Venda],MATCH(D479,tb_vendas[N° Pedido/Empresa],0))/F479),\"\")","v":""},{"$f":"IFERROR(IF(D479=\"\",\"\",INDEX(tb_vendas[Data Fechamento],MATCH(D479,tb_vendas[N° Pedido/Empresa],0))+E479*INDEX(tb_formas_pagamento[Dias_Intervalo],MATCH(INDEX(tb_vendas[Forma_Pagamento],MATCH(D479,tb_vendas[N° Pedido/Empresa],0)),tb_formas_pagamento[Nome_Forma],0))),\"\")","v":""},null,{"$f":"IF(OR(tb_pagamentos[[#This Row],[Data_Vencimento]]=\"\",tb_pagamentos[[#This Row],[Valor_Parcela]]=\"\",tb_pagamentos[[#This Row],[Qtd_Total_Parcelas]]=\"\",tb_pagamentos[[#This Row],[Nr_Pedido]]=\"\"),\"\",IF(tb_pagamentos[[#This Row],[Data_Pagamento]]<>\"\",\"Pago\",IF(AND(tb_pagamentos[[#This Row],[Data_Pagamento]]=\"\",tb_pagamentos[[#This Row],[Data_Vencimento]]<TODAY()),\"Em Atraso\",\"A vencer\")))","v":""}]
[null,null,"",{"$f":"IFERROR(INDEX(CALC_BASE!$N$3:$N$52,MATCH(ROW()-7,CALC_BASE!$M$3:$M$52,0)),\"\")","v":""},{"$f":"IFERROR(INDEX(CALC_BASE!$O$3:$O$52,MATCH(ROW()-7,CALC_BASE!$M$3:$M$52,0)),\"\")","v":""},{"$f":"IFERROR(INDEX(CALC_BASE!$P$3:$P$52,MATCH(ROW()-7,CALC_BASE!$M$3:$M$52,0)),\"\")","v":""},{"$f":"IFERROR(IF(D480=\"\",\"\",INDEX(tb_vendas[Preço de Venda],MATCH(D480,tb_vendas[N° Pedido/Empresa],0))/F480),\"\")","v":""},{"$f":"IFERROR(IF(D480=\"\",\"\",INDEX(tb_vendas[Data Fechamento],MATCH(D480,tb_vendas[N° Pedido/Empresa],0))+E480*INDEX(tb_formas_pagamento[Dias_Intervalo],MATCH(INDEX(tb_vendas[Forma_Pagamento],MATCH(D480,tb_vendas[N° Pedido/Empresa],0)),tb_formas_pagamento[Nome_Forma],0))),\"\")","v":""},null,{"$f":"IF(OR(tb_pagamentos[[#This Row],[Data_Vencimento]]=\"\",tb_pagamentos[[#This Row],[Valor_Parcela]]=\"\",tb_pagamentos[[#This Row],[Qtd_Total_Parcelas]]=\"\",tb_pagamentos[[#This Row],[Nr_Pedido]]=\"\"),\"\",IF(tb_pagamentos[[#This Row],[Data_Pagamento]]<>\"\",\"Pago\",IF(AND(tb_pagamentos[[#This Row],[Data_Pagamento]]=\"\",tb_pagamentos[[#This Row],[Data_Vencimento]]<TODAY()),\"Em Atraso\",\"A vencer\")))","v":""}]
[null,null,"",{"$f":"IFERROR(INDEX(CALC_BASE!$N$3:$N$52,MATCH(ROW()-7,CALC_BASE!$M$3:$M$52,0)),\"\")","v":""},{"$f":"IFERROR(INDEX(CALC_BASE!$O$3:$O$52,MATCH(ROW()-7,CALC_BASE!$M$3:$M$52,0)),\"\")","v":""},{"$f":"IFERROR(INDEX(CALC_BASE!$P$3:$P$52,MATCH(ROW()-7,CALC_BASE!$M$3:$M$52,0)),\"\")","v":""},{"$f":"IFERROR(IF(D481=\"\",\"\",INDEX(tb_vendas[Preço de Venda],MATCH(D481,tb_vendas[N° Pedido/Empresa],0))/F481),\"\")","v":""},{"$f":"IFERROR(IF(D481=\"\",\"\",INDEX(tb_vendas[Data Fechamento],MATCH(D481,tb_vendas[N° Pedido/Empresa],0))+E481*INDEX(tb_formas_pagamento[Dias_Intervalo],MATCH(INDEX(tb_vendas[Forma_Pagamento],MATCH(D481,tb_vendas[N° Pedido/Empresa],0)),tb_formas_pagamento[Nome_Forma],0))),\"\")","v":""},null,{"$f":"IF(OR(tb_pagamentos[[#This Row],[Data_Vencimento]]=\"\",tb_pagamentos[[#This Row],[Valor_Parcela]]=\"\",tb_pagamentos[[#This Row],[Qtd_Total_Parcelas]]=\"\",tb_pagamentos[[#This Row],[Nr_Pedido]]=\"\"),\"\",IF(tb_pagamentos[[#This Row],[Data_Pagamento]]<>\"\",\"Pago\",IF(AND(tb_pagamentos[[#This Row],[Data_Pagamento]]=\"\",tb_pagamentos[[#This Row],[Data_Vencimento]]<TODAY()),\"Em Atraso\",\"A vencer\")))","v":""}]
[null,null,"",{"$f":"IFERROR(INDEX(CALC_BASE!$N$3:$N$52,MATCH(ROW()-7,CALC_BASE!$M$3:$M$52,0)),\"\")","v":""},{"$f":"IFERROR(INDEX(CALC_BASE!$O$3:$O$52,MATCH(ROW()-7,CALC_BASE!$M$3:$M$52,0)),\"\")","v":""},{"$f":"IFERROR(INDEX(CALC_BASE!$P$3:$P$52,MATCH(ROW()-7,CALC_BASE!$M$3:$M$52,0)),\"\")","v":""},{"$f":"IFERROR(IF(D482=\"\",\"\",INDEX(tb_vendas[Preço de Venda],MATCH(D482,tb_vendas[N° Pedido/Empresa],0))/F482),\"\")","v":""},{"$f":"IFERROR(IF(D482=\"\",\"\",INDEX(tb_vendas[Data Fechamento],MATCH(D482,tb_vendas[N° Pedido/Empresa],0))+E482*INDEX(tb_formas_pagamento[Dias_Intervalo],MATCH(INDEX(tb_vendas[Forma_Pagamento],MATCH(D482,tb_vendas[N° Pedido/Empresa],0)),tb_formas_pagamento[Nome_Forma],0))),\"\")","v":""},null,{"$f":"IF(OR(tb_pagamentos[[#This Row],[Data_Vencimento]]=\"\",tb_pagamentos[[#This Row],[Valor_Parcela]]=\"\",tb_pagamentos[[#This Row],[Qtd_Total_Parcelas]]=\"\",tb_pagamentos[[#This Row],[Nr_Pedido]]=\"\"),\"\",IF(tb_pagamentos[[#This Row],[Data_Pagamento]]<>\"\",\"Pago\",IF(AND(tb_pagamentos[[#This Row],[Data_Pagamento]]=\"\",tb_pagamentos[[#This Row],[Data_Vencimento]]<TODAY()),\"Em Atraso\",\"A vencer\")))","v":""}]
[null,null,"",{"$f":"IFERROR(INDEX(CALC_BASE!$N$3:$N$52,MATCH(ROW()-7,CALC_BASE!$M$3:$M$52,0)),\"\")","v":""},{"$f":"IFERROR(INDEX(CALC_BASE!$O$3:$O$52,MATCH(ROW()-7,CALC_BASE!$M$3:$M$52,0)),\"\")","v":""},{"$f":"IFERROR(INDEX(CALC_BASE!$P$3:$P$52,MATCH(ROW()-7,CALC_BASE!$M$3:$M$52,0)),\"\")","v":""},{"$f":"IFERROR(IF(D483=\"\",\"\",INDEX(tb_vendas[Preço de Venda],MATCH(D483,tb_vendas[N° Pedido/Empresa],0))/F483),\"\")","v":""},{"$f":"IFERROR(IF(D483=\"\",\"\",INDEX(tb_vendas[Data Fechamento],MATCH(D483,tb_vendas[N° Pedido/Empresa],0))+E483*INDEX(tb_formas_pagamento[Dias_Intervalo],MATCH(INDEX(tb_vendas[Forma_Pagamento],MATCH(D483,tb_vendas[N° Pedido/Empresa],0)),tb_formas_pagamento[Nome_Forma],0))),\"\")","v":""},null,{"$f":"IF(OR(tb_pagamentos[[#This Row],[Data_Vencimento]]=\"\",tb_pagamentos[[#This Row],[Valor_Parcela]]=\"\",tb_pagamentos[[#This Row],[Qtd_Total_Parcelas]]=\"\",tb_pagamentos[[#This Row],[Nr_Pedido]]=\"\"),\"\",IF(tb_pagamentos[[#This Row],[Data_Pagamento]]<>\"\",\"Pago\",IF(AND(tb_pagamentos[[#This Row],[Data_Pagamento]]=\"\",tb_pagamentos[[#This Row],[Data_Vencimento]]<TODAY()),\"Em Atraso\",\"A vencer\")))","v":""}]
[null,null,"",{"$f":"IFERROR(INDEX(CALC_BASE!$N$3:$N$52,MATCH(ROW()-7,CALC_BASE!$M$3:$M$52,0)),\"\")","v":""},{"$f":"IFERROR(INDEX(CALC_BASE!$O$3:$O$52,MATCH(ROW()-7,CALC_BASE!$M$3:$M$52,0)),\"\")","v":""},{"$f":"IFERROR(INDEX(CALC_BASE!$P$3:$P$52,MATCH(ROW()-7,CALC_BASE!$M$3:$M$52,0)),\"\")","v":""},{"$f":"IFERROR(IF(D484=\"\",\"\",INDEX(tb_vendas[Preço de Venda],MATCH(D484,tb_vendas[N° Pedido/Empresa],0))/F484),\"\")","v":""},{"$f":"IFERROR(IF(D484=\"\",\"\",INDEX(tb_vendas[Data Fechamento],MATCH(D484,tb_vendas[N° Pedido/Empresa],0))+E484*INDEX(tb_formas_pagamento[Dias_Intervalo],MATCH(INDEX(tb_vendas[Forma_Pagamento],MATCH(D484,tb_vendas[N° Pedido/Empresa],0)),tb_formas_pagamento[Nome_Forma],0))),\"\")","v":""},null,{"$f":"IF(OR(tb_pagamentos[[#This Row],[Data_Vencimento]]=\"\",tb_pagamentos[[#This Row],[Valor_Parcela]]=\"\",tb_pagamentos[[#This Row],[Qtd_Total_Parcelas]]=\"\",tb_pagamentos[[#This Row],[Nr_Pedido]]=\"\"),\"\",IF(tb_pagamentos[[#This Row],[Data_Pagamento]]<>\"\",\"Pago\",IF(AND(tb_pagamentos[[#This Row],[Data_Pagamento]]=\"\",tb_pagamentos[[#This Row],[Data_Vencimento]]<TODAY()),\"Em Atraso\",\"A vencer\")))","v":""}]
[null,null,"",{"$f":"IFERROR(INDEX(CALC_BASE!$N$3:$N$52,MATCH(ROW()-7,CALC_BASE!$M$3:$M$52,0)),\"\")","v":""},{"$f":"IFERROR(INDEX(CALC_BASE!$O$3:$O$52,MATCH(ROW()-7,CALC_BASE!$M$3:$M$52,0)),\"\")","v":""},{"$f":"IFERROR(INDEX(CALC_BASE!$P$3:$P$52,MATCH(ROW()-7,CALC_BASE!$M$3:$M$52,0)),\"\")","v":""},{"$f":"IFERROR(IF(D485=\"\",\"\",INDEX(tb_vendas[Preço de Venda],MATCH(D485,tb_vendas[N° Pedido/Empresa],0))/F485),\"\")","v":""},{"$f":"IFERROR(IF(D485=\"\",\"\",INDEX(tb_vendas[Data Fechamento],MATCH(D485,tb_vendas[N° Pedido/Empresa],0))+E485*INDEX(tb_formas_pagamento[Dias_Intervalo],MATCH(INDEX(tb_vendas[Forma_Pagamento],MATCH(D485,tb_vendas[N° Pedido/Empresa],0)),tb_formas_pagamento[Nome_Forma],0))),\"\")","v":""},null,{"$f":"IF(OR(tb_pagamentos[[#This Row],[Data_Vencimento]]=\"\",tb_pagamentos[[#This Row],[Valor_Parcela]]=\"\",tb_pagamentos[[#This Row],[Qtd_Total_Parcelas]]=\"\",tb_pagamentos[[#This Row],[Nr_Pedido]]=\"\"),\"\",IF(tb_pagamentos[[#This Row],[Data_Pagamento]]<>\"\",\"Pago\",IF(AND(tb_pagamentos[[#This Row],[Data_Pagamento]]=\"\",tb_pagamentos[[#This Row],[Data_Vencimento]]<TODAY()),\"Em Atraso\",\"A vencer\")))","v":""}]
[null,null,"",{"$f":"IFERROR(INDEX(CALC_BASE!$N$3:$N$52,MATCH(ROW()-7,CALC_BASE!$M$3:$M$52,0)),\"\")","v":""},{"$f":"IFERROR(INDEX(CALC_BASE!$O$3:$O$52,MATCH(ROW()-7,CALC_BASE!$M$3:$M$52,0)),\"\")","v":""},{"$f":"IFERROR(INDEX(CALC_BASE!$P$3:$P$52,MATCH(ROW()-7,CALC_BASE!$M$3:$M$52,0)),\"\")","v":""},{"$f":"IFERROR(IF(D486=\"\",\"\",INDEX(tb_vendas[Preço de Venda],MATCH(D486,tb_vendas[N° Pedido/Empresa],0))/F486),\"\")","v":""},{"$f":"IFERROR(IF(D486=\"\",\"\",INDEX(tb_vendas[Data Fechamento],MATCH(D486,tb_vendas[N° Pedido/Empresa],0))+E486*INDEX(tb_formas_pagamento[Dias_Intervalo],MATCH(INDEX(tb_vendas[Forma_Pagamento],MATCH(D486,tb_vendas[N° Pedido/Empresa],0)),tb_formas_pagamento[Nome_Forma],0))),\"\")","v":""},null,{"$f":"IF(OR(tb_pagamentos[[#This Row],[Data_Vencimento]]=\"\",tb_pagamentos[[#This Row],[Valor_Parcela]]=\"\",tb_pagamentos[[#This Row],[Qtd_Total_Parcelas]]=\"\",tb_pagamentos[[#This Row],[Nr_Pedido]]=\"\"),\"\",IF(tb_pagamentos[[#This Row],[Data_Pagamento]]<>\"\",\"Pago\",IF(AND(tb_pagamentos[[#This Row],[Data_Pagamento]]=\"\",tb_pagamentos[[#This Row],[Data_Vencimento]]<TODAY()),\"Em Atraso\",\"A vencer\")))","v":""}]
[null,null,"",{"$f":"IFERROR(INDEX(CALC_BASE!$N$3:$N$52,MATCH(ROW()-7,CALC_BASE!$M$3:$M$52,0)),\"\")","v":""},{"$f":"IFERROR(INDEX(CALC_BASE!$O$3:$O$52,MATCH(ROW()-7,CALC_BASE!$M$3:$M$52,0)),\"\")","v":""},{"$f":"IFERROR(INDEX(CALC_BASE!$P$3:$P$52,MATCH(ROW()-7,CALC_BASE!$M$3:$M$52,0)),\"\")","v":""},{"$f":"IFERROR(IF(D487=\"\",\"\",INDEX(tb_vendas[Preço de Venda],MATCH(D487,tb_vendas[N° Pedido/Empresa],0))/F487),\"\")","v":""},{"$f":"IFERROR(IF(D487=\"\",\"\",INDEX(tb_vendas[Data Fechamento],MATCH(D487,tb_vendas[N° Pedido/Empresa],0))+E487*INDEX(tb_formas_pagamento[Dias_Intervalo],MATCH(INDEX(tb_vendas[Forma_Pagamento],MATCH(D487,tb_vendas[N° Pedido/Empresa],0)),tb_formas_pagamento[Nome_Forma],0))),\"\")","v":""},null,{"$f":"IF(OR(tb_pagamentos[[#This Row],[Data_Vencimento]]=\"\",tb_pagamentos[[#This Row],[Valor_Parcela]]=\"\",tb_pagamentos[[#This Row],[Qtd_Total_Parcelas]]=\"\",tb_pagamentos[[#This Row],[Nr_Pedido]]=\"\"),\"\",IF(tb_pagamentos[[#This Row],[Data_Pagamento]]<>\"\",\"Pago\",IF(AND(tb_pagamentos[[#This Row],[Data_Pagamento]]=\"\",tb_pagamentos[[#This Row],[Data_Vencimento]]<TODAY()),\"Em Atraso\",\"A vencer\")))","v":""}]
[null,null,"",{"$f":"IFERROR(INDEX(CALC_BASE!$N$3:$N$52,MATCH(ROW()-7,CALC_BASE!$M$3:$M$52,0)),\"\")","v":""},{"$f":"IFERROR(INDEX(CALC_BASE!$O$3:$O$52,MATCH(ROW()-7,CALC_BASE!$M$3:$M$52,0)),\"\")","v":""},{"$f":"IFERROR(INDEX(CALC_BASE!$P$3:$P$52,MATCH(ROW()-7,CALC_BASE!$M$3:$M$52,0)),\"\")","v":""},{"$f":"IFERROR(IF(D488=\"\",\"\",INDEX(tb_vendas[Preço de Venda],MATCH(D488,tb_vendas[N° Pedido/Empresa],0))/F488),\"\")","v":""},{"$f":"IFERROR(IF(D488=\"\",\"\",INDEX(tb_vendas[Data Fechamento],MATCH(D488,tb_vendas[N° Pedido/Empresa],0))+E488*INDEX(tb_formas_pagamento[Dias_Intervalo],MATCH(INDEX(tb_vendas[Forma_Pagamento],MATCH(D488,tb_vendas[N° Pedido/Empresa],0)),tb_formas_pagamento[Nome_Forma],0))),\"\")","v":""},null,{"$f":"IF(OR(tb_pagamentos[[#This Row],[Data_Vencimento]]=\"\",tb_pagamentos[[#This Row],[Valor_Parcela]]=\"\",tb_pagamentos[[#This Row],[Qtd_Total_Parcelas]]=\"\",tb_pagamentos[[#This Row],[Nr_Pedido]]=\"\"),\"\",IF(tb_pagamentos[[#This Row],[Data_Pagamento]]<>\"\",\"Pago\",IF(AND(tb_pagamentos[[#This Row],[Data_Pagamento]]=\"\",tb_pagamentos[[#This Row],[Data_Vencimento]]<TODAY()),\"Em Atraso\",\"A vencer\")))","v":""}]
[null,null,"",{"$f":"IFERROR(INDEX(CALC_BASE!$N$3:$N$52,MATCH(ROW()-7,CALC_BASE!$M$3:$M$52,0)),\"\")","v":""},{"$f":"IFERROR(INDEX(CALC_BASE!$O$3:$O$52,MATCH(ROW()-7,CALC_BASE!$M$3:$M$52,0)),\"\")","v":""},{"$f":"IFERROR(INDEX(CALC_BASE!$P$3:$P$52,MATCH(ROW()-7,CALC_BASE!$M$3:$M$52,0)),\"\")","v":""},{"$f":"IFERROR(IF(D489=\"\",\"\",INDEX(tb_vendas[Preço de Venda],MATCH(D489,tb_vendas[N° Pedido/Empresa],0))/F489),\"\")","v":""},{"$f":"IFERROR(IF(D489=\"\",\"\",INDEX(tb_vendas[Data Fechamento],MATCH(D489,tb_vendas[N° Pedido/Empresa],0))+E489*INDEX(tb_formas_pagamento[Dias_Intervalo],MATCH(INDEX(tb_vendas[Forma_Pagamento],MATCH(D489,tb_vendas[N° Pedido/Empresa],0)),tb_formas_pagamento[Nome_Forma],0))),\"\")","v":""},null,{"$f":"IF(OR(tb_pagamentos[[#This Row],[Data_Vencimento]]=\"\",tb_pagamentos[[#This Row],[Valor_Parcela]]=\"\",tb_pagamentos[[#This Row],[Qtd_Total_Parcelas]]=\"\",tb_pagamentos[[#This Row],[Nr_Pedido]]=\"\"),\"\",IF(tb_pagamentos[[#This Row],[Data_Pagamento]]<>\"\",\"Pago\",IF(AND(tb_pagamentos[[#This Row],[Data_Pagamento]]=\"\",tb_pagamentos[[#This Row],[Data_Vencimento]]<TODAY()),\"Em Atraso\",\"A vencer\")))","v":""}]
[null,null,"",{"$f":"IFERROR(INDEX(CALC_BASE!$N$3:$N$52,MATCH(ROW()-7,CALC_BASE!$M$3:$M$52,0)),\"\")","v":""},{"$f":"IFERROR(INDEX(CALC_BASE!$O$3:$O$52,MATCH(ROW()-7,CALC_BASE!$M$3:$M$52,0)),\"\")","v":""},{"$f":"IFERROR(INDEX(CALC_BASE!$P$3:$P$52,MATCH(ROW()-7,CALC_BASE!$M$3:$M$52,0)),\"\")","v":""},{"$f":"IFERROR(IF(D490=\"\",\"\",INDEX(tb_vendas[Preço de Venda],MATCH(D490,tb_vendas[N° Pedido/Empresa],0))/F490),\"\")","v":""},{"$f":"IFERROR(IF(D490=\"\",\"\",INDEX(tb_vendas[Data Fechamento],MATCH(D490,tb_vendas[N° Pedido/Empresa],0))+E490*INDEX(tb_formas_pagamento[Dias_Intervalo],MATCH(INDEX(tb_vendas[Forma_Pagamento],MATCH(D490,tb_vendas[N° Pedido/Empresa],0)),tb_formas_pagamento[Nome_Forma],0))),\"\")","v":""},null,{"$f":"IF(OR(tb_pagamentos[[#This Row],[Data_Vencimento]]=\"\",tb_pagamentos[[#This Row],[Valor_Parcela]]=\"\",tb_pagamentos[[#This Row],[Qtd_Total_Parcelas]]=\"\",tb_pagamentos[[#This Row],[Nr_Pedido]]=\"\"),\"\",IF(tb_pagamentos[[#This Row],[Data_Pagamento]]<>\"\",\"Pago\",IF(AND(tb_pagamentos[[#This Row],[Data_Pagamento]]=\"\",tb_pagamentos[[#This Row],[Data_Vencimento]]<TODAY()),\"Em Atraso\",\"A vencer\")))","v":""}]
[null,null,"",{"$f":"IFERROR(INDEX(CALC_BASE!$N$3:$N$52,MATCH(ROW()-7,CALC_BASE!$M$3:$M$52,0)),\"\")","v":""},{"$f":"IFERROR(INDEX(CALC_BASE!$O$3:$O$52,MATCH(ROW()-7,CALC_BASE!$M$3:$M$52,0)),\"\")","v":""},{"$f":"IFERROR(INDEX(CALC_BASE!$P$3:$P$52,MATCH(ROW()-7,CALC_BASE!$M$3:$M$52,0)),\"\")","v":""},{"$f":"IFERROR(IF(D491=\"\",\"\",INDEX(tb_vendas[Preço de Venda],MATCH(D491,tb_vendas[N° Pedido/Empresa],0))/F491),\"\")","v":""},{"$f":"IFERROR(IF(D491=\"\",\"\",INDEX(tb_vendas[Data Fechamento],MATCH(D491,tb_vendas[N° Pedido/Empresa],0))+E491*INDEX(tb_formas_pagamento[Dias_Intervalo],MATCH(INDEX(tb_vendas[Forma_Pagamento],MATCH(D491,tb_vendas[N° Pedido/Empresa],0)),tb_formas_pagamento[Nome_Forma],0))),\"\")","v":""},null,{"$f":"IF(OR(tb_pagamentos[[#This Row],[Data_Vencimento]]=\"\",tb_pagamentos[[#This Row],[Valor_Parcela]]=\"\",tb_pagamentos[[#This Row],[Qtd_Total_Parcelas]]=\"\",tb_pagamentos[[#This Row],[Nr_Pedido]]=\"\"),\"\",IF(tb_pagamentos[[#This Row],[Data_Pagamento]]<>\"\",\"Pago\",IF(AND(tb_pagamentos[[#This Row],[Data_Pagamento]]=\"\",tb_pagamentos[[#This Row],[Data_Vencimento]]<TODAY()),\"Em Atraso\",\"A vencer\")))","v":""}]
[null,null,"",{"$f":"IFERROR(INDEX(CALC_BASE!$N$3:$N$52,MATCH(ROW()-7,CALC_BASE!$M$3:$M$52,0)),\"\")","v":""},{"$f":"IFERROR(INDEX(CALC_BASE!$O$3:$O$52,MATCH(ROW()-7,CALC_BASE!$M$3:$M$52,0)),\"\")","v":""},{"$f":"IFERROR(INDEX(CALC_BASE!$P$3:$P$52,MATCH(ROW()-7,CALC_BASE!$M$3:$M$52,0)),\"\")","v":""},{"$f":"IFERROR(IF(D492=\"\",\"\",INDEX(tb_vendas[Preço de Venda],MATCH(D492,tb_vendas[N° Pedido/Empresa],0))/F492),\"\")","v":""},{"$f":"IFERROR(IF(D492=\"\",\"\",INDEX(tb_vendas[Data Fechamento],MATCH(D492,tb_vendas[N° Pedido/Empresa],0))+E492*INDEX(tb_formas_pagamento[Dias_Intervalo],MATCH(INDEX(tb_vendas[Forma_Pagamento],MATCH(D492,tb_vendas[N° Pedido/Empresa],0)),tb_formas_pagamento[Nome_Forma],0))),\"\")","v":""},null,{"$f":"IF(OR(tb_pagamentos[[#This Row],[Data_Vencimento]]=\"\",tb_pagamentos[[#This Row],[Valor_Parcela]]=\"\",tb_pagamentos[[#This Row],[Qtd_Total_Parcelas]]=\"\",tb_pagamentos[[#This Row],[Nr_Pedido]]=\"\"),\"\",IF(tb_pagamentos[[#This Row],[Data_Pagamento]]<>\"\",\"Pago\",IF(AND(tb_pagamentos[[#This Row],[Data_Pagamento]]=\"\",tb_pagamentos[[#This Row],[Data_Vencimento]]<TODAY()),\"Em Atraso\",\"A vencer\")))","v":""}]
[null,null,"",{"$f":"IFERROR(INDEX(CALC_BASE!$N$3:$N$52,MATCH(ROW()-7,CALC_BASE!$M$3:$M$52,0)),\"\")","v":""},{"$f":"IFERROR(INDEX(CALC_BASE!$O$3:$O$52,MATCH(ROW()-7,CALC_BASE!$M$3:$M$52,0)),\"\")","v":""},{"$f":"IFERROR(INDEX(CALC_BASE!$P$3:$P$52,MATCH(ROW()-7,CALC_BASE!$M$3:$M$52,0)),\"\")","v":""},{"$f":"IFERROR(IF(D493=\"\",\"\",INDEX(tb_vendas[Preço de Venda],MATCH(D493,tb_vendas[N° Pedido/Empresa],0))/F493),\"\")","v":""},{"$f":"IFERROR(IF(D493=\"\",\"\",INDEX(tb_vendas[Data Fechamento],MATCH(D493,tb_vendas[N° Pedido/Empresa],0))+E493*INDEX(tb_formas_pagamento[Dias_Intervalo],MATCH(INDEX(tb_vendas[Forma_Pagamento],MATCH(D493,tb_vendas[N° Pedido/Empresa],0)),tb_formas_pagamento[Nome_Forma],0))),\"\")","v":""},null,{"$f":"IF(OR(tb_pagamentos[[#This Row],[Data_Vencimento]]=\"\",tb_pagamentos[[#This Row],[Valor_Parcela]]=\"\",tb_pagamentos[[#This Row],[Qtd_Total_Parcelas]]=\"\",tb_pagamentos[[#This Row],[Nr_Pedido]]=\"\"),\"\",IF(tb_pagamentos[[#This Row],[Data_Pagamento]]<>\"\",\"Pago\",IF(AND(tb_pagamentos[[#This Row],[Data_Pagamento]]=\"\",tb_pagamentos[[#This Row],[Data_Vencimento]]<TODAY()),\"Em Atraso\",\"A vencer\")))","v":""}]
[null,null,"",{"$f":"IFERROR(INDEX(CALC_BASE!$N$3:$N$52,MATCH(ROW()-7,CALC_BASE!$M$3:$M$52,0)),\"\")","v":""},{"$f":"IFERROR(INDEX(CALC_BASE!$O$3:$O$52,MATCH(ROW()-7,CALC_BASE!$M$3:$M$52,0)),\"\")","v":""},{"$f":"IFERROR(INDEX(CALC_BASE!$P$3:$P$52,MATCH(ROW()-7,CALC_BASE!$M$3:$M$52,0)),\"\")","v":""},{"$f":"IFERROR(IF(D494=\"\",\"\",INDEX(tb_vendas[Preço de Venda],MATCH(D494,tb_vendas[N° Pedido/Empresa],0))/F494),\"\")","v":""},{"$f":"IFERROR(IF(D494=\"\",\"\",INDEX(tb_vendas[Data Fechamento],MATCH(D494,tb_vendas[N° Pedido/Empresa],0))+E494*INDEX(tb_formas_pagamento[Dias_Intervalo],MATCH(INDEX(tb_vendas[Forma_Pagamento],MATCH(D494,tb_vendas[N° Pedido/Empresa],0)),tb_formas_pagamento[Nome_Forma],0))),\"\")","v":""},null,{"$f":"IF(OR(tb_pagamentos[[#This Row],[Data_Vencimento]]=\"\",tb_pagamentos[[#This Row],[Valor_Parcela]]=\"\",tb_pagamentos[[#This Row],[Qtd_Total_Parcelas]]=\"\",tb_pagamentos[[#This Row],[Nr_Pedido]]=\"\"),\"\",IF(tb_pagamentos[[#This Row],[Data_Pagamento]]<>\"\",\"Pago\",IF(AND(tb_pagamentos[[#This Row],[Data_Pagamento]]=\"\",tb_pagamentos[[#This Row],[Data_Vencimento]]<TODAY()),\"Em Atraso\",\"A vencer\")))","v":""}]
[null,null,"",{"$f":"IFERROR(INDEX(CALC_BASE!$N$3:$N$52,MATCH(ROW()-7,CALC_BASE!$M$3:$M$52,0)),\"\")","v":""},{"$f":"IFERROR(INDEX(CALC_BASE!$O$3:$O$52,MATCH(ROW()-7,CALC_BASE!$M$3:$M$52,0)),\"\")","v":""},{"$f":"IFERROR(INDEX(CALC_BASE!$P$3:$P$52,MATCH(ROW()-7,CALC_BASE!$M$3:$M$52,0)),\"\")","v":""},{"$f":"IFERROR(IF(D495=\"\",\"\",INDEX(tb_vendas[Preço de Venda],MATCH(D495,tb_vendas[N° Pedido/Empresa],0))/F495),\"\")","v":""},{"$f":"IFERROR(IF(D495=\"\",\"\",INDEX(tb_vendas[Data Fechamento],MATCH(D495,tb_vendas[N° Pedido/Empresa],0))+E495*INDEX(tb_formas_pagamento[Dias_Intervalo],MATCH(INDEX(tb_vendas[Forma_Pagamento],MATCH(D495,tb_vendas[N° Pedido/Empresa],0)),tb_formas_pagamento[Nome_Forma],0))),\"\")","v":""},null,{"$f":"IF(OR(tb_pagamentos[[#This Row],[Data_Vencimento]]=\"\",tb_pagamentos[[#This Row],[Valor_Parcela]]=\"\",tb_pagamentos[[#This Row],[Qtd_Total_Parcelas]]=\"\",tb_pagamentos[[#This Row],[Nr_Pedido]]=\"\"),\"\",IF(tb_pagamentos[[#This Row],[Data_Pagamento]]<>\"\",\"Pago\",IF(AND(tb_pagamentos[[#This Row],[Data_Pagamento]]=\"\",tb_pagamentos[[#This Row],[Data_Vencimento]]<TODAY()),\"Em Atraso\",\"A vencer\")))","v":""}]
[null,null,"",{"$f":"IFERROR(INDEX(CALC_BASE!$N$3:$N$52,MATCH(ROW()-7,CALC_BASE!$M$3:$M$52,0)),\"\")","v":""},{"$f":"IFERROR(INDEX(CALC_BASE!$O$3:$O$52,MATCH(ROW()-7,CALC_BASE!$M$3:$M$52,0)),\"\")","v":""},{"$f":"IFERROR(INDEX(CALC_BASE!$P$3:$P$52,MATCH(ROW()-7,CALC_BASE!$M$3:$M$52,0)),\"\")","v":""},{"$f":"IFERROR(IF(D496=\"\",\"\",INDEX(tb_vendas[Preço de Venda],MATCH(D496,tb_vendas[N° Pedido/Empresa],0))/F496),\"\")","v":""},{"$f":"IFERROR(IF(D496=\"\",\"\",INDEX(tb_vendas[Data Fechamento],MATCH(D496,tb_vendas[N° Pedido/Empresa],0))+E496*INDEX(tb_formas_pagamento[Dias_Intervalo],MATCH(INDEX(tb_vendas[Forma_Pagamento],MATCH(D496,tb_vendas[N° Pedido/Empresa],0)),tb_formas_pagamento[Nome_Forma],0))),\"\")","v":""},null,{"$f":"IF(OR(tb_pagamentos[[#This Row],[Data_Vencimento]]=\"\",tb_pagamentos[[#This Row],[Valor_Parcela]]=\"\",tb_pagamentos[[#This Row],[Qtd_Total_Parcelas]]=\"\",tb_pagamentos[[#This Row],[Nr_Pedido]]=\"\"),\"\",IF(tb_pagamentos[[#This Row],[Data_Pagamento]]<>\"\",\"Pago\",IF(AND(tb_pagamentos[[#This Row],[Data_Pagamento]]=\"\",tb_pagamentos[[#This Row],[Data_Vencimento]]<TODAY()),\"Em Atraso\",\"A vencer\")))","v":""}]
[null,null,"",{"$f":"IFERROR(INDEX(CALC_BASE!$N$3:$N$52,MATCH(ROW()-7,CALC_BASE!$M$3:$M$52,0)),\"\")","v":""},{"$f":"IFERROR(INDEX(CALC_BASE!$O$3:$O$52,MATCH(ROW()-7,CALC_BASE!$M$3:$M$52,0)),\"\")","v":""},{"$f":"IFERROR(INDEX(CALC_BASE!$P$3:$P$52,MATCH(ROW()-7,CALC_BASE!$M$3:$M$52,0)),\"\")","v":""},{"$f":"IFERROR(IF(D497=\"\",\"\",INDEX(tb_vendas[Preço de Venda],MATCH(D497,tb_vendas[N° Pedido/Empresa],0))/F497),\"\")","v":""},{"$f":"IFERROR(IF(D497=\"\",\"\",INDEX(tb_vendas[Data Fechamento],MATCH(D497,tb_vendas[N° Pedido/Empresa],0))+E497*INDEX(tb_formas_pagamento[Dias_Intervalo],MATCH(INDEX(tb_vendas[Forma_Pagamento],MATCH(D497,tb_vendas[N° Pedido/Empresa],0)),tb_formas_pagamento[Nome_Forma],0))),\"\")","v":""},null,{"$f":"IF(OR(tb_pagamentos[[#This Row],[Data_Vencimento]]=\"\",tb_pagamentos[[#This Row],[Valor_Parcela]]=\"\",tb_pagamentos[[#This Row],[Qtd_Total_Parcelas]]=\"\",tb_pagamentos[[#This Row],[Nr_Pedido]]=\"\"),\"\",IF(tb_pagamentos[[#This Row],[Data_Pagamento]]<>\"\",\"Pago\",IF(AND(tb_pagamentos[[#This Row],[Data_Pagamento]]=\"\",tb_pagamentos[[#This Row],[Data_Vencimento]]<TODAY()),\"Em Atraso\",\"A vencer\")))","v":""}]
[null,null,"",{"$f":"IFERROR(INDEX(CALC_BASE!$N$3:$N$52,MATCH(ROW()-7,CALC_BASE!$M$3:$M$52,0)),\"\")","v":""},{"$f":"IFERROR(INDEX(CALC_BASE!$O$3:$O$52,MATCH(ROW()-7,CALC_BASE!$M$3:$M$52,0)),\"\")","v":""},{"$f":"IFERROR(INDEX(CALC_BASE!$P$3:$P$52,MATCH(ROW()-7,CALC_BASE!$M$3:$M$52,0)),\"\")","v":""},{"$f":"IFERROR(IF(D498=\"\",\"\",INDEX(tb_vendas[Preço de Venda],MATCH(D498,tb_vendas[N° Pedido/Empresa],0))/F498),\"\")","v":""},{"$f":"IFERROR(IF(D498=\"\",\"\",INDEX(tb_vendas[Data Fechamento],MATCH(D498,tb_vendas[N° Pedido/Empresa],0))+E498*INDEX(tb_formas_pagamento[Dias_Intervalo],MATCH(INDEX(tb_vendas[Forma_Pagamento],MATCH(D498,tb_vendas[N° Pedido/Empresa],0)),tb_formas_pagamento[Nome_Forma],0))),\"\")","v":""},null,{"$f":"IF(OR(tb_pagamentos[[#This Row],[Data_Vencimento]]=\"\",tb_pagamentos[[#This Row],[Valor_Parcela]]=\"\",tb_pagamentos[[#This Row],[Qtd_Total_Parcelas]]=\"\",tb_pagamentos[[#This Row],[Nr_Pedido]]=\"\"),\"\",IF(tb_pagamentos[[#This Row],[Data_Pagamento]]<>\"\",\"Pago\",IF(AND(tb_pagamentos[[#This Row],[Data_Pagamento]]=\"\",tb_pagamentos[[#This Row],[Data_Vencimento]]<TODAY()),\"Em Atraso\",\"A vencer\")))","v":""}]
[null,null,"",{"$f":"IFERROR(INDEX(CALC_BASE!$N$3:$N$52,MATCH(ROW()-7,CALC_BASE!$M$3:$M$52,0)),\"\")","v":""},{"$f":"IFERROR(INDEX(CALC_BASE!$O$3:$O$52,MATCH(ROW()-7,CALC_BASE!$M$3:$M$52,0)),\"\")","v":""},{"$f":"IFERROR(INDEX(CALC_BASE!$P$3:$P$52,MATCH(ROW()-7,CALC_BASE!$M$3:$M$52,0)),\"\")","v":""},{"$f":"IFERROR(IF(D499=\"\",\"\",INDEX(tb_vendas[Preço de Venda],MATCH(D499,tb_vendas[N° Pedido/Empresa],0))/F499),\"\")","v":""},{"$f":"IFERROR(IF(D499=\"\",\"\",INDEX(tb_vendas[Data Fechamento],MATCH(D499,tb_vendas[N° Pedido/Empresa],0))+E499*INDEX(tb_formas_pagamento[Dias_Intervalo],MATCH(INDEX(tb_vendas[Forma_Pagamento],MATCH(D499,tb_vendas[N° Pedido/Empresa],0)),tb_formas_pagamento[Nome_Forma],0))),\"\")","v":""},null,{"$f":"IF(OR(tb_pagamentos[[#This Row],[Data_Vencimento]]=\"\",tb_pagamentos[[#This Row],[Valor_Parcela]]=\"\",tb_pagamentos[[#This Row],[Qtd_Total_Parcelas]]=\"\",tb_pagamentos[[#This Row],[Nr_Pedido]]=\"\"),\"\",IF(tb_pagamentos[[#This Row],[Data_Pagamento]]<>\"\",\"Pago\",IF(AND(tb_pagamentos[[#This Row],[Data_Pagamento]]=\"\",tb_pagamentos[[#This Row],[Data_Vencimento]]<TODAY()),\"Em Atraso\",\"A vencer\")))","v":""}]
[null,null,"",{"$f":"IFERROR(INDEX(CALC_BASE!$N$3:$N$52,MATCH(ROW()-7,CALC_BASE!$M$3:$M$52,0)),\"\")","v":""},{"$f":"IFERROR(INDEX(CALC_BASE!$O$3:$O$52,MATCH(ROW()-7,CALC_BASE!$M$3:$M$52,0)),\"\")","v":""},{"$f":"IFERROR(INDEX(CALC_BASE!$P$3:$P$52,MATCH(ROW()-7,CALC_BASE!$M$3:$M$52,0)),\"\")","v":""},{"$f":"IFERROR(IF(D500=\"\",\"\",INDEX(tb_vendas[Preço de Venda],MATCH(D500,tb_vendas[N° Pedido/Empresa],0))/F500),\"\")","v":""},{"$f":"IFERROR(IF(D500=\"\",\"\",INDEX(tb_vendas[Data Fechamento],MATCH(D500,tb_vendas[N° Pedido/Empresa],0))+E500*INDEX(tb_formas_pagamento[Dias_Intervalo],MATCH(INDEX(tb_vendas[Forma_Pagamento],MATCH(D500,tb_vendas[N° Pedido/Empresa],0)),tb_formas_pagamento[Nome_Forma],0))),\"\")","v":""},null,{"$f":"IF(OR(tb_pagamentos[[#This Row],[Data_Vencimento]]=\"\",tb_pagamentos[[#This Row],[Valor_Parcela]]=\"\",tb_pagamentos[[#This Row],[Qtd_Total_Parcelas]]=\"\",tb_pagamentos[[#This Row],[Nr_Pedido]]=\"\"),\"\",IF(tb_pagamentos[[#This Row],[Data_Pagamento]]<>\"\",\"Pago\",IF(AND(tb_pagamentos[[#This Row],[Data_Pagamento]]=\"\",tb_pagamentos[[#This Row],[Data_Vencimento]]<TODAY()),\"Em Atraso\",\"A vencer\")))","v":""}]
[null,null,"",{"$f":"IFERROR(INDEX(CALC_BASE!$N$3:$N$52,MATCH(ROW()-7,CALC_BASE!$M$3:$M$52,0)),\"\")","v":""},{"$f":"IFERROR(INDEX(CALC_BASE!$O$3:$O$52,MATCH(ROW()-7,CALC_BASE!$M$3:$M$52,0)),\"\")","v":""},{"$f":"IFERROR(INDEX(CALC_BASE!$P$3:$P$52,MATCH(ROW()-7,CALC_BASE!$M$3:$M$52,0)),\"\")","v":""},{"$f":"IFERROR(IF(D501=\"\",\"\",INDEX(tb_vendas[Preço de Venda],MATCH(D501,tb_vendas[N° Pedido/Empresa],0))/F501),\"\")","v":""},{"$f":"IFERROR(IF(D501=\"\",\"\",INDEX(tb_vendas[Data Fechamento],MATCH(D501,tb_vendas[N° Pedido/Empresa],0))+E501*INDEX(tb_formas_pagamento[Dias_Intervalo],MATCH(INDEX(tb_vendas[Forma_Pagamento],MATCH(D501,tb_vendas[N° Pedido/Empresa],0)),tb_formas_pagamento[Nome_Forma],0))),\"\")","v":""},null,{"$f":"IF(OR(tb_pagamentos[[#This Row],[Data_Vencimento]]=\"\",tb_pagamentos[[#This Row],[Valor_Parcela]]=\"\",tb_pagamentos[[#This Row],[Qtd_Total_Parcelas]]=\"\",tb_pagamentos[[#This Row],[Nr_Pedido]]=\"\"),\"\",IF(tb_pagamentos[[#This Row],[Data_Pagamento]]<>\"\",\"Pago\",IF(AND(tb_pagamentos[[#This Row],[Data_Pagamento]]=\"\",tb_pagamentos[[#This Row],[Data_Vencimento]]<TODAY()),\"Em Atraso\",\"A vencer\")))","v":""}]
[null,null,"",{"$f":"IFERROR(INDEX(CALC_BASE!$N$3:$N$52,MATCH(ROW()-7,CALC_BASE!$M$3:$M$52,0)),\"\")","v":""},{"$f":"IFERROR(INDEX(CALC_BASE!$O$3:$O$52,MATCH(ROW()-7,CALC_BASE!$M$3:$M$52,0)),\"\")","v":""},{"$f":"IFERROR(INDEX(CALC_BASE!$P$3:$P$52,MATCH(ROW()-7,CALC_BASE!$M$3:$M$52,0)),\"\")","v":""},{"$f":"IFERROR(IF(D502=\"\",\"\",INDEX(tb_vendas[Preço de Venda],MATCH(D502,tb_vendas[N° Pedido/Empresa],0))/F502),\"\")","v":""},{"$f":"IFERROR(IF(D502=\"\",\"\",INDEX(tb_vendas[Data Fechamento],MATCH(D502,tb_vendas[N° Pedido/Empresa],0))+E502*INDEX(tb_formas_pagamento[Dias_Intervalo],MATCH(INDEX(tb_vendas[Forma_Pagamento],MATCH(D502,tb_vendas[N° Pedido/Empresa],0)),tb_formas_pagamento[Nome_Forma],0))),\"\")","v":""},null,{"$f":"IF(OR(tb_pagamentos[[#This Row],[Data_Vencimento]]=\"\",tb_pagamentos[[#This Row],[Valor_Parcela]]=\"\",tb_pagamentos[[#This Row],[Qtd_Total_Parcelas]]=\"\",tb_pagamentos[[#This Row],[Nr_Pedido]]=\"\"),\"\",IF(tb_pagamentos[[#This Row],[Data_Pagamento]]<>\"\",\"Pago\",IF(AND(tb_pagamentos[[#This Row],[Data_Pagamento]]=\"\",tb_pagamentos[[#This Row],[Data_Vencimento]]<TODAY()),\"Em Atraso\",\"A vencer\")))","v":""}]
[null,null,"",{"$f":"IFERROR(INDEX(CALC_BASE!$N$3:$N$52,MATCH(ROW()-7,CALC_BASE!$M$3:$M$52,0)),\"\")","v":""},{"$f":"IFERROR(INDEX(CALC_BASE!$O$3:$O$52,MATCH(ROW()-7,CALC_BASE!$M$3:$M$52,0)),\"\")","v":""},{"$f":"IFERROR(INDEX(CALC_BASE!$P$3:$P$52,MATCH(ROW()-7,CALC_BASE!$M$3:$M$52,0)),\"\")","v":""},{"$f":"IFERROR(IF(D503=\"\",\"\",INDEX(tb_vendas[Preço de Venda],MATCH(D503,tb_vendas[N° Pedido/Empresa],0))/F503),\"\")","v":""},{"$f":"IFERROR(IF(D503=\"\",\"\",INDEX(tb_vendas[Data Fechamento],MATCH(D503,tb_vendas[N° Pedido/Empresa],0))+E503*INDEX(tb_formas_pagamento[Dias_Intervalo],MATCH(INDEX(tb_vendas[Forma_Pagamento],MATCH(D503,tb_vendas[N° Pedido/Empresa],0)),tb_formas_pagamento[Nome_Forma],0))),\"\")","v":""},null,{"$f":"IF(OR(tb_pagamentos[[#This Row],[Data_Vencimento]]=\"\",tb_pagamentos[[#This Row],[Valor_Parcela]]=\"\",tb_pagamentos[[#This Row],[Qtd_Total_Parcelas]]=\"\",tb_pagamentos[[#This Row],[Nr_Pedido]]=\"\"),\"\",IF(tb_pagamentos[[#This Row],[Data_Pagamento]]<>\"\",\"Pago\",IF(AND(tb_pagamentos[[#This Row],[Data_Pagamento]]=\"\",tb_pagamentos[[#This Row],[Data_Vencimento]]<TODAY()),\"Em Atraso\",\"A vencer\")))","v":""}]
[null,null,"",{"$f":"IFERROR(INDEX(CALC_BASE!$N$3:$N$52,MATCH(ROW()-7,CALC_BASE!$M$3:$M$52,0)),\"\")","v":""},{"$f":"IFERROR(INDEX(CALC_BASE!$O$3:$O$52,MATCH(ROW()-7,CALC_BASE!$M$3:$M$52,0)),\"\")","v":""},{"$f":"IFERROR(INDEX(CALC_BASE!$P$3:$P$52,MATCH(ROW()-7,CALC_BASE!$M$3:$M$52,0)),\"\")","v":""},{"$f":"IFERROR(IF(D504=\"\",\"\",INDEX(tb_vendas[Preço de Venda],MATCH(D504,tb_vendas[N° Pedido/Empresa],0))/F504),\"\")","v":""},{"$f":"IFERROR(IF(D504=\"\",\"\",INDEX(tb_vendas[Data Fechamento],MATCH(D504,tb_vendas[N° Pedido/Empresa],0))+E504*INDEX(tb_formas_pagamento[Dias_Intervalo],MATCH(INDEX(tb_vendas[Forma_Pagamento],MATCH(D504,tb_vendas[N° Pedido/Empresa],0)),tb_formas_pagamento[Nome_Forma],0))),\"\")","v":""},null,{"$f":"IF(OR(tb_pagamentos[[#This Row],[Data_Vencimento]]=\"\",tb_pagamentos[[#This Row],[Valor_Parcela]]=\"\",tb_pagamentos[[#This Row],[Qtd_Total_Parcelas]]=\"\",tb_pagamentos[[#This Row],[Nr_Pedido]]=\"\"),\"\",IF(tb_pagamentos[[#This Row],[Data_Pagamento]]<>\"\",\"Pago\",IF(AND(tb_pagamentos[[#This Row],[Data_Pagamento]]=\"\",tb_pagamentos[[#This Row],[Data_Vencimento]]<TODAY()),\"Em Atraso\",\"A vencer\")))","v":""}]
[null,null,"",{"$f":"IFERROR(INDEX(CALC_BASE!$N$3:$N$52,MATCH(ROW()-7,CALC_BASE!$M$3:$M$52,0)),\"\")","v":""},{"$f":"IFERROR(INDEX(CALC_BASE!$O$3:$O$52,MATCH(ROW()-7,CALC_BASE!$M$3:$M$52,0)),\"\")","v":""},{"$f":"IFERROR(INDEX(CALC_BASE!$P$3:$P$52,MATCH(ROW()-7,CALC_BASE!$M$3:$M$52,0)),\"\")","v":""},{"$f":"IFERROR(IF(D505=\"\",\"\",INDEX(tb_vendas[Preço de Venda],MATCH(D505,tb_vendas[N° Pedido/Empresa],0))/F505),\"\")","v":""},{"$f":"IFERROR(IF(D505=\"\",\"\",INDEX(tb_vendas[Data Fechamento],MATCH(D505,tb_vendas[N° Pedido/Empresa],0))+E505*INDEX(tb_formas_pagamento[Dias_Intervalo],MATCH(INDEX(tb_vendas[Forma_Pagamento],MATCH(D505,tb_vendas[N° Pedido/Empresa],0)),tb_formas_pagamento[Nome_Forma],0))),\"\")","v":""},null,{"$f":"IF(OR(tb_pagamentos[[#This Row],[Data_Vencimento]]=\"\",tb_pagamentos[[#This Row],[Valor_Parcela]]=\"\",tb_pagamentos[[#This Row],[Qtd_Total_Parcelas]]=\"\",tb_pagamentos[[#This Row],[Nr_Pedido]]=\"\"),\"\",IF(tb_pagamentos[[#This Row],[Data_Pagamento]]<>\"\",\"Pago\",IF(AND(tb_pagamentos[[#This Row],[Data_Pagamento]]=\"\",tb_pagamentos[[#This Row],[Data_Vencimento]]<TODAY()),\"Em Atraso\",\"A vencer\")))","v":""}]
[null,null,"",{"$f":"IFERROR(INDEX(CALC_BASE!$N$3:$N$52,MATCH(ROW()-7,CALC_BASE!$M$3:$M$52,0)),\"\")","v":""},{"$f":"IFERROR(INDEX(CALC_BASE!$O$3:$O$52,MATCH(ROW()-7,CALC_BASE!$M$3:$M$52,0)),\"\")","v":""},{"$f":"IFERROR(INDEX(CALC_BASE!$P$3:$P$52,MATCH(ROW()-7,CALC_BASE!$M$3:$M$52,0)),\"\")","v":""},{"$f":"IFERROR(IF(D506=\"\",\"\",INDEX(tb_vendas[Preço de Venda],MATCH(D506,tb_vendas[N° Pedido/Empresa],0))/F506),\"\")","v":""},{"$f":"IFERROR(IF(D506=\"\",\"\",INDEX(tb_vendas[Data Fechamento],MATCH(D506,tb_vendas[N° Pedido/Empresa],0))+E506*INDEX(tb_formas_pagamento[Dias_Intervalo],MATCH(INDEX(tb_vendas[Forma_Pagamento],MATCH(D506,tb_vendas[N° Pedido/Empresa],0)),tb_formas_pagamento[Nome_Forma],0))),\"\")","v":""},null,{"$f":"IF(OR(tb_pagamentos[[#This Row],[Data_Vencimento]]=\"\",tb_pagamentos[[#This Row],[Valor_Parcela]]=\"\",tb_pagamentos[[#This Row],[Qtd_Total_Parcelas]]=\"\",tb_pagamentos[[#This Row],[Nr_Pedido]]=\"\"),\"\",IF(tb_pagamentos[[#This Row],[Data_Pagamento]]<>\"\",\"Pago\",IF(AND(tb_pagamentos[[#This Row],[Data_Pagamento]]=\"\",tb_pagamentos[[#This Row],[Data_Vencimento]]<TODAY()),\"Em Atraso\",\"A vencer\")))","v":""}]
[null,null,"",{"$f":"IFERROR(INDEX(CALC_BASE!$N$3:$N$52,MATCH(ROW()-7,CALC_BASE!$M$3:$M$52,0)),\"\")","v":""},{"$f":"IFERROR(INDEX(CALC_BASE!$O$3:$O$52,MATCH(ROW()-7,CALC_BASE!$M$3:$M$52,0)),\"\")","v":""},{"$f":"IFERROR(INDEX(CALC_BASE!$P$3:$P$52,MATCH(ROW()-7,CALC_BASE!$M$3:$M$52,0)),\"\")","v":""},{"$f":"IFERROR(IF(D507=\"\",\"\",INDEX(tb_vendas[Preço de Venda],MATCH(D507,tb_vendas[N° Pedido/Empresa],0))/F507),\"\")","v":""},{"$f":"IFERROR(IF(D507=\"\",\"\",INDEX(tb_vendas[Data Fechamento],MATCH(D507,tb_vendas[N° Pedido/Empresa],0))+E507*INDEX(tb_formas_pagamento[Dias_Intervalo],MATCH(INDEX(tb_vendas[Forma_Pagamento],MATCH(D507,tb_vendas[N° Pedido/Empresa],0)),tb_formas_pagamento[Nome_Forma],0))),\"\")","v":""},null,{"$f":"IF(OR(tb_pagamentos[[#This Row],[Data_Vencimento]]=\"\",tb_pagamentos[[#This Row],[Valor_Parcela]]=\"\",tb_pagamentos[[#This Row],[Qtd_Total_Parcelas]]=\"\",tb_pagamentos[[#This Row],[Nr_Pedido]]=\"\"),\"\",IF(tb_pagamentos[[#This Row],[Data_Pagamento]]<>\"\",\"Pago\",IF(AND(tb_pagamentos[[#This Row],[Data_Pagamento]]=\"\",tb_pagamentos[[#This Row],[Data_Vencimento]]<TODAY()),\"Em Atraso\",\"A vencer\")))","v":""}]
[null,null,"",{"$f":"IFERROR(INDEX(CALC_BASE!$N$3:$N$52,MATCH(ROW()-7,CALC_BASE!$M$3:$M$52,0)),\"\")","v":""},{"$f":"IFERROR(INDEX(CALC_BASE!$O$3:$O$52,MATCH(ROW()-7,CALC_BASE!$M$3:$M$52,0)),\"\")","v":""},{"$f":"IFERROR(INDEX(CALC_BASE!$P$3:$P$52,MATCH(ROW()-7,CALC_BASE!$M$3:$M$52,0)),\"\")","v":""},{"$f":"IFERROR(IF(D508=\"\",\"\",INDEX(tb_vendas[Preço de Venda],MATCH(D508,tb_vendas[N° Pedido/Empresa],0))/F508),\"\")","v":""},{"$f":"IFERROR(IF(D508=\"\",\"\",INDEX(tb_vendas[Data Fechamento],MATCH(D508,tb_vendas[N° Pedido/Empresa],0))+E508*INDEX(tb_formas_pagamento[Dias_Intervalo],MATCH(INDEX(tb_vendas[Forma_Pagamento],MATCH(D508,tb_vendas[N° Pedido/Empresa],0)),tb_formas_pagamento[Nome_Forma],0))),\"\")","v":""},null,{"$f":"IF(OR(tb_pagamentos[[#This Row],[Data_Vencimento]]=\"\",tb_pagamentos[[#This Row],[Valor_Parcela]]=\"\",tb_pagamentos[[#This Row],[Qtd_Total_Parcelas]]=\"\",tb_pagamentos[[#This Row],[Nr_Pedido]]=\"\"),\"\",IF(tb_pagamentos[[#This Row],[Data_Pagamento]]<>\"\",\"Pago\",IF(AND(tb_pagamentos[[#This Row],[Data_Pagamento]]=\"\",tb_pagamentos[[#This Row],[Data_Vencimento]]<TODAY()),\"Em Atraso\",\"A vencer\")))","v":""}]
[null,null,"",{"$f":"IFERROR(INDEX(CALC_BASE!$N$3:$N$52,MATCH(ROW()-7,CALC_BASE!$M$3:$M$52,0)),\"\")","v":""},{"$f":"IFERROR(INDEX(CALC_BASE!$O$3:$O$52,MATCH(ROW()-7,CALC_BASE!$M$3:$M$52,0)),\"\")","v":""},{"$f":"IFERROR(INDEX(CALC_BASE!$P$3:$P$52,MATCH(ROW()-7,CALC_BASE!$M$3:$M$52,0)),\"\")","v":""},{"$f":"IFERROR(IF(D509=\"\",\"\",INDEX(tb_vendas[Preço de Venda],MATCH(D509,tb_vendas[N° Pedido/Empresa],0))/F509),\"\")","v":""},{"$f":"IFERROR(IF(D509=\"\",\"\",INDEX(tb_vendas[Data Fechamento],MATCH(D509,tb_vendas[N° Pedido/Empresa],0))+E509*INDEX(tb_formas_pagamento[Dias_Intervalo],MATCH(INDEX(tb_vendas[Forma_Pagamento],MATCH(D509,tb_vendas[N° Pedido/Empresa],0)),tb_formas_pagamento[Nome_Forma],0))),\"\")","v":""},null,{"$f":"IF(OR(tb_pagamentos[[#This Row],[Data_Vencimento]]=\"\",tb_pagamentos[[#This Row],[Valor_Parcela]]=\"\",tb_pagamentos[[#This Row],[Qtd_Total_Parcelas]]=\"\",tb_pagamentos[[#This Row],[Nr_Pedido]]=\"\"),\"\",IF(tb_pagamentos[[#This Row],[Data_Pagamento]]<>\"\",\"Pago\",IF(AND(tb_pagamentos[[#This Row],[Data_Pagamento]]=\"\",tb_pagamentos[[#This Row],[Data_Vencimento]]<TODAY()),\"Em Atraso\",\"A vencer\")))","v":""}]
[null,null,"",{"$f":"IFERROR(INDEX(CALC_BASE!$N$3:$N$52,MATCH(ROW()-7,CALC_BASE!$M$3:$M$52,0)),\"\")","v":""},{"$f":"IFERROR(INDEX(CALC_BASE!$O$3:$O$52,MATCH(ROW()-7,CALC_BASE!$M$3:$M$52,0)),\"\")","v":""},{"$f":"IFERROR(INDEX(CALC_BASE!$P$3:$P$52,MATCH(ROW()-7,CALC_BASE!$M$3:$M$52,0)),\"\")","v":""},{"$f":"IFERROR(IF(D510=\"\",\"\",INDEX(tb_vendas[Preço de Venda],MATCH(D510,tb_vendas[N° Pedido/Empresa],0))/F510),\"\")","v":""},{"$f":"IFERROR(IF(D510=\"\",\"\",INDEX(tb_vendas[Data Fechamento],MATCH(D510,tb_vendas[N° Pedido/Empresa],0))+E510*INDEX(tb_formas_pagamento[Dias_Intervalo],MATCH(INDEX(tb_vendas[Forma_Pagamento],MATCH(D510,tb_vendas[N° Pedido/Empresa],0)),tb_formas_pagamento[Nome_Forma],0))),\"\")","v":""},null,{"$f":"IF(OR(tb_pagamentos[[#This Row],[Data_Vencimento]]=\"\",tb_pagamentos[[#This Row],[Valor_Parcela]]=\"\",tb_pagamentos[[#This Row],[Qtd_Total_Parcelas]]=\"\",tb_pagamentos[[#This Row],[Nr_Pedido]]=\"\"),\"\",IF(tb_pagamentos[[#This Row],[Data_Pagamento]]<>\"\",\"Pago\",IF(AND(tb_pagamentos[[#This Row],[Data_Pagamento]]=\"\",tb_pagamentos[[#This Row],[Data_Vencimento]]<TODAY()),\"Em Atraso\",\"A vencer\")))","v":""}]
[null,null,"",{"$f":"IFERROR(INDEX(CALC_BASE!$N$3:$N$52,MATCH(ROW()-7,CALC_BASE!$M$3:$M$52,0)),\"\")","v":""},{"$f":"IFERROR(INDEX(CALC_BASE!$O$3:$O$52,MATCH(ROW()-7,CALC_BASE!$M$3:$M$52,0)),\"\")","v":""},{"$f":"IFERROR(INDEX(CALC_BASE!$P$3:$P$52,MATCH(ROW()-7,CALC_BASE!$M$3:$M$52,0)),\"\")","v":""},{"$f":"IFERROR(IF(D511=\"\",\"\",INDEX(tb_vendas[Preço de Venda],MATCH(D511,tb_vendas[N° Pedido/Empresa],0))/F511),\"\")","v":""},{"$f":"IFERROR(IF(D511=\"\",\"\",INDEX(tb_vendas[Data Fechamento],MATCH(D511,tb_vendas[N° Pedido/Empresa],0))+E511*INDEX(tb_formas_pagamento[Dias_Intervalo],MATCH(INDEX(tb_vendas[Forma_Pagamento],MATCH(D511,tb_vendas[N° Pedido/Empresa],0)),tb_formas_pagamento[Nome_Forma],0))),\"\")","v":""},null,{"$f":"IF(OR(tb_pagamentos[[#This Row],[Data_Vencimento]]=\"\",tb_pagamentos[[#This Row],[Valor_Parcela]]=\"\",tb_pagamentos[[#This Row],[Qtd_Total_Parcelas]]=\"\",tb_pagamentos[[#This Row],[Nr_Pedido]]=\"\"),\"\",IF(tb_pagamentos[[#This Row],[Data_Pagamento]]<>\"\",\"Pago\",IF(AND(tb_pagamentos[[#This Row],[Data_Pagamento]]=\"\",tb_pagamentos[[#This Row],[Data_Vencimento]]<TODAY()),\"Em Atraso\",\"A vencer\")))","v":""}]
[null,null,"",{"$f":"IFERROR(INDEX(CALC_BASE!$N$3:$N$52,MATCH(ROW()-7,CALC_BASE!$M$3:$M$52,0)),\"\")","v":""},{"$f":"IFERROR(INDEX(CALC_BASE!$O$3:$O$52,MATCH(ROW()-7,CALC_BASE!$M$3:$M$52,0)),\"\")","v":""},{"$f":"IFERROR(INDEX(CALC_BASE!$P$3:$P$52,MATCH(ROW()-7,CALC_BASE!$M$3:$M$52,0)),\"\")","v":""},{"$f":"IFERROR(IF(D512=\"\",\"\",INDEX(tb_vendas[Preço de Venda],MATCH(D512,tb_vendas[N° Pedido/Empresa],0))/F512),\"\")","v":""},{"$f":"IFERROR(IF(D512=\"\",\"\",INDEX(tb_vendas[Data Fechamento],MATCH(D512,tb_vendas[N° Pedido/Empresa],0))+E512*INDEX(tb_formas_pagamento[Dias_Intervalo],MATCH(INDEX(tb_vendas[Forma_Pagamento],MATCH(D512,tb_vendas[N° Pedido/Empresa],0)),tb_formas_pagamento[Nome_Forma],0))),\"\")","v":""},null,{"$f":"IF(OR(tb_pagamentos[[#This Row],[Data_Vencimento]]=\"\",tb_pagamentos[[#This Row],[Valor_Parcela]]=\"\",tb_pagamentos[[#This Row],[Qtd_Total_Parcelas]]=\"\",tb_pagamentos[[#This Row],[Nr_Pedido]]=\"\"),\"\",IF(tb_pagamentos[[#This Row],[Data_Pagamento]]<>\"\",\"Pago\",IF(AND(tb_pagamentos[[#This Row],[Data_Pagamento]]=\"\",tb_pagamentos[[#This Row],[Data_Vencimento]]<TODAY()),\"Em Atraso\",\"A vencer\")))","v":""}]
[null,null,"",{"$f":"IFERROR(INDEX(CALC_BASE!$N$3:$N$52,MATCH(ROW()-7,CALC_BASE!$M$3:$M$52,0)),\"\")","v":""},{"$f":"IFERROR(INDEX(CALC_BASE!$O$3:$O$52,MATCH(ROW()-7,CALC_BASE!$M$3:$M$52,0)),\"\")","v":""},{"$f":"IFERROR(INDEX(CALC_BASE!$P$3:$P$52,MATCH(ROW()-7,CALC_BASE!$M$3:$M$52,0)),\"\")","v":""},{"$f":"IFERROR(IF(D513=\"\",\"\",INDEX(tb_vendas[Preço de Venda],MATCH(D513,tb_vendas[N° Pedido/Empresa],0))/F513),\"\")","v":""},{"$f":"IFERROR(IF(D513=\"\",\"\",INDEX(tb_vendas[Data Fechamento],MATCH(D513,tb_vendas[N° Pedido/Empresa],0))+E513*INDEX(tb_formas_pagamento[Dias_Intervalo],MATCH(INDEX(tb_vendas[Forma_Pagamento],MATCH(D513,tb_vendas[N° Pedido/Empresa],0)),tb_formas_pagamento[Nome_Forma],0))),\"\")","v":""},null,{"$f":"IF(OR(tb_pagamentos[[#This Row],[Data_Vencimento]]=\"\",tb_pagamentos[[#This Row],[Valor_Parcela]]=\"\",tb_pagamentos[[#This Row],[Qtd_Total_Parcelas]]=\"\",tb_pagamentos[[#This Row],[Nr_Pedido]]=\"\"),\"\",IF(tb_pagamentos[[#This Row],[Data_Pagamento]]<>\"\",\"Pago\",IF(AND(tb_pagamentos[[#This Row],[Data_Pagamento]]=\"\",tb_pagamentos[[#This Row],[Data_Vencimento]]<TODAY()),\"Em Atraso\",\"A vencer\")))","v":""}]
[null,null,"",{"$f":"IFERROR(INDEX(CALC_BASE!$N$3:$N$52,MATCH(ROW()-7,CALC_BASE!$M$3:$M$52,0)),\"\")","v":""},{"$f":"IFERROR(INDEX(CALC_BASE!$O$3:$O$52,MATCH(ROW()-7,CALC_BASE!$M$3:$M$52,0)),\"\")","v":""},{"$f":"IFERROR(INDEX(CALC_BASE!$P$3:$P$52,MATCH(ROW()-7,CALC_BASE!$M$3:$M$52,0)),\"\")","v":""},{"$f":"IFERROR(IF(D514=\"\",\"\",INDEX(tb_vendas[Preço de Venda],MATCH(D514,tb_vendas[N° Pedido/Empresa],0))/F514),\"\")","v":""},{"$f":"IFERROR(IF(D514=\"\",\"\",INDEX(tb_vendas[Data Fechamento],MATCH(D514,tb_vendas[N° Pedido/Empresa],0))+E514*INDEX(tb_formas_pagamento[Dias_Intervalo],MATCH(INDEX(tb_vendas[Forma_Pagamento],MATCH(D514,tb_vendas[N° Pedido/Empresa],0)),tb_formas_pagamento[Nome_Forma],0))),\"\")","v":""},null,{"$f":"IF(OR(tb_pagamentos[[#This Row],[Data_Vencimento]]=\"\",tb_pagamentos[[#This Row],[Valor_Parcela]]=\"\",tb_pagamentos[[#This Row],[Qtd_Total_Parcelas]]=\"\",tb_pagamentos[[#This Row],[Nr_Pedido]]=\"\"),\"\",IF(tb_pagamentos[[#This Row],[Data_Pagamento]]<>\"\",\"Pago\",IF(AND(tb_pagamentos[[#This Row],[Data_Pagamento]]=\"\",tb_pagamentos[[#This Row],[Data_Vencimento]]<TODAY()),\"Em Atraso\",\"A vencer\")))","v":""}]
[null,null,"",{"$f":"IFERROR(INDEX(CALC_BASE!$N$3:$N$52,MATCH(ROW()-7,CALC_BASE!$M$3:$M$52,0)),\"\")","v":""},{"$f":"IFERROR(INDEX(CALC_BASE!$O$3:$O$52,MATCH(ROW()-7,CALC_BASE!$M$3:$M$52,0)),\"\")","v":""},{"$f":"IFERROR(INDEX(CALC_BASE!$P$3:$P$52,MATCH(ROW()-7,CALC_BASE!$M$3:$M$52,0)),\"\")","v":""},{"$f":"IFERROR(IF(D515=\"\",\"\",INDEX(tb_vendas[Preço de Venda],MATCH(D515,tb_vendas[N° Pedido/Empresa],0))/F515),\"\")","v":""},{"$f":"IFERROR(IF(D515=\"\",\"\",INDEX(tb_vendas[Data Fechamento],MATCH(D515,tb_vendas[N° Pedido/Empresa],0))+E515*INDEX(tb_formas_pagamento[Dias_Intervalo],MATCH(INDEX(tb_vendas[Forma_Pagamento],MATCH(D515,tb_vendas[N° Pedido/Empresa],0)),tb_formas_pagamento[Nome_Forma],0))),\"\")","v":""},null,{"$f":"IF(OR(tb_pagamentos[[#This Row],[Data_Vencimento]]=\"\",tb_pagamentos[[#This Row],[Valor_Parcela]]=\"\",tb_pagamentos[[#This Row],[Qtd_Total_Parcelas]]=\"\",tb_pagamentos[[#This Row],[Nr_Pedido]]=\"\"),\"\",IF(tb_pagamentos[[#This Row],[Data_Pagamento]]<>\"\",\"Pago\",IF(AND(tb_pagamentos[[#This Row],[Data_Pagamento]]=\"\",tb_pagamentos[[#This Row],[Data_Vencimento]]<TODAY()),\"Em Atraso\",\"A vencer\")))","v":""}]
[null,null,"",{"$f":"IFERROR(INDEX(CALC_BASE!$N$3:$N$52,MATCH(ROW()-7,CALC_BASE!$M$3:$M$52,0)),\"\")","v":""},{"$f":"IFERROR(INDEX(CALC_BASE!$O$3:$O$52,MATCH(ROW()-7,CALC_BASE!$M$3:$M$52,0)),\"\")","v":""},{"$f":"IFERROR(INDEX(CALC_BASE!$P$3:$P$52,MATCH(ROW()-7,CALC_BASE!$M$3:$M$52,0)),\"\")","v":""},{"$f":"IFERROR(IF(D516=\"\",\"\",INDEX(tb_vendas[Preço de Venda],MATCH(D516,tb_vendas[N° Pedido/Empresa],0))/F516),\"\")","v":""},{"$f":"IFERROR(IF(D516=\"\",\"\",INDEX(tb_vendas[Data Fechamento],MATCH(D516,tb_vendas[N° Pedido/Empresa],0))+E516*INDEX(tb_formas_pagamento[Dias_Intervalo],MATCH(INDEX(tb_vendas[Forma_Pagamento],MATCH(D516,tb_vendas[N° Pedido/Empresa],0)),tb_formas_pagamento[Nome_Forma],0))),\"\")","v":""},null,{"$f":"IF(OR(tb_pagamentos[[#This Row],[Data_Vencimento]]=\"\",tb_pagamentos[[#This Row],[Valor_Parcela]]=\"\",tb_pagamentos[[#This Row],[Qtd_Total_Parcelas]]=\"\",tb_pagamentos[[#This Row],[Nr_Pedido]]=\"\"),\"\",IF(tb_pagamentos[[#This Row],[Data_Pagamento]]<>\"\",\"Pago\",IF(AND(tb_pagamentos[[#This Row],[Data_Pagamento]]=\"\",tb_pagamentos[[#This Row],[Data_Vencimento]]<TODAY()),\"Em Atraso\",\"A vencer\")))","v":""}]
[null,null,"",{"$f":"IFERROR(INDEX(CALC_BASE!$N$3:$N$52,MATCH(ROW()-7,CALC_BASE!$M$3:$M$52,0)),\"\")","v":""},{"$f":"IFERROR(INDEX(CALC_BASE!$O$3:$O$52,MATCH(ROW()-7,CALC_BASE!$M$3:$M$52,0)),\"\")","v":""},{"$f":"IFERROR(INDEX(CALC_BASE!$P$3:$P$52,MATCH(ROW()-7,CALC_BASE!$M$3:$M$52,0)),\"\")","v":""},{"$f":"IFERROR(IF(D517=\"\",\"\",INDEX(tb_vendas[Preço de Venda],MATCH(D517,tb_vendas[N° Pedido/Empresa],0))/F517),\"\")","v":""},{"$f":"IFERROR(IF(D517=\"\",\"\",INDEX(tb_vendas[Data Fechamento],MATCH(D517,tb_vendas[N° Pedido/Empresa],0))+E517*INDEX(tb_formas_pagamento[Dias_Intervalo],MATCH(INDEX(tb_vendas[Forma_Pagamento],MATCH(D517,tb_vendas[N° Pedido/Empresa],0)),tb_formas_pagamento[Nome_Forma],0))),\"\")","v":""},null,{"$f":"IF(OR(tb_pagamentos[[#This Row],[Data_Vencimento]]=\"\",tb_pagamentos[[#This Row],[Valor_Parcela]]=\"\",tb_pagamentos[[#This Row],[Qtd_Total_Parcelas]]=\"\",tb_pagamentos[[#This Row],[Nr_Pedido]]=\"\"),\"\",IF(tb_pagamentos[[#This Row],[Data_Pagamento]]<>\"\",\"Pago\",IF(AND(tb_pagamentos[[#This Row],[Data_Pagamento]]=\"\",tb_pagamentos[[#This Row],[Data_Vencimento]]<TODAY()),\"Em Atraso\",\"A vencer\")))","v":""}]
[null,null,"",{"$f":"IFERROR(INDEX(CALC_BASE!$N$3:$N$52,MATCH(ROW()-7,CALC_BASE!$M$3:$M$52,0)),\"\")","v":""},{"$f":"IFERROR(INDEX(CALC_BASE!$O$3:$O$52,MATCH(ROW()-7,CALC_BASE!$M$3:$M$52,0)),\"\")","v":""},{"$f":"IFERROR(INDEX(CALC_BASE!$P$3:$P$52,MATCH(ROW()-7,CALC_BASE!$M$3:$M$52,0)),\"\")","v":""},{"$f":"IFERROR(IF(D518=\"\",\"\",INDEX(tb_vendas[Preço de Venda],MATCH(D518,tb_vendas[N° Pedido/Empresa],0))/F518),\"\")","v":""},{"$f":"IFERROR(IF(D518=\"\",\"\",INDEX(tb_vendas[Data Fechamento],MATCH(D518,tb_vendas[N° Pedido/Empresa],0))+E518*INDEX(tb_formas_pagamento[Dias_Intervalo],MATCH(INDEX(tb_vendas[Forma_Pagamento],MATCH(D518,tb_vendas[N° Pedido/Empresa],0)),tb_formas_pagamento[Nome_Forma],0))),\"\")","v":""},null,{"$f":"IF(OR(tb_pagamentos[[#This Row],[Data_Vencimento]]=\"\",tb_pagamentos[[#This Row],[Valor_Parcela]]=\"\",tb_pagamentos[[#This Row],[Qtd_Total_Parcelas]]=\"\",tb_pagamentos[[#This Row],[Nr_Pedido]]=\"\"),\"\",IF(tb_pagamentos[[#This Row],[Data_Pagamento]]<>\"\",\"Pago\",IF(AND(tb_pagamentos[[#This Row],[Data_Pagamento]]=\"\",tb_pagamentos[[#This Row],[Data_Vencimento]]<TODAY()),\"Em Atraso\",\"A vencer\")))","v":""}]
[null,null,"",{"$f":"IFERROR(INDEX(CALC_BASE!$N$3:$N$52,MATCH(ROW()-7,CALC_BASE!$M$3:$M$52,0)),\"\")","v":""},{"$f":"IFERROR(INDEX(CALC_BASE!$O$3:$O$52,MATCH(ROW()-7,CALC_BASE!$M$3:$M$52,0)),\"\")","v":""},{"$f":"IFERROR(INDEX(CALC_BASE!$P$3:$P$52,MATCH(ROW()-7,CALC_BASE!$M$3:$M$52,0)),\"\")","v":""},{"$f":"IFERROR(IF(D519=\"\",\"\",INDEX(tb_vendas[Preço de Venda],MATCH(D519,tb_vendas[N° Pedido/Empresa],0))/F519),\"\")","v":""},{"$f":"IFERROR(IF(D519=\"\",\"\",INDEX(tb_vendas[Data Fechamento],MATCH(D519,tb_vendas[N° Pedido/Empresa],0))+E519*INDEX(tb_formas_pagamento[Dias_Intervalo],MATCH(INDEX(tb_vendas[Forma_Pagamento],MATCH(D519,tb_vendas[N° Pedido/Empresa],0)),tb_formas_pagamento[Nome_Forma],0))),\"\")","v":""},null,{"$f":"IF(OR(tb_pagamentos[[#This Row],[Data_Vencimento]]=\"\",tb_pagamentos[[#This Row],[Valor_Parcela]]=\"\",tb_pagamentos[[#This Row],[Qtd_Total_Parcelas]]=\"\",tb_pagamentos[[#This Row],[Nr_Pedido]]=\"\"),\"\",IF(tb_pagamentos[[#This Row],[Data_Pagamento]]<>\"\",\"Pago\",IF(AND(tb_pagamentos[[#This Row],[Data_Pagamento]]=\"\",tb_pagamentos[[#This Row],[Data_Vencimento]]<TODAY()),\"Em Atraso\",\"A vencer\")))","v":""}]
[null,null,"",{"$f":"IFERROR(INDEX(CALC_BASE!$N$3:$N$52,MATCH(ROW()-7,CALC_BASE!$M$3:$M$52,0)),\"\")","v":""},{"$f":"IFERROR(INDEX(CALC_BASE!$O$3:$O$52,MATCH(ROW()-7,CALC_BASE!$M$3:$M$52,0)),\"\")","v":""},{"$f":"IFERROR(INDEX(CALC_BASE!$P$3:$P$52,MATCH(ROW()-7,CALC_BASE!$M$3:$M$52,0)),\"\")","v":""},{"$f":"IFERROR(IF(D520=\"\",\"\",INDEX(tb_vendas[Preço de Venda],MATCH(D520,tb_vendas[N° Pedido/Empresa],0))/F520),\"\")","v":""},{"$f":"IFERROR(IF(D520=\"\",\"\",INDEX(tb_vendas[Data Fechamento],MATCH(D520,tb_vendas[N° Pedido/Empresa],0))+E520*INDEX(tb_formas_pagamento[Dias_Intervalo],MATCH(INDEX(tb_vendas[Forma_Pagamento],MATCH(D520,tb_vendas[N° Pedido/Empresa],0)),tb_formas_pagamento[Nome_Forma],0))),\"\")","v":""},null,{"$f":"IF(OR(tb_pagamentos[[#This Row],[Data_Vencimento]]=\"\",tb_pagamentos[[#This Row],[Valor_Parcela]]=\"\",tb_pagamentos[[#This Row],[Qtd_Total_Parcelas]]=\"\",tb_pagamentos[[#This Row],[Nr_Pedido]]=\"\"),\"\",IF(tb_pagamentos[[#This Row],[Data_Pagamento]]<>\"\",\"Pago\",IF(AND(tb_pagamentos[[#This Row],[Data_Pagamento]]=\"\",tb_pagamentos[[#This Row],[Data_Vencimento]]<TODAY()),\"Em Atraso\",\"A vencer\")))","v":""}]
[null,null,"",{"$f":"IFERROR(INDEX(CALC_BASE!$N$3:$N$52,MATCH(ROW()-7,CALC_BASE!$M$3:$M$52,0)),\"\")","v":""},{"$f":"IFERROR(INDEX(CALC_BASE!$O$3:$O$52,MATCH(ROW()-7,CALC_BASE!$M$3:$M$52,0)),\"\")","v":""},{"$f":"IFERROR(INDEX(CALC_BASE!$P$3:$P$52,MATCH(ROW()-7,CALC_BASE!$M$3:$M$52,0)),\"\")","v":""},{"$f":"IFERROR(IF(D521=\"\",\"\",INDEX(tb_vendas[Preço de Venda],MATCH(D521,tb_vendas[N° Pedido/Empresa],0))/F521),\"\")","v":""},{"$f":"IFERROR(IF(D521=\"\",\"\",INDEX(tb_vendas[Data Fechamento],MATCH(D521,tb_vendas[N° Pedido/Empresa],0))+E521*INDEX(tb_formas_pagamento[Dias_Intervalo],MATCH(INDEX(tb_vendas[Forma_Pagamento],MATCH(D521,tb_vendas[N° Pedido/Empresa],0)),tb_formas_pagamento[Nome_Forma],0))),\"\")","v":""},null,{"$f":"IF(OR(tb_pagamentos[[#This Row],[Data_Vencimento]]=\"\",tb_pagamentos[[#This Row],[Valor_Parcela]]=\"\",tb_pagamentos[[#This Row],[Qtd_Total_Parcelas]]=\"\",tb_pagamentos[[#This Row],[Nr_Pedido]]=\"\"),\"\",IF(tb_pagamentos[[#This Row],[Data_Pagamento]]<>\"\",\"Pago\",IF(AND(tb_pagamentos[[#This Row],[Data_Pagamento]]=\"\",tb_pagamentos[[#This Row],[Data_Vencimento]]<TODAY()),\"Em Atraso\",\"A vencer\")))","v":""}]
[null,null,"",{"$f":"IFERROR(INDEX(CALC_BASE!$N$3:$N$52,MATCH(ROW()-7,CALC_BASE!$M$3:$M$52,0)),\"\")","v":""},{"$f":"IFERROR(INDEX(CALC_BASE!$O$3:$O$52,MATCH(ROW()-7,CALC_BASE!$M$3:$M$52,0)),\"\")","v":""},{"$f":"IFERROR(INDEX(CALC_BASE!$P$3:$P$52,MATCH(ROW()-7,CALC_BASE!$M$3:$M$52,0)),\"\")","v":""},{"$f":"IFERROR(IF(D522=\"\",\"\",INDEX(tb_vendas[Preço de Venda],MATCH(D522,tb_vendas[N° Pedido/Empresa],0))/F522),\"\")","v":""},{"$f":"IFERROR(IF(D522=\"\",\"\",INDEX(tb_vendas[Data Fechamento],MATCH(D522,tb_vendas[N° Pedido/Empresa],0))+E522*INDEX(tb_formas_pagamento[Dias_Intervalo],MATCH(INDEX(tb_vendas[Forma_Pagamento],MATCH(D522,tb_vendas[N° Pedido/Empresa],0)),tb_formas_pagamento[Nome_Forma],0))),\"\")","v":""},null,{"$f":"IF(OR(tb_pagamentos[[#This Row],[Data_Vencimento]]=\"\",tb_pagamentos[[#This Row],[Valor_Parcela]]=\"\",tb_pagamentos[[#This Row],[Qtd_Total_Parcelas]]=\"\",tb_pagamentos[[#This Row],[Nr_Pedido]]=\"\"),\"\",IF(tb_pagamentos[[#This Row],[Data_Pagamento]]<>\"\",\"Pago\",IF(AND(tb_pagamentos[[#This Row],[Data_Pagamento]]=\"\",tb_pagamentos[[#This Row],[Data_Vencimento]]<TODAY()),\"Em Atraso\",\"A vencer\")))","v":""}]
[null,null,"",{"$f":"IFERROR(INDEX(CALC_BASE!$N$3:$N$52,MATCH(ROW()-7,CALC_BASE!$M$3:$M$52,0)),\"\")","v":""},{"$f":"IFERROR(INDEX(CALC_BASE!$O$3:$O$52,MATCH(ROW()-7,CALC_BASE!$M$3:$M$52,0)),\"\")","v":""},{"$f":"IFERROR(INDEX(CALC_BASE!$P$3:$P$52,MATCH(ROW()-7,CALC_BASE!$M$3:$M$52,0)),\"\")","v":""},{"$f":"IFERROR(IF(D523=\"\",\"\",INDEX(tb_vendas[Preço de Venda],MATCH(D523,tb_vendas[N° Pedido/Empresa],0))/F523),\"\")","v":""},{"$f":"IFERROR(IF(D523=\"\",\"\",INDEX(tb_vendas[Data Fechamento],MATCH(D523,tb_vendas[N° Pedido/Empresa],0))+E523*INDEX(tb_formas_pagamento[Dias_Intervalo],MATCH(INDEX(tb_vendas[Forma_Pagamento],MATCH(D523,tb_vendas[N° Pedido/Empresa],0)),tb_formas_pagamento[Nome_Forma],0))),\"\")","v":""},null,{"$f":"IF(OR(tb_pagamentos[[#This Row],[Data_Vencimento]]=\"\",tb_pagamentos[[#This Row],[Valor_Parcela]]=\"\",tb_pagamentos[[#This Row],[Qtd_Total_Parcelas]]=\"\",tb_pagamentos[[#This Row],[Nr_Pedido]]=\"\"),\"\",IF(tb_pagamentos[[#This Row],[Data_Pagamento]]<>\"\",\"Pago\",IF(AND(tb_pagamentos[[#This Row],[Data_Pagamento]]=\"\",tb_pagamentos[[#This Row],[Data_Vencimento]]<TODAY()),\"Em Atraso\",\"A vencer\")))","v":""}]
[null,null,"",{"$f":"IFERROR(INDEX(CALC_BASE!$N$3:$N$52,MATCH(ROW()-7,CALC_BASE!$M$3:$M$52,0)),\"\")","v":""},{"$f":"IFERROR(INDEX(CALC_BASE!$O$3:$O$52,MATCH(ROW()-7,CALC_BASE!$M$3:$M$52,0)),\"\")","v":""},{"$f":"IFERROR(INDEX(CALC_BASE!$P$3:$P$52,MATCH(ROW()-7,CALC_BASE!$M$3:$M$52,0)),\"\")","v":""},{"$f":"IFERROR(IF(D524=\"\",\"\",INDEX(tb_vendas[Preço de Venda],MATCH(D524,tb_vendas[N° Pedido/Empresa],0))/F524),\"\")","v":""},{"$f":"IFERROR(IF(D524=\"\",\"\",INDEX(tb_vendas[Data Fechamento],MATCH(D524,tb_vendas[N° Pedido/Empresa],0))+E524*INDEX(tb_formas_pagamento[Dias_Intervalo],MATCH(INDEX(tb_vendas[Forma_Pagamento],MATCH(D524,tb_vendas[N° Pedido/Empresa],0)),tb_formas_pagamento[Nome_Forma],0))),\"\")","v":""},null,{"$f":"IF(OR(tb_pagamentos[[#This Row],[Data_Vencimento]]=\"\",tb_pagamentos[[#This Row],[Valor_Parcela]]=\"\",tb_pagamentos[[#This Row],[Qtd_Total_Parcelas]]=\"\",tb_pagamentos[[#This Row],[Nr_Pedido]]=\"\"),\"\",IF(tb_pagamentos[[#This Row],[Data_Pagamento]]<>\"\",\"Pago\",IF(AND(tb_pagamentos[[#This Row],[Data_Pagamento]]=\"\",tb_pagamentos[[#This Row],[Data_Vencimento]]<TODAY()),\"Em Atraso\",\"A vencer\")))","v":""}]
[null,null,"",{"$f":"IFERROR(INDEX(CALC_BASE!$N$3:$N$52,MATCH(ROW()-7,CALC_BASE!$M$3:$M$52,0)),\"\")","v":""},{"$f":"IFERROR(INDEX(CALC_BASE!$O$3:$O$52,MATCH(ROW()-7,CALC_BASE!$M$3:$M$52,0)),\"\")","v":""},{"$f":"IFERROR(INDEX(CALC_BASE!$P$3:$P$52,MATCH(ROW()-7,CALC_BASE!$M$3:$M$52,0)),\"\")","v":""},{"$f":"IFERROR(IF(D525=\"\",\"\",INDEX(tb_vendas[Preço de Venda],MATCH(D525,tb_vendas[N° Pedido/Empresa],0))/F525),\"\")","v":""},{"$f":"IFERROR(IF(D525=\"\",\"\",INDEX(tb_vendas[Data Fechamento],MATCH(D525,tb_vendas[N° Pedido/Empresa],0))+E525*INDEX(tb_formas_pagamento[Dias_Intervalo],MATCH(INDEX(tb_vendas[Forma_Pagamento],MATCH(D525,tb_vendas[N° Pedido/Empresa],0)),tb_formas_pagamento[Nome_Forma],0))),\"\")","v":""},null,{"$f":"IF(OR(tb_pagamentos[[#This Row],[Data_Vencimento]]=\"\",tb_pagamentos[[#This Row],[Valor_Parcela]]=\"\",tb_pagamentos[[#This Row],[Qtd_Total_Parcelas]]=\"\",tb_pagamentos[[#This Row],[Nr_Pedido]]=\"\"),\"\",IF(tb_pagamentos[[#This Row],[Data_Pagamento]]<>\"\",\"Pago\",IF(AND(tb_pagamentos[[#This Row],[Data_Pagamento]]=\"\",tb_pagamentos[[#This Row],[Data_Vencimento]]<TODAY()),\"Em Atraso\",\"A vencer\")))","v":""}]
[null,null,"",{"$f":"IFERROR(INDEX(CALC_BASE!$N$3:$N$52,MATCH(ROW()-7,CALC_BASE!$M$3:$M$52,0)),\"\")","v":""},{"$f":"IFERROR(INDEX(CALC_BASE!$O$3:$O$52,MATCH(ROW()-7,CALC_BASE!$M$3:$M$52,0)),\"\")","v":""},{"$f":"IFERROR(INDEX(CALC_BASE!$P$3:$P$52,MATCH(ROW()-7,CALC_BASE!$M$3:$M$52,0)),\"\")","v":""},{"$f":"IFERROR(IF(D526=\"\",\"\",INDEX(tb_vendas[Preço de Venda],MATCH(D526,tb_vendas[N° Pedido/Empresa],0))/F526),\"\")","v":""},{"$f":"IFERROR(IF(D526=\"\",\"\",INDEX(tb_vendas[Data Fechamento],MATCH(D526,tb_vendas[N° Pedido/Empresa],0))+E526*INDEX(tb_formas_pagamento[Dias_Intervalo],MATCH(INDEX(tb_vendas[Forma_Pagamento],MATCH(D526,tb_vendas[N° Pedido/Empresa],0)),tb_formas_pagamento[Nome_Forma],0))),\"\")","v":""},null,{"$f":"IF(OR(tb_pagamentos[[#This Row],[Data_Vencimento]]=\"\",tb_pagamentos[[#This Row],[Valor_Parcela]]=\"\",tb_pagamentos[[#This Row],[Qtd_Total_Parcelas]]=\"\",tb_pagamentos[[#This Row],[Nr_Pedido]]=\"\"),\"\",IF(tb_pagamentos[[#This Row],[Data_Pagamento]]<>\"\",\"Pago\",IF(AND(tb_pagamentos[[#This Row],[Data_Pagamento]]=\"\",tb_pagamentos[[#This Row],[Data_Vencimento]]<TODAY()),\"Em Atraso\",\"A vencer\")))","v":""}]
[null,null,{"$f":"IF(OR(D527=\"\",E527=\"\"),\"\",D527&\"-\"&E527)","v":""},{"$f":"IFERROR(INDEX(CALC_BASE!$N$3:$N$52,MATCH(ROW()-7,CALC_BASE!$M$3:$M$52,0)),\"\")","v":""},{"$f":"IFERROR(INDEX(CALC_BASE!$O$3:$O$52,MATCH(ROW()-7,CALC_BASE!$M$3:$M$52,0)),\"\")","v":""},{"$f":"IFERROR(INDEX(CALC_BASE!$P$3:$P$52,MATCH(ROW()-7,CALC_BASE!$M$3:$M$52,0)),\"\")","v":""},{"$f":"IFERROR(IF(D527=\"\",\"\",INDEX(tb_vendas[Preço de Venda],MATCH(D527,tb_vendas[N° Pedido/Empresa],0))/F527),\"\")","v":""},{"$f":"IFERROR(IF(D527=\"\",\"\",INDEX(tb_vendas[Data Fechamento],MATCH(D527,tb_vendas[N° Pedido/Empresa],0))+E527*INDEX(tb_formas_pagamento[Dias_Intervalo],MATCH(INDEX(tb_vendas[Forma_Pagamento],MATCH(D527,tb_vendas[N° Pedido/Empresa],0)),tb_formas_pagamento[Nome_Forma],0))),\"\")","v":""},null,{"$f":"IF(OR(tb_pagamentos[[#This Row],[Data_Vencimento]]=\"\",tb_pagamentos[[#This Row],[Valor_Parcela]]=\"\",tb_pagamentos[[#This Row],[Qtd_Total_Parcelas]]=\"\",tb_pagamentos[[#This Row],[Nr_Pedido]]=\"\"),\"\",IF(tb_pagamentos[[#This Row],[Data_Pagamento]]<>\"\",\"Pago\",IF(AND(tb_pagamentos[[#This Row],[Data_Pagamento]]=\"\",tb_pagamentos[[#This Row],[Data_Vencimento]]<TODAY()),\"Em Atraso\",\"A vencer\")))","v":""}]
[null,null,"",{"$f":"IFERROR(INDEX(CALC_BASE!$N$3:$N$52,MATCH(ROW()-7,CALC_BASE!$M$3:$M$52,0)),\"\")","v":""},{"$f":"IFERROR(INDEX(CALC_BASE!$O$3:$O$52,MATCH(ROW()-7,CALC_BASE!$M$3:$M$52,0)),\"\")","v":""},{"$f":"IFERROR(INDEX(CALC_BASE!$P$3:$P$52,MATCH(ROW()-7,CALC_BASE!$M$3:$M$52,0)),\"\")","v":""},{"$f":"IFERROR(IF(D528=\"\",\"\",INDEX(tb_vendas[Preço de Venda],MATCH(D528,tb_vendas[N° Pedido/Empresa],0))/F528),\"\")","v":""},{"$f":"IFERROR(IF(D528=\"\",\"\",INDEX(tb_vendas[Data Fechamento],MATCH(D528,tb_vendas[N° Pedido/Empresa],0))+E528*INDEX(tb_formas_pagamento[Dias_Intervalo],MATCH(INDEX(tb_vendas[Forma_Pagamento],MATCH(D528,tb_vendas[N° Pedido/Empresa],0)),tb_formas_pagamento[Nome_Forma],0))),\"\")","v":""},null,{"$f":"IF(OR(tb_pagamentos[[#This Row],[Data_Vencimento]]=\"\",tb_pagamentos[[#This Row],[Valor_Parcela]]=\"\",tb_pagamentos[[#This Row],[Qtd_Total_Parcelas]]=\"\",tb_pagamentos[[#This Row],[Nr_Pedido]]=\"\"),\"\",IF(tb_pagamentos[[#This Row],[Data_Pagamento]]<>\"\",\"Pago\",IF(AND(tb_pagamentos[[#This Row],[Data_Pagamento]]=\"\",tb_pagamentos[[#This Row],[Data_Vencimento]]<TODAY()),\"Em Atraso\",\"A vencer\")))","v":""}]
[null,null,"",{"$f":"IFERROR(INDEX(CALC_BASE!$N$3:$N$52,MATCH(ROW()-7,CALC_BASE!$M$3:$M$52,0)),\"\")","v":""},{"$f":"IFERROR(INDEX(CALC_BASE!$O$3:$O$52,MATCH(ROW()-7,CALC_BASE!$M$3:$M$52,0)),\"\")","v":""},{"$f":"IFERROR(INDEX(CALC_BASE!$P$3:$P$52,MATCH(ROW()-7,CALC_BASE!$M$3:$M$52,0)),\"\")","v":""},{"$f":"IFERROR(IF(D529=\"\",\"\",INDEX(tb_vendas[Preço de Venda],MATCH(D529,tb_vendas[N° Pedido/Empresa],0))/F529),\"\")","v":""},{"$f":"IFERROR(IF(D529=\"\",\"\",INDEX(tb_vendas[Data Fechamento],MATCH(D529,tb_vendas[N° Pedido/Empresa],0))+E529*INDEX(tb_formas_pagamento[Dias_Intervalo],MATCH(INDEX(tb_vendas[Forma_Pagamento],MATCH(D529,tb_vendas[N° Pedido/Empresa],0)),tb_formas_pagamento[Nome_Forma],0))),\"\")","v":""},null,{"$f":"IF(OR(tb_pagamentos[[#This Row],[Data_Vencimento]]=\"\",tb_pagamentos[[#This Row],[Valor_Parcela]]=\"\",tb_pagamentos[[#This Row],[Qtd_Total_Parcelas]]=\"\",tb_pagamentos[[#This Row],[Nr_Pedido]]=\"\"),\"\",IF(tb_pagamentos[[#This Row],[Data_Pagamento]]<>\"\",\"Pago\",IF(AND(tb_pagamentos[[#This Row],[Data_Pagamento]]=\"\",tb_pagamentos[[#This Row],[Data_Vencimento]]<TODAY()),\"Em Atraso\",\"A vencer\")))","v":""}]
[null,null,"",{"$f":"IFERROR(INDEX(CALC_BASE!$N$3:$N$52,MATCH(ROW()-7,CALC_BASE!$M$3:$M$52,0)),\"\")","v":""},{"$f":"IFERROR(INDEX(CALC_BASE!$O$3:$O$52,MATCH(ROW()-7,CALC_BASE!$M$3:$M$52,0)),\"\")","v":""},{"$f":"IFERROR(INDEX(CALC_BASE!$P$3:$P$52,MATCH(ROW()-7,CALC_BASE!$M$3:$M$52,0)),\"\")","v":""},{"$f":"IFERROR(IF(D530=\"\",\"\",INDEX(tb_vendas[Preço de Venda],MATCH(D530,tb_vendas[N° Pedido/Empresa],0))/F530),\"\")","v":""},{"$f":"IFERROR(IF(D530=\"\",\"\",INDEX(tb_vendas[Data Fechamento],MATCH(D530,tb_vendas[N° Pedido/Empresa],0))+E530*INDEX(tb_formas_pagamento[Dias_Intervalo],MATCH(INDEX(tb_vendas[Forma_Pagamento],MATCH(D530,tb_vendas[N° Pedido/Empresa],0)),tb_formas_pagamento[Nome_Forma],0))),\"\")","v":""},null,{"$f":"IF(OR(tb_pagamentos[[#This Row],[Data_Vencimento]]=\"\",tb_pagamentos[[#This Row],[Valor_Parcela]]=\"\",tb_pagamentos[[#This Row],[Qtd_Total_Parcelas]]=\"\",tb_pagamentos[[#This Row],[Nr_Pedido]]=\"\"),\"\",IF(tb_pagamentos[[#This Row],[Data_Pagamento]]<>\"\",\"Pago\",IF(AND(tb_pagamentos[[#This Row],[Data_Pagamento]]=\"\",tb_pagamentos[[#This Row],[Data_Vencimento]]<TODAY()),\"Em Atraso\",\"A vencer\")))","v":""}]
[null,null,"",{"$f":"IFERROR(INDEX(CALC_BASE!$N$3:$N$52,MATCH(ROW()-7,CALC_BASE!$M$3:$M$52,0)),\"\")","v":""},{"$f":"IFERROR(INDEX(CALC_BASE!$O$3:$O$52,MATCH(ROW()-7,CALC_BASE!$M$3:$M$52,0)),\"\")","v":""},{"$f":"IFERROR(INDEX(CALC_BASE!$P$3:$P$52,MATCH(ROW()-7,CALC_BASE!$M$3:$M$52,0)),\"\")","v":""},{"$f":"IFERROR(IF(D531=\"\",\"\",INDEX(tb_vendas[Preço de Venda],MATCH(D531,tb_vendas[N° Pedido/Empresa],0))/F531),\"\")","v":""},{"$f":"IFERROR(IF(D531=\"\",\"\",INDEX(tb_vendas[Data Fechamento],MATCH(D531,tb_vendas[N° Pedido/Empresa],0))+E531*INDEX(tb_formas_pagamento[Dias_Intervalo],MATCH(INDEX(tb_vendas[Forma_Pagamento],MATCH(D531,tb_vendas[N° Pedido/Empresa],0)),tb_formas_pagamento[Nome_Forma],0))),\"\")","v":""},null,{"$f":"IF(OR(tb_pagamentos[[#This Row],[Data_Vencimento]]=\"\",tb_pagamentos[[#This Row],[Valor_Parcela]]=\"\",tb_pagamentos[[#This Row],[Qtd_Total_Parcelas]]=\"\",tb_pagamentos[[#This Row],[Nr_Pedido]]=\"\"),\"\",IF(tb_pagamentos[[#This Row],[Data_Pagamento]]<>\"\",\"Pago\",IF(AND(tb_pagamentos[[#This Row],[Data_Pagamento]]=\"\",tb_pagamentos[[#This Row],[Data_Vencimento]]<TODAY()),\"Em Atraso\",\"A vencer\")))","v":""}]
[null,null,"",{"$f":"IFERROR(INDEX(CALC_BASE!$N$3:$N$52,MATCH(ROW()-7,CALC_BASE!$M$3:$M$52,0)),\"\")","v":""},{"$f":"IFERROR(INDEX(CALC_BASE!$O$3:$O$52,MATCH(ROW()-7,CALC_BASE!$M$3:$M$52,0)),\"\")","v":""},{"$f":"IFERROR(INDEX(CALC_BASE!$P$3:$P$52,MATCH(ROW()-7,CALC_BASE!$M$3:$M$52,0)),\"\")","v":""},{"$f":"IFERROR(IF(D532=\"\",\"\",INDEX(tb_vendas[Preço de Venda],MATCH(D532,tb_vendas[N° Pedido/Empresa],0))/F532),\"\")","v":""},{"$f":"IFERROR(IF(D532=\"\",\"\",INDEX(tb_vendas[Data Fechamento],MATCH(D532,tb_vendas[N° Pedido/Empresa],0))+E532*INDEX(tb_formas_pagamento[Dias_Intervalo],MATCH(INDEX(tb_vendas[Forma_Pagamento],MATCH(D532,tb_vendas[N° Pedido/Empresa],0)),tb_formas_pagamento[Nome_Forma],0))),\"\")","v":""},null,{"$f":"IF(OR(tb_pagamentos[[#This Row],[Data_Vencimento]]=\"\",tb_pagamentos[[#This Row],[Valor_Parcela]]=\"\",tb_pagamentos[[#This Row],[Qtd_Total_Parcelas]]=\"\",tb_pagamentos[[#This Row],[Nr_Pedido]]=\"\"),\"\",IF(tb_pagamentos[[#This Row],[Data_Pagamento]]<>\"\",\"Pago\",IF(AND(tb_pagamentos[[#This Row],[Data_Pagamento]]=\"\",tb_pagamentos[[#This Row],[Data_Vencimento]]<TODAY()),\"Em Atraso\",\"A vencer\")))","v":""}]
[null,null,"",{"$f":"IFERROR(INDEX(CALC_BASE!$N$3:$N$52,MATCH(ROW()-7,CALC_BASE!$M$3:$M$52,0)),\"\")","v":""},{"$f":"IFERROR(INDEX(CALC_BASE!$O$3:$O$52,MATCH(ROW()-7,CALC_BASE!$M$3:$M$52,0)),\"\")","v":""},{"$f":"IFERROR(INDEX(CALC_BASE!$P$3:$P$52,MATCH(ROW()-7,CALC_BASE!$M$3:$M$52,0)),\"\")","v":""},{"$f":"IFERROR(IF(D533=\"\",\"\",INDEX(tb_vendas[Preço de Venda],MATCH(D533,tb_vendas[N° Pedido/Empresa],0))/F533),\"\")","v":""},{"$f":"IFERROR(IF(D533=\"\",\"\",INDEX(tb_vendas[Data Fechamento],MATCH(D533,tb_vendas[N° Pedido/Empresa],0))+E533*INDEX(tb_formas_pagamento[Dias_Intervalo],MATCH(INDEX(tb_vendas[Forma_Pagamento],MATCH(D533,tb_vendas[N° Pedido/Empresa],0)),tb_formas_pagamento[Nome_Forma],0))),\"\")","v":""},null,{"$f":"IF(OR(tb_pagamentos[[#This Row],[Data_Vencimento]]=\"\",tb_pagamentos[[#This Row],[Valor_Parcela]]=\"\",tb_pagamentos[[#This Row],[Qtd_Total_Parcelas]]=\"\",tb_pagamentos[[#This Row],[Nr_Pedido]]=\"\"),\"\",IF(tb_pagamentos[[#This Row],[Data_Pagamento]]<>\"\",\"Pago\",IF(AND(tb_pagamentos[[#This Row],[Data_Pagamento]]=\"\",tb_pagamentos[[#This Row],[Data_Vencimento]]<TODAY()),\"Em Atraso\",\"A vencer\")))","v":""}]
[null,null,"",{"$f":"IFERROR(INDEX(CALC_BASE!$N$3:$N$52,MATCH(ROW()-7,CALC_BASE!$M$3:$M$52,0)),\"\")","v":""},{"$f":"IFERROR(INDEX(CALC_BASE!$O$3:$O$52,MATCH(ROW()-7,CALC_BASE!$M$3:$M$52,0)),\"\")","v":""},{"$f":"IFERROR(INDEX(CALC_BASE!$P$3:$P$52,MATCH(ROW()-7,CALC_BASE!$M$3:$M$52,0)),\"\")","v":""},{"$f":"IFERROR(IF(D534=\"\",\"\",INDEX(tb_vendas[Preço de Venda],MATCH(D534,tb_vendas[N° Pedido/Empresa],0))/F534),\"\")","v":""},{"$f":"IFERROR(IF(D534=\"\",\"\",INDEX(tb_vendas[Data Fechamento],MATCH(D534,tb_vendas[N° Pedido/Empresa],0))+E534*INDEX(tb_formas_pagamento[Dias_Intervalo],MATCH(INDEX(tb_vendas[Forma_Pagamento],MATCH(D534,tb_vendas[N° Pedido/Empresa],0)),tb_formas_pagamento[Nome_Forma],0))),\"\")","v":""},null,{"$f":"IF(OR(tb_pagamentos[[#This Row],[Data_Vencimento]]=\"\",tb_pagamentos[[#This Row],[Valor_Parcela]]=\"\",tb_pagamentos[[#This Row],[Qtd_Total_Parcelas]]=\"\",tb_pagamentos[[#This Row],[Nr_Pedido]]=\"\"),\"\",IF(tb_pagamentos[[#This Row],[Data_Pagamento]]<>\"\",\"Pago\",IF(AND(tb_pagamentos[[#This Row],[Data_Pagamento]]=\"\",tb_pagamentos[[#This Row],[Data_Vencimento]]<TODAY()),\"Em Atraso\",\"A vencer\")))","v":""}]
[null,null,"",{"$f":"IFERROR(INDEX(CALC_BASE!$N$3:$N$52,MATCH(ROW()-7,CALC_BASE!$M$3:$M$52,0)),\"\")","v":""},{"$f":"IFERROR(INDEX(CALC_BASE!$O$3:$O$52,MATCH(ROW()-7,CALC_BASE!$M$3:$M$52,0)),\"\")","v":""},{"$f":"IFERROR(INDEX(CALC_BASE!$P$3:$P$52,MATCH(ROW()-7,CALC_BASE!$M$3:$M$52,0)),\"\")","v":""},{"$f":"IFERROR(IF(D535=\"\",\"\",INDEX(tb_vendas[Preço de Venda],MATCH(D535,tb_vendas[N° Pedido/Empresa],0))/F535),\"\")","v":""},{"$f":"IFERROR(IF(D535=\"\",\"\",INDEX(tb_vendas[Data Fechamento],MATCH(D535,tb_vendas[N° Pedido/Empresa],0))+E535*INDEX(tb_formas_pagamento[Dias_Intervalo],MATCH(INDEX(tb_vendas[Forma_Pagamento],MATCH(D535,tb_vendas[N° Pedido/Empresa],0)),tb_formas_pagamento[Nome_Forma],0))),\"\")","v":""},null,{"$f":"IF(OR(tb_pagamentos[[#This Row],[Data_Vencimento]]=\"\",tb_pagamentos[[#This Row],[Valor_Parcela]]=\"\",tb_pagamentos[[#This Row],[Qtd_Total_Parcelas]]=\"\",tb_pagamentos[[#This Row],[Nr_Pedido]]=\"\"),\"\",IF(tb_pagamentos[[#This Row],[Data_Pagamento]]<>\"\",\"Pago\",IF(AND(tb_pagamentos[[#This Row],[Data_Pagamento]]=\"\",tb_pagamentos[[#This Row],[Data_Vencimento]]<TODAY()),\"Em Atraso\",\"A vencer\")))","v":""}]
[null,null,"",{"$f":"IFERROR(INDEX(CALC_BASE!$N$3:$N$52,MATCH(ROW()-7,CALC_BASE!$M$3:$M$52,0)),\"\")","v":""},{"$f":"IFERROR(INDEX(CALC_BASE!$O$3:$O$52,MATCH(ROW()-7,CALC_BASE!$M$3:$M$52,0)),\"\")","v":""},{"$f":"IFERROR(INDEX(CALC_BASE!$P$3:$P$52,MATCH(ROW()-7,CALC_BASE!$M$3:$M$52,0)),\"\")","v":""},{"$f":"IFERROR(IF(D536=\"\",\"\",INDEX(tb_vendas[Preço de Venda],MATCH(D536,tb_vendas[N° Pedido/Empresa],0))/F536),\"\")","v":""},{"$f":"IFERROR(IF(D536=\"\",\"\",INDEX(tb_vendas[Data Fechamento],MATCH(D536,tb_vendas[N° Pedido/Empresa],0))+E536*INDEX(tb_formas_pagamento[Dias_Intervalo],MATCH(INDEX(tb_vendas[Forma_Pagamento],MATCH(D536,tb_vendas[N° Pedido/Empresa],0)),tb_formas_pagamento[Nome_Forma],0))),\"\")","v":""},null,{"$f":"IF(OR(tb_pagamentos[[#This Row],[Data_Vencimento]]=\"\",tb_pagamentos[[#This Row],[Valor_Parcela]]=\"\",tb_pagamentos[[#This Row],[Qtd_Total_Parcelas]]=\"\",tb_pagamentos[[#This Row],[Nr_Pedido]]=\"\"),\"\",IF(tb_pagamentos[[#This Row],[Data_Pagamento]]<>\"\",\"Pago\",IF(AND(tb_pagamentos[[#This Row],[Data_Pagamento]]=\"\",tb_pagamentos[[#This Row],[Data_Vencimento]]<TODAY()),\"Em Atraso\",\"A vencer\")))","v":""}]
[null,null,"",{"$f":"IFERROR(INDEX(CALC_BASE!$N$3:$N$52,MATCH(ROW()-7,CALC_BASE!$M$3:$M$52,0)),\"\")","v":""},{"$f":"IFERROR(INDEX(CALC_BASE!$O$3:$O$52,MATCH(ROW()-7,CALC_BASE!$M$3:$M$52,0)),\"\")","v":""},{"$f":"IFERROR(INDEX(CALC_BASE!$P$3:$P$52,MATCH(ROW()-7,CALC_BASE!$M$3:$M$52,0)),\"\")","v":""},{"$f":"IFERROR(IF(D537=\"\",\"\",INDEX(tb_vendas[Preço de Venda],MATCH(D537,tb_vendas[N° Pedido/Empresa],0))/F537),\"\")","v":""},{"$f":"IFERROR(IF(D537=\"\",\"\",INDEX(tb_vendas[Data Fechamento],MATCH(D537,tb_vendas[N° Pedido/Empresa],0))+E537*INDEX(tb_formas_pagamento[Dias_Intervalo],MATCH(INDEX(tb_vendas[Forma_Pagamento],MATCH(D537,tb_vendas[N° Pedido/Empresa],0)),tb_formas_pagamento[Nome_Forma],0))),\"\")","v":""},null,{"$f":"IF(OR(tb_pagamentos[[#This Row],[Data_Vencimento]]=\"\",tb_pagamentos[[#This Row],[Valor_Parcela]]=\"\",tb_pagamentos[[#This Row],[Qtd_Total_Parcelas]]=\"\",tb_pagamentos[[#This Row],[Nr_Pedido]]=\"\"),\"\",IF(tb_pagamentos[[#This Row],[Data_Pagamento]]<>\"\",\"Pago\",IF(AND(tb_pagamentos[[#This Row],[Data_Pagamento]]=\"\",tb_pagamentos[[#This Row],[Data_Vencimento]]<TODAY()),\"Em Atraso\",\"A vencer\")))","v":""}]
[null,null,"",{"$f":"IFERROR(INDEX(CALC_BASE!$N$3:$N$52,MATCH(ROW()-7,CALC_BASE!$M$3:$M$52,0)),\"\")","v":""},{"$f":"IFERROR(INDEX(CALC_BASE!$O$3:$O$52,MATCH(ROW()-7,CALC_BASE!$M$3:$M$52,0)),\"\")","v":""},{"$f":"IFERROR(INDEX(CALC_BASE!$P$3:$P$52,MATCH(ROW()-7,CALC_BASE!$M$3:$M$52,0)),\"\")","v":""},{"$f":"IFERROR(IF(D538=\"\",\"\",INDEX(tb_vendas[Preço de Venda],MATCH(D538,tb_vendas[N° Pedido/Empresa],0))/F538),\"\")","v":""},{"$f":"IFERROR(IF(D538=\"\",\"\",INDEX(tb_vendas[Data Fechamento],MATCH(D538,tb_vendas[N° Pedido/Empresa],0))+E538*INDEX(tb_formas_pagamento[Dias_Intervalo],MATCH(INDEX(tb_vendas[Forma_Pagamento],MATCH(D538,tb_vendas[N° Pedido/Empresa],0)),tb_formas_pagamento[Nome_Forma],0))),\"\")","v":""},null,{"$f":"IF(OR(tb_pagamentos[[#This Row],[Data_Vencimento]]=\"\",tb_pagamentos[[#This Row],[Valor_Parcela]]=\"\",tb_pagamentos[[#This Row],[Qtd_Total_Parcelas]]=\"\",tb_pagamentos[[#This Row],[Nr_Pedido]]=\"\"),\"\",IF(tb_pagamentos[[#This Row],[Data_Pagamento]]<>\"\",\"Pago\",IF(AND(tb_pagamentos[[#This Row],[Data_Pagamento]]=\"\",tb_pagamentos[[#This Row],[Data_Vencimento]]<TODAY()),\"Em Atraso\",\"A vencer\")))","v":""}]
[null,null,"",{"$f":"IFERROR(INDEX(CALC_BASE!$N$3:$N$52,MATCH(ROW()-7,CALC_BASE!$M$3:$M$52,0)),\"\")","v":""},{"$f":"IFERROR(INDEX(CALC_BASE!$O$3:$O$52,MATCH(ROW()-7,CALC_BASE!$M$3:$M$52,0)),\"\")","v":""},{"$f":"IFERROR(INDEX(CALC_BASE!$P$3:$P$52,MATCH(ROW()-7,CALC_BASE!$M$3:$M$52,0)),\"\")","v":""},{"$f":"IFERROR(IF(D539=\"\",\"\",INDEX(tb_vendas[Preço de Venda],MATCH(D539,tb_vendas[N° Pedido/Empresa],0))/F539),\"\")","v":""},{"$f":"IFERROR(IF(D539=\"\",\"\",INDEX(tb_vendas[Data Fechamento],MATCH(D539,tb_vendas[N° Pedido/Empresa],0))+E539*INDEX(tb_formas_pagamento[Dias_Intervalo],MATCH(INDEX(tb_vendas[Forma_Pagamento],MATCH(D539,tb_vendas[N° Pedido/Empresa],0)),tb_formas_pagamento[Nome_Forma],0))),\"\")","v":""},null,{"$f":"IF(OR(tb_pagamentos[[#This Row],[Data_Vencimento]]=\"\",tb_pagamentos[[#This Row],[Valor_Parcela]]=\"\",tb_pagamentos[[#This Row],[Qtd_Total_Parcelas]]=\"\",tb_pagamentos[[#This Row],[Nr_Pedido]]=\"\"),\"\",IF(tb_pagamentos[[#This Row],[Data_Pagamento]]<>\"\",\"Pago\",IF(AND(tb_pagamentos[[#This Row],[Data_Pagamento]]=\"\",tb_pagamentos[[#This Row],[Data_Vencimento]]<TODAY()),\"Em Atraso\",\"A vencer\")))","v":""}]
[null,null,"",{"$f":"IFERROR(INDEX(CALC_BASE!$N$3:$N$52,MATCH(ROW()-7,CALC_BASE!$M$3:$M$52,0)),\"\")","v":""},{"$f":"IFERROR(INDEX(CALC_BASE!$O$3:$O$52,MATCH(ROW()-7,CALC_BASE!$M$3:$M$52,0)),\"\")","v":""},{"$f":"IFERROR(INDEX(CALC_BASE!$P$3:$P$52,MATCH(ROW()-7,CALC_BASE!$M$3:$M$52,0)),\"\")","v":""},{"$f":"IFERROR(IF(D540=\"\",\"\",INDEX(tb_vendas[Preço de Venda],MATCH(D540,tb_vendas[N° Pedido/Empresa],0))/F540),\"\")","v":""},{"$f":"IFERROR(IF(D540=\"\",\"\",INDEX(tb_vendas[Data Fechamento],MATCH(D540,tb_vendas[N° Pedido/Empresa],0))+E540*INDEX(tb_formas_pagamento[Dias_Intervalo],MATCH(INDEX(tb_vendas[Forma_Pagamento],MATCH(D540,tb_vendas[N° Pedido/Empresa],0)),tb_formas_pagamento[Nome_Forma],0))),\"\")","v":""},null,{"$f":"IF(OR(tb_pagamentos[[#This Row],[Data_Vencimento]]=\"\",tb_pagamentos[[#This Row],[Valor_Parcela]]=\"\",tb_pagamentos[[#This Row],[Qtd_Total_Parcelas]]=\"\",tb_pagamentos[[#This Row],[Nr_Pedido]]=\"\"),\"\",IF(tb_pagamentos[[#This Row],[Data_Pagamento]]<>\"\",\"Pago\",IF(AND(tb_pagamentos[[#This Row],[Data_Pagamento]]=\"\",tb_pagamentos[[#This Row],[Data_Vencimento]]<TODAY()),\"Em Atraso\",\"A vencer\")))","v":""}]
[null,null,"",{"$f":"IFERROR(INDEX(CALC_BASE!$N$3:$N$52,MATCH(ROW()-7,CALC_BASE!$M$3:$M$52,0)),\"\")","v":""},{"$f":"IFERROR(INDEX(CALC_BASE!$O$3:$O$52,MATCH(ROW()-7,CALC_BASE!$M$3:$M$52,0)),\"\")","v":""},{"$f":"IFERROR(INDEX(CALC_BASE!$P$3:$P$52,MATCH(ROW()-7,CALC_BASE!$M$3:$M$52,0)),\"\")","v":""},{"$f":"IFERROR(IF(D541=\"\",\"\",INDEX(tb_vendas[Preço de Venda],MATCH(D541,tb_vendas[N° Pedido/Empresa],0))/F541),\"\")","v":""},{"$f":"IFERROR(IF(D541=\"\",\"\",INDEX(tb_vendas[Data Fechamento],MATCH(D541,tb_vendas[N° Pedido/Empresa],0))+E541*INDEX(tb_formas_pagamento[Dias_Intervalo],MATCH(INDEX(tb_vendas[Forma_Pagamento],MATCH(D541,tb_vendas[N° Pedido/Empresa],0)),tb_formas_pagamento[Nome_Forma],0))),\"\")","v":""},null,{"$f":"IF(OR(tb_pagamentos[[#This Row],[Data_Vencimento]]=\"\",tb_pagamentos[[#This Row],[Valor_Parcela]]=\"\",tb_pagamentos[[#This Row],[Qtd_Total_Parcelas]]=\"\",tb_pagamentos[[#This Row],[Nr_Pedido]]=\"\"),\"\",IF(tb_pagamentos[[#This Row],[Data_Pagamento]]<>\"\",\"Pago\",IF(AND(tb_pagamentos[[#This Row],[Data_Pagamento]]=\"\",tb_pagamentos[[#This Row],[Data_Vencimento]]<TODAY()),\"Em Atraso\",\"A vencer\")))","v":""}]
[null,null,"",{"$f":"IFERROR(INDEX(CALC_BASE!$N$3:$N$52,MATCH(ROW()-7,CALC_BASE!$M$3:$M$52,0)),\"\")","v":""},{"$f":"IFERROR(INDEX(CALC_BASE!$O$3:$O$52,MATCH(ROW()-7,CALC_BASE!$M$3:$M$52,0)),\"\")","v":""},{"$f":"IFERROR(INDEX(CALC_BASE!$P$3:$P$52,MATCH(ROW()-7,CALC_BASE!$M$3:$M$52,0)),\"\")","v":""},{"$f":"IFERROR(IF(D542=\"\",\"\",INDEX(tb_vendas[Preço de Venda],MATCH(D542,tb_vendas[N° Pedido/Empresa],0))/F542),\"\")","v":""},{"$f":"IFERROR(IF(D542=\"\",\"\",INDEX(tb_vendas[Data Fechamento],MATCH(D542,tb_vendas[N° Pedido/Empresa],0))+E542*INDEX(tb_formas_pagamento[Dias_Intervalo],MATCH(INDEX(tb_vendas[Forma_Pagamento],MATCH(D542,tb_vendas[N° Pedido/Empresa],0)),tb_formas_pagamento[Nome_Forma],0))),\"\")","v":""},null,{"$f":"IF(OR(tb_pagamentos[[#This Row],[Data_Vencimento]]=\"\",tb_pagamentos[[#This Row],[Valor_Parcela]]=\"\",tb_pagamentos[[#This Row],[Qtd_Total_Parcelas]]=\"\",tb_pagamentos[[#This Row],[Nr_Pedido]]=\"\"),\"\",IF(tb_pagamentos[[#This Row],[Data_Pagamento]]<>\"\",\"Pago\",IF(AND(tb_pagamentos[[#This Row],[Data_Pagamento]]=\"\",tb_pagamentos[[#This Row],[Data_Vencimento]]<TODAY()),\"Em Atraso\",\"A vencer\")))","v":""}]
[null,null,"",{"$f":"IFERROR(INDEX(CALC_BASE!$N$3:$N$52,MATCH(ROW()-7,CALC_BASE!$M$3:$M$52,0)),\"\")","v":""},{"$f":"IFERROR(INDEX(CALC_BASE!$O$3:$O$52,MATCH(ROW()-7,CALC_BASE!$M$3:$M$52,0)),\"\")","v":""},{"$f":"IFERROR(INDEX(CALC_BASE!$P$3:$P$52,MATCH(ROW()-7,CALC_BASE!$M$3:$M$52,0)),\"\")","v":""},{"$f":"IFERROR(IF(D543=\"\",\"\",INDEX(tb_vendas[Preço de Venda],MATCH(D543,tb_vendas[N° Pedido/Empresa],0))/F543),\"\")","v":""},{"$f":"IFERROR(IF(D543=\"\",\"\",INDEX(tb_vendas[Data Fechamento],MATCH(D543,tb_vendas[N° Pedido/Empresa],0))+E543*INDEX(tb_formas_pagamento[Dias_Intervalo],MATCH(INDEX(tb_vendas[Forma_Pagamento],MATCH(D543,tb_vendas[N° Pedido/Empresa],0)),tb_formas_pagamento[Nome_Forma],0))),\"\")","v":""},null,{"$f":"IF(OR(tb_pagamentos[[#This Row],[Data_Vencimento]]=\"\",tb_pagamentos[[#This Row],[Valor_Parcela]]=\"\",tb_pagamentos[[#This Row],[Qtd_Total_Parcelas]]=\"\",tb_pagamentos[[#This Row],[Nr_Pedido]]=\"\"),\"\",IF(tb_pagamentos[[#This Row],[Data_Pagamento]]<>\"\",\"Pago\",IF(AND(tb_pagamentos[[#This Row],[Data_Pagamento]]=\"\",tb_pagamentos[[#This Row],[Data_Vencimento]]<TODAY()),\"Em Atraso\",\"A vencer\")))","v":""}]
[null,null,"",{"$f":"IFERROR(INDEX(CALC_BASE!$N$3:$N$52,MATCH(ROW()-7,CALC_BASE!$M$3:$M$52,0)),\"\")","v":""},{"$f":"IFERROR(INDEX(CALC_BASE!$O$3:$O$52,MATCH(ROW()-7,CALC_BASE!$M$3:$M$52,0)),\"\")","v":""},{"$f":"IFERROR(INDEX(CALC_BASE!$P$3:$P$52,MATCH(ROW()-7,CALC_BASE!$M$3:$M$52,0)),\"\")","v":""},{"$f":"IFERROR(IF(D544=\"\",\"\",INDEX(tb_vendas[Preço de Venda],MATCH(D544,tb_vendas[N° Pedido/Empresa],0))/F544),\"\")","v":""},{"$f":"IFERROR(IF(D544=\"\",\"\",INDEX(tb_vendas[Data Fechamento],MATCH(D544,tb_vendas[N° Pedido/Empresa],0))+E544*INDEX(tb_formas_pagamento[Dias_Intervalo],MATCH(INDEX(tb_vendas[Forma_Pagamento],MATCH(D544,tb_vendas[N° Pedido/Empresa],0)),tb_formas_pagamento[Nome_Forma],0))),\"\")","v":""},null,{"$f":"IF(OR(tb_pagamentos[[#This Row],[Data_Vencimento]]=\"\",tb_pagamentos[[#This Row],[Valor_Parcela]]=\"\",tb_pagamentos[[#This Row],[Qtd_Total_Parcelas]]=\"\",tb_pagamentos[[#This Row],[Nr_Pedido]]=\"\"),\"\",IF(tb_pagamentos[[#This Row],[Data_Pagamento]]<>\"\",\"Pago\",IF(AND(tb_pagamentos[[#This Row],[Data_Pagamento]]=\"\",tb_pagamentos[[#This Row],[Data_Vencimento]]<TODAY()),\"Em Atraso\",\"A vencer\")))","v":""}]
[null,null,"",{"$f":"IFERROR(INDEX(CALC_BASE!$N$3:$N$52,MATCH(ROW()-7,CALC_BASE!$M$3:$M$52,0)),\"\")","v":""},{"$f":"IFERROR(INDEX(CALC_BASE!$O$3:$O$52,MATCH(ROW()-7,CALC_BASE!$M$3:$M$52,0)),\"\")","v":""},{"$f":"IFERROR(INDEX(CALC_BASE!$P$3:$P$52,MATCH(ROW()-7,CALC_BASE!$M$3:$M$52,0)),\"\")","v":""},{"$f":"IFERROR(IF(D545=\"\",\"\",INDEX(tb_vendas[Preço de Venda],MATCH(D545,tb_vendas[N° Pedido/Empresa],0))/F545),\"\")","v":""},{"$f":"IFERROR(IF(D545=\"\",\"\",INDEX(tb_vendas[Data Fechamento],MATCH(D545,tb_vendas[N° Pedido/Empresa],0))+E545*INDEX(tb_formas_pagamento[Dias_Intervalo],MATCH(INDEX(tb_vendas[Forma_Pagamento],MATCH(D545,tb_vendas[N° Pedido/Empresa],0)),tb_formas_pagamento[Nome_Forma],0))),\"\")","v":""},null,{"$f":"IF(OR(tb_pagamentos[[#This Row],[Data_Vencimento]]=\"\",tb_pagamentos[[#This Row],[Valor_Parcela]]=\"\",tb_pagamentos[[#This Row],[Qtd_Total_Parcelas]]=\"\",tb_pagamentos[[#This Row],[Nr_Pedido]]=\"\"),\"\",IF(tb_pagamentos[[#This Row],[Data_Pagamento]]<>\"\",\"Pago\",IF(AND(tb_pagamentos[[#This Row],[Data_Pagamento]]=\"\",tb_pagamentos[[#This Row],[Data_Vencimento]]<TODAY()),\"Em Atraso\",\"A vencer\")))","v":""}]
[null,null,"",{"$f":"IFERROR(INDEX(CALC_BASE!$N$3:$N$52,MATCH(ROW()-7,CALC_BASE!$M$3:$M$52,0)),\"\")","v":""},{"$f":"IFERROR(INDEX(CALC_BASE!$O$3:$O$52,MATCH(ROW()-7,CALC_BASE!$M$3:$M$52,0)),\"\")","v":""},{"$f":"IFERROR(INDEX(CALC_BASE!$P$3:$P$52,MATCH(ROW()-7,CALC_BASE!$M$3:$M$52,0)),\"\")","v":""},{"$f":"IFERROR(IF(D546=\"\",\"\",INDEX(tb_vendas[Preço de Venda],MATCH(D546,tb_vendas[N° Pedido/Empresa],0))/F546),\"\")","v":""},{"$f":"IFERROR(IF(D546=\"\",\"\",INDEX(tb_vendas[Data Fechamento],MATCH(D546,tb_vendas[N° Pedido/Empresa],0))+E546*INDEX(tb_formas_pagamento[Dias_Intervalo],MATCH(INDEX(tb_vendas[Forma_Pagamento],MATCH(D546,tb_vendas[N° Pedido/Empresa],0)),tb_formas_pagamento[Nome_Forma],0))),\"\")","v":""},null,{"$f":"IF(OR(tb_pagamentos[[#This Row],[Data_Vencimento]]=\"\",tb_pagamentos[[#This Row],[Valor_Parcela]]=\"\",tb_pagamentos[[#This Row],[Qtd_Total_Parcelas]]=\"\",tb_pagamentos[[#This Row],[Nr_Pedido]]=\"\"),\"\",IF(tb_pagamentos[[#This Row],[Data_Pagamento]]<>\"\",\"Pago\",IF(AND(tb_pagamentos[[#This Row],[Data_Pagamento]]=\"\",tb_pagamentos[[#This Row],[Data_Vencimento]]<TODAY()),\"Em Atraso\",\"A vencer\")))","v":""}]
[null,null,"",{"$f":"IFERROR(INDEX(CALC_BASE!$N$3:$N$52,MATCH(ROW()-7,CALC_BASE!$M$3:$M$52,0)),\"\")","v":""},{"$f":"IFERROR(INDEX(CALC_BASE!$O$3:$O$52,MATCH(ROW()-7,CALC_BASE!$M$3:$M$52,0)),\"\")","v":""},{"$f":"IFERROR(INDEX(CALC_BASE!$P$3:$P$52,MATCH(ROW()-7,CALC_BASE!$M$3:$M$52,0)),\"\")","v":""},{"$f":"IFERROR(IF(D547=\"\",\"\",INDEX(tb_vendas[Preço de Venda],MATCH(D547,tb_vendas[N° Pedido/Empresa],0))/F547),\"\")","v":""},{"$f":"IFERROR(IF(D547=\"\",\"\",INDEX(tb_vendas[Data Fechamento],MATCH(D547,tb_vendas[N° Pedido/Empresa],0))+E547*INDEX(tb_formas_pagamento[Dias_Intervalo],MATCH(INDEX(tb_vendas[Forma_Pagamento],MATCH(D547,tb_vendas[N° Pedido/Empresa],0)),tb_formas_pagamento[Nome_Forma],0))),\"\")","v":""},null,{"$f":"IF(OR(tb_pagamentos[[#This Row],[Data_Vencimento]]=\"\",tb_pagamentos[[#This Row],[Valor_Parcela]]=\"\",tb_pagamentos[[#This Row],[Qtd_Total_Parcelas]]=\"\",tb_pagamentos[[#This Row],[Nr_Pedido]]=\"\"),\"\",IF(tb_pagamentos[[#This Row],[Data_Pagamento]]<>\"\",\"Pago\",IF(AND(tb_pagamentos[[#This Row],[Data_Pagamento]]=\"\",tb_pagamentos[[#This Row],[Data_Vencimento]]<TODAY()),\"Em Atraso\",\"A vencer\")))","v":""}]
[null,null,"",{"$f":"IFERROR(INDEX(CALC_BASE!$N$3:$N$52,MATCH(ROW()-7,CALC_BASE!$M$3:$M$52,0)),\"\")","v":""},{"$f":"IFERROR(INDEX(CALC_BASE!$O$3:$O$52,MATCH(ROW()-7,CALC_BASE!$M$3:$M$52,0)),\"\")","v":""},{"$f":"IFERROR(INDEX(CALC_BASE!$P$3:$P$52,MATCH(ROW()-7,CALC_BASE!$M$3:$M$52,0)),\"\")","v":""},{"$f":"IFERROR(IF(D548=\"\",\"\",INDEX(tb_vendas[Preço de Venda],MATCH(D548,tb_vendas[N° Pedido/Empresa],0))/F548),\"\")","v":""},{"$f":"IFERROR(IF(D548=\"\",\"\",INDEX(tb_vendas[Data Fechamento],MATCH(D548,tb_vendas[N° Pedido/Empresa],0))+E548*INDEX(tb_formas_pagamento[Dias_Intervalo],MATCH(INDEX(tb_vendas[Forma_Pagamento],MATCH(D548,tb_vendas[N° Pedido/Empresa],0)),tb_formas_pagamento[Nome_Forma],0))),\"\")","v":""},null,{"$f":"IF(OR(tb_pagamentos[[#This Row],[Data_Vencimento]]=\"\",tb_pagamentos[[#This Row],[Valor_Parcela]]=\"\",tb_pagamentos[[#This Row],[Qtd_Total_Parcelas]]=\"\",tb_pagamentos[[#This Row],[Nr_Pedido]]=\"\"),\"\",IF(tb_pagamentos[[#This Row],[Data_Pagamento]]<>\"\",\"Pago\",IF(AND(tb_pagamentos[[#This Row],[Data_Pagamento]]=\"\",tb_pagamentos[[#This Row],[Data_Vencimento]]<TODAY()),\"Em Atraso\",\"A vencer\")))","v":""}]
[null,null,"",{"$f":"IFERROR(INDEX(CALC_BASE!$N$3:$N$52,MATCH(ROW()-7,CALC_BASE!$M$3:$M$52,0)),\"\")","v":""},{"$f":"IFERROR(INDEX(CALC_BASE!$O$3:$O$52,MATCH(ROW()-7,CALC_BASE!$M$3:$M$52,0)),\"\")","v":""},{"$f":"IFERROR(INDEX(CALC_BASE!$P$3:$P$52,MATCH(ROW()-7,CALC_BASE!$M$3:$M$52,0)),\"\")","v":""},{"$f":"IFERROR(IF(D549=\"\",\"\",INDEX(tb_vendas[Preço de Venda],MATCH(D549,tb_vendas[N° Pedido/Empresa],0))/F549),\"\")","v":""},{"$f":"IFERROR(IF(D549=\"\",\"\",INDEX(tb_vendas[Data Fechamento],MATCH(D549,tb_vendas[N° Pedido/Empresa],0))+E549*INDEX(tb_formas_pagamento[Dias_Intervalo],MATCH(INDEX(tb_vendas[Forma_Pagamento],MATCH(D549,tb_vendas[N° Pedido/Empresa],0)),tb_formas_pagamento[Nome_Forma],0))),\"\")","v":""},null,{"$f":"IF(OR(tb_pagamentos[[#This Row],[Data_Vencimento]]=\"\",tb_pagamentos[[#This Row],[Valor_Parcela]]=\"\",tb_pagamentos[[#This Row],[Qtd_Total_Parcelas]]=\"\",tb_pagamentos[[#This Row],[Nr_Pedido]]=\"\"),\"\",IF(tb_pagamentos[[#This Row],[Data_Pagamento]]<>\"\",\"Pago\",IF(AND(tb_pagamentos[[#This Row],[Data_Pagamento]]=\"\",tb_pagamentos[[#This Row],[Data_Vencimento]]<TODAY()),\"Em Atraso\",\"A vencer\")))","v":""}]
[null,null,"",{"$f":"IFERROR(INDEX(CALC_BASE!$N$3:$N$52,MATCH(ROW()-7,CALC_BASE!$M$3:$M$52,0)),\"\")","v":""},{"$f":"IFERROR(INDEX(CALC_BASE!$O$3:$O$52,MATCH(ROW()-7,CALC_BASE!$M$3:$M$52,0)),\"\")","v":""},{"$f":"IFERROR(INDEX(CALC_BASE!$P$3:$P$52,MATCH(ROW()-7,CALC_BASE!$M$3:$M$52,0)),\"\")","v":""},{"$f":"IFERROR(IF(D550=\"\",\"\",INDEX(tb_vendas[Preço de Venda],MATCH(D550,tb_vendas[N° Pedido/Empresa],0))/F550),\"\")","v":""},{"$f":"IFERROR(IF(D550=\"\",\"\",INDEX(tb_vendas[Data Fechamento],MATCH(D550,tb_vendas[N° Pedido/Empresa],0))+E550*INDEX(tb_formas_pagamento[Dias_Intervalo],MATCH(INDEX(tb_vendas[Forma_Pagamento],MATCH(D550,tb_vendas[N° Pedido/Empresa],0)),tb_formas_pagamento[Nome_Forma],0))),\"\")","v":""},null,{"$f":"IF(OR(tb_pagamentos[[#This Row],[Data_Vencimento]]=\"\",tb_pagamentos[[#This Row],[Valor_Parcela]]=\"\",tb_pagamentos[[#This Row],[Qtd_Total_Parcelas]]=\"\",tb_pagamentos[[#This Row],[Nr_Pedido]]=\"\"),\"\",IF(tb_pagamentos[[#This Row],[Data_Pagamento]]<>\"\",\"Pago\",IF(AND(tb_pagamentos[[#This Row],[Data_Pagamento]]=\"\",tb_pagamentos[[#This Row],[Data_Vencimento]]<TODAY()),\"Em Atraso\",\"A vencer\")))","v":""}]
[null,null,"",{"$f":"IFERROR(INDEX(CALC_BASE!$N$3:$N$52,MATCH(ROW()-7,CALC_BASE!$M$3:$M$52,0)),\"\")","v":""},{"$f":"IFERROR(INDEX(CALC_BASE!$O$3:$O$52,MATCH(ROW()-7,CALC_BASE!$M$3:$M$52,0)),\"\")","v":""},{"$f":"IFERROR(INDEX(CALC_BASE!$P$3:$P$52,MATCH(ROW()-7,CALC_BASE!$M$3:$M$52,0)),\"\")","v":""},{"$f":"IFERROR(IF(D551=\"\",\"\",INDEX(tb_vendas[Preço de Venda],MATCH(D551,tb_vendas[N° Pedido/Empresa],0))/F551),\"\")","v":""},{"$f":"IFERROR(IF(D551=\"\",\"\",INDEX(tb_vendas[Data Fechamento],MATCH(D551,tb_vendas[N° Pedido/Empresa],0))+E551*INDEX(tb_formas_pagamento[Dias_Intervalo],MATCH(INDEX(tb_vendas[Forma_Pagamento],MATCH(D551,tb_vendas[N° Pedido/Empresa],0)),tb_formas_pagamento[Nome_Forma],0))),\"\")","v":""},null,{"$f":"IF(OR(tb_pagamentos[[#This Row],[Data_Vencimento]]=\"\",tb_pagamentos[[#This Row],[Valor_Parcela]]=\"\",tb_pagamentos[[#This Row],[Qtd_Total_Parcelas]]=\"\",tb_pagamentos[[#This Row],[Nr_Pedido]]=\"\"),\"\",IF(tb_pagamentos[[#This Row],[Data_Pagamento]]<>\"\",\"Pago\",IF(AND(tb_pagamentos[[#This Row],[Data_Pagamento]]=\"\",tb_pagamentos[[#This Row],[Data_Vencimento]]<TODAY()),\"Em Atraso\",\"A vencer\")))","v":""}]
[null,null,"",{"$f":"IFERROR(INDEX(CALC_BASE!$N$3:$N$52,MATCH(ROW()-7,CALC_BASE!$M$3:$M$52,0)),\"\")","v":""},{"$f":"IFERROR(INDEX(CALC_BASE!$O$3:$O$52,MATCH(ROW()-7,CALC_BASE!$M$3:$M$52,0)),\"\")","v":""},{"$f":"IFERROR(INDEX(CALC_BASE!$P$3:$P$52,MATCH(ROW()-7,CALC_BASE!$M$3:$M$52,0)),\"\")","v":""},{"$f":"IFERROR(IF(D552=\"\",\"\",INDEX(tb_vendas[Preço de Venda],MATCH(D552,tb_vendas[N° Pedido/Empresa],0))/F552),\"\")","v":""},{"$f":"IFERROR(IF(D552=\"\",\"\",INDEX(tb_vendas[Data Fechamento],MATCH(D552,tb_vendas[N° Pedido/Empresa],0))+E552*INDEX(tb_formas_pagamento[Dias_Intervalo],MATCH(INDEX(tb_vendas[Forma_Pagamento],MATCH(D552,tb_vendas[N° Pedido/Empresa],0)),tb_formas_pagamento[Nome_Forma],0))),\"\")","v":""},null,{"$f":"IF(OR(tb_pagamentos[[#This Row],[Data_Vencimento]]=\"\",tb_pagamentos[[#This Row],[Valor_Parcela]]=\"\",tb_pagamentos[[#This Row],[Qtd_Total_Parcelas]]=\"\",tb_pagamentos[[#This Row],[Nr_Pedido]]=\"\"),\"\",IF(tb_pagamentos[[#This Row],[Data_Pagamento]]<>\"\",\"Pago\",IF(AND(tb_pagamentos[[#This Row],[Data_Pagamento]]=\"\",tb_pagamentos[[#This Row],[Data_Vencimento]]<TODAY()),\"Em Atraso\",\"A vencer\")))","v":""}]
[null,null,"",{"$f":"IFERROR(INDEX(CALC_BASE!$N$3:$N$52,MATCH(ROW()-7,CALC_BASE!$M$3:$M$52,0)),\"\")","v":""},{"$f":"IFERROR(INDEX(CALC_BASE!$O$3:$O$52,MATCH(ROW()-7,CALC_BASE!$M$3:$M$52,0)),\"\")","v":""},{"$f":"IFERROR(INDEX(CALC_BASE!$P$3:$P$52,MATCH(ROW()-7,CALC_BASE!$M$3:$M$52,0)),\"\")","v":""},{"$f":"IFERROR(IF(D553=\"\",\"\",INDEX(tb_vendas[Preço de Venda],MATCH(D553,tb_vendas[N° Pedido/Empresa],0))/F553),\"\")","v":""},{"$f":"IFERROR(IF(D553=\"\",\"\",INDEX(tb_vendas[Data Fechamento],MATCH(D553,tb_vendas[N° Pedido/Empresa],0))+E553*INDEX(tb_formas_pagamento[Dias_Intervalo],MATCH(INDEX(tb_vendas[Forma_Pagamento],MATCH(D553,tb_vendas[N° Pedido/Empresa],0)),tb_formas_pagamento[Nome_Forma],0))),\"\")","v":""},null,{"$f":"IF(OR(tb_pagamentos[[#This Row],[Data_Vencimento]]=\"\",tb_pagamentos[[#This Row],[Valor_Parcela]]=\"\",tb_pagamentos[[#This Row],[Qtd_Total_Parcelas]]=\"\",tb_pagamentos[[#This Row],[Nr_Pedido]]=\"\"),\"\",IF(tb_pagamentos[[#This Row],[Data_Pagamento]]<>\"\",\"Pago\",IF(AND(tb_pagamentos[[#This Row],[Data_Pagamento]]=\"\",tb_pagamentos[[#This Row],[Data_Vencimento]]<TODAY()),\"Em Atraso\",\"A vencer\")))","v":""}]
[null,null,"",{"$f":"IFERROR(INDEX(CALC_BASE!$N$3:$N$52,MATCH(ROW()-7,CALC_BASE!$M$3:$M$52,0)),\"\")","v":""},{"$f":"IFERROR(INDEX(CALC_BASE!$O$3:$O$52,MATCH(ROW()-7,CALC_BASE!$M$3:$M$52,0)),\"\")","v":""},{"$f":"IFERROR(INDEX(CALC_BASE!$P$3:$P$52,MATCH(ROW()-7,CALC_BASE!$M$3:$M$52,0)),\"\")","v":""},{"$f":"IFERROR(IF(D554=\"\",\"\",INDEX(tb_vendas[Preço de Venda],MATCH(D554,tb_vendas[N° Pedido/Empresa],0))/F554),\"\")","v":""},{"$f":"IFERROR(IF(D554=\"\",\"\",INDEX(tb_vendas[Data Fechamento],MATCH(D554,tb_vendas[N° Pedido/Empresa],0))+E554*INDEX(tb_formas_pagamento[Dias_Intervalo],MATCH(INDEX(tb_vendas[Forma_Pagamento],MATCH(D554,tb_vendas[N° Pedido/Empresa],0)),tb_formas_pagamento[Nome_Forma],0))),\"\")","v":""},null,{"$f":"IF(OR(tb_pagamentos[[#This Row],[Data_Vencimento]]=\"\",tb_pagamentos[[#This Row],[Valor_Parcela]]=\"\",tb_pagamentos[[#This Row],[Qtd_Total_Parcelas]]=\"\",tb_pagamentos[[#This Row],[Nr_Pedido]]=\"\"),\"\",IF(tb_pagamentos[[#This Row],[Data_Pagamento]]<>\"\",\"Pago\",IF(AND(tb_pagamentos[[#This Row],[Data_Pagamento]]=\"\",tb_pagamentos[[#This Row],[Data_Vencimento]]<TODAY()),\"Em Atraso\",\"A vencer\")))","v":""}]
[null,null,"",{"$f":"IFERROR(INDEX(CALC_BASE!$N$3:$N$52,MATCH(ROW()-7,CALC_BASE!$M$3:$M$52,0)),\"\")","v":""},{"$f":"IFERROR(INDEX(CALC_BASE!$O$3:$O$52,MATCH(ROW()-7,CALC_BASE!$M$3:$M$52,0)),\"\")","v":""},{"$f":"IFERROR(INDEX(CALC_BASE!$P$3:$P$52,MATCH(ROW()-7,CALC_BASE!$M$3:$M$52,0)),\"\")","v":""},{"$f":"IFERROR(IF(D555=\"\",\"\",INDEX(tb_vendas[Preço de Venda],MATCH(D555,tb_vendas[N° Pedido/Empresa],0))/F555),\"\")","v":""},{"$f":"IFERROR(IF(D555=\"\",\"\",INDEX(tb_vendas[Data Fechamento],MATCH(D555,tb_vendas[N° Pedido/Empresa],0))+E555*INDEX(tb_formas_pagamento[Dias_Intervalo],MATCH(INDEX(tb_vendas[Forma_Pagamento],MATCH(D555,tb_vendas[N° Pedido/Empresa],0)),tb_formas_pagamento[Nome_Forma],0))),\"\")","v":""},null,{"$f":"IF(OR(tb_pagamentos[[#This Row],[Data_Vencimento]]=\"\",tb_pagamentos[[#This Row],[Valor_Parcela]]=\"\",tb_pagamentos[[#This Row],[Qtd_Total_Parcelas]]=\"\",tb_pagamentos[[#This Row],[Nr_Pedido]]=\"\"),\"\",IF(tb_pagamentos[[#This Row],[Data_Pagamento]]<>\"\",\"Pago\",IF(AND(tb_pagamentos[[#This Row],[Data_Pagamento]]=\"\",tb_pagamentos[[#This Row],[Data_Vencimento]]<TODAY()),\"Em Atraso\",\"A vencer\")))","v":""}]
[null,null,"",{"$f":"IFERROR(INDEX(CALC_BASE!$N$3:$N$52,MATCH(ROW()-7,CALC_BASE!$M$3:$M$52,0)),\"\")","v":""},{"$f":"IFERROR(INDEX(CALC_BASE!$O$3:$O$52,MATCH(ROW()-7,CALC_BASE!$M$3:$M$52,0)),\"\")","v":""},{"$f":"IFERROR(INDEX(CALC_BASE!$P$3:$P$52,MATCH(ROW()-7,CALC_BASE!$M$3:$M$52,0)),\"\")","v":""},{"$f":"IFERROR(IF(D556=\"\",\"\",INDEX(tb_vendas[Preço de Venda],MATCH(D556,tb_vendas[N° Pedido/Empresa],0))/F556),\"\")","v":""},{"$f":"IFERROR(IF(D556=\"\",\"\",INDEX(tb_vendas[Data Fechamento],MATCH(D556,tb_vendas[N° Pedido/Empresa],0))+E556*INDEX(tb_formas_pagamento[Dias_Intervalo],MATCH(INDEX(tb_vendas[Forma_Pagamento],MATCH(D556,tb_vendas[N° Pedido/Empresa],0)),tb_formas_pagamento[Nome_Forma],0))),\"\")","v":""},null,{"$f":"IF(OR(tb_pagamentos[[#This Row],[Data_Vencimento]]=\"\",tb_pagamentos[[#This Row],[Valor_Parcela]]=\"\",tb_pagamentos[[#This Row],[Qtd_Total_Parcelas]]=\"\",tb_pagamentos[[#This Row],[Nr_Pedido]]=\"\"),\"\",IF(tb_pagamentos[[#This Row],[Data_Pagamento]]<>\"\",\"Pago\",IF(AND(tb_pagamentos[[#This Row],[Data_Pagamento]]=\"\",tb_pagamentos[[#This Row],[Data_Vencimento]]<TODAY()),\"Em Atraso\",\"A vencer\")))","v":""}]
[null,null,"",{"$f":"IFERROR(INDEX(CALC_BASE!$N$3:$N$52,MATCH(ROW()-7,CALC_BASE!$M$3:$M$52,0)),\"\")","v":""},{"$f":"IFERROR(INDEX(CALC_BASE!$O$3:$O$52,MATCH(ROW()-7,CALC_BASE!$M$3:$M$52,0)),\"\")","v":""},{"$f":"IFERROR(INDEX(CALC_BASE!$P$3:$P$52,MATCH(ROW()-7,CALC_BASE!$M$3:$M$52,0)),\"\")","v":""},{"$f":"IFERROR(IF(D557=\"\",\"\",INDEX(tb_vendas[Preço de Venda],MATCH(D557,tb_vendas[N° Pedido/Empresa],0))/F557),\"\")","v":""},{"$f":"IFERROR(IF(D557=\"\",\"\",INDEX(tb_vendas[Data Fechamento],MATCH(D557,tb_vendas[N° Pedido/Empresa],0))+E557*INDEX(tb_formas_pagamento[Dias_Intervalo],MATCH(INDEX(tb_vendas[Forma_Pagamento],MATCH(D557,tb_vendas[N° Pedido/Empresa],0)),tb_formas_pagamento[Nome_Forma],0))),\"\")","v":""},null,{"$f":"IF(OR(tb_pagamentos[[#This Row],[Data_Vencimento]]=\"\",tb_pagamentos[[#This Row],[Valor_Parcela]]=\"\",tb_pagamentos[[#This Row],[Qtd_Total_Parcelas]]=\"\",tb_pagamentos[[#This Row],[Nr_Pedido]]=\"\"),\"\",IF(tb_pagamentos[[#This Row],[Data_Pagamento]]<>\"\",\"Pago\",IF(AND(tb_pagamentos[[#This Row],[Data_Pagamento]]=\"\",tb_pagamentos[[#This Row],[Data_Vencimento]]<TODAY()),\"Em Atraso\",\"A vencer\")))","v":""}]
[null,null,"",{"$f":"IFERROR(INDEX(CALC_BASE!$N$3:$N$52,MATCH(ROW()-7,CALC_BASE!$M$3:$M$52,0)),\"\")","v":""},{"$f":"IFERROR(INDEX(CALC_BASE!$O$3:$O$52,MATCH(ROW()-7,CALC_BASE!$M$3:$M$52,0)),\"\")","v":""},{"$f":"IFERROR(INDEX(CALC_BASE!$P$3:$P$52,MATCH(ROW()-7,CALC_BASE!$M$3:$M$52,0)),\"\")","v":""},{"$f":"IFERROR(IF(D558=\"\",\"\",INDEX(tb_vendas[Preço de Venda],MATCH(D558,tb_vendas[N° Pedido/Empresa],0))/F558),\"\")","v":""},{"$f":"IFERROR(IF(D558=\"\",\"\",INDEX(tb_vendas[Data Fechamento],MATCH(D558,tb_vendas[N° Pedido/Empresa],0))+E558*INDEX(tb_formas_pagamento[Dias_Intervalo],MATCH(INDEX(tb_vendas[Forma_Pagamento],MATCH(D558,tb_vendas[N° Pedido/Empresa],0)),tb_formas_pagamento[Nome_Forma],0))),\"\")","v":""},null,{"$f":"IF(OR(tb_pagamentos[[#This Row],[Data_Vencimento]]=\"\",tb_pagamentos[[#This Row],[Valor_Parcela]]=\"\",tb_pagamentos[[#This Row],[Qtd_Total_Parcelas]]=\"\",tb_pagamentos[[#This Row],[Nr_Pedido]]=\"\"),\"\",IF(tb_pagamentos[[#This Row],[Data_Pagamento]]<>\"\",\"Pago\",IF(AND(tb_pagamentos[[#This Row],[Data_Pagamento]]=\"\",tb_pagamentos[[#This Row],[Data_Vencimento]]<TODAY()),\"Em Atraso\",\"A vencer\")))","v":""}]
[null,null,"",{"$f":"IFERROR(INDEX(CALC_BASE!$N$3:$N$52,MATCH(ROW()-7,CALC_BASE!$M$3:$M$52,0)),\"\")","v":""},{"$f":"IFERROR(INDEX(CALC_BASE!$O$3:$O$52,MATCH(ROW()-7,CALC_BASE!$M$3:$M$52,0)),\"\")","v":""},{"$f":"IFERROR(INDEX(CALC_BASE!$P$3:$P$52,MATCH(ROW()-7,CALC_BASE!$M$3:$M$52,0)),\"\")","v":""},{"$f":"IFERROR(IF(D559=\"\",\"\",INDEX(tb_vendas[Preço de Venda],MATCH(D559,tb_vendas[N° Pedido/Empresa],0))/F559),\"\")","v":""},{"$f":"IFERROR(IF(D559=\"\",\"\",INDEX(tb_vendas[Data Fechamento],MATCH(D559,tb_vendas[N° Pedido/Empresa],0))+E559*INDEX(tb_formas_pagamento[Dias_Intervalo],MATCH(INDEX(tb_vendas[Forma_Pagamento],MATCH(D559,tb_vendas[N° Pedido/Empresa],0)),tb_formas_pagamento[Nome_Forma],0))),\"\")","v":""},null,{"$f":"IF(OR(tb_pagamentos[[#This Row],[Data_Vencimento]]=\"\",tb_pagamentos[[#This Row],[Valor_Parcela]]=\"\",tb_pagamentos[[#This Row],[Qtd_Total_Parcelas]]=\"\",tb_pagamentos[[#This Row],[Nr_Pedido]]=\"\"),\"\",IF(tb_pagamentos[[#This Row],[Data_Pagamento]]<>\"\",\"Pago\",IF(AND(tb_pagamentos[[#This Row],[Data_Pagamento]]=\"\",tb_pagamentos[[#This Row],[Data_Vencimento]]<TODAY()),\"Em Atraso\",\"A vencer\")))","v":""}]
[null,null,"",{"$f":"IFERROR(INDEX(CALC_BASE!$N$3:$N$52,MATCH(ROW()-7,CALC_BASE!$M$3:$M$52,0)),\"\")","v":""},{"$f":"IFERROR(INDEX(CALC_BASE!$O$3:$O$52,MATCH(ROW()-7,CALC_BASE!$M$3:$M$52,0)),\"\")","v":""},{"$f":"IFERROR(INDEX(CALC_BASE!$P$3:$P$52,MATCH(ROW()-7,CALC_BASE!$M$3:$M$52,0)),\"\")","v":""},{"$f":"IFERROR(IF(D560=\"\",\"\",INDEX(tb_vendas[Preço de Venda],MATCH(D560,tb_vendas[N° Pedido/Empresa],0))/F560),\"\")","v":""},{"$f":"IFERROR(IF(D560=\"\",\"\",INDEX(tb_vendas[Data Fechamento],MATCH(D560,tb_vendas[N° Pedido/Empresa],0))+E560*INDEX(tb_formas_pagamento[Dias_Intervalo],MATCH(INDEX(tb_vendas[Forma_Pagamento],MATCH(D560,tb_vendas[N° Pedido/Empresa],0)),tb_formas_pagamento[Nome_Forma],0))),\"\")","v":""},null,{"$f":"IF(OR(tb_pagamentos[[#This Row],[Data_Vencimento]]=\"\",tb_pagamentos[[#This Row],[Valor_Parcela]]=\"\",tb_pagamentos[[#This Row],[Qtd_Total_Parcelas]]=\"\",tb_pagamentos[[#This Row],[Nr_Pedido]]=\"\"),\"\",IF(tb_pagamentos[[#This Row],[Data_Pagamento]]<>\"\",\"Pago\",IF(AND(tb_pagamentos[[#This Row],[Data_Pagamento]]=\"\",tb_pagamentos[[#This Row],[Data_Vencimento]]<TODAY()),\"Em Atraso\",\"A vencer\")))","v":""}]
[null,null,"",{"$f":"IFERROR(INDEX(CALC_BASE!$N$3:$N$52,MATCH(ROW()-7,CALC_BASE!$M$3:$M$52,0)),\"\")","v":""},{"$f":"IFERROR(INDEX(CALC_BASE!$O$3:$O$52,MATCH(ROW()-7,CALC_BASE!$M$3:$M$52,0)),\"\")","v":""},{"$f":"IFERROR(INDEX(CALC_BASE!$P$3:$P$52,MATCH(ROW()-7,CALC_BASE!$M$3:$M$52,0)),\"\")","v":""},{"$f":"IFERROR(IF(D561=\"\",\"\",INDEX(tb_vendas[Preço de Venda],MATCH(D561,tb_vendas[N° Pedido/Empresa],0))/F561),\"\")","v":""},{"$f":"IFERROR(IF(D561=\"\",\"\",INDEX(tb_vendas[Data Fechamento],MATCH(D561,tb_vendas[N° Pedido/Empresa],0))+E561*INDEX(tb_formas_pagamento[Dias_Intervalo],MATCH(INDEX(tb_vendas[Forma_Pagamento],MATCH(D561,tb_vendas[N° Pedido/Empresa],0)),tb_formas_pagamento[Nome_Forma],0))),\"\")","v":""},null,{"$f":"IF(OR(tb_pagamentos[[#This Row],[Data_Vencimento]]=\"\",tb_pagamentos[[#This Row],[Valor_Parcela]]=\"\",tb_pagamentos[[#This Row],[Qtd_Total_Parcelas]]=\"\",tb_pagamentos[[#This Row],[Nr_Pedido]]=\"\"),\"\",IF(tb_pagamentos[[#This Row],[Data_Pagamento]]<>\"\",\"Pago\",IF(AND(tb_pagamentos[[#This Row],[Data_Pagamento]]=\"\",tb_pagamentos[[#This Row],[Data_Vencimento]]<TODAY()),\"Em Atraso\",\"A vencer\")))","v":""}]
[null,null,"",{"$f":"IFERROR(INDEX(CALC_BASE!$N$3:$N$52,MATCH(ROW()-7,CALC_BASE!$M$3:$M$52,0)),\"\")","v":""},{"$f":"IFERROR(INDEX(CALC_BASE!$O$3:$O$52,MATCH(ROW()-7,CALC_BASE!$M$3:$M$52,0)),\"\")","v":""},{"$f":"IFERROR(INDEX(CALC_BASE!$P$3:$P$52,MATCH(ROW()-7,CALC_BASE!$M$3:$M$52,0)),\"\")","v":""},{"$f":"IFERROR(IF(D562=\"\",\"\",INDEX(tb_vendas[Preço de Venda],MATCH(D562,tb_vendas[N° Pedido/Empresa],0))/F562),\"\")","v":""},{"$f":"IFERROR(IF(D562=\"\",\"\",INDEX(tb_vendas[Data Fechamento],MATCH(D562,tb_vendas[N° Pedido/Empresa],0))+E562*INDEX(tb_formas_pagamento[Dias_Intervalo],MATCH(INDEX(tb_vendas[Forma_Pagamento],MATCH(D562,tb_vendas[N° Pedido/Empresa],0)),tb_formas_pagamento[Nome_Forma],0))),\"\")","v":""},null,{"$f":"IF(OR(tb_pagamentos[[#This Row],[Data_Vencimento]]=\"\",tb_pagamentos[[#This Row],[Valor_Parcela]]=\"\",tb_pagamentos[[#This Row],[Qtd_Total_Parcelas]]=\"\",tb_pagamentos[[#This Row],[Nr_Pedido]]=\"\"),\"\",IF(tb_pagamentos[[#This Row],[Data_Pagamento]]<>\"\",\"Pago\",IF(AND(tb_pagamentos[[#This Row],[Data_Pagamento]]=\"\",tb_pagamentos[[#This Row],[Data_Vencimento]]<TODAY()),\"Em Atraso\",\"A vencer\")))","v":""}]
[null,null,"",{"$f":"IFERROR(INDEX(CALC_BASE!$N$3:$N$52,MATCH(ROW()-7,CALC_BASE!$M$3:$M$52,0)),\"\")","v":""},{"$f":"IFERROR(INDEX(CALC_BASE!$O$3:$O$52,MATCH(ROW()-7,CALC_BASE!$M$3:$M$52,0)),\"\")","v":""},{"$f":"IFERROR(INDEX(CALC_BASE!$P$3:$P$52,MATCH(ROW()-7,CALC_BASE!$M$3:$M$52,0)),\"\")","v":""},{"$f":"IFERROR(IF(D563=\"\",\"\",INDEX(tb_vendas[Preço de Venda],MATCH(D563,tb_vendas[N° Pedido/Empresa],0))/F563),\"\")","v":""},{"$f":"IFERROR(IF(D563=\"\",\"\",INDEX(tb_vendas[Data Fechamento],MATCH(D563,tb_vendas[N° Pedido/Empresa],0))+E563*INDEX(tb_formas_pagamento[Dias_Intervalo],MATCH(INDEX(tb_vendas[Forma_Pagamento],MATCH(D563,tb_vendas[N° Pedido/Empresa],0)),tb_formas_pagamento[Nome_Forma],0))),\"\")","v":""},null,{"$f":"IF(OR(tb_pagamentos[[#This Row],[Data_Vencimento]]=\"\",tb_pagamentos[[#This Row],[Valor_Parcela]]=\"\",tb_pagamentos[[#This Row],[Qtd_Total_Parcelas]]=\"\",tb_pagamentos[[#This Row],[Nr_Pedido]]=\"\"),\"\",IF(tb_pagamentos[[#This Row],[Data_Pagamento]]<>\"\",\"Pago\",IF(AND(tb_pagamentos[[#This Row],[Data_Pagamento]]=\"\",tb_pagamentos[[#This Row],[Data_Vencimento]]<TODAY()),\"Em Atraso\",\"A vencer\")))","v":""}]
[null,null,"",{"$f":"IFERROR(INDEX(CALC_BASE!$N$3:$N$52,MATCH(ROW()-7,CALC_BASE!$M$3:$M$52,0)),\"\")","v":""},{"$f":"IFERROR(INDEX(CALC_BASE!$O$3:$O$52,MATCH(ROW()-7,CALC_BASE!$M$3:$M$52,0)),\"\")","v":""},{"$f":"IFERROR(INDEX(CALC_BASE!$P$3:$P$52,MATCH(ROW()-7,CALC_BASE!$M$3:$M$52,0)),\"\")","v":""},{"$f":"IFERROR(IF(D564=\"\",\"\",INDEX(tb_vendas[Preço de Venda],MATCH(D564,tb_vendas[N° Pedido/Empresa],0))/F564),\"\")","v":""},{"$f":"IFERROR(IF(D564=\"\",\"\",INDEX(tb_vendas[Data Fechamento],MATCH(D564,tb_vendas[N° Pedido/Empresa],0))+E564*INDEX(tb_formas_pagamento[Dias_Intervalo],MATCH(INDEX(tb_vendas[Forma_Pagamento],MATCH(D564,tb_vendas[N° Pedido/Empresa],0)),tb_formas_pagamento[Nome_Forma],0))),\"\")","v":""},null,{"$f":"IF(OR(tb_pagamentos[[#This Row],[Data_Vencimento]]=\"\",tb_pagamentos[[#This Row],[Valor_Parcela]]=\"\",tb_pagamentos[[#This Row],[Qtd_Total_Parcelas]]=\"\",tb_pagamentos[[#This Row],[Nr_Pedido]]=\"\"),\"\",IF(tb_pagamentos[[#This Row],[Data_Pagamento]]<>\"\",\"Pago\",IF(AND(tb_pagamentos[[#This Row],[Data_Pagamento]]=\"\",tb_pagamentos[[#This Row],[Data_Vencimento]]<TODAY()),\"Em Atraso\",\"A vencer\")))","v":""}]
[null,null,"",{"$f":"IFERROR(INDEX(CALC_BASE!$N$3:$N$52,MATCH(ROW()-7,CALC_BASE!$M$3:$M$52,0)),\"\")","v":""},{"$f":"IFERROR(INDEX(CALC_BASE!$O$3:$O$52,MATCH(ROW()-7,CALC_BASE!$M$3:$M$52,0)),\"\")","v":""},{"$f":"IFERROR(INDEX(CALC_BASE!$P$3:$P$52,MATCH(ROW()-7,CALC_BASE!$M$3:$M$52,0)),\"\")","v":""},{"$f":"IFERROR(IF(D565=\"\",\"\",INDEX(tb_vendas[Preço de Venda],MATCH(D565,tb_vendas[N° Pedido/Empresa],0))/F565),\"\")","v":""},{"$f":"IFERROR(IF(D565=\"\",\"\",INDEX(tb_vendas[Data Fechamento],MATCH(D565,tb_vendas[N° Pedido/Empresa],0))+E565*INDEX(tb_formas_pagamento[Dias_Intervalo],MATCH(INDEX(tb_vendas[Forma_Pagamento],MATCH(D565,tb_vendas[N° Pedido/Empresa],0)),tb_formas_pagamento[Nome_Forma],0))),\"\")","v":""},null,{"$f":"IF(OR(tb_pagamentos[[#This Row],[Data_Vencimento]]=\"\",tb_pagamentos[[#This Row],[Valor_Parcela]]=\"\",tb_pagamentos[[#This Row],[Qtd_Total_Parcelas]]=\"\",tb_pagamentos[[#This Row],[Nr_Pedido]]=\"\"),\"\",IF(tb_pagamentos[[#This Row],[Data_Pagamento]]<>\"\",\"Pago\",IF(AND(tb_pagamentos[[#This Row],[Data_Pagamento]]=\"\",tb_pagamentos[[#This Row],[Data_Vencimento]]<TODAY()),\"Em Atraso\",\"A vencer\")))","v":""}]
[null,null,"",{"$f":"IFERROR(INDEX(CALC_BASE!$N$3:$N$52,MATCH(ROW()-7,CALC_BASE!$M$3:$M$52,0)),\"\")","v":""},{"$f":"IFERROR(INDEX(CALC_BASE!$O$3:$O$52,MATCH(ROW()-7,CALC_BASE!$M$3:$M$52,0)),\"\")","v":""},{"$f":"IFERROR(INDEX(CALC_BASE!$P$3:$P$52,MATCH(ROW()-7,CALC_BASE!$M$3:$M$52,0)),\"\")","v":""},{"$f":"IFERROR(IF(D566=\"\",\"\",INDEX(tb_vendas[Preço de Venda],MATCH(D566,tb_vendas[N° Pedido/Empresa],0))/F566),\"\")","v":""},{"$f":"IFERROR(IF(D566=\"\",\"\",INDEX(tb_vendas[Data Fechamento],MATCH(D566,tb_vendas[N° Pedido/Empresa],0))+E566*INDEX(tb_formas_pagamento[Dias_Intervalo],MATCH(INDEX(tb_vendas[Forma_Pagamento],MATCH(D566,tb_vendas[N° Pedido/Empresa],0)),tb_formas_pagamento[Nome_Forma],0))),\"\")","v":""},null,{"$f":"IF(OR(tb_pagamentos[[#This Row],[Data_Vencimento]]=\"\",tb_pagamentos[[#This Row],[Valor_Parcela]]=\"\",tb_pagamentos[[#This Row],[Qtd_Total_Parcelas]]=\"\",tb_pagamentos[[#This Row],[Nr_Pedido]]=\"\"),\"\",IF(tb_pagamentos[[#This Row],[Data_Pagamento]]<>\"\",\"Pago\",IF(AND(tb_pagamentos[[#This Row],[Data_Pagamento]]=\"\",tb_pagamentos[[#This Row],[Data_Vencimento]]<TODAY()),\"Em Atraso\",\"A vencer\")))","v":""}]
[null,null,"",{"$f":"IFERROR(INDEX(CALC_BASE!$N$3:$N$52,MATCH(ROW()-7,CALC_BASE!$M$3:$M$52,0)),\"\")","v":""},{"$f":"IFERROR(INDEX(CALC_BASE!$O$3:$O$52,MATCH(ROW()-7,CALC_BASE!$M$3:$M$52,0)),\"\")","v":""},{"$f":"IFERROR(INDEX(CALC_BASE!$P$3:$P$52,MATCH(ROW()-7,CALC_BASE!$M$3:$M$52,0)),\"\")","v":""},{"$f":"IFERROR(IF(D567=\"\",\"\",INDEX(tb_vendas[Preço de Venda],MATCH(D567,tb_vendas[N° Pedido/Empresa],0))/F567),\"\")","v":""},{"$f":"IFERROR(IF(D567=\"\",\"\",INDEX(tb_vendas[Data Fechamento],MATCH(D567,tb_vendas[N° Pedido/Empresa],0))+E567*INDEX(tb_formas_pagamento[Dias_Intervalo],MATCH(INDEX(tb_vendas[Forma_Pagamento],MATCH(D567,tb_vendas[N° Pedido/Empresa],0)),tb_formas_pagamento[Nome_Forma],0))),\"\")","v":""},null,{"$f":"IF(OR(tb_pagamentos[[#This Row],[Data_Vencimento]]=\"\",tb_pagamentos[[#This Row],[Valor_Parcela]]=\"\",tb_pagamentos[[#This Row],[Qtd_Total_Parcelas]]=\"\",tb_pagamentos[[#This Row],[Nr_Pedido]]=\"\"),\"\",IF(tb_pagamentos[[#This Row],[Data_Pagamento]]<>\"\",\"Pago\",IF(AND(tb_pagamentos[[#This Row],[Data_Pagamento]]=\"\",tb_pagamentos[[#This Row],[Data_Vencimento]]<TODAY()),\"Em Atraso\",\"A vencer\")))","v":""}]
[null,null,"",{"$f":"IFERROR(INDEX(CALC_BASE!$N$3:$N$52,MATCH(ROW()-7,CALC_BASE!$M$3:$M$52,0)),\"\")","v":""},{"$f":"IFERROR(INDEX(CALC_BASE!$O$3:$O$52,MATCH(ROW()-7,CALC_BASE!$M$3:$M$52,0)),\"\")","v":""},{"$f":"IFERROR(INDEX(CALC_BASE!$P$3:$P$52,MATCH(ROW()-7,CALC_BASE!$M$3:$M$52,0)),\"\")","v":""},{"$f":"IFERROR(IF(D568=\"\",\"\",INDEX(tb_vendas[Preço de Venda],MATCH(D568,tb_vendas[N° Pedido/Empresa],0))/F568),\"\")","v":""},{"$f":"IFERROR(IF(D568=\"\",\"\",INDEX(tb_vendas[Data Fechamento],MATCH(D568,tb_vendas[N° Pedido/Empresa],0))+E568*INDEX(tb_formas_pagamento[Dias_Intervalo],MATCH(INDEX(tb_vendas[Forma_Pagamento],MATCH(D568,tb_vendas[N° Pedido/Empresa],0)),tb_formas_pagamento[Nome_Forma],0))),\"\")","v":""},null,{"$f":"IF(OR(tb_pagamentos[[#This Row],[Data_Vencimento]]=\"\",tb_pagamentos[[#This Row],[Valor_Parcela]]=\"\",tb_pagamentos[[#This Row],[Qtd_Total_Parcelas]]=\"\",tb_pagamentos[[#This Row],[Nr_Pedido]]=\"\"),\"\",IF(tb_pagamentos[[#This Row],[Data_Pagamento]]<>\"\",\"Pago\",IF(AND(tb_pagamentos[[#This Row],[Data_Pagamento]]=\"\",tb_pagamentos[[#This Row],[Data_Vencimento]]<TODAY()),\"Em Atraso\",\"A vencer\")))","v":""}]
[null,null,"",{"$f":"IFERROR(INDEX(CALC_BASE!$N$3:$N$52,MATCH(ROW()-7,CALC_BASE!$M$3:$M$52,0)),\"\")","v":""},{"$f":"IFERROR(INDEX(CALC_BASE!$O$3:$O$52,MATCH(ROW()-7,CALC_BASE!$M$3:$M$52,0)),\"\")","v":""},{"$f":"IFERROR(INDEX(CALC_BASE!$P$3:$P$52,MATCH(ROW()-7,CALC_BASE!$M$3:$M$52,0)),\"\")","v":""},{"$f":"IFERROR(IF(D569=\"\",\"\",INDEX(tb_vendas[Preço de Venda],MATCH(D569,tb_vendas[N° Pedido/Empresa],0))/F569),\"\")","v":""},{"$f":"IFERROR(IF(D569=\"\",\"\",INDEX(tb_vendas[Data Fechamento],MATCH(D569,tb_vendas[N° Pedido/Empresa],0))+E569*INDEX(tb_formas_pagamento[Dias_Intervalo],MATCH(INDEX(tb_vendas[Forma_Pagamento],MATCH(D569,tb_vendas[N° Pedido/Empresa],0)),tb_formas_pagamento[Nome_Forma],0))),\"\")","v":""},null,{"$f":"IF(OR(tb_pagamentos[[#This Row],[Data_Vencimento]]=\"\",tb_pagamentos[[#This Row],[Valor_Parcela]]=\"\",tb_pagamentos[[#This Row],[Qtd_Total_Parcelas]]=\"\",tb_pagamentos[[#This Row],[Nr_Pedido]]=\"\"),\"\",IF(tb_pagamentos[[#This Row],[Data_Pagamento]]<>\"\",\"Pago\",IF(AND(tb_pagamentos[[#This Row],[Data_Pagamento]]=\"\",tb_pagamentos[[#This Row],[Data_Vencimento]]<TODAY()),\"Em Atraso\",\"A vencer\")))","v":""}]
[null,null,"",{"$f":"IFERROR(INDEX(CALC_BASE!$N$3:$N$52,MATCH(ROW()-7,CALC_BASE!$M$3:$M$52,0)),\"\")","v":""},{"$f":"IFERROR(INDEX(CALC_BASE!$O$3:$O$52,MATCH(ROW()-7,CALC_BASE!$M$3:$M$52,0)),\"\")","v":""},{"$f":"IFERROR(INDEX(CALC_BASE!$P$3:$P$52,MATCH(ROW()-7,CALC_BASE!$M$3:$M$52,0)),\"\")","v":""},{"$f":"IFERROR(IF(D570=\"\",\"\",INDEX(tb_vendas[Preço de Venda],MATCH(D570,tb_vendas[N° Pedido/Empresa],0))/F570),\"\")","v":""},{"$f":"IFERROR(IF(D570=\"\",\"\",INDEX(tb_vendas[Data Fechamento],MATCH(D570,tb_vendas[N° Pedido/Empresa],0))+E570*INDEX(tb_formas_pagamento[Dias_Intervalo],MATCH(INDEX(tb_vendas[Forma_Pagamento],MATCH(D570,tb_vendas[N° Pedido/Empresa],0)),tb_formas_pagamento[Nome_Forma],0))),\"\")","v":""},null,{"$f":"IF(OR(tb_pagamentos[[#This Row],[Data_Vencimento]]=\"\",tb_pagamentos[[#This Row],[Valor_Parcela]]=\"\",tb_pagamentos[[#This Row],[Qtd_Total_Parcelas]]=\"\",tb_pagamentos[[#This Row],[Nr_Pedido]]=\"\"),\"\",IF(tb_pagamentos[[#This Row],[Data_Pagamento]]<>\"\",\"Pago\",IF(AND(tb_pagamentos[[#This Row],[Data_Pagamento]]=\"\",tb_pagamentos[[#This Row],[Data_Vencimento]]<TODAY()),\"Em Atraso\",\"A vencer\")))","v":""}]
[null,null,"",{"$f":"IFERROR(INDEX(CALC_BASE!$N$3:$N$52,MATCH(ROW()-7,CALC_BASE!$M$3:$M$52,0)),\"\")","v":""},{"$f":"IFERROR(INDEX(CALC_BASE!$O$3:$O$52,MATCH(ROW()-7,CALC_BASE!$M$3:$M$52,0)),\"\")","v":""},{"$f":"IFERROR(INDEX(CALC_BASE!$P$3:$P$52,MATCH(ROW()-7,CALC_BASE!$M$3:$M$52,0)),\"\")","v":""},{"$f":"IFERROR(IF(D571=\"\",\"\",INDEX(tb_vendas[Preço de Venda],MATCH(D571,tb_vendas[N° Pedido/Empresa],0))/F571),\"\")","v":""},{"$f":"IFERROR(IF(D571=\"\",\"\",INDEX(tb_vendas[Data Fechamento],MATCH(D571,tb_vendas[N° Pedido/Empresa],0))+E571*INDEX(tb_formas_pagamento[Dias_Intervalo],MATCH(INDEX(tb_vendas[Forma_Pagamento],MATCH(D571,tb_vendas[N° Pedido/Empresa],0)),tb_formas_pagamento[Nome_Forma],0))),\"\")","v":""},null,{"$f":"IF(OR(tb_pagamentos[[#This Row],[Data_Vencimento]]=\"\",tb_pagamentos[[#This Row],[Valor_Parcela]]=\"\",tb_pagamentos[[#This Row],[Qtd_Total_Parcelas]]=\"\",tb_pagamentos[[#This Row],[Nr_Pedido]]=\"\"),\"\",IF(tb_pagamentos[[#This Row],[Data_Pagamento]]<>\"\",\"Pago\",IF(AND(tb_pagamentos[[#This Row],[Data_Pagamento]]=\"\",tb_pagamentos[[#This Row],[Data_Vencimento]]<TODAY()),\"Em Atraso\",\"A vencer\")))","v":""}]
[null,null,"",{"$f":"IFERROR(INDEX(CALC_BASE!$N$3:$N$52,MATCH(ROW()-7,CALC_BASE!$M$3:$M$52,0)),\"\")","v":""},{"$f":"IFERROR(INDEX(CALC_BASE!$O$3:$O$52,MATCH(ROW()-7,CALC_BASE!$M$3:$M$52,0)),\"\")","v":""},{"$f":"IFERROR(INDEX(CALC_BASE!$P$3:$P$52,MATCH(ROW()-7,CALC_BASE!$M$3:$M$52,0)),\"\")","v":""},{"$f":"IFERROR(IF(D572=\"\",\"\",INDEX(tb_vendas[Preço de Venda],MATCH(D572,tb_vendas[N° Pedido/Empresa],0))/F572),\"\")","v":""},{"$f":"IFERROR(IF(D572=\"\",\"\",INDEX(tb_vendas[Data Fechamento],MATCH(D572,tb_vendas[N° Pedido/Empresa],0))+E572*INDEX(tb_formas_pagamento[Dias_Intervalo],MATCH(INDEX(tb_vendas[Forma_Pagamento],MATCH(D572,tb_vendas[N° Pedido/Empresa],0)),tb_formas_pagamento[Nome_Forma],0))),\"\")","v":""},null,{"$f":"IF(OR(tb_pagamentos[[#This Row],[Data_Vencimento]]=\"\",tb_pagamentos[[#This Row],[Valor_Parcela]]=\"\",tb_pagamentos[[#This Row],[Qtd_Total_Parcelas]]=\"\",tb_pagamentos[[#This Row],[Nr_Pedido]]=\"\"),\"\",IF(tb_pagamentos[[#This Row],[Data_Pagamento]]<>\"\",\"Pago\",IF(AND(tb_pagamentos[[#This Row],[Data_Pagamento]]=\"\",tb_pagamentos[[#This Row],[Data_Vencimento]]<TODAY()),\"Em Atraso\",\"A vencer\")))","v":""}]
[null,null,"",{"$f":"IFERROR(INDEX(CALC_BASE!$N$3:$N$52,MATCH(ROW()-7,CALC_BASE!$M$3:$M$52,0)),\"\")","v":""},{"$f":"IFERROR(INDEX(CALC_BASE!$O$3:$O$52,MATCH(ROW()-7,CALC_BASE!$M$3:$M$52,0)),\"\")","v":""},{"$f":"IFERROR(INDEX(CALC_BASE!$P$3:$P$52,MATCH(ROW()-7,CALC_BASE!$M$3:$M$52,0)),\"\")","v":""},{"$f":"IFERROR(IF(D573=\"\",\"\",INDEX(tb_vendas[Preço de Venda],MATCH(D573,tb_vendas[N° Pedido/Empresa],0))/F573),\"\")","v":""},{"$f":"IFERROR(IF(D573=\"\",\"\",INDEX(tb_vendas[Data Fechamento],MATCH(D573,tb_vendas[N° Pedido/Empresa],0))+E573*INDEX(tb_formas_pagamento[Dias_Intervalo],MATCH(INDEX(tb_vendas[Forma_Pagamento],MATCH(D573,tb_vendas[N° Pedido/Empresa],0)),tb_formas_pagamento[Nome_Forma],0))),\"\")","v":""},null,{"$f":"IF(OR(tb_pagamentos[[#This Row],[Data_Vencimento]]=\"\",tb_pagamentos[[#This Row],[Valor_Parcela]]=\"\",tb_pagamentos[[#This Row],[Qtd_Total_Parcelas]]=\"\",tb_pagamentos[[#This Row],[Nr_Pedido]]=\"\"),\"\",IF(tb_pagamentos[[#This Row],[Data_Pagamento]]<>\"\",\"Pago\",IF(AND(tb_pagamentos[[#This Row],[Data_Pagamento]]=\"\",tb_pagamentos[[#This Row],[Data_Vencimento]]<TODAY()),\"Em Atraso\",\"A vencer\")))","v":""}]
[null,null,"",{"$f":"IFERROR(INDEX(CALC_BASE!$N$3:$N$52,MATCH(ROW()-7,CALC_BASE!$M$3:$M$52,0)),\"\")","v":""},{"$f":"IFERROR(INDEX(CALC_BASE!$O$3:$O$52,MATCH(ROW()-7,CALC_BASE!$M$3:$M$52,0)),\"\")","v":""},{"$f":"IFERROR(INDEX(CALC_BASE!$P$3:$P$52,MATCH(ROW()-7,CALC_BASE!$M$3:$M$52,0)),\"\")","v":""},{"$f":"IFERROR(IF(D574=\"\",\"\",INDEX(tb_vendas[Preço de Venda],MATCH(D574,tb_vendas[N° Pedido/Empresa],0))/F574),\"\")","v":""},{"$f":"IFERROR(IF(D574=\"\",\"\",INDEX(tb_vendas[Data Fechamento],MATCH(D574,tb_vendas[N° Pedido/Empresa],0))+E574*INDEX(tb_formas_pagamento[Dias_Intervalo],MATCH(INDEX(tb_vendas[Forma_Pagamento],MATCH(D574,tb_vendas[N° Pedido/Empresa],0)),tb_formas_pagamento[Nome_Forma],0))),\"\")","v":""},null,{"$f":"IF(OR(tb_pagamentos[[#This Row],[Data_Vencimento]]=\"\",tb_pagamentos[[#This Row],[Valor_Parcela]]=\"\",tb_pagamentos[[#This Row],[Qtd_Total_Parcelas]]=\"\",tb_pagamentos[[#This Row],[Nr_Pedido]]=\"\"),\"\",IF(tb_pagamentos[[#This Row],[Data_Pagamento]]<>\"\",\"Pago\",IF(AND(tb_pagamentos[[#This Row],[Data_Pagamento]]=\"\",tb_pagamentos[[#This Row],[Data_Vencimento]]<TODAY()),\"Em Atraso\",\"A vencer\")))","v":""}]
[null,null,"",{"$f":"IFERROR(INDEX(CALC_BASE!$N$3:$N$52,MATCH(ROW()-7,CALC_BASE!$M$3:$M$52,0)),\"\")","v":""},{"$f":"IFERROR(INDEX(CALC_BASE!$O$3:$O$52,MATCH(ROW()-7,CALC_BASE!$M$3:$M$52,0)),\"\")","v":""},{"$f":"IFERROR(INDEX(CALC_BASE!$P$3:$P$52,MATCH(ROW()-7,CALC_BASE!$M$3:$M$52,0)),\"\")","v":""},{"$f":"IFERROR(IF(D575=\"\",\"\",INDEX(tb_vendas[Preço de Venda],MATCH(D575,tb_vendas[N° Pedido/Empresa],0))/F575),\"\")","v":""},{"$f":"IFERROR(IF(D575=\"\",\"\",INDEX(tb_vendas[Data Fechamento],MATCH(D575,tb_vendas[N° Pedido/Empresa],0))+E575*INDEX(tb_formas_pagamento[Dias_Intervalo],MATCH(INDEX(tb_vendas[Forma_Pagamento],MATCH(D575,tb_vendas[N° Pedido/Empresa],0)),tb_formas_pagamento[Nome_Forma],0))),\"\")","v":""},null,{"$f":"IF(OR(tb_pagamentos[[#This Row],[Data_Vencimento]]=\"\",tb_pagamentos[[#This Row],[Valor_Parcela]]=\"\",tb_pagamentos[[#This Row],[Qtd_Total_Parcelas]]=\"\",tb_pagamentos[[#This Row],[Nr_Pedido]]=\"\"),\"\",IF(tb_pagamentos[[#This Row],[Data_Pagamento]]<>\"\",\"Pago\",IF(AND(tb_pagamentos[[#This Row],[Data_Pagamento]]=\"\",tb_pagamentos[[#This Row],[Data_Vencimento]]<TODAY()),\"Em Atraso\",\"A vencer\")))","v":""}]
[null,null,"",{"$f":"IFERROR(INDEX(CALC_BASE!$N$3:$N$52,MATCH(ROW()-7,CALC_BASE!$M$3:$M$52,0)),\"\")","v":""},{"$f":"IFERROR(INDEX(CALC_BASE!$O$3:$O$52,MATCH(ROW()-7,CALC_BASE!$M$3:$M$52,0)),\"\")","v":""},{"$f":"IFERROR(INDEX(CALC_BASE!$P$3:$P$52,MATCH(ROW()-7,CALC_BASE!$M$3:$M$52,0)),\"\")","v":""},{"$f":"IFERROR(IF(D576=\"\",\"\",INDEX(tb_vendas[Preço de Venda],MATCH(D576,tb_vendas[N° Pedido/Empresa],0))/F576),\"\")","v":""},{"$f":"IFERROR(IF(D576=\"\",\"\",INDEX(tb_vendas[Data Fechamento],MATCH(D576,tb_vendas[N° Pedido/Empresa],0))+E576*INDEX(tb_formas_pagamento[Dias_Intervalo],MATCH(INDEX(tb_vendas[Forma_Pagamento],MATCH(D576,tb_vendas[N° Pedido/Empresa],0)),tb_formas_pagamento[Nome_Forma],0))),\"\")","v":""},null,{"$f":"IF(OR(tb_pagamentos[[#This Row],[Data_Vencimento]]=\"\",tb_pagamentos[[#This Row],[Valor_Parcela]]=\"\",tb_pagamentos[[#This Row],[Qtd_Total_Parcelas]]=\"\",tb_pagamentos[[#This Row],[Nr_Pedido]]=\"\"),\"\",IF(tb_pagamentos[[#This Row],[Data_Pagamento]]<>\"\",\"Pago\",IF(AND(tb_pagamentos[[#This Row],[Data_Pagamento]]=\"\",tb_pagamentos[[#This Row],[Data_Vencimento]]<TODAY()),\"Em Atraso\",\"A vencer\")))","v":""}]
[null,null,"",{"$f":"IFERROR(INDEX(CALC_BASE!$N$3:$N$52,MATCH(ROW()-7,CALC_BASE!$M$3:$M$52,0)),\"\")","v":""},{"$f":"IFERROR(INDEX(CALC_BASE!$O$3:$O$52,MATCH(ROW()-7,CALC_BASE!$M$3:$M$52,0)),\"\")","v":""},{"$f":"IFERROR(INDEX(CALC_BASE!$P$3:$P$52,MATCH(ROW()-7,CALC_BASE!$M$3:$M$52,0)),\"\")","v":""},{"$f":"IFERROR(IF(D577=\"\",\"\",INDEX(tb_vendas[Preço de Venda],MATCH(D577,tb_vendas[N° Pedido/Empresa],0))/F577),\"\")","v":""},{"$f":"IFERROR(IF(D577=\"\",\"\",INDEX(tb_vendas[Data Fechamento],MATCH(D577,tb_vendas[N° Pedido/Empresa],0))+E577*INDEX(tb_formas_pagamento[Dias_Intervalo],MATCH(INDEX(tb_vendas[Forma_Pagamento],MATCH(D577,tb_vendas[N° Pedido/Empresa],0)),tb_formas_pagamento[Nome_Forma],0))),\"\")","v":""},null,{"$f":"IF(OR(tb_pagamentos[[#This Row],[Data_Vencimento]]=\"\",tb_pagamentos[[#This Row],[Valor_Parcela]]=\"\",tb_pagamentos[[#This Row],[Qtd_Total_Parcelas]]=\"\",tb_pagamentos[[#This Row],[Nr_Pedido]]=\"\"),\"\",IF(tb_pagamentos[[#This Row],[Data_Pagamento]]<>\"\",\"Pago\",IF(AND(tb_pagamentos[[#This Row],[Data_Pagamento]]=\"\",tb_pagamentos[[#This Row],[Data_Vencimento]]<TODAY()),\"Em Atraso\",\"A vencer\")))","v":""}]
[null,null,"",{"$f":"IFERROR(INDEX(CALC_BASE!$N$3:$N$52,MATCH(ROW()-7,CALC_BASE!$M$3:$M$52,0)),\"\")","v":""},{"$f":"IFERROR(INDEX(CALC_BASE!$O$3:$O$52,MATCH(ROW()-7,CALC_BASE!$M$3:$M$52,0)),\"\")","v":""},{"$f":"IFERROR(INDEX(CALC_BASE!$P$3:$P$52,MATCH(ROW()-7,CALC_BASE!$M$3:$M$52,0)),\"\")","v":""},{"$f":"IFERROR(IF(D578=\"\",\"\",INDEX(tb_vendas[Preço de Venda],MATCH(D578,tb_vendas[N° Pedido/Empresa],0))/F578),\"\")","v":""},{"$f":"IFERROR(IF(D578=\"\",\"\",INDEX(tb_vendas[Data Fechamento],MATCH(D578,tb_vendas[N° Pedido/Empresa],0))+E578*INDEX(tb_formas_pagamento[Dias_Intervalo],MATCH(INDEX(tb_vendas[Forma_Pagamento],MATCH(D578,tb_vendas[N° Pedido/Empresa],0)),tb_formas_pagamento[Nome_Forma],0))),\"\")","v":""},null,{"$f":"IF(OR(tb_pagamentos[[#This Row],[Data_Vencimento]]=\"\",tb_pagamentos[[#This Row],[Valor_Parcela]]=\"\",tb_pagamentos[[#This Row],[Qtd_Total_Parcelas]]=\"\",tb_pagamentos[[#This Row],[Nr_Pedido]]=\"\"),\"\",IF(tb_pagamentos[[#This Row],[Data_Pagamento]]<>\"\",\"Pago\",IF(AND(tb_pagamentos[[#This Row],[Data_Pagamento]]=\"\",tb_pagamentos[[#This Row],[Data_Vencimento]]<TODAY()),\"Em Atraso\",\"A vencer\")))","v":""}]
[null,null,"",{"$f":"IFERROR(INDEX(CALC_BASE!$N$3:$N$52,MATCH(ROW()-7,CALC_BASE!$M$3:$M$52,0)),\"\")","v":""},{"$f":"IFERROR(INDEX(CALC_BASE!$O$3:$O$52,MATCH(ROW()-7,CALC_BASE!$M$3:$M$52,0)),\"\")","v":""},{"$f":"IFERROR(INDEX(CALC_BASE!$P$3:$P$52,MATCH(ROW()-7,CALC_BASE!$M$3:$M$52,0)),\"\")","v":""},{"$f":"IFERROR(IF(D579=\"\",\"\",INDEX(tb_vendas[Preço de Venda],MATCH(D579,tb_vendas[N° Pedido/Empresa],0))/F579),\"\")","v":""},{"$f":"IFERROR(IF(D579=\"\",\"\",INDEX(tb_vendas[Data Fechamento],MATCH(D579,tb_vendas[N° Pedido/Empresa],0))+E579*INDEX(tb_formas_pagamento[Dias_Intervalo],MATCH(INDEX(tb_vendas[Forma_Pagamento],MATCH(D579,tb_vendas[N° Pedido/Empresa],0)),tb_formas_pagamento[Nome_Forma],0))),\"\")","v":""},null,{"$f":"IF(OR(tb_pagamentos[[#This Row],[Data_Vencimento]]=\"\",tb_pagamentos[[#This Row],[Valor_Parcela]]=\"\",tb_pagamentos[[#This Row],[Qtd_Total_Parcelas]]=\"\",tb_pagamentos[[#This Row],[Nr_Pedido]]=\"\"),\"\",IF(tb_pagamentos[[#This Row],[Data_Pagamento]]<>\"\",\"Pago\",IF(AND(tb_pagamentos[[#This Row],[Data_Pagamento]]=\"\",tb_pagamentos[[#This Row],[Data_Vencimento]]<TODAY()),\"Em Atraso\",\"A vencer\")))","v":""}]
[null,null,"",{"$f":"IFERROR(INDEX(CALC_BASE!$N$3:$N$52,MATCH(ROW()-7,CALC_BASE!$M$3:$M$52,0)),\"\")","v":""},{"$f":"IFERROR(INDEX(CALC_BASE!$O$3:$O$52,MATCH(ROW()-7,CALC_BASE!$M$3:$M$52,0)),\"\")","v":""},{"$f":"IFERROR(INDEX(CALC_BASE!$P$3:$P$52,MATCH(ROW()-7,CALC_BASE!$M$3:$M$52,0)),\"\")","v":""},{"$f":"IFERROR(IF(D580=\"\",\"\",INDEX(tb_vendas[Preço de Venda],MATCH(D580,tb_vendas[N° Pedido/Empresa],0))/F580),\"\")","v":""},{"$f":"IFERROR(IF(D580=\"\",\"\",INDEX(tb_vendas[Data Fechamento],MATCH(D580,tb_vendas[N° Pedido/Empresa],0))+E580*INDEX(tb_formas_pagamento[Dias_Intervalo],MATCH(INDEX(tb_vendas[Forma_Pagamento],MATCH(D580,tb_vendas[N° Pedido/Empresa],0)),tb_formas_pagamento[Nome_Forma],0))),\"\")","v":""},null,{"$f":"IF(OR(tb_pagamentos[[#This Row],[Data_Vencimento]]=\"\",tb_pagamentos[[#This Row],[Valor_Parcela]]=\"\",tb_pagamentos[[#This Row],[Qtd_Total_Parcelas]]=\"\",tb_pagamentos[[#This Row],[Nr_Pedido]]=\"\"),\"\",IF(tb_pagamentos[[#This Row],[Data_Pagamento]]<>\"\",\"Pago\",IF(AND(tb_pagamentos[[#This Row],[Data_Pagamento]]=\"\",tb_pagamentos[[#This Row],[Data_Vencimento]]<TODAY()),\"Em Atraso\",\"A vencer\")))","v":""}]
[null,null,"",{"$f":"IFERROR(INDEX(CALC_BASE!$N$3:$N$52,MATCH(ROW()-7,CALC_BASE!$M$3:$M$52,0)),\"\")","v":""},{"$f":"IFERROR(INDEX(CALC_BASE!$O$3:$O$52,MATCH(ROW()-7,CALC_BASE!$M$3:$M$52,0)),\"\")","v":""},{"$f":"IFERROR(INDEX(CALC_BASE!$P$3:$P$52,MATCH(ROW()-7,CALC_BASE!$M$3:$M$52,0)),\"\")","v":""},{"$f":"IFERROR(IF(D581=\"\",\"\",INDEX(tb_vendas[Preço de Venda],MATCH(D581,tb_vendas[N° Pedido/Empresa],0))/F581),\"\")","v":""},{"$f":"IFERROR(IF(D581=\"\",\"\",INDEX(tb_vendas[Data Fechamento],MATCH(D581,tb_vendas[N° Pedido/Empresa],0))+E581*INDEX(tb_formas_pagamento[Dias_Intervalo],MATCH(INDEX(tb_vendas[Forma_Pagamento],MATCH(D581,tb_vendas[N° Pedido/Empresa],0)),tb_formas_pagamento[Nome_Forma],0))),\"\")","v":""},null,{"$f":"IF(OR(tb_pagamentos[[#This Row],[Data_Vencimento]]=\"\",tb_pagamentos[[#This Row],[Valor_Parcela]]=\"\",tb_pagamentos[[#This Row],[Qtd_Total_Parcelas]]=\"\",tb_pagamentos[[#This Row],[Nr_Pedido]]=\"\"),\"\",IF(tb_pagamentos[[#This Row],[Data_Pagamento]]<>\"\",\"Pago\",IF(AND(tb_pagamentos[[#This Row],[Data_Pagamento]]=\"\",tb_pagamentos[[#This Row],[Data_Vencimento]]<TODAY()),\"Em Atraso\",\"A vencer\")))","v":""}]
[null,null,"",{"$f":"IFERROR(INDEX(CALC_BASE!$N$3:$N$52,MATCH(ROW()-7,CALC_BASE!$M$3:$M$52,0)),\"\")","v":""},{"$f":"IFERROR(INDEX(CALC_BASE!$O$3:$O$52,MATCH(ROW()-7,CALC_BASE!$M$3:$M$52,0)),\"\")","v":""},{"$f":"IFERROR(INDEX(CALC_BASE!$P$3:$P$52,MATCH(ROW()-7,CALC_BASE!$M$3:$M$52,0)),\"\")","v":""},{"$f":"IFERROR(IF(D582=\"\",\"\",INDEX(tb_vendas[Preço de Venda],MATCH(D582,tb_vendas[N° Pedido/Empresa],0))/F582),\"\")","v":""},{"$f":"IFERROR(IF(D582=\"\",\"\",INDEX(tb_vendas[Data Fechamento],MATCH(D582,tb_vendas[N° Pedido/Empresa],0))+E582*INDEX(tb_formas_pagamento[Dias_Intervalo],MATCH(INDEX(tb_vendas[Forma_Pagamento],MATCH(D582,tb_vendas[N° Pedido/Empresa],0)),tb_formas_pagamento[Nome_Forma],0))),\"\")","v":""},null,{"$f":"IF(OR(tb_pagamentos[[#This Row],[Data_Vencimento]]=\"\",tb_pagamentos[[#This Row],[Valor_Parcela]]=\"\",tb_pagamentos[[#This Row],[Qtd_Total_Parcelas]]=\"\",tb_pagamentos[[#This Row],[Nr_Pedido]]=\"\"),\"\",IF(tb_pagamentos[[#This Row],[Data_Pagamento]]<>\"\",\"Pago\",IF(AND(tb_pagamentos[[#This Row],[Data_Pagamento]]=\"\",tb_pagamentos[[#This Row],[Data_Vencimento]]<TODAY()),\"Em Atraso\",\"A vencer\")))","v":""}]
[null,null,"",{"$f":"IFERROR(INDEX(CALC_BASE!$N$3:$N$52,MATCH(ROW()-7,CALC_BASE!$M$3:$M$52,0)),\"\")","v":""},{"$f":"IFERROR(INDEX(CALC_BASE!$O$3:$O$52,MATCH(ROW()-7,CALC_BASE!$M$3:$M$52,0)),\"\")","v":""},{"$f":"IFERROR(INDEX(CALC_BASE!$P$3:$P$52,MATCH(ROW()-7,CALC_BASE!$M$3:$M$52,0)),\"\")","v":""},{"$f":"IFERROR(IF(D583=\"\",\"\",INDEX(tb_vendas[Preço de Venda],MATCH(D583,tb_vendas[N° Pedido/Empresa],0))/F583),\"\")","v":""},{"$f":"IFERROR(IF(D583=\"\",\"\",INDEX(tb_vendas[Data Fechamento],MATCH(D583,tb_vendas[N° Pedido/Empresa],0))+E583*INDEX(tb_formas_pagamento[Dias_Intervalo],MATCH(INDEX(tb_vendas[Forma_Pagamento],MATCH(D583,tb_vendas[N° Pedido/Empresa],0)),tb_formas_pagamento[Nome_Forma],0))),\"\")","v":""},null,{"$f":"IF(OR(tb_pagamentos[[#This Row],[Data_Vencimento]]=\"\",tb_pagamentos[[#This Row],[Valor_Parcela]]=\"\",tb_pagamentos[[#This Row],[Qtd_Total_Parcelas]]=\"\",tb_pagamentos[[#This Row],[Nr_Pedido]]=\"\"),\"\",IF(tb_pagamentos[[#This Row],[Data_Pagamento]]<>\"\",\"Pago\",IF(AND(tb_pagamentos[[#This Row],[Data_Pagamento]]=\"\",tb_pagamentos[[#This Row],[Data_Vencimento]]<TODAY()),\"Em Atraso\",\"A vencer\")))","v":""}]
[null,null,"",{"$f":"IFERROR(INDEX(CALC_BASE!$N$3:$N$52,MATCH(ROW()-7,CALC_BASE!$M$3:$M$52,0)),\"\")","v":""},{"$f":"IFERROR(INDEX(CALC_BASE!$O$3:$O$52,MATCH(ROW()-7,CALC_BASE!$M$3:$M$52,0)),\"\")","v":""},{"$f":"IFERROR(INDEX(CALC_BASE!$P$3:$P$52,MATCH(ROW()-7,CALC_BASE!$M$3:$M$52,0)),\"\")","v":""},{"$f":"IFERROR(IF(D584=\"\",\"\",INDEX(tb_vendas[Preço de Venda],MATCH(D584,tb_vendas[N° Pedido/Empresa],0))/F584),\"\")","v":""},{"$f":"IFERROR(IF(D584=\"\",\"\",INDEX(tb_vendas[Data Fechamento],MATCH(D584,tb_vendas[N° Pedido/Empresa],0))+E584*INDEX(tb_formas_pagamento[Dias_Intervalo],MATCH(INDEX(tb_vendas[Forma_Pagamento],MATCH(D584,tb_vendas[N° Pedido/Empresa],0)),tb_formas_pagamento[Nome_Forma],0))),\"\")","v":""},null,{"$f":"IF(OR(tb_pagamentos[[#This Row],[Data_Vencimento]]=\"\",tb_pagamentos[[#This Row],[Valor_Parcela]]=\"\",tb_pagamentos[[#This Row],[Qtd_Total_Parcelas]]=\"\",tb_pagamentos[[#This Row],[Nr_Pedido]]=\"\"),\"\",IF(tb_pagamentos[[#This Row],[Data_Pagamento]]<>\"\",\"Pago\",IF(AND(tb_pagamentos[[#This Row],[Data_Pagamento]]=\"\",tb_pagamentos[[#This Row],[Data_Vencimento]]<TODAY()),\"Em Atraso\",\"A vencer\")))","v":""}]
[null,null,"",{"$f":"IFERROR(INDEX(CALC_BASE!$N$3:$N$52,MATCH(ROW()-7,CALC_BASE!$M$3:$M$52,0)),\"\")","v":""},{"$f":"IFERROR(INDEX(CALC_BASE!$O$3:$O$52,MATCH(ROW()-7,CALC_BASE!$M$3:$M$52,0)),\"\")","v":""},{"$f":"IFERROR(INDEX(CALC_BASE!$P$3:$P$52,MATCH(ROW()-7,CALC_BASE!$M$3:$M$52,0)),\"\")","v":""},{"$f":"IFERROR(IF(D585=\"\",\"\",INDEX(tb_vendas[Preço de Venda],MATCH(D585,tb_vendas[N° Pedido/Empresa],0))/F585),\"\")","v":""},{"$f":"IFERROR(IF(D585=\"\",\"\",INDEX(tb_vendas[Data Fechamento],MATCH(D585,tb_vendas[N° Pedido/Empresa],0))+E585*INDEX(tb_formas_pagamento[Dias_Intervalo],MATCH(INDEX(tb_vendas[Forma_Pagamento],MATCH(D585,tb_vendas[N° Pedido/Empresa],0)),tb_formas_pagamento[Nome_Forma],0))),\"\")","v":""},null,{"$f":"IF(OR(tb_pagamentos[[#This Row],[Data_Vencimento]]=\"\",tb_pagamentos[[#This Row],[Valor_Parcela]]=\"\",tb_pagamentos[[#This Row],[Qtd_Total_Parcelas]]=\"\",tb_pagamentos[[#This Row],[Nr_Pedido]]=\"\"),\"\",IF(tb_pagamentos[[#This Row],[Data_Pagamento]]<>\"\",\"Pago\",IF(AND(tb_pagamentos[[#This Row],[Data_Pagamento]]=\"\",tb_pagamentos[[#This Row],[Data_Vencimento]]<TODAY()),\"Em Atraso\",\"A vencer\")))","v":""}]
[null,null,"",{"$f":"IFERROR(INDEX(CALC_BASE!$N$3:$N$52,MATCH(ROW()-7,CALC_BASE!$M$3:$M$52,0)),\"\")","v":""},{"$f":"IFERROR(INDEX(CALC_BASE!$O$3:$O$52,MATCH(ROW()-7,CALC_BASE!$M$3:$M$52,0)),\"\")","v":""},{"$f":"IFERROR(INDEX(CALC_BASE!$P$3:$P$52,MATCH(ROW()-7,CALC_BASE!$M$3:$M$52,0)),\"\")","v":""},{"$f":"IFERROR(IF(D586=\"\",\"\",INDEX(tb_vendas[Preço de Venda],MATCH(D586,tb_vendas[N° Pedido/Empresa],0))/F586),\"\")","v":""},{"$f":"IFERROR(IF(D586=\"\",\"\",INDEX(tb_vendas[Data Fechamento],MATCH(D586,tb_vendas[N° Pedido/Empresa],0))+E586*INDEX(tb_formas_pagamento[Dias_Intervalo],MATCH(INDEX(tb_vendas[Forma_Pagamento],MATCH(D586,tb_vendas[N° Pedido/Empresa],0)),tb_formas_pagamento[Nome_Forma],0))),\"\")","v":""},null,{"$f":"IF(OR(tb_pagamentos[[#This Row],[Data_Vencimento]]=\"\",tb_pagamentos[[#This Row],[Valor_Parcela]]=\"\",tb_pagamentos[[#This Row],[Qtd_Total_Parcelas]]=\"\",tb_pagamentos[[#This Row],[Nr_Pedido]]=\"\"),\"\",IF(tb_pagamentos[[#This Row],[Data_Pagamento]]<>\"\",\"Pago\",IF(AND(tb_pagamentos[[#This Row],[Data_Pagamento]]=\"\",tb_pagamentos[[#This Row],[Data_Vencimento]]<TODAY()),\"Em Atraso\",\"A vencer\")))","v":""}]
[null,null,"",{"$f":"IFERROR(INDEX(CALC_BASE!$N$3:$N$52,MATCH(ROW()-7,CALC_BASE!$M$3:$M$52,0)),\"\")","v":""},{"$f":"IFERROR(INDEX(CALC_BASE!$O$3:$O$52,MATCH(ROW()-7,CALC_BASE!$M$3:$M$52,0)),\"\")","v":""},{"$f":"IFERROR(INDEX(CALC_BASE!$P$3:$P$52,MATCH(ROW()-7,CALC_BASE!$M$3:$M$52,0)),\"\")","v":""},{"$f":"IFERROR(IF(D587=\"\",\"\",INDEX(tb_vendas[Preço de Venda],MATCH(D587,tb_vendas[N° Pedido/Empresa],0))/F587),\"\")","v":""},{"$f":"IFERROR(IF(D587=\"\",\"\",INDEX(tb_vendas[Data Fechamento],MATCH(D587,tb_vendas[N° Pedido/Empresa],0))+E587*INDEX(tb_formas_pagamento[Dias_Intervalo],MATCH(INDEX(tb_vendas[Forma_Pagamento],MATCH(D587,tb_vendas[N° Pedido/Empresa],0)),tb_formas_pagamento[Nome_Forma],0))),\"\")","v":""},null,{"$f":"IF(OR(tb_pagamentos[[#This Row],[Data_Vencimento]]=\"\",tb_pagamentos[[#This Row],[Valor_Parcela]]=\"\",tb_pagamentos[[#This Row],[Qtd_Total_Parcelas]]=\"\",tb_pagamentos[[#This Row],[Nr_Pedido]]=\"\"),\"\",IF(tb_pagamentos[[#This Row],[Data_Pagamento]]<>\"\",\"Pago\",IF(AND(tb_pagamentos[[#This Row],[Data_Pagamento]]=\"\",tb_pagamentos[[#This Row],[Data_Vencimento]]<TODAY()),\"Em Atraso\",\"A vencer\")))","v":""}]
[null,null,"",{"$f":"IFERROR(INDEX(CALC_BASE!$N$3:$N$52,MATCH(ROW()-7,CALC_BASE!$M$3:$M$52,0)),\"\")","v":""},{"$f":"IFERROR(INDEX(CALC_BASE!$O$3:$O$52,MATCH(ROW()-7,CALC_BASE!$M$3:$M$52,0)),\"\")","v":""},{"$f":"IFERROR(INDEX(CALC_BASE!$P$3:$P$52,MATCH(ROW()-7,CALC_BASE!$M$3:$M$52,0)),\"\")","v":""},{"$f":"IFERROR(IF(D588=\"\",\"\",INDEX(tb_vendas[Preço de Venda],MATCH(D588,tb_vendas[N° Pedido/Empresa],0))/F588),\"\")","v":""},{"$f":"IFERROR(IF(D588=\"\",\"\",INDEX(tb_vendas[Data Fechamento],MATCH(D588,tb_vendas[N° Pedido/Empresa],0))+E588*INDEX(tb_formas_pagamento[Dias_Intervalo],MATCH(INDEX(tb_vendas[Forma_Pagamento],MATCH(D588,tb_vendas[N° Pedido/Empresa],0)),tb_formas_pagamento[Nome_Forma],0))),\"\")","v":""},null,{"$f":"IF(OR(tb_pagamentos[[#This Row],[Data_Vencimento]]=\"\",tb_pagamentos[[#This Row],[Valor_Parcela]]=\"\",tb_pagamentos[[#This Row],[Qtd_Total_Parcelas]]=\"\",tb_pagamentos[[#This Row],[Nr_Pedido]]=\"\"),\"\",IF(tb_pagamentos[[#This Row],[Data_Pagamento]]<>\"\",\"Pago\",IF(AND(tb_pagamentos[[#This Row],[Data_Pagamento]]=\"\",tb_pagamentos[[#This Row],[Data_Vencimento]]<TODAY()),\"Em Atraso\",\"A vencer\")))","v":""}]
[null,null,"",{"$f":"IFERROR(INDEX(CALC_BASE!$N$3:$N$52,MATCH(ROW()-7,CALC_BASE!$M$3:$M$52,0)),\"\")","v":""},{"$f":"IFERROR(INDEX(CALC_BASE!$O$3:$O$52,MATCH(ROW()-7,CALC_BASE!$M$3:$M$52,0)),\"\")","v":""},{"$f":"IFERROR(INDEX(CALC_BASE!$P$3:$P$52,MATCH(ROW()-7,CALC_BASE!$M$3:$M$52,0)),\"\")","v":""},{"$f":"IFERROR(IF(D589=\"\",\"\",INDEX(tb_vendas[Preço de Venda],MATCH(D589,tb_vendas[N° Pedido/Empresa],0))/F589),\"\")","v":""},{"$f":"IFERROR(IF(D589=\"\",\"\",INDEX(tb_vendas[Data Fechamento],MATCH(D589,tb_vendas[N° Pedido/Empresa],0))+E589*INDEX(tb_formas_pagamento[Dias_Intervalo],MATCH(INDEX(tb_vendas[Forma_Pagamento],MATCH(D589,tb_vendas[N° Pedido/Empresa],0)),tb_formas_pagamento[Nome_Forma],0))),\"\")","v":""},null,{"$f":"IF(OR(tb_pagamentos[[#This Row],[Data_Vencimento]]=\"\",tb_pagamentos[[#This Row],[Valor_Parcela]]=\"\",tb_pagamentos[[#This Row],[Qtd_Total_Parcelas]]=\"\",tb_pagamentos[[#This Row],[Nr_Pedido]]=\"\"),\"\",IF(tb_pagamentos[[#This Row],[Data_Pagamento]]<>\"\",\"Pago\",IF(AND(tb_pagamentos[[#This Row],[Data_Pagamento]]=\"\",tb_pagamentos[[#This Row],[Data_Vencimento]]<TODAY()),\"Em Atraso\",\"A vencer\")))","v":""}]
[null,null,"",{"$f":"IFERROR(INDEX(CALC_BASE!$N$3:$N$52,MATCH(ROW()-7,CALC_BASE!$M$3:$M$52,0)),\"\")","v":""},{"$f":"IFERROR(INDEX(CALC_BASE!$O$3:$O$52,MATCH(ROW()-7,CALC_BASE!$M$3:$M$52,0)),\"\")","v":""},{"$f":"IFERROR(INDEX(CALC_BASE!$P$3:$P$52,MATCH(ROW()-7,CALC_BASE!$M$3:$M$52,0)),\"\")","v":""},{"$f":"IFERROR(IF(D590=\"\",\"\",INDEX(tb_vendas[Preço de Venda],MATCH(D590,tb_vendas[N° Pedido/Empresa],0))/F590),\"\")","v":""},{"$f":"IFERROR(IF(D590=\"\",\"\",INDEX(tb_vendas[Data Fechamento],MATCH(D590,tb_vendas[N° Pedido/Empresa],0))+E590*INDEX(tb_formas_pagamento[Dias_Intervalo],MATCH(INDEX(tb_vendas[Forma_Pagamento],MATCH(D590,tb_vendas[N° Pedido/Empresa],0)),tb_formas_pagamento[Nome_Forma],0))),\"\")","v":""},null,{"$f":"IF(OR(tb_pagamentos[[#This Row],[Data_Vencimento]]=\"\",tb_pagamentos[[#This Row],[Valor_Parcela]]=\"\",tb_pagamentos[[#This Row],[Qtd_Total_Parcelas]]=\"\",tb_pagamentos[[#This Row],[Nr_Pedido]]=\"\"),\"\",IF(tb_pagamentos[[#This Row],[Data_Pagamento]]<>\"\",\"Pago\",IF(AND(tb_pagamentos[[#This Row],[Data_Pagamento]]=\"\",tb_pagamentos[[#This Row],[Data_Vencimento]]<TODAY()),\"Em Atraso\",\"A vencer\")))","v":""}]
[null,null,{"$f":"IF(OR(D591=\"\",E591=\"\"),\"\",D591&\"-\"&E591)","v":""},{"$f":"IFERROR(INDEX(CALC_BASE!$N$3:$N$52,MATCH(ROW()-7,CALC_BASE!$M$3:$M$52,0)),\"\")","v":""},{"$f":"IFERROR(INDEX(CALC_BASE!$O$3:$O$52,MATCH(ROW()-7,CALC_BASE!$M$3:$M$52,0)),\"\")","v":""},{"$f":"IFERROR(INDEX(CALC_BASE!$P$3:$P$52,MATCH(ROW()-7,CALC_BASE!$M$3:$M$52,0)),\"\")","v":""},{"$f":"IFERROR(IF(D591=\"\",\"\",INDEX(tb_vendas[Preço de Venda],MATCH(D591,tb_vendas[N° Pedido/Empresa],0))/F591),\"\")","v":""},{"$f":"IFERROR(IF(D591=\"\",\"\",INDEX(tb_vendas[Data Fechamento],MATCH(D591,tb_vendas[N° Pedido/Empresa],0))+E591*INDEX(tb_formas_pagamento[Dias_Intervalo],MATCH(INDEX(tb_vendas[Forma_Pagamento],MATCH(D591,tb_vendas[N° Pedido/Empresa],0)),tb_formas_pagamento[Nome_Forma],0))),\"\")","v":""},null,{"$f":"IF(OR(tb_pagamentos[[#This Row],[Data_Vencimento]]=\"\",tb_pagamentos[[#This Row],[Valor_Parcela]]=\"\",tb_pagamentos[[#This Row],[Qtd_Total_Parcelas]]=\"\",tb_pagamentos[[#This Row],[Nr_Pedido]]=\"\"),\"\",IF(tb_pagamentos[[#This Row],[Data_Pagamento]]<>\"\",\"Pago\",IF(AND(tb_pagamentos[[#This Row],[Data_Pagamento]]=\"\",tb_pagamentos[[#This Row],[Data_Vencimento]]<TODAY()),\"Em Atraso\",\"A vencer\")))","v":""}]
[null,null,"",{"$f":"IFERROR(INDEX(CALC_BASE!$N$3:$N$52,MATCH(ROW()-7,CALC_BASE!$M$3:$M$52,0)),\"\")","v":""},{"$f":"IFERROR(INDEX(CALC_BASE!$O$3:$O$52,MATCH(ROW()-7,CALC_BASE!$M$3:$M$52,0)),\"\")","v":""},{"$f":"IFERROR(INDEX(CALC_BASE!$P$3:$P$52,MATCH(ROW()-7,CALC_BASE!$M$3:$M$52,0)),\"\")","v":""},{"$f":"IFERROR(IF(D592=\"\",\"\",INDEX(tb_vendas[Preço de Venda],MATCH(D592,tb_vendas[N° Pedido/Empresa],0))/F592),\"\")","v":""},{"$f":"IFERROR(IF(D592=\"\",\"\",INDEX(tb_vendas[Data Fechamento],MATCH(D592,tb_vendas[N° Pedido/Empresa],0))+E592*INDEX(tb_formas_pagamento[Dias_Intervalo],MATCH(INDEX(tb_vendas[Forma_Pagamento],MATCH(D592,tb_vendas[N° Pedido/Empresa],0)),tb_formas_pagamento[Nome_Forma],0))),\"\")","v":""},null,{"$f":"IF(OR(tb_pagamentos[[#This Row],[Data_Vencimento]]=\"\",tb_pagamentos[[#This Row],[Valor_Parcela]]=\"\",tb_pagamentos[[#This Row],[Qtd_Total_Parcelas]]=\"\",tb_pagamentos[[#This Row],[Nr_Pedido]]=\"\"),\"\",IF(tb_pagamentos[[#This Row],[Data_Pagamento]]<>\"\",\"Pago\",IF(AND(tb_pagamentos[[#This Row],[Data_Pagamento]]=\"\",tb_pagamentos[[#This Row],[Data_Vencimento]]<TODAY()),\"Em Atraso\",\"A vencer\")))","v":""}]
[null,null,"",{"$f":"IFERROR(INDEX(CALC_BASE!$N$3:$N$52,MATCH(ROW()-7,CALC_BASE!$M$3:$M$52,0)),\"\")","v":""},{"$f":"IFERROR(INDEX(CALC_BASE!$O$3:$O$52,MATCH(ROW()-7,CALC_BASE!$M$3:$M$52,0)),\"\")","v":""},{"$f":"IFERROR(INDEX(CALC_BASE!$P$3:$P$52,MATCH(ROW()-7,CALC_BASE!$M$3:$M$52,0)),\"\")","v":""},{"$f":"IFERROR(IF(D593=\"\",\"\",INDEX(tb_vendas[Preço de Venda],MATCH(D593,tb_vendas[N° Pedido/Empresa],0))/F593),\"\")","v":""},{"$f":"IFERROR(IF(D593=\"\",\"\",INDEX(tb_vendas[Data Fechamento],MATCH(D593,tb_vendas[N° Pedido/Empresa],0))+E593*INDEX(tb_formas_pagamento[Dias_Intervalo],MATCH(INDEX(tb_vendas[Forma_Pagamento],MATCH(D593,tb_vendas[N° Pedido/Empresa],0)),tb_formas_pagamento[Nome_Forma],0))),\"\")","v":""},null,{"$f":"IF(OR(tb_pagamentos[[#This Row],[Data_Vencimento]]=\"\",tb_pagamentos[[#This Row],[Valor_Parcela]]=\"\",tb_pagamentos[[#This Row],[Qtd_Total_Parcelas]]=\"\",tb_pagamentos[[#This Row],[Nr_Pedido]]=\"\"),\"\",IF(tb_pagamentos[[#This Row],[Data_Pagamento]]<>\"\",\"Pago\",IF(AND(tb_pagamentos[[#This Row],[Data_Pagamento]]=\"\",tb_pagamentos[[#This Row],[Data_Vencimento]]<TODAY()),\"Em Atraso\",\"A vencer\")))","v":""}]
[null,null,"",{"$f":"IFERROR(INDEX(CALC_BASE!$N$3:$N$52,MATCH(ROW()-7,CALC_BASE!$M$3:$M$52,0)),\"\")","v":""},{"$f":"IFERROR(INDEX(CALC_BASE!$O$3:$O$52,MATCH(ROW()-7,CALC_BASE!$M$3:$M$52,0)),\"\")","v":""},{"$f":"IFERROR(INDEX(CALC_BASE!$P$3:$P$52,MATCH(ROW()-7,CALC_BASE!$M$3:$M$52,0)),\"\")","v":""},{"$f":"IFERROR(IF(D594=\"\",\"\",INDEX(tb_vendas[Preço de Venda],MATCH(D594,tb_vendas[N° Pedido/Empresa],0))/F594),\"\")","v":""},{"$f":"IFERROR(IF(D594=\"\",\"\",INDEX(tb_vendas[Data Fechamento],MATCH(D594,tb_vendas[N° Pedido/Empresa],0))+E594*INDEX(tb_formas_pagamento[Dias_Intervalo],MATCH(INDEX(tb_vendas[Forma_Pagamento],MATCH(D594,tb_vendas[N° Pedido/Empresa],0)),tb_formas_pagamento[Nome_Forma],0))),\"\")","v":""},null,{"$f":"IF(OR(tb_pagamentos[[#This Row],[Data_Vencimento]]=\"\",tb_pagamentos[[#This Row],[Valor_Parcela]]=\"\",tb_pagamentos[[#This Row],[Qtd_Total_Parcelas]]=\"\",tb_pagamentos[[#This Row],[Nr_Pedido]]=\"\"),\"\",IF(tb_pagamentos[[#This Row],[Data_Pagamento]]<>\"\",\"Pago\",IF(AND(tb_pagamentos[[#This Row],[Data_Pagamento]]=\"\",tb_pagamentos[[#This Row],[Data_Vencimento]]<TODAY()),\"Em Atraso\",\"A vencer\")))","v":""}]
[null,null,"",{"$f":"IFERROR(INDEX(CALC_BASE!$N$3:$N$52,MATCH(ROW()-7,CALC_BASE!$M$3:$M$52,0)),\"\")","v":""},{"$f":"IFERROR(INDEX(CALC_BASE!$O$3:$O$52,MATCH(ROW()-7,CALC_BASE!$M$3:$M$52,0)),\"\")","v":""},{"$f":"IFERROR(INDEX(CALC_BASE!$P$3:$P$52,MATCH(ROW()-7,CALC_BASE!$M$3:$M$52,0)),\"\")","v":""},{"$f":"IFERROR(IF(D595=\"\",\"\",INDEX(tb_vendas[Preço de Venda],MATCH(D595,tb_vendas[N° Pedido/Empresa],0))/F595),\"\")","v":""},{"$f":"IFERROR(IF(D595=\"\",\"\",INDEX(tb_vendas[Data Fechamento],MATCH(D595,tb_vendas[N° Pedido/Empresa],0))+E595*INDEX(tb_formas_pagamento[Dias_Intervalo],MATCH(INDEX(tb_vendas[Forma_Pagamento],MATCH(D595,tb_vendas[N° Pedido/Empresa],0)),tb_formas_pagamento[Nome_Forma],0))),\"\")","v":""},null,{"$f":"IF(OR(tb_pagamentos[[#This Row],[Data_Vencimento]]=\"\",tb_pagamentos[[#This Row],[Valor_Parcela]]=\"\",tb_pagamentos[[#This Row],[Qtd_Total_Parcelas]]=\"\",tb_pagamentos[[#This Row],[Nr_Pedido]]=\"\"),\"\",IF(tb_pagamentos[[#This Row],[Data_Pagamento]]<>\"\",\"Pago\",IF(AND(tb_pagamentos[[#This Row],[Data_Pagamento]]=\"\",tb_pagamentos[[#This Row],[Data_Vencimento]]<TODAY()),\"Em Atraso\",\"A vencer\")))","v":""}]
[null,null,"",{"$f":"IFERROR(INDEX(CALC_BASE!$N$3:$N$52,MATCH(ROW()-7,CALC_BASE!$M$3:$M$52,0)),\"\")","v":""},{"$f":"IFERROR(INDEX(CALC_BASE!$O$3:$O$52,MATCH(ROW()-7,CALC_BASE!$M$3:$M$52,0)),\"\")","v":""},{"$f":"IFERROR(INDEX(CALC_BASE!$P$3:$P$52,MATCH(ROW()-7,CALC_BASE!$M$3:$M$52,0)),\"\")","v":""},{"$f":"IFERROR(IF(D596=\"\",\"\",INDEX(tb_vendas[Preço de Venda],MATCH(D596,tb_vendas[N° Pedido/Empresa],0))/F596),\"\")","v":""},{"$f":"IFERROR(IF(D596=\"\",\"\",INDEX(tb_vendas[Data Fechamento],MATCH(D596,tb_vendas[N° Pedido/Empresa],0))+E596*INDEX(tb_formas_pagamento[Dias_Intervalo],MATCH(INDEX(tb_vendas[Forma_Pagamento],MATCH(D596,tb_vendas[N° Pedido/Empresa],0)),tb_formas_pagamento[Nome_Forma],0))),\"\")","v":""},null,{"$f":"IF(OR(tb_pagamentos[[#This Row],[Data_Vencimento]]=\"\",tb_pagamentos[[#This Row],[Valor_Parcela]]=\"\",tb_pagamentos[[#This Row],[Qtd_Total_Parcelas]]=\"\",tb_pagamentos[[#This Row],[Nr_Pedido]]=\"\"),\"\",IF(tb_pagamentos[[#This Row],[Data_Pagamento]]<>\"\",\"Pago\",IF(AND(tb_pagamentos[[#This Row],[Data_Pagamento]]=\"\",tb_pagamentos[[#This Row],[Data_Vencimento]]<TODAY()),\"Em Atraso\",\"A vencer\")))","v":""}]
[null,null,"",{"$f":"IFERROR(INDEX(CALC_BASE!$N$3:$N$52,MATCH(ROW()-7,CALC_BASE!$M$3:$M$52,0)),\"\")","v":""},{"$f":"IFERROR(INDEX(CALC_BASE!$O$3:$O$52,MATCH(ROW()-7,CALC_BASE!$M$3:$M$52,0)),\"\")","v":""},{"$f":"IFERROR(INDEX(CALC_BASE!$P$3:$P$52,MATCH(ROW()-7,CALC_BASE!$M$3:$M$52,0)),\"\")","v":""},{"$f":"IFERROR(IF(D597=\"\",\"\",INDEX(tb_vendas[Preço de Venda],MATCH(D597,tb_vendas[N° Pedido/Empresa],0))/F597),\"\")","v":""},{"$f":"IFERROR(IF(D597=\"\",\"\",INDEX(tb_vendas[Data Fechamento],MATCH(D597,tb_vendas[N° Pedido/Empresa],0))+E597*INDEX(tb_formas_pagamento[Dias_Intervalo],MATCH(INDEX(tb_vendas[Forma_Pagamento],MATCH(D597,tb_vendas[N° Pedido/Empresa],0)),tb_formas_pagamento[Nome_Forma],0))),\"\")","v":""},null,{"$f":"IF(OR(tb_pagamentos[[#This Row],[Data_Vencimento]]=\"\",tb_pagamentos[[#This Row],[Valor_Parcela]]=\"\",tb_pagamentos[[#This Row],[Qtd_Total_Parcelas]]=\"\",tb_pagamentos[[#This Row],[Nr_Pedido]]=\"\"),\"\",IF(tb_pagamentos[[#This Row],[Data_Pagamento]]<>\"\",\"Pago\",IF(AND(tb_pagamentos[[#This Row],[Data_Pagamento]]=\"\",tb_pagamentos[[#This Row],[Data_Vencimento]]<TODAY()),\"Em Atraso\",\"A vencer\")))","v":""}]
[null,null,"",{"$f":"IFERROR(INDEX(CALC_BASE!$N$3:$N$52,MATCH(ROW()-7,CALC_BASE!$M$3:$M$52,0)),\"\")","v":""},{"$f":"IFERROR(INDEX(CALC_BASE!$O$3:$O$52,MATCH(ROW()-7,CALC_BASE!$M$3:$M$52,0)),\"\")","v":""},{"$f":"IFERROR(INDEX(CALC_BASE!$P$3:$P$52,MATCH(ROW()-7,CALC_BASE!$M$3:$M$52,0)),\"\")","v":""},{"$f":"IFERROR(IF(D598=\"\",\"\",INDEX(tb_vendas[Preço de Venda],MATCH(D598,tb_vendas[N° Pedido/Empresa],0))/F598),\"\")","v":""},{"$f":"IFERROR(IF(D598=\"\",\"\",INDEX(tb_vendas[Data Fechamento],MATCH(D598,tb_vendas[N° Pedido/Empresa],0))+E598*INDEX(tb_formas_pagamento[Dias_Intervalo],MATCH(INDEX(tb_vendas[Forma_Pagamento],MATCH(D598,tb_vendas[N° Pedido/Empresa],0)),tb_formas_pagamento[Nome_Forma],0))),\"\")","v":""},null,{"$f":"IF(OR(tb_pagamentos[[#This Row],[Data_Vencimento]]=\"\",tb_pagamentos[[#This Row],[Valor_Parcela]]=\"\",tb_pagamentos[[#This Row],[Qtd_Total_Parcelas]]=\"\",tb_pagamentos[[#This Row],[Nr_Pedido]]=\"\"),\"\",IF(tb_pagamentos[[#This Row],[Data_Pagamento]]<>\"\",\"Pago\",IF(AND(tb_pagamentos[[#This Row],[Data_Pagamento]]=\"\",tb_pagamentos[[#This Row],[Data_Vencimento]]<TODAY()),\"Em Atraso\",\"A vencer\")))","v":""}]
[null,null,"",{"$f":"IFERROR(INDEX(CALC_BASE!$N$3:$N$52,MATCH(ROW()-7,CALC_BASE!$M$3:$M$52,0)),\"\")","v":""},{"$f":"IFERROR(INDEX(CALC_BASE!$O$3:$O$52,MATCH(ROW()-7,CALC_BASE!$M$3:$M$52,0)),\"\")","v":""},{"$f":"IFERROR(INDEX(CALC_BASE!$P$3:$P$52,MATCH(ROW()-7,CALC_BASE!$M$3:$M$52,0)),\"\")","v":""},{"$f":"IFERROR(IF(D599=\"\",\"\",INDEX(tb_vendas[Preço de Venda],MATCH(D599,tb_vendas[N° Pedido/Empresa],0))/F599),\"\")","v":""},{"$f":"IFERROR(IF(D599=\"\",\"\",INDEX(tb_vendas[Data Fechamento],MATCH(D599,tb_vendas[N° Pedido/Empresa],0))+E599*INDEX(tb_formas_pagamento[Dias_Intervalo],MATCH(INDEX(tb_vendas[Forma_Pagamento],MATCH(D599,tb_vendas[N° Pedido/Empresa],0)),tb_formas_pagamento[Nome_Forma],0))),\"\")","v":""},null,{"$f":"IF(OR(tb_pagamentos[[#This Row],[Data_Vencimento]]=\"\",tb_pagamentos[[#This Row],[Valor_Parcela]]=\"\",tb_pagamentos[[#This Row],[Qtd_Total_Parcelas]]=\"\",tb_pagamentos[[#This Row],[Nr_Pedido]]=\"\"),\"\",IF(tb_pagamentos[[#This Row],[Data_Pagamento]]<>\"\",\"Pago\",IF(AND(tb_pagamentos[[#This Row],[Data_Pagamento]]=\"\",tb_pagamentos[[#This Row],[Data_Vencimento]]<TODAY()),\"Em Atraso\",\"A vencer\")))","v":""}]
[null,null,"",{"$f":"IFERROR(INDEX(CALC_BASE!$N$3:$N$52,MATCH(ROW()-7,CALC_BASE!$M$3:$M$52,0)),\"\")","v":""},{"$f":"IFERROR(INDEX(CALC_BASE!$O$3:$O$52,MATCH(ROW()-7,CALC_BASE!$M$3:$M$52,0)),\"\")","v":""},{"$f":"IFERROR(INDEX(CALC_BASE!$P$3:$P$52,MATCH(ROW()-7,CALC_BASE!$M$3:$M$52,0)),\"\")","v":""},{"$f":"IFERROR(IF(D600=\"\",\"\",INDEX(tb_vendas[Preço de Venda],MATCH(D600,tb_vendas[N° Pedido/Empresa],0))/F600),\"\")","v":""},{"$f":"IFERROR(IF(D600=\"\",\"\",INDEX(tb_vendas[Data Fechamento],MATCH(D600,tb_vendas[N° Pedido/Empresa],0))+E600*INDEX(tb_formas_pagamento[Dias_Intervalo],MATCH(INDEX(tb_vendas[Forma_Pagamento],MATCH(D600,tb_vendas[N° Pedido/Empresa],0)),tb_formas_pagamento[Nome_Forma],0))),\"\")","v":""},null,{"$f":"IF(OR(tb_pagamentos[[#This Row],[Data_Vencimento]]=\"\",tb_pagamentos[[#This Row],[Valor_Parcela]]=\"\",tb_pagamentos[[#This Row],[Qtd_Total_Parcelas]]=\"\",tb_pagamentos[[#This Row],[Nr_Pedido]]=\"\"),\"\",IF(tb_pagamentos[[#This Row],[Data_Pagamento]]<>\"\",\"Pago\",IF(AND(tb_pagamentos[[#This Row],[Data_Pagamento]]=\"\",tb_pagamentos[[#This Row],[Data_Vencimento]]<TODAY()),\"Em Atraso\",\"A vencer\")))","v":""}]
[null,null,"",{"$f":"IFERROR(INDEX(CALC_BASE!$N$3:$N$52,MATCH(ROW()-7,CALC_BASE!$M$3:$M$52,0)),\"\")","v":""},{"$f":"IFERROR(INDEX(CALC_BASE!$O$3:$O$52,MATCH(ROW()-7,CALC_BASE!$M$3:$M$52,0)),\"\")","v":""},{"$f":"IFERROR(INDEX(CALC_BASE!$P$3:$P$52,MATCH(ROW()-7,CALC_BASE!$M$3:$M$52,0)),\"\")","v":""},{"$f":"IFERROR(IF(D601=\"\",\"\",INDEX(tb_vendas[Preço de Venda],MATCH(D601,tb_vendas[N° Pedido/Empresa],0))/F601),\"\")","v":""},{"$f":"IFERROR(IF(D601=\"\",\"\",INDEX(tb_vendas[Data Fechamento],MATCH(D601,tb_vendas[N° Pedido/Empresa],0))+E601*INDEX(tb_formas_pagamento[Dias_Intervalo],MATCH(INDEX(tb_vendas[Forma_Pagamento],MATCH(D601,tb_vendas[N° Pedido/Empresa],0)),tb_formas_pagamento[Nome_Forma],0))),\"\")","v":""},null,{"$f":"IF(OR(tb_pagamentos[[#This Row],[Data_Vencimento]]=\"\",tb_pagamentos[[#This Row],[Valor_Parcela]]=\"\",tb_pagamentos[[#This Row],[Qtd_Total_Parcelas]]=\"\",tb_pagamentos[[#This Row],[Nr_Pedido]]=\"\"),\"\",IF(tb_pagamentos[[#This Row],[Data_Pagamento]]<>\"\",\"Pago\",IF(AND(tb_pagamentos[[#This Row],[Data_Pagamento]]=\"\",tb_pagamentos[[#This Row],[Data_Vencimento]]<TODAY()),\"Em Atraso\",\"A vencer\")))","v":""}]
[null,null,"",{"$f":"IFERROR(INDEX(CALC_BASE!$N$3:$N$52,MATCH(ROW()-7,CALC_BASE!$M$3:$M$52,0)),\"\")","v":""},{"$f":"IFERROR(INDEX(CALC_BASE!$O$3:$O$52,MATCH(ROW()-7,CALC_BASE!$M$3:$M$52,0)),\"\")","v":""},{"$f":"IFERROR(INDEX(CALC_BASE!$P$3:$P$52,MATCH(ROW()-7,CALC_BASE!$M$3:$M$52,0)),\"\")","v":""},{"$f":"IFERROR(IF(D602=\"\",\"\",INDEX(tb_vendas[Preço de Venda],MATCH(D602,tb_vendas[N° Pedido/Empresa],0))/F602),\"\")","v":""},{"$f":"IFERROR(IF(D602=\"\",\"\",INDEX(tb_vendas[Data Fechamento],MATCH(D602,tb_vendas[N° Pedido/Empresa],0))+E602*INDEX(tb_formas_pagamento[Dias_Intervalo],MATCH(INDEX(tb_vendas[Forma_Pagamento],MATCH(D602,tb_vendas[N° Pedido/Empresa],0)),tb_formas_pagamento[Nome_Forma],0))),\"\")","v":""},null,{"$f":"IF(OR(tb_pagamentos[[#This Row],[Data_Vencimento]]=\"\",tb_pagamentos[[#This Row],[Valor_Parcela]]=\"\",tb_pagamentos[[#This Row],[Qtd_Total_Parcelas]]=\"\",tb_pagamentos[[#This Row],[Nr_Pedido]]=\"\"),\"\",IF(tb_pagamentos[[#This Row],[Data_Pagamento]]<>\"\",\"Pago\",IF(AND(tb_pagamentos[[#This Row],[Data_Pagamento]]=\"\",tb_pagamentos[[#This Row],[Data_Vencimento]]<TODAY()),\"Em Atraso\",\"A vencer\")))","v":""}]
[null,null,"",{"$f":"IFERROR(INDEX(CALC_BASE!$N$3:$N$52,MATCH(ROW()-7,CALC_BASE!$M$3:$M$52,0)),\"\")","v":""},{"$f":"IFERROR(INDEX(CALC_BASE!$O$3:$O$52,MATCH(ROW()-7,CALC_BASE!$M$3:$M$52,0)),\"\")","v":""},{"$f":"IFERROR(INDEX(CALC_BASE!$P$3:$P$52,MATCH(ROW()-7,CALC_BASE!$M$3:$M$52,0)),\"\")","v":""},{"$f":"IFERROR(IF(D603=\"\",\"\",INDEX(tb_vendas[Preço de Venda],MATCH(D603,tb_vendas[N° Pedido/Empresa],0))/F603),\"\")","v":""},{"$f":"IFERROR(IF(D603=\"\",\"\",INDEX(tb_vendas[Data Fechamento],MATCH(D603,tb_vendas[N° Pedido/Empresa],0))+E603*INDEX(tb_formas_pagamento[Dias_Intervalo],MATCH(INDEX(tb_vendas[Forma_Pagamento],MATCH(D603,tb_vendas[N° Pedido/Empresa],0)),tb_formas_pagamento[Nome_Forma],0))),\"\")","v":""},null,{"$f":"IF(OR(tb_pagamentos[[#This Row],[Data_Vencimento]]=\"\",tb_pagamentos[[#This Row],[Valor_Parcela]]=\"\",tb_pagamentos[[#This Row],[Qtd_Total_Parcelas]]=\"\",tb_pagamentos[[#This Row],[Nr_Pedido]]=\"\"),\"\",IF(tb_pagamentos[[#This Row],[Data_Pagamento]]<>\"\",\"Pago\",IF(AND(tb_pagamentos[[#This Row],[Data_Pagamento]]=\"\",tb_pagamentos[[#This Row],[Data_Vencimento]]<TODAY()),\"Em Atraso\",\"A vencer\")))","v":""}]
[null,null,"",{"$f":"IFERROR(INDEX(CALC_BASE!$N$3:$N$52,MATCH(ROW()-7,CALC_BASE!$M$3:$M$52,0)),\"\")","v":""},{"$f":"IFERROR(INDEX(CALC_BASE!$O$3:$O$52,MATCH(ROW()-7,CALC_BASE!$M$3:$M$52,0)),\"\")","v":""},{"$f":"IFERROR(INDEX(CALC_BASE!$P$3:$P$52,MATCH(ROW()-7,CALC_BASE!$M$3:$M$52,0)),\"\")","v":""},{"$f":"IFERROR(IF(D604=\"\",\"\",INDEX(tb_vendas[Preço de Venda],MATCH(D604,tb_vendas[N° Pedido/Empresa],0))/F604),\"\")","v":""},{"$f":"IFERROR(IF(D604=\"\",\"\",INDEX(tb_vendas[Data Fechamento],MATCH(D604,tb_vendas[N° Pedido/Empresa],0))+E604*INDEX(tb_formas_pagamento[Dias_Intervalo],MATCH(INDEX(tb_vendas[Forma_Pagamento],MATCH(D604,tb_vendas[N° Pedido/Empresa],0)),tb_formas_pagamento[Nome_Forma],0))),\"\")","v":""},null,{"$f":"IF(OR(tb_pagamentos[[#This Row],[Data_Vencimento]]=\"\",tb_pagamentos[[#This Row],[Valor_Parcela]]=\"\",tb_pagamentos[[#This Row],[Qtd_Total_Parcelas]]=\"\",tb_pagamentos[[#This Row],[Nr_Pedido]]=\"\"),\"\",IF(tb_pagamentos[[#This Row],[Data_Pagamento]]<>\"\",\"Pago\",IF(AND(tb_pagamentos[[#This Row],[Data_Pagamento]]=\"\",tb_pagamentos[[#This Row],[Data_Vencimento]]<TODAY()),\"Em Atraso\",\"A vencer\")))","v":""}]
[null,null,"",{"$f":"IFERROR(INDEX(CALC_BASE!$N$3:$N$52,MATCH(ROW()-7,CALC_BASE!$M$3:$M$52,0)),\"\")","v":""},{"$f":"IFERROR(INDEX(CALC_BASE!$O$3:$O$52,MATCH(ROW()-7,CALC_BASE!$M$3:$M$52,0)),\"\")","v":""},{"$f":"IFERROR(INDEX(CALC_BASE!$P$3:$P$52,MATCH(ROW()-7,CALC_BASE!$M$3:$M$52,0)),\"\")","v":""},{"$f":"IFERROR(IF(D605=\"\",\"\",INDEX(tb_vendas[Preço de Venda],MATCH(D605,tb_vendas[N° Pedido/Empresa],0))/F605),\"\")","v":""},{"$f":"IFERROR(IF(D605=\"\",\"\",INDEX(tb_vendas[Data Fechamento],MATCH(D605,tb_vendas[N° Pedido/Empresa],0))+E605*INDEX(tb_formas_pagamento[Dias_Intervalo],MATCH(INDEX(tb_vendas[Forma_Pagamento],MATCH(D605,tb_vendas[N° Pedido/Empresa],0)),tb_formas_pagamento[Nome_Forma],0))),\"\")","v":""},null,{"$f":"IF(OR(tb_pagamentos[[#This Row],[Data_Vencimento]]=\"\",tb_pagamentos[[#This Row],[Valor_Parcela]]=\"\",tb_pagamentos[[#This Row],[Qtd_Total_Parcelas]]=\"\",tb_pagamentos[[#This Row],[Nr_Pedido]]=\"\"),\"\",IF(tb_pagamentos[[#This Row],[Data_Pagamento]]<>\"\",\"Pago\",IF(AND(tb_pagamentos[[#This Row],[Data_Pagamento]]=\"\",tb_pagamentos[[#This Row],[Data_Vencimento]]<TODAY()),\"Em Atraso\",\"A vencer\")))","v":""}]
[null,null,"",{"$f":"IFERROR(INDEX(CALC_BASE!$N$3:$N$52,MATCH(ROW()-7,CALC_BASE!$M$3:$M$52,0)),\"\")","v":""},{"$f":"IFERROR(INDEX(CALC_BASE!$O$3:$O$52,MATCH(ROW()-7,CALC_BASE!$M$3:$M$52,0)),\"\")","v":""},{"$f":"IFERROR(INDEX(CALC_BASE!$P$3:$P$52,MATCH(ROW()-7,CALC_BASE!$M$3:$M$52,0)),\"\")","v":""},{"$f":"IFERROR(IF(D606=\"\",\"\",INDEX(tb_vendas[Preço de Venda],MATCH(D606,tb_vendas[N° Pedido/Empresa],0))/F606),\"\")","v":""},{"$f":"IFERROR(IF(D606=\"\",\"\",INDEX(tb_vendas[Data Fechamento],MATCH(D606,tb_vendas[N° Pedido/Empresa],0))+E606*INDEX(tb_formas_pagamento[Dias_Intervalo],MATCH(INDEX(tb_vendas[Forma_Pagamento],MATCH(D606,tb_vendas[N° Pedido/Empresa],0)),tb_formas_pagamento[Nome_Forma],0))),\"\")","v":""},null,{"$f":"IF(OR(tb_pagamentos[[#This Row],[Data_Vencimento]]=\"\",tb_pagamentos[[#This Row],[Valor_Parcela]]=\"\",tb_pagamentos[[#This Row],[Qtd_Total_Parcelas]]=\"\",tb_pagamentos[[#This Row],[Nr_Pedido]]=\"\"),\"\",IF(tb_pagamentos[[#This Row],[Data_Pagamento]]<>\"\",\"Pago\",IF(AND(tb_pagamentos[[#This Row],[Data_Pagamento]]=\"\",tb_pagamentos[[#This Row],[Data_Vencimento]]<TODAY()),\"Em Atraso\",\"A vencer\")))","v":""}]
[null,null,"",{"$f":"IFERROR(INDEX(CALC_BASE!$N$3:$N$52,MATCH(ROW()-7,CALC_BASE!$M$3:$M$52,0)),\"\")","v":""},{"$f":"IFERROR(INDEX(CALC_BASE!$O$3:$O$52,MATCH(ROW()-7,CALC_BASE!$M$3:$M$52,0)),\"\")","v":""},{"$f":"IFERROR(INDEX(CALC_BASE!$P$3:$P$52,MATCH(ROW()-7,CALC_BASE!$M$3:$M$52,0)),\"\")","v":""},{"$f":"IFERROR(IF(D607=\"\",\"\",INDEX(tb_vendas[Preço de Venda],MATCH(D607,tb_vendas[N° Pedido/Empresa],0))/F607),\"\")","v":""},{"$f":"IFERROR(IF(D607=\"\",\"\",INDEX(tb_vendas[Data Fechamento],MATCH(D607,tb_vendas[N° Pedido/Empresa],0))+E607*INDEX(tb_formas_pagamento[Dias_Intervalo],MATCH(INDEX(tb_vendas[Forma_Pagamento],MATCH(D607,tb_vendas[N° Pedido/Empresa],0)),tb_formas_pagamento[Nome_Forma],0))),\"\")","v":""},null,{"$f":"IF(OR(tb_pagamentos[[#This Row],[Data_Vencimento]]=\"\",tb_pagamentos[[#This Row],[Valor_Parcela]]=\"\",tb_pagamentos[[#This Row],[Qtd_Total_Parcelas]]=\"\",tb_pagamentos[[#This Row],[Nr_Pedido]]=\"\"),\"\",IF(tb_pagamentos[[#This Row],[Data_Pagamento]]<>\"\",\"Pago\",IF(AND(tb_pagamentos[[#This Row],[Data_Pagamento]]=\"\",tb_pagamentos[[#This Row],[Data_Vencimento]]<TODAY()),\"Em Atraso\",\"A vencer\")))","v":""}]
[null,null,"",{"$f":"IFERROR(INDEX(CALC_BASE!$N$3:$N$52,MATCH(ROW()-7,CALC_BASE!$M$3:$M$52,0)),\"\")","v":""},{"$f":"IFERROR(INDEX(CALC_BASE!$O$3:$O$52,MATCH(ROW()-7,CALC_BASE!$M$3:$M$52,0)),\"\")","v":""},{"$f":"IFERROR(INDEX(CALC_BASE!$P$3:$P$52,MATCH(ROW()-7,CALC_BASE!$M$3:$M$52,0)),\"\")","v":""},{"$f":"IFERROR(IF(D608=\"\",\"\",INDEX(tb_vendas[Preço de Venda],MATCH(D608,tb_vendas[N° Pedido/Empresa],0))/F608),\"\")","v":""},{"$f":"IFERROR(IF(D608=\"\",\"\",INDEX(tb_vendas[Data Fechamento],MATCH(D608,tb_vendas[N° Pedido/Empresa],0))+E608*INDEX(tb_formas_pagamento[Dias_Intervalo],MATCH(INDEX(tb_vendas[Forma_Pagamento],MATCH(D608,tb_vendas[N° Pedido/Empresa],0)),tb_formas_pagamento[Nome_Forma],0))),\"\")","v":""},null,{"$f":"IF(OR(tb_pagamentos[[#This Row],[Data_Vencimento]]=\"\",tb_pagamentos[[#This Row],[Valor_Parcela]]=\"\",tb_pagamentos[[#This Row],[Qtd_Total_Parcelas]]=\"\",tb_pagamentos[[#This Row],[Nr_Pedido]]=\"\"),\"\",IF(tb_pagamentos[[#This Row],[Data_Pagamento]]<>\"\",\"Pago\",IF(AND(tb_pagamentos[[#This Row],[Data_Pagamento]]=\"\",tb_pagamentos[[#This Row],[Data_Vencimento]]<TODAY()),\"Em Atraso\",\"A vencer\")))","v":""}]
[null,null,"",{"$f":"IFERROR(INDEX(CALC_BASE!$N$3:$N$52,MATCH(ROW()-7,CALC_BASE!$M$3:$M$52,0)),\"\")","v":""},{"$f":"IFERROR(INDEX(CALC_BASE!$O$3:$O$52,MATCH(ROW()-7,CALC_BASE!$M$3:$M$52,0)),\"\")","v":""},{"$f":"IFERROR(INDEX(CALC_BASE!$P$3:$P$52,MATCH(ROW()-7,CALC_BASE!$M$3:$M$52,0)),\"\")","v":""},{"$f":"IFERROR(IF(D609=\"\",\"\",INDEX(tb_vendas[Preço de Venda],MATCH(D609,tb_vendas[N° Pedido/Empresa],0))/F609),\"\")","v":""},{"$f":"IFERROR(IF(D609=\"\",\"\",INDEX(tb_vendas[Data Fechamento],MATCH(D609,tb_vendas[N° Pedido/Empresa],0))+E609*INDEX(tb_formas_pagamento[Dias_Intervalo],MATCH(INDEX(tb_vendas[Forma_Pagamento],MATCH(D609,tb_vendas[N° Pedido/Empresa],0)),tb_formas_pagamento[Nome_Forma],0))),\"\")","v":""},null,{"$f":"IF(OR(tb_pagamentos[[#This Row],[Data_Vencimento]]=\"\",tb_pagamentos[[#This Row],[Valor_Parcela]]=\"\",tb_pagamentos[[#This Row],[Qtd_Total_Parcelas]]=\"\",tb_pagamentos[[#This Row],[Nr_Pedido]]=\"\"),\"\",IF(tb_pagamentos[[#This Row],[Data_Pagamento]]<>\"\",\"Pago\",IF(AND(tb_pagamentos[[#This Row],[Data_Pagamento]]=\"\",tb_pagamentos[[#This Row],[Data_Vencimento]]<TODAY()),\"Em Atraso\",\"A vencer\")))","v":""}]
[null,null,"",{"$f":"IFERROR(INDEX(CALC_BASE!$N$3:$N$52,MATCH(ROW()-7,CALC_BASE!$M$3:$M$52,0)),\"\")","v":""},{"$f":"IFERROR(INDEX(CALC_BASE!$O$3:$O$52,MATCH(ROW()-7,CALC_BASE!$M$3:$M$52,0)),\"\")","v":""},{"$f":"IFERROR(INDEX(CALC_BASE!$P$3:$P$52,MATCH(ROW()-7,CALC_BASE!$M$3:$M$52,0)),\"\")","v":""},{"$f":"IFERROR(IF(D610=\"\",\"\",INDEX(tb_vendas[Preço de Venda],MATCH(D610,tb_vendas[N° Pedido/Empresa],0))/F610),\"\")","v":""},{"$f":"IFERROR(IF(D610=\"\",\"\",INDEX(tb_vendas[Data Fechamento],MATCH(D610,tb_vendas[N° Pedido/Empresa],0))+E610*INDEX(tb_formas_pagamento[Dias_Intervalo],MATCH(INDEX(tb_vendas[Forma_Pagamento],MATCH(D610,tb_vendas[N° Pedido/Empresa],0)),tb_formas_pagamento[Nome_Forma],0))),\"\")","v":""},null,{"$f":"IF(OR(tb_pagamentos[[#This Row],[Data_Vencimento]]=\"\",tb_pagamentos[[#This Row],[Valor_Parcela]]=\"\",tb_pagamentos[[#This Row],[Qtd_Total_Parcelas]]=\"\",tb_pagamentos[[#This Row],[Nr_Pedido]]=\"\"),\"\",IF(tb_pagamentos[[#This Row],[Data_Pagamento]]<>\"\",\"Pago\",IF(AND(tb_pagamentos[[#This Row],[Data_Pagamento]]=\"\",tb_pagamentos[[#This Row],[Data_Vencimento]]<TODAY()),\"Em Atraso\",\"A vencer\")))","v":""}]
[null,null,"",{"$f":"IFERROR(INDEX(CALC_BASE!$N$3:$N$52,MATCH(ROW()-7,CALC_BASE!$M$3:$M$52,0)),\"\")","v":""},{"$f":"IFERROR(INDEX(CALC_BASE!$O$3:$O$52,MATCH(ROW()-7,CALC_BASE!$M$3:$M$52,0)),\"\")","v":""},{"$f":"IFERROR(INDEX(CALC_BASE!$P$3:$P$52,MATCH(ROW()-7,CALC_BASE!$M$3:$M$52,0)),\"\")","v":""},{"$f":"IFERROR(IF(D611=\"\",\"\",INDEX(tb_vendas[Preço de Venda],MATCH(D611,tb_vendas[N° Pedido/Empresa],0))/F611),\"\")","v":""},{"$f":"IFERROR(IF(D611=\"\",\"\",INDEX(tb_vendas[Data Fechamento],MATCH(D611,tb_vendas[N° Pedido/Empresa],0))+E611*INDEX(tb_formas_pagamento[Dias_Intervalo],MATCH(INDEX(tb_vendas[Forma_Pagamento],MATCH(D611,tb_vendas[N° Pedido/Empresa],0)),tb_formas_pagamento[Nome_Forma],0))),\"\")","v":""},null,{"$f":"IF(OR(tb_pagamentos[[#This Row],[Data_Vencimento]]=\"\",tb_pagamentos[[#This Row],[Valor_Parcela]]=\"\",tb_pagamentos[[#This Row],[Qtd_Total_Parcelas]]=\"\",tb_pagamentos[[#This Row],[Nr_Pedido]]=\"\"),\"\",IF(tb_pagamentos[[#This Row],[Data_Pagamento]]<>\"\",\"Pago\",IF(AND(tb_pagamentos[[#This Row],[Data_Pagamento]]=\"\",tb_pagamentos[[#This Row],[Data_Vencimento]]<TODAY()),\"Em Atraso\",\"A vencer\")))","v":""}]
[null,null,"",{"$f":"IFERROR(INDEX(CALC_BASE!$N$3:$N$52,MATCH(ROW()-7,CALC_BASE!$M$3:$M$52,0)),\"\")","v":""},{"$f":"IFERROR(INDEX(CALC_BASE!$O$3:$O$52,MATCH(ROW()-7,CALC_BASE!$M$3:$M$52,0)),\"\")","v":""},{"$f":"IFERROR(INDEX(CALC_BASE!$P$3:$P$52,MATCH(ROW()-7,CALC_BASE!$M$3:$M$52,0)),\"\")","v":""},{"$f":"IFERROR(IF(D612=\"\",\"\",INDEX(tb_vendas[Preço de Venda],MATCH(D612,tb_vendas[N° Pedido/Empresa],0))/F612),\"\")","v":""},{"$f":"IFERROR(IF(D612=\"\",\"\",INDEX(tb_vendas[Data Fechamento],MATCH(D612,tb_vendas[N° Pedido/Empresa],0))+E612*INDEX(tb_formas_pagamento[Dias_Intervalo],MATCH(INDEX(tb_vendas[Forma_Pagamento],MATCH(D612,tb_vendas[N° Pedido/Empresa],0)),tb_formas_pagamento[Nome_Forma],0))),\"\")","v":""},null,{"$f":"IF(OR(tb_pagamentos[[#This Row],[Data_Vencimento]]=\"\",tb_pagamentos[[#This Row],[Valor_Parcela]]=\"\",tb_pagamentos[[#This Row],[Qtd_Total_Parcelas]]=\"\",tb_pagamentos[[#This Row],[Nr_Pedido]]=\"\"),\"\",IF(tb_pagamentos[[#This Row],[Data_Pagamento]]<>\"\",\"Pago\",IF(AND(tb_pagamentos[[#This Row],[Data_Pagamento]]=\"\",tb_pagamentos[[#This Row],[Data_Vencimento]]<TODAY()),\"Em Atraso\",\"A vencer\")))","v":""}]
[null,null,"",{"$f":"IFERROR(INDEX(CALC_BASE!$N$3:$N$52,MATCH(ROW()-7,CALC_BASE!$M$3:$M$52,0)),\"\")","v":""},{"$f":"IFERROR(INDEX(CALC_BASE!$O$3:$O$52,MATCH(ROW()-7,CALC_BASE!$M$3:$M$52,0)),\"\")","v":""},{"$f":"IFERROR(INDEX(CALC_BASE!$P$3:$P$52,MATCH(ROW()-7,CALC_BASE!$M$3:$M$52,0)),\"\")","v":""},{"$f":"IFERROR(IF(D613=\"\",\"\",INDEX(tb_vendas[Preço de Venda],MATCH(D613,tb_vendas[N° Pedido/Empresa],0))/F613),\"\")","v":""},{"$f":"IFERROR(IF(D613=\"\",\"\",INDEX(tb_vendas[Data Fechamento],MATCH(D613,tb_vendas[N° Pedido/Empresa],0))+E613*INDEX(tb_formas_pagamento[Dias_Intervalo],MATCH(INDEX(tb_vendas[Forma_Pagamento],MATCH(D613,tb_vendas[N° Pedido/Empresa],0)),tb_formas_pagamento[Nome_Forma],0))),\"\")","v":""},null,{"$f":"IF(OR(tb_pagamentos[[#This Row],[Data_Vencimento]]=\"\",tb_pagamentos[[#This Row],[Valor_Parcela]]=\"\",tb_pagamentos[[#This Row],[Qtd_Total_Parcelas]]=\"\",tb_pagamentos[[#This Row],[Nr_Pedido]]=\"\"),\"\",IF(tb_pagamentos[[#This Row],[Data_Pagamento]]<>\"\",\"Pago\",IF(AND(tb_pagamentos[[#This Row],[Data_Pagamento]]=\"\",tb_pagamentos[[#This Row],[Data_Vencimento]]<TODAY()),\"Em Atraso\",\"A vencer\")))","v":""}]
[null,null,"",{"$f":"IFERROR(INDEX(CALC_BASE!$N$3:$N$52,MATCH(ROW()-7,CALC_BASE!$M$3:$M$52,0)),\"\")","v":""},{"$f":"IFERROR(INDEX(CALC_BASE!$O$3:$O$52,MATCH(ROW()-7,CALC_BASE!$M$3:$M$52,0)),\"\")","v":""},{"$f":"IFERROR(INDEX(CALC_BASE!$P$3:$P$52,MATCH(ROW()-7,CALC_BASE!$M$3:$M$52,0)),\"\")","v":""},{"$f":"IFERROR(IF(D614=\"\",\"\",INDEX(tb_vendas[Preço de Venda],MATCH(D614,tb_vendas[N° Pedido/Empresa],0))/F614),\"\")","v":""},{"$f":"IFERROR(IF(D614=\"\",\"\",INDEX(tb_vendas[Data Fechamento],MATCH(D614,tb_vendas[N° Pedido/Empresa],0))+E614*INDEX(tb_formas_pagamento[Dias_Intervalo],MATCH(INDEX(tb_vendas[Forma_Pagamento],MATCH(D614,tb_vendas[N° Pedido/Empresa],0)),tb_formas_pagamento[Nome_Forma],0))),\"\")","v":""},null,{"$f":"IF(OR(tb_pagamentos[[#This Row],[Data_Vencimento]]=\"\",tb_pagamentos[[#This Row],[Valor_Parcela]]=\"\",tb_pagamentos[[#This Row],[Qtd_Total_Parcelas]]=\"\",tb_pagamentos[[#This Row],[Nr_Pedido]]=\"\"),\"\",IF(tb_pagamentos[[#This Row],[Data_Pagamento]]<>\"\",\"Pago\",IF(AND(tb_pagamentos[[#This Row],[Data_Pagamento]]=\"\",tb_pagamentos[[#This Row],[Data_Vencimento]]<TODAY()),\"Em Atraso\",\"A vencer\")))","v":""}]
[null,null,"",{"$f":"IFERROR(INDEX(CALC_BASE!$N$3:$N$52,MATCH(ROW()-7,CALC_BASE!$M$3:$M$52,0)),\"\")","v":""},{"$f":"IFERROR(INDEX(CALC_BASE!$O$3:$O$52,MATCH(ROW()-7,CALC_BASE!$M$3:$M$52,0)),\"\")","v":""},{"$f":"IFERROR(INDEX(CALC_BASE!$P$3:$P$52,MATCH(ROW()-7,CALC_BASE!$M$3:$M$52,0)),\"\")","v":""},{"$f":"IFERROR(IF(D615=\"\",\"\",INDEX(tb_vendas[Preço de Venda],MATCH(D615,tb_vendas[N° Pedido/Empresa],0))/F615),\"\")","v":""},{"$f":"IFERROR(IF(D615=\"\",\"\",INDEX(tb_vendas[Data Fechamento],MATCH(D615,tb_vendas[N° Pedido/Empresa],0))+E615*INDEX(tb_formas_pagamento[Dias_Intervalo],MATCH(INDEX(tb_vendas[Forma_Pagamento],MATCH(D615,tb_vendas[N° Pedido/Empresa],0)),tb_formas_pagamento[Nome_Forma],0))),\"\")","v":""},null,{"$f":"IF(OR(tb_pagamentos[[#This Row],[Data_Vencimento]]=\"\",tb_pagamentos[[#This Row],[Valor_Parcela]]=\"\",tb_pagamentos[[#This Row],[Qtd_Total_Parcelas]]=\"\",tb_pagamentos[[#This Row],[Nr_Pedido]]=\"\"),\"\",IF(tb_pagamentos[[#This Row],[Data_Pagamento]]<>\"\",\"Pago\",IF(AND(tb_pagamentos[[#This Row],[Data_Pagamento]]=\"\",tb_pagamentos[[#This Row],[Data_Vencimento]]<TODAY()),\"Em Atraso\",\"A vencer\")))","v":""}]
[null,null,"",{"$f":"IFERROR(INDEX(CALC_BASE!$N$3:$N$52,MATCH(ROW()-7,CALC_BASE!$M$3:$M$52,0)),\"\")","v":""},{"$f":"IFERROR(INDEX(CALC_BASE!$O$3:$O$52,MATCH(ROW()-7,CALC_BASE!$M$3:$M$52,0)),\"\")","v":""},{"$f":"IFERROR(INDEX(CALC_BASE!$P$3:$P$52,MATCH(ROW()-7,CALC_BASE!$M$3:$M$52,0)),\"\")","v":""},{"$f":"IFERROR(IF(D616=\"\",\"\",INDEX(tb_vendas[Preço de Venda],MATCH(D616,tb_vendas[N° Pedido/Empresa],0))/F616),\"\")","v":""},{"$f":"IFERROR(IF(D616=\"\",\"\",INDEX(tb_vendas[Data Fechamento],MATCH(D616,tb_vendas[N° Pedido/Empresa],0))+E616*INDEX(tb_formas_pagamento[Dias_Intervalo],MATCH(INDEX(tb_vendas[Forma_Pagamento],MATCH(D616,tb_vendas[N° Pedido/Empresa],0)),tb_formas_pagamento[Nome_Forma],0))),\"\")","v":""},null,{"$f":"IF(OR(tb_pagamentos[[#This Row],[Data_Vencimento]]=\"\",tb_pagamentos[[#This Row],[Valor_Parcela]]=\"\",tb_pagamentos[[#This Row],[Qtd_Total_Parcelas]]=\"\",tb_pagamentos[[#This Row],[Nr_Pedido]]=\"\"),\"\",IF(tb_pagamentos[[#This Row],[Data_Pagamento]]<>\"\",\"Pago\",IF(AND(tb_pagamentos[[#This Row],[Data_Pagamento]]=\"\",tb_pagamentos[[#This Row],[Data_Vencimento]]<TODAY()),\"Em Atraso\",\"A vencer\")))","v":""}]
[null,null,"",{"$f":"IFERROR(INDEX(CALC_BASE!$N$3:$N$52,MATCH(ROW()-7,CALC_BASE!$M$3:$M$52,0)),\"\")","v":""},{"$f":"IFERROR(INDEX(CALC_BASE!$O$3:$O$52,MATCH(ROW()-7,CALC_BASE!$M$3:$M$52,0)),\"\")","v":""},{"$f":"IFERROR(INDEX(CALC_BASE!$P$3:$P$52,MATCH(ROW()-7,CALC_BASE!$M$3:$M$52,0)),\"\")","v":""},{"$f":"IFERROR(IF(D617=\"\",\"\",INDEX(tb_vendas[Preço de Venda],MATCH(D617,tb_vendas[N° Pedido/Empresa],0))/F617),\"\")","v":""},{"$f":"IFERROR(IF(D617=\"\",\"\",INDEX(tb_vendas[Data Fechamento],MATCH(D617,tb_vendas[N° Pedido/Empresa],0))+E617*INDEX(tb_formas_pagamento[Dias_Intervalo],MATCH(INDEX(tb_vendas[Forma_Pagamento],MATCH(D617,tb_vendas[N° Pedido/Empresa],0)),tb_formas_pagamento[Nome_Forma],0))),\"\")","v":""},null,{"$f":"IF(OR(tb_pagamentos[[#This Row],[Data_Vencimento]]=\"\",tb_pagamentos[[#This Row],[Valor_Parcela]]=\"\",tb_pagamentos[[#This Row],[Qtd_Total_Parcelas]]=\"\",tb_pagamentos[[#This Row],[Nr_Pedido]]=\"\"),\"\",IF(tb_pagamentos[[#This Row],[Data_Pagamento]]<>\"\",\"Pago\",IF(AND(tb_pagamentos[[#This Row],[Data_Pagamento]]=\"\",tb_pagamentos[[#This Row],[Data_Vencimento]]<TODAY()),\"Em Atraso\",\"A vencer\")))","v":""}]
[null,null,"",{"$f":"IFERROR(INDEX(CALC_BASE!$N$3:$N$52,MATCH(ROW()-7,CALC_BASE!$M$3:$M$52,0)),\"\")","v":""},{"$f":"IFERROR(INDEX(CALC_BASE!$O$3:$O$52,MATCH(ROW()-7,CALC_BASE!$M$3:$M$52,0)),\"\")","v":""},{"$f":"IFERROR(INDEX(CALC_BASE!$P$3:$P$52,MATCH(ROW()-7,CALC_BASE!$M$3:$M$52,0)),\"\")","v":""},{"$f":"IFERROR(IF(D618=\"\",\"\",INDEX(tb_vendas[Preço de Venda],MATCH(D618,tb_vendas[N° Pedido/Empresa],0))/F618),\"\")","v":""},{"$f":"IFERROR(IF(D618=\"\",\"\",INDEX(tb_vendas[Data Fechamento],MATCH(D618,tb_vendas[N° Pedido/Empresa],0))+E618*INDEX(tb_formas_pagamento[Dias_Intervalo],MATCH(INDEX(tb_vendas[Forma_Pagamento],MATCH(D618,tb_vendas[N° Pedido/Empresa],0)),tb_formas_pagamento[Nome_Forma],0))),\"\")","v":""},null,{"$f":"IF(OR(tb_pagamentos[[#This Row],[Data_Vencimento]]=\"\",tb_pagamentos[[#This Row],[Valor_Parcela]]=\"\",tb_pagamentos[[#This Row],[Qtd_Total_Parcelas]]=\"\",tb_pagamentos[[#This Row],[Nr_Pedido]]=\"\"),\"\",IF(tb_pagamentos[[#This Row],[Data_Pagamento]]<>\"\",\"Pago\",IF(AND(tb_pagamentos[[#This Row],[Data_Pagamento]]=\"\",tb_pagamentos[[#This Row],[Data_Vencimento]]<TODAY()),\"Em Atraso\",\"A vencer\")))","v":""}]
[null,null,"",{"$f":"IFERROR(INDEX(CALC_BASE!$N$3:$N$52,MATCH(ROW()-7,CALC_BASE!$M$3:$M$52,0)),\"\")","v":""},{"$f":"IFERROR(INDEX(CALC_BASE!$O$3:$O$52,MATCH(ROW()-7,CALC_BASE!$M$3:$M$52,0)),\"\")","v":""},{"$f":"IFERROR(INDEX(CALC_BASE!$P$3:$P$52,MATCH(ROW()-7,CALC_BASE!$M$3:$M$52,0)),\"\")","v":""},{"$f":"IFERROR(IF(D619=\"\",\"\",INDEX(tb_vendas[Preço de Venda],MATCH(D619,tb_vendas[N° Pedido/Empresa],0))/F619),\"\")","v":""},{"$f":"IFERROR(IF(D619=\"\",\"\",INDEX(tb_vendas[Data Fechamento],MATCH(D619,tb_vendas[N° Pedido/Empresa],0))+E619*INDEX(tb_formas_pagamento[Dias_Intervalo],MATCH(INDEX(tb_vendas[Forma_Pagamento],MATCH(D619,tb_vendas[N° Pedido/Empresa],0)),tb_formas_pagamento[Nome_Forma],0))),\"\")","v":""},null,{"$f":"IF(OR(tb_pagamentos[[#This Row],[Data_Vencimento]]=\"\",tb_pagamentos[[#This Row],[Valor_Parcela]]=\"\",tb_pagamentos[[#This Row],[Qtd_Total_Parcelas]]=\"\",tb_pagamentos[[#This Row],[Nr_Pedido]]=\"\"),\"\",IF(tb_pagamentos[[#This Row],[Data_Pagamento]]<>\"\",\"Pago\",IF(AND(tb_pagamentos[[#This Row],[Data_Pagamento]]=\"\",tb_pagamentos[[#This Row],[Data_Vencimento]]<TODAY()),\"Em Atraso\",\"A vencer\")))","v":""}]
[null,null,"",{"$f":"IFERROR(INDEX(CALC_BASE!$N$3:$N$52,MATCH(ROW()-7,CALC_BASE!$M$3:$M$52,0)),\"\")","v":""},{"$f":"IFERROR(INDEX(CALC_BASE!$O$3:$O$52,MATCH(ROW()-7,CALC_BASE!$M$3:$M$52,0)),\"\")","v":""},{"$f":"IFERROR(INDEX(CALC_BASE!$P$3:$P$52,MATCH(ROW()-7,CALC_BASE!$M$3:$M$52,0)),\"\")","v":""},{"$f":"IFERROR(IF(D620=\"\",\"\",INDEX(tb_vendas[Preço de Venda],MATCH(D620,tb_vendas[N° Pedido/Empresa],0))/F620),\"\")","v":""},{"$f":"IFERROR(IF(D620=\"\",\"\",INDEX(tb_vendas[Data Fechamento],MATCH(D620,tb_vendas[N° Pedido/Empresa],0))+E620*INDEX(tb_formas_pagamento[Dias_Intervalo],MATCH(INDEX(tb_vendas[Forma_Pagamento],MATCH(D620,tb_vendas[N° Pedido/Empresa],0)),tb_formas_pagamento[Nome_Forma],0))),\"\")","v":""},null,{"$f":"IF(OR(tb_pagamentos[[#This Row],[Data_Vencimento]]=\"\",tb_pagamentos[[#This Row],[Valor_Parcela]]=\"\",tb_pagamentos[[#This Row],[Qtd_Total_Parcelas]]=\"\",tb_pagamentos[[#This Row],[Nr_Pedido]]=\"\"),\"\",IF(tb_pagamentos[[#This Row],[Data_Pagamento]]<>\"\",\"Pago\",IF(AND(tb_pagamentos[[#This Row],[Data_Pagamento]]=\"\",tb_pagamentos[[#This Row],[Data_Vencimento]]<TODAY()),\"Em Atraso\",\"A vencer\")))","v":""}]
[null,null,"",{"$f":"IFERROR(INDEX(CALC_BASE!$N$3:$N$52,MATCH(ROW()-7,CALC_BASE!$M$3:$M$52,0)),\"\")","v":""},{"$f":"IFERROR(INDEX(CALC_BASE!$O$3:$O$52,MATCH(ROW()-7,CALC_BASE!$M$3:$M$52,0)),\"\")","v":""},{"$f":"IFERROR(INDEX(CALC_BASE!$P$3:$P$52,MATCH(ROW()-7,CALC_BASE!$M$3:$M$52,0)),\"\")","v":""},{"$f":"IFERROR(IF(D621=\"\",\"\",INDEX(tb_vendas[Preço de Venda],MATCH(D621,tb_vendas[N° Pedido/Empresa],0))/F621),\"\")","v":""},{"$f":"IFERROR(IF(D621=\"\",\"\",INDEX(tb_vendas[Data Fechamento],MATCH(D621,tb_vendas[N° Pedido/Empresa],0))+E621*INDEX(tb_formas_pagamento[Dias_Intervalo],MATCH(INDEX(tb_vendas[Forma_Pagamento],MATCH(D621,tb_vendas[N° Pedido/Empresa],0)),tb_formas_pagamento[Nome_Forma],0))),\"\")","v":""},null,{"$f":"IF(OR(tb_pagamentos[[#This Row],[Data_Vencimento]]=\"\",tb_pagamentos[[#This Row],[Valor_Parcela]]=\"\",tb_pagamentos[[#This Row],[Qtd_Total_Parcelas]]=\"\",tb_pagamentos[[#This Row],[Nr_Pedido]]=\"\"),\"\",IF(tb_pagamentos[[#This Row],[Data_Pagamento]]<>\"\",\"Pago\",IF(AND(tb_pagamentos[[#This Row],[Data_Pagamento]]=\"\",tb_pagamentos[[#This Row],[Data_Vencimento]]<TODAY()),\"Em Atraso\",\"A vencer\")))","v":""}]
[null,null,"",{"$f":"IFERROR(INDEX(CALC_BASE!$N$3:$N$52,MATCH(ROW()-7,CALC_BASE!$M$3:$M$52,0)),\"\")","v":""},{"$f":"IFERROR(INDEX(CALC_BASE!$O$3:$O$52,MATCH(ROW()-7,CALC_BASE!$M$3:$M$52,0)),\"\")","v":""},{"$f":"IFERROR(INDEX(CALC_BASE!$P$3:$P$52,MATCH(ROW()-7,CALC_BASE!$M$3:$M$52,0)),\"\")","v":""},{"$f":"IFERROR(IF(D622=\"\",\"\",INDEX(tb_vendas[Preço de Venda],MATCH(D622,tb_vendas[N° Pedido/Empresa],0))/F622),\"\")","v":""},{"$f":"IFERROR(IF(D622=\"\",\"\",INDEX(tb_vendas[Data Fechamento],MATCH(D622,tb_vendas[N° Pedido/Empresa],0))+E622*INDEX(tb_formas_pagamento[Dias_Intervalo],MATCH(INDEX(tb_vendas[Forma_Pagamento],MATCH(D622,tb_vendas[N° Pedido/Empresa],0)),tb_formas_pagamento[Nome_Forma],0))),\"\")","v":""},null,{"$f":"IF(OR(tb_pagamentos[[#This Row],[Data_Vencimento]]=\"\",tb_pagamentos[[#This Row],[Valor_Parcela]]=\"\",tb_pagamentos[[#This Row],[Qtd_Total_Parcelas]]=\"\",tb_pagamentos[[#This Row],[Nr_Pedido]]=\"\"),\"\",IF(tb_pagamentos[[#This Row],[Data_Pagamento]]<>\"\",\"Pago\",IF(AND(tb_pagamentos[[#This Row],[Data_Pagamento]]=\"\",tb_pagamentos[[#This Row],[Data_Vencimento]]<TODAY()),\"Em Atraso\",\"A vencer\")))","v":""}]
[null,null,"",{"$f":"IFERROR(INDEX(CALC_BASE!$N$3:$N$52,MATCH(ROW()-7,CALC_BASE!$M$3:$M$52,0)),\"\")","v":""},{"$f":"IFERROR(INDEX(CALC_BASE!$O$3:$O$52,MATCH(ROW()-7,CALC_BASE!$M$3:$M$52,0)),\"\")","v":""},{"$f":"IFERROR(INDEX(CALC_BASE!$P$3:$P$52,MATCH(ROW()-7,CALC_BASE!$M$3:$M$52,0)),\"\")","v":""},{"$f":"IFERROR(IF(D623=\"\",\"\",INDEX(tb_vendas[Preço de Venda],MATCH(D623,tb_vendas[N° Pedido/Empresa],0))/F623),\"\")","v":""},{"$f":"IFERROR(IF(D623=\"\",\"\",INDEX(tb_vendas[Data Fechamento],MATCH(D623,tb_vendas[N° Pedido/Empresa],0))+E623*INDEX(tb_formas_pagamento[Dias_Intervalo],MATCH(INDEX(tb_vendas[Forma_Pagamento],MATCH(D623,tb_vendas[N° Pedido/Empresa],0)),tb_formas_pagamento[Nome_Forma],0))),\"\")","v":""},null,{"$f":"IF(OR(tb_pagamentos[[#This Row],[Data_Vencimento]]=\"\",tb_pagamentos[[#This Row],[Valor_Parcela]]=\"\",tb_pagamentos[[#This Row],[Qtd_Total_Parcelas]]=\"\",tb_pagamentos[[#This Row],[Nr_Pedido]]=\"\"),\"\",IF(tb_pagamentos[[#This Row],[Data_Pagamento]]<>\"\",\"Pago\",IF(AND(tb_pagamentos[[#This Row],[Data_Pagamento]]=\"\",tb_pagamentos[[#This Row],[Data_Vencimento]]<TODAY()),\"Em Atraso\",\"A vencer\")))","v":""}]
[null,null,"",{"$f":"IFERROR(INDEX(CALC_BASE!$N$3:$N$52,MATCH(ROW()-7,CALC_BASE!$M$3:$M$52,0)),\"\")","v":""},{"$f":"IFERROR(INDEX(CALC_BASE!$O$3:$O$52,MATCH(ROW()-7,CALC_BASE!$M$3:$M$52,0)),\"\")","v":""},{"$f":"IFERROR(INDEX(CALC_BASE!$P$3:$P$52,MATCH(ROW()-7,CALC_BASE!$M$3:$M$52,0)),\"\")","v":""},{"$f":"IFERROR(IF(D624=\"\",\"\",INDEX(tb_vendas[Preço de Venda],MATCH(D624,tb_vendas[N° Pedido/Empresa],0))/F624),\"\")","v":""},{"$f":"IFERROR(IF(D624=\"\",\"\",INDEX(tb_vendas[Data Fechamento],MATCH(D624,tb_vendas[N° Pedido/Empresa],0))+E624*INDEX(tb_formas_pagamento[Dias_Intervalo],MATCH(INDEX(tb_vendas[Forma_Pagamento],MATCH(D624,tb_vendas[N° Pedido/Empresa],0)),tb_formas_pagamento[Nome_Forma],0))),\"\")","v":""},null,{"$f":"IF(OR(tb_pagamentos[[#This Row],[Data_Vencimento]]=\"\",tb_pagamentos[[#This Row],[Valor_Parcela]]=\"\",tb_pagamentos[[#This Row],[Qtd_Total_Parcelas]]=\"\",tb_pagamentos[[#This Row],[Nr_Pedido]]=\"\"),\"\",IF(tb_pagamentos[[#This Row],[Data_Pagamento]]<>\"\",\"Pago\",IF(AND(tb_pagamentos[[#This Row],[Data_Pagamento]]=\"\",tb_pagamentos[[#This Row],[Data_Vencimento]]<TODAY()),\"Em Atraso\",\"A vencer\")))","v":""}]
[null,null,"",{"$f":"IFERROR(INDEX(CALC_BASE!$N$3:$N$52,MATCH(ROW()-7,CALC_BASE!$M$3:$M$52,0)),\"\")","v":""},{"$f":"IFERROR(INDEX(CALC_BASE!$O$3:$O$52,MATCH(ROW()-7,CALC_BASE!$M$3:$M$52,0)),\"\")","v":""},{"$f":"IFERROR(INDEX(CALC_BASE!$P$3:$P$52,MATCH(ROW()-7,CALC_BASE!$M$3:$M$52,0)),\"\")","v":""},{"$f":"IFERROR(IF(D625=\"\",\"\",INDEX(tb_vendas[Preço de Venda],MATCH(D625,tb_vendas[N° Pedido/Empresa],0))/F625),\"\")","v":""},{"$f":"IFERROR(IF(D625=\"\",\"\",INDEX(tb_vendas[Data Fechamento],MATCH(D625,tb_vendas[N° Pedido/Empresa],0))+E625*INDEX(tb_formas_pagamento[Dias_Intervalo],MATCH(INDEX(tb_vendas[Forma_Pagamento],MATCH(D625,tb_vendas[N° Pedido/Empresa],0)),tb_formas_pagamento[Nome_Forma],0))),\"\")","v":""},null,{"$f":"IF(OR(tb_pagamentos[[#This Row],[Data_Vencimento]]=\"\",tb_pagamentos[[#This Row],[Valor_Parcela]]=\"\",tb_pagamentos[[#This Row],[Qtd_Total_Parcelas]]=\"\",tb_pagamentos[[#This Row],[Nr_Pedido]]=\"\"),\"\",IF(tb_pagamentos[[#This Row],[Data_Pagamento]]<>\"\",\"Pago\",IF(AND(tb_pagamentos[[#This Row],[Data_Pagamento]]=\"\",tb_pagamentos[[#This Row],[Data_Vencimento]]<TODAY()),\"Em Atraso\",\"A vencer\")))","v":""}]
[null,null,"",{"$f":"IFERROR(INDEX(CALC_BASE!$N$3:$N$52,MATCH(ROW()-7,CALC_BASE!$M$3:$M$52,0)),\"\")","v":""},{"$f":"IFERROR(INDEX(CALC_BASE!$O$3:$O$52,MATCH(ROW()-7,CALC_BASE!$M$3:$M$52,0)),\"\")","v":""},{"$f":"IFERROR(INDEX(CALC_BASE!$P$3:$P$52,MATCH(ROW()-7,CALC_BASE!$M$3:$M$52,0)),\"\")","v":""},{"$f":"IFERROR(IF(D626=\"\",\"\",INDEX(tb_vendas[Preço de Venda],MATCH(D626,tb_vendas[N° Pedido/Empresa],0))/F626),\"\")","v":""},{"$f":"IFERROR(IF(D626=\"\",\"\",INDEX(tb_vendas[Data Fechamento],MATCH(D626,tb_vendas[N° Pedido/Empresa],0))+E626*INDEX(tb_formas_pagamento[Dias_Intervalo],MATCH(INDEX(tb_vendas[Forma_Pagamento],MATCH(D626,tb_vendas[N° Pedido/Empresa],0)),tb_formas_pagamento[Nome_Forma],0))),\"\")","v":""},null,{"$f":"IF(OR(tb_pagamentos[[#This Row],[Data_Vencimento]]=\"\",tb_pagamentos[[#This Row],[Valor_Parcela]]=\"\",tb_pagamentos[[#This Row],[Qtd_Total_Parcelas]]=\"\",tb_pagamentos[[#This Row],[Nr_Pedido]]=\"\"),\"\",IF(tb_pagamentos[[#This Row],[Data_Pagamento]]<>\"\",\"Pago\",IF(AND(tb_pagamentos[[#This Row],[Data_Pagamento]]=\"\",tb_pagamentos[[#This Row],[Data_Vencimento]]<TODAY()),\"Em Atraso\",\"A vencer\")))","v":""}]
[null,null,"",{"$f":"IFERROR(INDEX(CALC_BASE!$N$3:$N$52,MATCH(ROW()-7,CALC_BASE!$M$3:$M$52,0)),\"\")","v":""},{"$f":"IFERROR(INDEX(CALC_BASE!$O$3:$O$52,MATCH(ROW()-7,CALC_BASE!$M$3:$M$52,0)),\"\")","v":""},{"$f":"IFERROR(INDEX(CALC_BASE!$P$3:$P$52,MATCH(ROW()-7,CALC_BASE!$M$3:$M$52,0)),\"\")","v":""},{"$f":"IFERROR(IF(D627=\"\",\"\",INDEX(tb_vendas[Preço de Venda],MATCH(D627,tb_vendas[N° Pedido/Empresa],0))/F627),\"\")","v":""},{"$f":"IFERROR(IF(D627=\"\",\"\",INDEX(tb_vendas[Data Fechamento],MATCH(D627,tb_vendas[N° Pedido/Empresa],0))+E627*INDEX(tb_formas_pagamento[Dias_Intervalo],MATCH(INDEX(tb_vendas[Forma_Pagamento],MATCH(D627,tb_vendas[N° Pedido/Empresa],0)),tb_formas_pagamento[Nome_Forma],0))),\"\")","v":""},null,{"$f":"IF(OR(tb_pagamentos[[#This Row],[Data_Vencimento]]=\"\",tb_pagamentos[[#This Row],[Valor_Parcela]]=\"\",tb_pagamentos[[#This Row],[Qtd_Total_Parcelas]]=\"\",tb_pagamentos[[#This Row],[Nr_Pedido]]=\"\"),\"\",IF(tb_pagamentos[[#This Row],[Data_Pagamento]]<>\"\",\"Pago\",IF(AND(tb_pagamentos[[#This Row],[Data_Pagamento]]=\"\",tb_pagamentos[[#This Row],[Data_Vencimento]]<TODAY()),\"Em Atraso\",\"A vencer\")))","v":""}]
[null,null,"",{"$f":"IFERROR(INDEX(CALC_BASE!$N$3:$N$52,MATCH(ROW()-7,CALC_BASE!$M$3:$M$52,0)),\"\")","v":""},{"$f":"IFERROR(INDEX(CALC_BASE!$O$3:$O$52,MATCH(ROW()-7,CALC_BASE!$M$3:$M$52,0)),\"\")","v":""},{"$f":"IFERROR(INDEX(CALC_BASE!$P$3:$P$52,MATCH(ROW()-7,CALC_BASE!$M$3:$M$52,0)),\"\")","v":""},{"$f":"IFERROR(IF(D628=\"\",\"\",INDEX(tb_vendas[Preço de Venda],MATCH(D628,tb_vendas[N° Pedido/Empresa],0))/F628),\"\")","v":""},{"$f":"IFERROR(IF(D628=\"\",\"\",INDEX(tb_vendas[Data Fechamento],MATCH(D628,tb_vendas[N° Pedido/Empresa],0))+E628*INDEX(tb_formas_pagamento[Dias_Intervalo],MATCH(INDEX(tb_vendas[Forma_Pagamento],MATCH(D628,tb_vendas[N° Pedido/Empresa],0)),tb_formas_pagamento[Nome_Forma],0))),\"\")","v":""},null,{"$f":"IF(OR(tb_pagamentos[[#This Row],[Data_Vencimento]]=\"\",tb_pagamentos[[#This Row],[Valor_Parcela]]=\"\",tb_pagamentos[[#This Row],[Qtd_Total_Parcelas]]=\"\",tb_pagamentos[[#This Row],[Nr_Pedido]]=\"\"),\"\",IF(tb_pagamentos[[#This Row],[Data_Pagamento]]<>\"\",\"Pago\",IF(AND(tb_pagamentos[[#This Row],[Data_Pagamento]]=\"\",tb_pagamentos[[#This Row],[Data_Vencimento]]<TODAY()),\"Em Atraso\",\"A vencer\")))","v":""}]
[null,null,"",{"$f":"IFERROR(INDEX(CALC_BASE!$N$3:$N$52,MATCH(ROW()-7,CALC_BASE!$M$3:$M$52,0)),\"\")","v":""},{"$f":"IFERROR(INDEX(CALC_BASE!$O$3:$O$52,MATCH(ROW()-7,CALC_BASE!$M$3:$M$52,0)),\"\")","v":""},{"$f":"IFERROR(INDEX(CALC_BASE!$P$3:$P$52,MATCH(ROW()-7,CALC_BASE!$M$3:$M$52,0)),\"\")","v":""},{"$f":"IFERROR(IF(D629=\"\",\"\",INDEX(tb_vendas[Preço de Venda],MATCH(D629,tb_vendas[N° Pedido/Empresa],0))/F629),\"\")","v":""},{"$f":"IFERROR(IF(D629=\"\",\"\",INDEX(tb_vendas[Data Fechamento],MATCH(D629,tb_vendas[N° Pedido/Empresa],0))+E629*INDEX(tb_formas_pagamento[Dias_Intervalo],MATCH(INDEX(tb_vendas[Forma_Pagamento],MATCH(D629,tb_vendas[N° Pedido/Empresa],0)),tb_formas_pagamento[Nome_Forma],0))),\"\")","v":""},null,{"$f":"IF(OR(tb_pagamentos[[#This Row],[Data_Vencimento]]=\"\",tb_pagamentos[[#This Row],[Valor_Parcela]]=\"\",tb_pagamentos[[#This Row],[Qtd_Total_Parcelas]]=\"\",tb_pagamentos[[#This Row],[Nr_Pedido]]=\"\"),\"\",IF(tb_pagamentos[[#This Row],[Data_Pagamento]]<>\"\",\"Pago\",IF(AND(tb_pagamentos[[#This Row],[Data_Pagamento]]=\"\",tb_pagamentos[[#This Row],[Data_Vencimento]]<TODAY()),\"Em Atraso\",\"A vencer\")))","v":""}]
[null,null,"",{"$f":"IFERROR(INDEX(CALC_BASE!$N$3:$N$52,MATCH(ROW()-7,CALC_BASE!$M$3:$M$52,0)),\"\")","v":""},{"$f":"IFERROR(INDEX(CALC_BASE!$O$3:$O$52,MATCH(ROW()-7,CALC_BASE!$M$3:$M$52,0)),\"\")","v":""},{"$f":"IFERROR(INDEX(CALC_BASE!$P$3:$P$52,MATCH(ROW()-7,CALC_BASE!$M$3:$M$52,0)),\"\")","v":""},{"$f":"IFERROR(IF(D630=\"\",\"\",INDEX(tb_vendas[Preço de Venda],MATCH(D630,tb_vendas[N° Pedido/Empresa],0))/F630),\"\")","v":""},{"$f":"IFERROR(IF(D630=\"\",\"\",INDEX(tb_vendas[Data Fechamento],MATCH(D630,tb_vendas[N° Pedido/Empresa],0))+E630*INDEX(tb_formas_pagamento[Dias_Intervalo],MATCH(INDEX(tb_vendas[Forma_Pagamento],MATCH(D630,tb_vendas[N° Pedido/Empresa],0)),tb_formas_pagamento[Nome_Forma],0))),\"\")","v":""},null,{"$f":"IF(OR(tb_pagamentos[[#This Row],[Data_Vencimento]]=\"\",tb_pagamentos[[#This Row],[Valor_Parcela]]=\"\",tb_pagamentos[[#This Row],[Qtd_Total_Parcelas]]=\"\",tb_pagamentos[[#This Row],[Nr_Pedido]]=\"\"),\"\",IF(tb_pagamentos[[#This Row],[Data_Pagamento]]<>\"\",\"Pago\",IF(AND(tb_pagamentos[[#This Row],[Data_Pagamento]]=\"\",tb_pagamentos[[#This Row],[Data_Vencimento]]<TODAY()),\"Em Atraso\",\"A vencer\")))","v":""}]
[null,null,"",{"$f":"IFERROR(INDEX(CALC_BASE!$N$3:$N$52,MATCH(ROW()-7,CALC_BASE!$M$3:$M$52,0)),\"\")","v":""},{"$f":"IFERROR(INDEX(CALC_BASE!$O$3:$O$52,MATCH(ROW()-7,CALC_BASE!$M$3:$M$52,0)),\"\")","v":""},{"$f":"IFERROR(INDEX(CALC_BASE!$P$3:$P$52,MATCH(ROW()-7,CALC_BASE!$M$3:$M$52,0)),\"\")","v":""},{"$f":"IFERROR(IF(D631=\"\",\"\",INDEX(tb_vendas[Preço de Venda],MATCH(D631,tb_vendas[N° Pedido/Empresa],0))/F631),\"\")","v":""},{"$f":"IFERROR(IF(D631=\"\",\"\",INDEX(tb_vendas[Data Fechamento],MATCH(D631,tb_vendas[N° Pedido/Empresa],0))+E631*INDEX(tb_formas_pagamento[Dias_Intervalo],MATCH(INDEX(tb_vendas[Forma_Pagamento],MATCH(D631,tb_vendas[N° Pedido/Empresa],0)),tb_formas_pagamento[Nome_Forma],0))),\"\")","v":""},null,{"$f":"IF(OR(tb_pagamentos[[#This Row],[Data_Vencimento]]=\"\",tb_pagamentos[[#This Row],[Valor_Parcela]]=\"\",tb_pagamentos[[#This Row],[Qtd_Total_Parcelas]]=\"\",tb_pagamentos[[#This Row],[Nr_Pedido]]=\"\"),\"\",IF(tb_pagamentos[[#This Row],[Data_Pagamento]]<>\"\",\"Pago\",IF(AND(tb_pagamentos[[#This Row],[Data_Pagamento]]=\"\",tb_pagamentos[[#This Row],[Data_Vencimento]]<TODAY()),\"Em Atraso\",\"A vencer\")))","v":""}]
[null,null,"",{"$f":"IFERROR(INDEX(CALC_BASE!$N$3:$N$52,MATCH(ROW()-7,CALC_BASE!$M$3:$M$52,0)),\"\")","v":""},{"$f":"IFERROR(INDEX(CALC_BASE!$O$3:$O$52,MATCH(ROW()-7,CALC_BASE!$M$3:$M$52,0)),\"\")","v":""},{"$f":"IFERROR(INDEX(CALC_BASE!$P$3:$P$52,MATCH(ROW()-7,CALC_BASE!$M$3:$M$52,0)),\"\")","v":""},{"$f":"IFERROR(IF(D632=\"\",\"\",INDEX(tb_vendas[Preço de Venda],MATCH(D632,tb_vendas[N° Pedido/Empresa],0))/F632),\"\")","v":""},{"$f":"IFERROR(IF(D632=\"\",\"\",INDEX(tb_vendas[Data Fechamento],MATCH(D632,tb_vendas[N° Pedido/Empresa],0))+E632*INDEX(tb_formas_pagamento[Dias_Intervalo],MATCH(INDEX(tb_vendas[Forma_Pagamento],MATCH(D632,tb_vendas[N° Pedido/Empresa],0)),tb_formas_pagamento[Nome_Forma],0))),\"\")","v":""},null,{"$f":"IF(OR(tb_pagamentos[[#This Row],[Data_Vencimento]]=\"\",tb_pagamentos[[#This Row],[Valor_Parcela]]=\"\",tb_pagamentos[[#This Row],[Qtd_Total_Parcelas]]=\"\",tb_pagamentos[[#This Row],[Nr_Pedido]]=\"\"),\"\",IF(tb_pagamentos[[#This Row],[Data_Pagamento]]<>\"\",\"Pago\",IF(AND(tb_pagamentos[[#This Row],[Data_Pagamento]]=\"\",tb_pagamentos[[#This Row],[Data_Vencimento]]<TODAY()),\"Em Atraso\",\"A vencer\")))","v":""}]
[null,null,"",{"$f":"IFERROR(INDEX(CALC_BASE!$N$3:$N$52,MATCH(ROW()-7,CALC_BASE!$M$3:$M$52,0)),\"\")","v":""},{"$f":"IFERROR(INDEX(CALC_BASE!$O$3:$O$52,MATCH(ROW()-7,CALC_BASE!$M$3:$M$52,0)),\"\")","v":""},{"$f":"IFERROR(INDEX(CALC_BASE!$P$3:$P$52,MATCH(ROW()-7,CALC_BASE!$M$3:$M$52,0)),\"\")","v":""},{"$f":"IFERROR(IF(D633=\"\",\"\",INDEX(tb_vendas[Preço de Venda],MATCH(D633,tb_vendas[N° Pedido/Empresa],0))/F633),\"\")","v":""},{"$f":"IFERROR(IF(D633=\"\",\"\",INDEX(tb_vendas[Data Fechamento],MATCH(D633,tb_vendas[N° Pedido/Empresa],0))+E633*INDEX(tb_formas_pagamento[Dias_Intervalo],MATCH(INDEX(tb_vendas[Forma_Pagamento],MATCH(D633,tb_vendas[N° Pedido/Empresa],0)),tb_formas_pagamento[Nome_Forma],0))),\"\")","v":""},null,{"$f":"IF(OR(tb_pagamentos[[#This Row],[Data_Vencimento]]=\"\",tb_pagamentos[[#This Row],[Valor_Parcela]]=\"\",tb_pagamentos[[#This Row],[Qtd_Total_Parcelas]]=\"\",tb_pagamentos[[#This Row],[Nr_Pedido]]=\"\"),\"\",IF(tb_pagamentos[[#This Row],[Data_Pagamento]]<>\"\",\"Pago\",IF(AND(tb_pagamentos[[#This Row],[Data_Pagamento]]=\"\",tb_pagamentos[[#This Row],[Data_Vencimento]]<TODAY()),\"Em Atraso\",\"A vencer\")))","v":""}]
[null,null,"",{"$f":"IFERROR(INDEX(CALC_BASE!$N$3:$N$52,MATCH(ROW()-7,CALC_BASE!$M$3:$M$52,0)),\"\")","v":""},{"$f":"IFERROR(INDEX(CALC_BASE!$O$3:$O$52,MATCH(ROW()-7,CALC_BASE!$M$3:$M$52,0)),\"\")","v":""},{"$f":"IFERROR(INDEX(CALC_BASE!$P$3:$P$52,MATCH(ROW()-7,CALC_BASE!$M$3:$M$52,0)),\"\")","v":""},{"$f":"IFERROR(IF(D634=\"\",\"\",INDEX(tb_vendas[Preço de Venda],MATCH(D634,tb_vendas[N° Pedido/Empresa],0))/F634),\"\")","v":""},{"$f":"IFERROR(IF(D634=\"\",\"\",INDEX(tb_vendas[Data Fechamento],MATCH(D634,tb_vendas[N° Pedido/Empresa],0))+E634*INDEX(tb_formas_pagamento[Dias_Intervalo],MATCH(INDEX(tb_vendas[Forma_Pagamento],MATCH(D634,tb_vendas[N° Pedido/Empresa],0)),tb_formas_pagamento[Nome_Forma],0))),\"\")","v":""},null,{"$f":"IF(OR(tb_pagamentos[[#This Row],[Data_Vencimento]]=\"\",tb_pagamentos[[#This Row],[Valor_Parcela]]=\"\",tb_pagamentos[[#This Row],[Qtd_Total_Parcelas]]=\"\",tb_pagamentos[[#This Row],[Nr_Pedido]]=\"\"),\"\",IF(tb_pagamentos[[#This Row],[Data_Pagamento]]<>\"\",\"Pago\",IF(AND(tb_pagamentos[[#This Row],[Data_Pagamento]]=\"\",tb_pagamentos[[#This Row],[Data_Vencimento]]<TODAY()),\"Em Atraso\",\"A vencer\")))","v":""}]
[null,null,"",{"$f":"IFERROR(INDEX(CALC_BASE!$N$3:$N$52,MATCH(ROW()-7,CALC_BASE!$M$3:$M$52,0)),\"\")","v":""},{"$f":"IFERROR(INDEX(CALC_BASE!$O$3:$O$52,MATCH(ROW()-7,CALC_BASE!$M$3:$M$52,0)),\"\")","v":""},{"$f":"IFERROR(INDEX(CALC_BASE!$P$3:$P$52,MATCH(ROW()-7,CALC_BASE!$M$3:$M$52,0)),\"\")","v":""},{"$f":"IFERROR(IF(D635=\"\",\"\",INDEX(tb_vendas[Preço de Venda],MATCH(D635,tb_vendas[N° Pedido/Empresa],0))/F635),\"\")","v":""},{"$f":"IFERROR(IF(D635=\"\",\"\",INDEX(tb_vendas[Data Fechamento],MATCH(D635,tb_vendas[N° Pedido/Empresa],0))+E635*INDEX(tb_formas_pagamento[Dias_Intervalo],MATCH(INDEX(tb_vendas[Forma_Pagamento],MATCH(D635,tb_vendas[N° Pedido/Empresa],0)),tb_formas_pagamento[Nome_Forma],0))),\"\")","v":""},null,{"$f":"IF(OR(tb_pagamentos[[#This Row],[Data_Vencimento]]=\"\",tb_pagamentos[[#This Row],[Valor_Parcela]]=\"\",tb_pagamentos[[#This Row],[Qtd_Total_Parcelas]]=\"\",tb_pagamentos[[#This Row],[Nr_Pedido]]=\"\"),\"\",IF(tb_pagamentos[[#This Row],[Data_Pagamento]]<>\"\",\"Pago\",IF(AND(tb_pagamentos[[#This Row],[Data_Pagamento]]=\"\",tb_pagamentos[[#This Row],[Data_Vencimento]]<TODAY()),\"Em Atraso\",\"A vencer\")))","v":""}]
[null,null,"",{"$f":"IFERROR(INDEX(CALC_BASE!$N$3:$N$52,MATCH(ROW()-7,CALC_BASE!$M$3:$M$52,0)),\"\")","v":""},{"$f":"IFERROR(INDEX(CALC_BASE!$O$3:$O$52,MATCH(ROW()-7,CALC_BASE!$M$3:$M$52,0)),\"\")","v":""},{"$f":"IFERROR(INDEX(CALC_BASE!$P$3:$P$52,MATCH(ROW()-7,CALC_BASE!$M$3:$M$52,0)),\"\")","v":""},{"$f":"IFERROR(IF(D636=\"\",\"\",INDEX(tb_vendas[Preço de Venda],MATCH(D636,tb_vendas[N° Pedido/Empresa],0))/F636),\"\")","v":""},{"$f":"IFERROR(IF(D636=\"\",\"\",INDEX(tb_vendas[Data Fechamento],MATCH(D636,tb_vendas[N° Pedido/Empresa],0))+E636*INDEX(tb_formas_pagamento[Dias_Intervalo],MATCH(INDEX(tb_vendas[Forma_Pagamento],MATCH(D636,tb_vendas[N° Pedido/Empresa],0)),tb_formas_pagamento[Nome_Forma],0))),\"\")","v":""},null,{"$f":"IF(OR(tb_pagamentos[[#This Row],[Data_Vencimento]]=\"\",tb_pagamentos[[#This Row],[Valor_Parcela]]=\"\",tb_pagamentos[[#This Row],[Qtd_Total_Parcelas]]=\"\",tb_pagamentos[[#This Row],[Nr_Pedido]]=\"\"),\"\",IF(tb_pagamentos[[#This Row],[Data_Pagamento]]<>\"\",\"Pago\",IF(AND(tb_pagamentos[[#This Row],[Data_Pagamento]]=\"\",tb_pagamentos[[#This Row],[Data_Vencimento]]<TODAY()),\"Em Atraso\",\"A vencer\")))","v":""}]
[null,null,"",{"$f":"IFERROR(INDEX(CALC_BASE!$N$3:$N$52,MATCH(ROW()-7,CALC_BASE!$M$3:$M$52,0)),\"\")","v":""},{"$f":"IFERROR(INDEX(CALC_BASE!$O$3:$O$52,MATCH(ROW()-7,CALC_BASE!$M$3:$M$52,0)),\"\")","v":""},{"$f":"IFERROR(INDEX(CALC_BASE!$P$3:$P$52,MATCH(ROW()-7,CALC_BASE!$M$3:$M$52,0)),\"\")","v":""},{"$f":"IFERROR(IF(D637=\"\",\"\",INDEX(tb_vendas[Preço de Venda],MATCH(D637,tb_vendas[N° Pedido/Empresa],0))/F637),\"\")","v":""},{"$f":"IFERROR(IF(D637=\"\",\"\",INDEX(tb_vendas[Data Fechamento],MATCH(D637,tb_vendas[N° Pedido/Empresa],0))+E637*INDEX(tb_formas_pagamento[Dias_Intervalo],MATCH(INDEX(tb_vendas[Forma_Pagamento],MATCH(D637,tb_vendas[N° Pedido/Empresa],0)),tb_formas_pagamento[Nome_Forma],0))),\"\")","v":""},null,{"$f":"IF(OR(tb_pagamentos[[#This Row],[Data_Vencimento]]=\"\",tb_pagamentos[[#This Row],[Valor_Parcela]]=\"\",tb_pagamentos[[#This Row],[Qtd_Total_Parcelas]]=\"\",tb_pagamentos[[#This Row],[Nr_Pedido]]=\"\"),\"\",IF(tb_pagamentos[[#This Row],[Data_Pagamento]]<>\"\",\"Pago\",IF(AND(tb_pagamentos[[#This Row],[Data_Pagamento]]=\"\",tb_pagamentos[[#This Row],[Data_Vencimento]]<TODAY()),\"Em Atraso\",\"A vencer\")))","v":""}]
[null,null,"",{"$f":"IFERROR(INDEX(CALC_BASE!$N$3:$N$52,MATCH(ROW()-7,CALC_BASE!$M$3:$M$52,0)),\"\")","v":""},{"$f":"IFERROR(INDEX(CALC_BASE!$O$3:$O$52,MATCH(ROW()-7,CALC_BASE!$M$3:$M$52,0)),\"\")","v":""},{"$f":"IFERROR(INDEX(CALC_BASE!$P$3:$P$52,MATCH(ROW()-7,CALC_BASE!$M$3:$M$52,0)),\"\")","v":""},{"$f":"IFERROR(IF(D638=\"\",\"\",INDEX(tb_vendas[Preço de Venda],MATCH(D638,tb_vendas[N° Pedido/Empresa],0))/F638),\"\")","v":""},{"$f":"IFERROR(IF(D638=\"\",\"\",INDEX(tb_vendas[Data Fechamento],MATCH(D638,tb_vendas[N° Pedido/Empresa],0))+E638*INDEX(tb_formas_pagamento[Dias_Intervalo],MATCH(INDEX(tb_vendas[Forma_Pagamento],MATCH(D638,tb_vendas[N° Pedido/Empresa],0)),tb_formas_pagamento[Nome_Forma],0))),\"\")","v":""},null,{"$f":"IF(OR(tb_pagamentos[[#This Row],[Data_Vencimento]]=\"\",tb_pagamentos[[#This Row],[Valor_Parcela]]=\"\",tb_pagamentos[[#This Row],[Qtd_Total_Parcelas]]=\"\",tb_pagamentos[[#This Row],[Nr_Pedido]]=\"\"),\"\",IF(tb_pagamentos[[#This Row],[Data_Pagamento]]<>\"\",\"Pago\",IF(AND(tb_pagamentos[[#This Row],[Data_Pagamento]]=\"\",tb_pagamentos[[#This Row],[Data_Vencimento]]<TODAY()),\"Em Atraso\",\"A vencer\")))","v":""}]
[null,null,"",{"$f":"IFERROR(INDEX(CALC_BASE!$N$3:$N$52,MATCH(ROW()-7,CALC_BASE!$M$3:$M$52,0)),\"\")","v":""},{"$f":"IFERROR(INDEX(CALC_BASE!$O$3:$O$52,MATCH(ROW()-7,CALC_BASE!$M$3:$M$52,0)),\"\")","v":""},{"$f":"IFERROR(INDEX(CALC_BASE!$P$3:$P$52,MATCH(ROW()-7,CALC_BASE!$M$3:$M$52,0)),\"\")","v":""},{"$f":"IFERROR(IF(D639=\"\",\"\",INDEX(tb_vendas[Preço de Venda],MATCH(D639,tb_vendas[N° Pedido/Empresa],0))/F639),\"\")","v":""},{"$f":"IFERROR(IF(D639=\"\",\"\",INDEX(tb_vendas[Data Fechamento],MATCH(D639,tb_vendas[N° Pedido/Empresa],0))+E639*INDEX(tb_formas_pagamento[Dias_Intervalo],MATCH(INDEX(tb_vendas[Forma_Pagamento],MATCH(D639,tb_vendas[N° Pedido/Empresa],0)),tb_formas_pagamento[Nome_Forma],0))),\"\")","v":""},null,{"$f":"IF(OR(tb_pagamentos[[#This Row],[Data_Vencimento]]=\"\",tb_pagamentos[[#This Row],[Valor_Parcela]]=\"\",tb_pagamentos[[#This Row],[Qtd_Total_Parcelas]]=\"\",tb_pagamentos[[#This Row],[Nr_Pedido]]=\"\"),\"\",IF(tb_pagamentos[[#This Row],[Data_Pagamento]]<>\"\",\"Pago\",IF(AND(tb_pagamentos[[#This Row],[Data_Pagamento]]=\"\",tb_pagamentos[[#This Row],[Data_Vencimento]]<TODAY()),\"Em Atraso\",\"A vencer\")))","v":""}]
[null,null,"",{"$f":"IFERROR(INDEX(CALC_BASE!$N$3:$N$52,MATCH(ROW()-7,CALC_BASE!$M$3:$M$52,0)),\"\")","v":""},{"$f":"IFERROR(INDEX(CALC_BASE!$O$3:$O$52,MATCH(ROW()-7,CALC_BASE!$M$3:$M$52,0)),\"\")","v":""},{"$f":"IFERROR(INDEX(CALC_BASE!$P$3:$P$52,MATCH(ROW()-7,CALC_BASE!$M$3:$M$52,0)),\"\")","v":""},{"$f":"IFERROR(IF(D640=\"\",\"\",INDEX(tb_vendas[Preço de Venda],MATCH(D640,tb_vendas[N° Pedido/Empresa],0))/F640),\"\")","v":""},{"$f":"IFERROR(IF(D640=\"\",\"\",INDEX(tb_vendas[Data Fechamento],MATCH(D640,tb_vendas[N° Pedido/Empresa],0))+E640*INDEX(tb_formas_pagamento[Dias_Intervalo],MATCH(INDEX(tb_vendas[Forma_Pagamento],MATCH(D640,tb_vendas[N° Pedido/Empresa],0)),tb_formas_pagamento[Nome_Forma],0))),\"\")","v":""},null,{"$f":"IF(OR(tb_pagamentos[[#This Row],[Data_Vencimento]]=\"\",tb_pagamentos[[#This Row],[Valor_Parcela]]=\"\",tb_pagamentos[[#This Row],[Qtd_Total_Parcelas]]=\"\",tb_pagamentos[[#This Row],[Nr_Pedido]]=\"\"),\"\",IF(tb_pagamentos[[#This Row],[Data_Pagamento]]<>\"\",\"Pago\",IF(AND(tb_pagamentos[[#This Row],[Data_Pagamento]]=\"\",tb_pagamentos[[#This Row],[Data_Vencimento]]<TODAY()),\"Em Atraso\",\"A vencer\")))","v":""}]
[null,null,"",{"$f":"IFERROR(INDEX(CALC_BASE!$N$3:$N$52,MATCH(ROW()-7,CALC_BASE!$M$3:$M$52,0)),\"\")","v":""},{"$f":"IFERROR(INDEX(CALC_BASE!$O$3:$O$52,MATCH(ROW()-7,CALC_BASE!$M$3:$M$52,0)),\"\")","v":""},{"$f":"IFERROR(INDEX(CALC_BASE!$P$3:$P$52,MATCH(ROW()-7,CALC_BASE!$M$3:$M$52,0)),\"\")","v":""},{"$f":"IFERROR(IF(D641=\"\",\"\",INDEX(tb_vendas[Preço de Venda],MATCH(D641,tb_vendas[N° Pedido/Empresa],0))/F641),\"\")","v":""},{"$f":"IFERROR(IF(D641=\"\",\"\",INDEX(tb_vendas[Data Fechamento],MATCH(D641,tb_vendas[N° Pedido/Empresa],0))+E641*INDEX(tb_formas_pagamento[Dias_Intervalo],MATCH(INDEX(tb_vendas[Forma_Pagamento],MATCH(D641,tb_vendas[N° Pedido/Empresa],0)),tb_formas_pagamento[Nome_Forma],0))),\"\")","v":""},null,{"$f":"IF(OR(tb_pagamentos[[#This Row],[Data_Vencimento]]=\"\",tb_pagamentos[[#This Row],[Valor_Parcela]]=\"\",tb_pagamentos[[#This Row],[Qtd_Total_Parcelas]]=\"\",tb_pagamentos[[#This Row],[Nr_Pedido]]=\"\"),\"\",IF(tb_pagamentos[[#This Row],[Data_Pagamento]]<>\"\",\"Pago\",IF(AND(tb_pagamentos[[#This Row],[Data_Pagamento]]=\"\",tb_pagamentos[[#This Row],[Data_Vencimento]]<TODAY()),\"Em Atraso\",\"A vencer\")))","v":""}]
[null,null,"",{"$f":"IFERROR(INDEX(CALC_BASE!$N$3:$N$52,MATCH(ROW()-7,CALC_BASE!$M$3:$M$52,0)),\"\")","v":""},{"$f":"IFERROR(INDEX(CALC_BASE!$O$3:$O$52,MATCH(ROW()-7,CALC_BASE!$M$3:$M$52,0)),\"\")","v":""},{"$f":"IFERROR(INDEX(CALC_BASE!$P$3:$P$52,MATCH(ROW()-7,CALC_BASE!$M$3:$M$52,0)),\"\")","v":""},{"$f":"IFERROR(IF(D642=\"\",\"\",INDEX(tb_vendas[Preço de Venda],MATCH(D642,tb_vendas[N° Pedido/Empresa],0))/F642),\"\")","v":""},{"$f":"IFERROR(IF(D642=\"\",\"\",INDEX(tb_vendas[Data Fechamento],MATCH(D642,tb_vendas[N° Pedido/Empresa],0))+E642*INDEX(tb_formas_pagamento[Dias_Intervalo],MATCH(INDEX(tb_vendas[Forma_Pagamento],MATCH(D642,tb_vendas[N° Pedido/Empresa],0)),tb_formas_pagamento[Nome_Forma],0))),\"\")","v":""},null,{"$f":"IF(OR(tb_pagamentos[[#This Row],[Data_Vencimento]]=\"\",tb_pagamentos[[#This Row],[Valor_Parcela]]=\"\",tb_pagamentos[[#This Row],[Qtd_Total_Parcelas]]=\"\",tb_pagamentos[[#This Row],[Nr_Pedido]]=\"\"),\"\",IF(tb_pagamentos[[#This Row],[Data_Pagamento]]<>\"\",\"Pago\",IF(AND(tb_pagamentos[[#This Row],[Data_Pagamento]]=\"\",tb_pagamentos[[#This Row],[Data_Vencimento]]<TODAY()),\"Em Atraso\",\"A vencer\")))","v":""}]
[null,null,"",{"$f":"IFERROR(INDEX(CALC_BASE!$N$3:$N$52,MATCH(ROW()-7,CALC_BASE!$M$3:$M$52,0)),\"\")","v":""},{"$f":"IFERROR(INDEX(CALC_BASE!$O$3:$O$52,MATCH(ROW()-7,CALC_BASE!$M$3:$M$52,0)),\"\")","v":""},{"$f":"IFERROR(INDEX(CALC_BASE!$P$3:$P$52,MATCH(ROW()-7,CALC_BASE!$M$3:$M$52,0)),\"\")","v":""},{"$f":"IFERROR(IF(D643=\"\",\"\",INDEX(tb_vendas[Preço de Venda],MATCH(D643,tb_vendas[N° Pedido/Empresa],0))/F643),\"\")","v":""},{"$f":"IFERROR(IF(D643=\"\",\"\",INDEX(tb_vendas[Data Fechamento],MATCH(D643,tb_vendas[N° Pedido/Empresa],0))+E643*INDEX(tb_formas_pagamento[Dias_Intervalo],MATCH(INDEX(tb_vendas[Forma_Pagamento],MATCH(D643,tb_vendas[N° Pedido/Empresa],0)),tb_formas_pagamento[Nome_Forma],0))),\"\")","v":""},null,{"$f":"IF(OR(tb_pagamentos[[#This Row],[Data_Vencimento]]=\"\",tb_pagamentos[[#This Row],[Valor_Parcela]]=\"\",tb_pagamentos[[#This Row],[Qtd_Total_Parcelas]]=\"\",tb_pagamentos[[#This Row],[Nr_Pedido]]=\"\"),\"\",IF(tb_pagamentos[[#This Row],[Data_Pagamento]]<>\"\",\"Pago\",IF(AND(tb_pagamentos[[#This Row],[Data_Pagamento]]=\"\",tb_pagamentos[[#This Row],[Data_Vencimento]]<TODAY()),\"Em Atraso\",\"A vencer\")))","v":""}]
[null,null,"",{"$f":"IFERROR(INDEX(CALC_BASE!$N$3:$N$52,MATCH(ROW()-7,CALC_BASE!$M$3:$M$52,0)),\"\")","v":""},{"$f":"IFERROR(INDEX(CALC_BASE!$O$3:$O$52,MATCH(ROW()-7,CALC_BASE!$M$3:$M$52,0)),\"\")","v":""},{"$f":"IFERROR(INDEX(CALC_BASE!$P$3:$P$52,MATCH(ROW()-7,CALC_BASE!$M$3:$M$52,0)),\"\")","v":""},{"$f":"IFERROR(IF(D644=\"\",\"\",INDEX(tb_vendas[Preço de Venda],MATCH(D644,tb_vendas[N° Pedido/Empresa],0))/F644),\"\")","v":""},{"$f":"IFERROR(IF(D644=\"\",\"\",INDEX(tb_vendas[Data Fechamento],MATCH(D644,tb_vendas[N° Pedido/Empresa],0))+E644*INDEX(tb_formas_pagamento[Dias_Intervalo],MATCH(INDEX(tb_vendas[Forma_Pagamento],MATCH(D644,tb_vendas[N° Pedido/Empresa],0)),tb_formas_pagamento[Nome_Forma],0))),\"\")","v":""},null,{"$f":"IF(OR(tb_pagamentos[[#This Row],[Data_Vencimento]]=\"\",tb_pagamentos[[#This Row],[Valor_Parcela]]=\"\",tb_pagamentos[[#This Row],[Qtd_Total_Parcelas]]=\"\",tb_pagamentos[[#This Row],[Nr_Pedido]]=\"\"),\"\",IF(tb_pagamentos[[#This Row],[Data_Pagamento]]<>\"\",\"Pago\",IF(AND(tb_pagamentos[[#This Row],[Data_Pagamento]]=\"\",tb_pagamentos[[#This Row],[Data_Vencimento]]<TODAY()),\"Em Atraso\",\"A vencer\")))","v":""}]
[null,null,"",{"$f":"IFERROR(INDEX(CALC_BASE!$N$3:$N$52,MATCH(ROW()-7,CALC_BASE!$M$3:$M$52,0)),\"\")","v":""},{"$f":"IFERROR(INDEX(CALC_BASE!$O$3:$O$52,MATCH(ROW()-7,CALC_BASE!$M$3:$M$52,0)),\"\")","v":""},{"$f":"IFERROR(INDEX(CALC_BASE!$P$3:$P$52,MATCH(ROW()-7,CALC_BASE!$M$3:$M$52,0)),\"\")","v":""},{"$f":"IFERROR(IF(D645=\"\",\"\",INDEX(tb_vendas[Preço de Venda],MATCH(D645,tb_vendas[N° Pedido/Empresa],0))/F645),\"\")","v":""},{"$f":"IFERROR(IF(D645=\"\",\"\",INDEX(tb_vendas[Data Fechamento],MATCH(D645,tb_vendas[N° Pedido/Empresa],0))+E645*INDEX(tb_formas_pagamento[Dias_Intervalo],MATCH(INDEX(tb_vendas[Forma_Pagamento],MATCH(D645,tb_vendas[N° Pedido/Empresa],0)),tb_formas_pagamento[Nome_Forma],0))),\"\")","v":""},null,{"$f":"IF(OR(tb_pagamentos[[#This Row],[Data_Vencimento]]=\"\",tb_pagamentos[[#This Row],[Valor_Parcela]]=\"\",tb_pagamentos[[#This Row],[Qtd_Total_Parcelas]]=\"\",tb_pagamentos[[#This Row],[Nr_Pedido]]=\"\"),\"\",IF(tb_pagamentos[[#This Row],[Data_Pagamento]]<>\"\",\"Pago\",IF(AND(tb_pagamentos[[#This Row],[Data_Pagamento]]=\"\",tb_pagamentos[[#This Row],[Data_Vencimento]]<TODAY()),\"Em Atraso\",\"A vencer\")))","v":""}]
[null,null,"",{"$f":"IFERROR(INDEX(CALC_BASE!$N$3:$N$52,MATCH(ROW()-7,CALC_BASE!$M$3:$M$52,0)),\"\")","v":""},{"$f":"IFERROR(INDEX(CALC_BASE!$O$3:$O$52,MATCH(ROW()-7,CALC_BASE!$M$3:$M$52,0)),\"\")","v":""},{"$f":"IFERROR(INDEX(CALC_BASE!$P$3:$P$52,MATCH(ROW()-7,CALC_BASE!$M$3:$M$52,0)),\"\")","v":""},{"$f":"IFERROR(IF(D646=\"\",\"\",INDEX(tb_vendas[Preço de Venda],MATCH(D646,tb_vendas[N° Pedido/Empresa],0))/F646),\"\")","v":""},{"$f":"IFERROR(IF(D646=\"\",\"\",INDEX(tb_vendas[Data Fechamento],MATCH(D646,tb_vendas[N° Pedido/Empresa],0))+E646*INDEX(tb_formas_pagamento[Dias_Intervalo],MATCH(INDEX(tb_vendas[Forma_Pagamento],MATCH(D646,tb_vendas[N° Pedido/Empresa],0)),tb_formas_pagamento[Nome_Forma],0))),\"\")","v":""},null,{"$f":"IF(OR(tb_pagamentos[[#This Row],[Data_Vencimento]]=\"\",tb_pagamentos[[#This Row],[Valor_Parcela]]=\"\",tb_pagamentos[[#This Row],[Qtd_Total_Parcelas]]=\"\",tb_pagamentos[[#This Row],[Nr_Pedido]]=\"\"),\"\",IF(tb_pagamentos[[#This Row],[Data_Pagamento]]<>\"\",\"Pago\",IF(AND(tb_pagamentos[[#This Row],[Data_Pagamento]]=\"\",tb_pagamentos[[#This Row],[Data_Vencimento]]<TODAY()),\"Em Atraso\",\"A vencer\")))","v":""}]
[null,null,"",{"$f":"IFERROR(INDEX(CALC_BASE!$N$3:$N$52,MATCH(ROW()-7,CALC_BASE!$M$3:$M$52,0)),\"\")","v":""},{"$f":"IFERROR(INDEX(CALC_BASE!$O$3:$O$52,MATCH(ROW()-7,CALC_BASE!$M$3:$M$52,0)),\"\")","v":""},{"$f":"IFERROR(INDEX(CALC_BASE!$P$3:$P$52,MATCH(ROW()-7,CALC_BASE!$M$3:$M$52,0)),\"\")","v":""},{"$f":"IFERROR(IF(D647=\"\",\"\",INDEX(tb_vendas[Preço de Venda],MATCH(D647,tb_vendas[N° Pedido/Empresa],0))/F647),\"\")","v":""},{"$f":"IFERROR(IF(D647=\"\",\"\",INDEX(tb_vendas[Data Fechamento],MATCH(D647,tb_vendas[N° Pedido/Empresa],0))+E647*INDEX(tb_formas_pagamento[Dias_Intervalo],MATCH(INDEX(tb_vendas[Forma_Pagamento],MATCH(D647,tb_vendas[N° Pedido/Empresa],0)),tb_formas_pagamento[Nome_Forma],0))),\"\")","v":""},null,{"$f":"IF(OR(tb_pagamentos[[#This Row],[Data_Vencimento]]=\"\",tb_pagamentos[[#This Row],[Valor_Parcela]]=\"\",tb_pagamentos[[#This Row],[Qtd_Total_Parcelas]]=\"\",tb_pagamentos[[#This Row],[Nr_Pedido]]=\"\"),\"\",IF(tb_pagamentos[[#This Row],[Data_Pagamento]]<>\"\",\"Pago\",IF(AND(tb_pagamentos[[#This Row],[Data_Pagamento]]=\"\",tb_pagamentos[[#This Row],[Data_Vencimento]]<TODAY()),\"Em Atraso\",\"A vencer\")))","v":""}]
[null,null,"",{"$f":"IFERROR(INDEX(CALC_BASE!$N$3:$N$52,MATCH(ROW()-7,CALC_BASE!$M$3:$M$52,0)),\"\")","v":""},{"$f":"IFERROR(INDEX(CALC_BASE!$O$3:$O$52,MATCH(ROW()-7,CALC_BASE!$M$3:$M$52,0)),\"\")","v":""},{"$f":"IFERROR(INDEX(CALC_BASE!$P$3:$P$52,MATCH(ROW()-7,CALC_BASE!$M$3:$M$52,0)),\"\")","v":""},{"$f":"IFERROR(IF(D648=\"\",\"\",INDEX(tb_vendas[Preço de Venda],MATCH(D648,tb_vendas[N° Pedido/Empresa],0))/F648),\"\")","v":""},{"$f":"IFERROR(IF(D648=\"\",\"\",INDEX(tb_vendas[Data Fechamento],MATCH(D648,tb_vendas[N° Pedido/Empresa],0))+E648*INDEX(tb_formas_pagamento[Dias_Intervalo],MATCH(INDEX(tb_vendas[Forma_Pagamento],MATCH(D648,tb_vendas[N° Pedido/Empresa],0)),tb_formas_pagamento[Nome_Forma],0))),\"\")","v":""},null,{"$f":"IF(OR(tb_pagamentos[[#This Row],[Data_Vencimento]]=\"\",tb_pagamentos[[#This Row],[Valor_Parcela]]=\"\",tb_pagamentos[[#This Row],[Qtd_Total_Parcelas]]=\"\",tb_pagamentos[[#This Row],[Nr_Pedido]]=\"\"),\"\",IF(tb_pagamentos[[#This Row],[Data_Pagamento]]<>\"\",\"Pago\",IF(AND(tb_pagamentos[[#This Row],[Data_Pagamento]]=\"\",tb_pagamentos[[#This Row],[Data_Vencimento]]<TODAY()),\"Em Atraso\",\"A vencer\")))","v":""}]
[null,null,"",{"$f":"IFERROR(INDEX(CALC_BASE!$N$3:$N$52,MATCH(ROW()-7,CALC_BASE!$M$3:$M$52,0)),\"\")","v":""},{"$f":"IFERROR(INDEX(CALC_BASE!$O$3:$O$52,MATCH(ROW()-7,CALC_BASE!$M$3:$M$52,0)),\"\")","v":""},{"$f":"IFERROR(INDEX(CALC_BASE!$P$3:$P$52,MATCH(ROW()-7,CALC_BASE!$M$3:$M$52,0)),\"\")","v":""},{"$f":"IFERROR(IF(D649=\"\",\"\",INDEX(tb_vendas[Preço de Venda],MATCH(D649,tb_vendas[N° Pedido/Empresa],0))/F649),\"\")","v":""},{"$f":"IFERROR(IF(D649=\"\",\"\",INDEX(tb_vendas[Data Fechamento],MATCH(D649,tb_vendas[N° Pedido/Empresa],0))+E649*INDEX(tb_formas_pagamento[Dias_Intervalo],MATCH(INDEX(tb_vendas[Forma_Pagamento],MATCH(D649,tb_vendas[N° Pedido/Empresa],0)),tb_formas_pagamento[Nome_Forma],0))),\"\")","v":""},null,{"$f":"IF(OR(tb_pagamentos[[#This Row],[Data_Vencimento]]=\"\",tb_pagamentos[[#This Row],[Valor_Parcela]]=\"\",tb_pagamentos[[#This Row],[Qtd_Total_Parcelas]]=\"\",tb_pagamentos[[#This Row],[Nr_Pedido]]=\"\"),\"\",IF(tb_pagamentos[[#This Row],[Data_Pagamento]]<>\"\",\"Pago\",IF(AND(tb_pagamentos[[#This Row],[Data_Pagamento]]=\"\",tb_pagamentos[[#This Row],[Data_Vencimento]]<TODAY()),\"Em Atraso\",\"A vencer\")))","v":""}]
[null,null,"",{"$f":"IFERROR(INDEX(CALC_BASE!$N$3:$N$52,MATCH(ROW()-7,CALC_BASE!$M$3:$M$52,0)),\"\")","v":""},{"$f":"IFERROR(INDEX(CALC_BASE!$O$3:$O$52,MATCH(ROW()-7,CALC_BASE!$M$3:$M$52,0)),\"\")","v":""},{"$f":"IFERROR(INDEX(CALC_BASE!$P$3:$P$52,MATCH(ROW()-7,CALC_BASE!$M$3:$M$52,0)),\"\")","v":""},{"$f":"IFERROR(IF(D650=\"\",\"\",INDEX(tb_vendas[Preço de Venda],MATCH(D650,tb_vendas[N° Pedido/Empresa],0))/F650),\"\")","v":""},{"$f":"IFERROR(IF(D650=\"\",\"\",INDEX(tb_vendas[Data Fechamento],MATCH(D650,tb_vendas[N° Pedido/Empresa],0))+E650*INDEX(tb_formas_pagamento[Dias_Intervalo],MATCH(INDEX(tb_vendas[Forma_Pagamento],MATCH(D650,tb_vendas[N° Pedido/Empresa],0)),tb_formas_pagamento[Nome_Forma],0))),\"\")","v":""},null,{"$f":"IF(OR(tb_pagamentos[[#This Row],[Data_Vencimento]]=\"\",tb_pagamentos[[#This Row],[Valor_Parcela]]=\"\",tb_pagamentos[[#This Row],[Qtd_Total_Parcelas]]=\"\",tb_pagamentos[[#This Row],[Nr_Pedido]]=\"\"),\"\",IF(tb_pagamentos[[#This Row],[Data_Pagamento]]<>\"\",\"Pago\",IF(AND(tb_pagamentos[[#This Row],[Data_Pagamento]]=\"\",tb_pagamentos[[#This Row],[Data_Vencimento]]<TODAY()),\"Em Atraso\",\"A vencer\")))","v":""}]
[null,null,"",{"$f":"IFERROR(INDEX(CALC_BASE!$N$3:$N$52,MATCH(ROW()-7,CALC_BASE!$M$3:$M$52,0)),\"\")","v":""},{"$f":"IFERROR(INDEX(CALC_BASE!$O$3:$O$52,MATCH(ROW()-7,CALC_BASE!$M$3:$M$52,0)),\"\")","v":""},{"$f":"IFERROR(INDEX(CALC_BASE!$P$3:$P$52,MATCH(ROW()-7,CALC_BASE!$M$3:$M$52,0)),\"\")","v":""},{"$f":"IFERROR(IF(D651=\"\",\"\",INDEX(tb_vendas[Preço de Venda],MATCH(D651,tb_vendas[N° Pedido/Empresa],0))/F651),\"\")","v":""},{"$f":"IFERROR(IF(D651=\"\",\"\",INDEX(tb_vendas[Data Fechamento],MATCH(D651,tb_vendas[N° Pedido/Empresa],0))+E651*INDEX(tb_formas_pagamento[Dias_Intervalo],MATCH(INDEX(tb_vendas[Forma_Pagamento],MATCH(D651,tb_vendas[N° Pedido/Empresa],0)),tb_formas_pagamento[Nome_Forma],0))),\"\")","v":""},null,{"$f":"IF(OR(tb_pagamentos[[#This Row],[Data_Vencimento]]=\"\",tb_pagamentos[[#This Row],[Valor_Parcela]]=\"\",tb_pagamentos[[#This Row],[Qtd_Total_Parcelas]]=\"\",tb_pagamentos[[#This Row],[Nr_Pedido]]=\"\"),\"\",IF(tb_pagamentos[[#This Row],[Data_Pagamento]]<>\"\",\"Pago\",IF(AND(tb_pagamentos[[#This Row],[Data_Pagamento]]=\"\",tb_pagamentos[[#This Row],[Data_Vencimento]]<TODAY()),\"Em Atraso\",\"A vencer\")))","v":""}]
[null,null,"",{"$f":"IFERROR(INDEX(CALC_BASE!$N$3:$N$52,MATCH(ROW()-7,CALC_BASE!$M$3:$M$52,0)),\"\")","v":""},{"$f":"IFERROR(INDEX(CALC_BASE!$O$3:$O$52,MATCH(ROW()-7,CALC_BASE!$M$3:$M$52,0)),\"\")","v":""},{"$f":"IFERROR(INDEX(CALC_BASE!$P$3:$P$52,MATCH(ROW()-7,CALC_BASE!$M$3:$M$52,0)),\"\")","v":""},{"$f":"IFERROR(IF(D652=\"\",\"\",INDEX(tb_vendas[Preço de Venda],MATCH(D652,tb_vendas[N° Pedido/Empresa],0))/F652),\"\")","v":""},{"$f":"IFERROR(IF(D652=\"\",\"\",INDEX(tb_vendas[Data Fechamento],MATCH(D652,tb_vendas[N° Pedido/Empresa],0))+E652*INDEX(tb_formas_pagamento[Dias_Intervalo],MATCH(INDEX(tb_vendas[Forma_Pagamento],MATCH(D652,tb_vendas[N° Pedido/Empresa],0)),tb_formas_pagamento[Nome_Forma],0))),\"\")","v":""},null,{"$f":"IF(OR(tb_pagamentos[[#This Row],[Data_Vencimento]]=\"\",tb_pagamentos[[#This Row],[Valor_Parcela]]=\"\",tb_pagamentos[[#This Row],[Qtd_Total_Parcelas]]=\"\",tb_pagamentos[[#This Row],[Nr_Pedido]]=\"\"),\"\",IF(tb_pagamentos[[#This Row],[Data_Pagamento]]<>\"\",\"Pago\",IF(AND(tb_pagamentos[[#This Row],[Data_Pagamento]]=\"\",tb_pagamentos[[#This Row],[Data_Vencimento]]<TODAY()),\"Em Atraso\",\"A vencer\")))","v":""}]
[null,null,"",{"$f":"IFERROR(INDEX(CALC_BASE!$N$3:$N$52,MATCH(ROW()-7,CALC_BASE!$M$3:$M$52,0)),\"\")","v":""},{"$f":"IFERROR(INDEX(CALC_BASE!$O$3:$O$52,MATCH(ROW()-7,CALC_BASE!$M$3:$M$52,0)),\"\")","v":""},{"$f":"IFERROR(INDEX(CALC_BASE!$P$3:$P$52,MATCH(ROW()-7,CALC_BASE!$M$3:$M$52,0)),\"\")","v":""},{"$f":"IFERROR(IF(D653=\"\",\"\",INDEX(tb_vendas[Preço de Venda],MATCH(D653,tb_vendas[N° Pedido/Empresa],0))/F653),\"\")","v":""},{"$f":"IFERROR(IF(D653=\"\",\"\",INDEX(tb_vendas[Data Fechamento],MATCH(D653,tb_vendas[N° Pedido/Empresa],0))+E653*INDEX(tb_formas_pagamento[Dias_Intervalo],MATCH(INDEX(tb_vendas[Forma_Pagamento],MATCH(D653,tb_vendas[N° Pedido/Empresa],0)),tb_formas_pagamento[Nome_Forma],0))),\"\")","v":""},null,{"$f":"IF(OR(tb_pagamentos[[#This Row],[Data_Vencimento]]=\"\",tb_pagamentos[[#This Row],[Valor_Parcela]]=\"\",tb_pagamentos[[#This Row],[Qtd_Total_Parcelas]]=\"\",tb_pagamentos[[#This Row],[Nr_Pedido]]=\"\"),\"\",IF(tb_pagamentos[[#This Row],[Data_Pagamento]]<>\"\",\"Pago\",IF(AND(tb_pagamentos[[#This Row],[Data_Pagamento]]=\"\",tb_pagamentos[[#This Row],[Data_Vencimento]]<TODAY()),\"Em Atraso\",\"A vencer\")))","v":""}]
[null,null,"",{"$f":"IFERROR(INDEX(CALC_BASE!$N$3:$N$52,MATCH(ROW()-7,CALC_BASE!$M$3:$M$52,0)),\"\")","v":""},{"$f":"IFERROR(INDEX(CALC_BASE!$O$3:$O$52,MATCH(ROW()-7,CALC_BASE!$M$3:$M$52,0)),\"\")","v":""},{"$f":"IFERROR(INDEX(CALC_BASE!$P$3:$P$52,MATCH(ROW()-7,CALC_BASE!$M$3:$M$52,0)),\"\")","v":""},{"$f":"IFERROR(IF(D654=\"\",\"\",INDEX(tb_vendas[Preço de Venda],MATCH(D654,tb_vendas[N° Pedido/Empresa],0))/F654),\"\")","v":""},{"$f":"IFERROR(IF(D654=\"\",\"\",INDEX(tb_vendas[Data Fechamento],MATCH(D654,tb_vendas[N° Pedido/Empresa],0))+E654*INDEX(tb_formas_pagamento[Dias_Intervalo],MATCH(INDEX(tb_vendas[Forma_Pagamento],MATCH(D654,tb_vendas[N° Pedido/Empresa],0)),tb_formas_pagamento[Nome_Forma],0))),\"\")","v":""},null,{"$f":"IF(OR(tb_pagamentos[[#This Row],[Data_Vencimento]]=\"\",tb_pagamentos[[#This Row],[Valor_Parcela]]=\"\",tb_pagamentos[[#This Row],[Qtd_Total_Parcelas]]=\"\",tb_pagamentos[[#This Row],[Nr_Pedido]]=\"\"),\"\",IF(tb_pagamentos[[#This Row],[Data_Pagamento]]<>\"\",\"Pago\",IF(AND(tb_pagamentos[[#This Row],[Data_Pagamento]]=\"\",tb_pagamentos[[#This Row],[Data_Vencimento]]<TODAY()),\"Em Atraso\",\"A vencer\")))","v":""}]
[null,null,{"$f":"IF(OR(D655=\"\",E655=\"\"),\"\",D655&\"-\"&E655)","v":""},{"$f":"IFERROR(INDEX(CALC_BASE!$N$3:$N$52,MATCH(ROW()-7,CALC_BASE!$M$3:$M$52,0)),\"\")","v":""},{"$f":"IFERROR(INDEX(CALC_BASE!$O$3:$O$52,MATCH(ROW()-7,CALC_BASE!$M$3:$M$52,0)),\"\")","v":""},{"$f":"IFERROR(INDEX(CALC_BASE!$P$3:$P$52,MATCH(ROW()-7,CALC_BASE!$M$3:$M$52,0)),\"\")","v":""},{"$f":"IFERROR(IF(D655=\"\",\"\",INDEX(tb_vendas[Preço de Venda],MATCH(D655,tb_vendas[N° Pedido/Empresa],0))/F655),\"\")","v":""},{"$f":"IFERROR(IF(D655=\"\",\"\",INDEX(tb_vendas[Data Fechamento],MATCH(D655,tb_vendas[N° Pedido/Empresa],0))+E655*INDEX(tb_formas_pagamento[Dias_Intervalo],MATCH(INDEX(tb_vendas[Forma_Pagamento],MATCH(D655,tb_vendas[N° Pedido/Empresa],0)),tb_formas_pagamento[Nome_Forma],0))),\"\")","v":""},null,{"$f":"IF(OR(tb_pagamentos[[#This Row],[Data_Vencimento]]=\"\",tb_pagamentos[[#This Row],[Valor_Parcela]]=\"\",tb_pagamentos[[#This Row],[Qtd_Total_Parcelas]]=\"\",tb_pagamentos[[#This Row],[Nr_Pedido]]=\"\"),\"\",IF(tb_pagamentos[[#This Row],[Data_Pagamento]]<>\"\",\"Pago\",IF(AND(tb_pagamentos[[#This Row],[Data_Pagamento]]=\"\",tb_pagamentos[[#This Row],[Data_Vencimento]]<TODAY()),\"Em Atraso\",\"A vencer\")))","v":""}]
[null,null,"",{"$f":"IFERROR(INDEX(CALC_BASE!$N$3:$N$52,MATCH(ROW()-7,CALC_BASE!$M$3:$M$52,0)),\"\")","v":""},{"$f":"IFERROR(INDEX(CALC_BASE!$O$3:$O$52,MATCH(ROW()-7,CALC_BASE!$M$3:$M$52,0)),\"\")","v":""},{"$f":"IFERROR(INDEX(CALC_BASE!$P$3:$P$52,MATCH(ROW()-7,CALC_BASE!$M$3:$M$52,0)),\"\")","v":""},{"$f":"IFERROR(IF(D656=\"\",\"\",INDEX(tb_vendas[Preço de Venda],MATCH(D656,tb_vendas[N° Pedido/Empresa],0))/F656),\"\")","v":""},{"$f":"IFERROR(IF(D656=\"\",\"\",INDEX(tb_vendas[Data Fechamento],MATCH(D656,tb_vendas[N° Pedido/Empresa],0))+E656*INDEX(tb_formas_pagamento[Dias_Intervalo],MATCH(INDEX(tb_vendas[Forma_Pagamento],MATCH(D656,tb_vendas[N° Pedido/Empresa],0)),tb_formas_pagamento[Nome_Forma],0))),\"\")","v":""},null,{"$f":"IF(OR(tb_pagamentos[[#This Row],[Data_Vencimento]]=\"\",tb_pagamentos[[#This Row],[Valor_Parcela]]=\"\",tb_pagamentos[[#This Row],[Qtd_Total_Parcelas]]=\"\",tb_pagamentos[[#This Row],[Nr_Pedido]]=\"\"),\"\",IF(tb_pagamentos[[#This Row],[Data_Pagamento]]<>\"\",\"Pago\",IF(AND(tb_pagamentos[[#This Row],[Data_Pagamento]]=\"\",tb_pagamentos[[#This Row],[Data_Vencimento]]<TODAY()),\"Em Atraso\",\"A vencer\")))","v":""}]
[null,null,"",{"$f":"IFERROR(INDEX(CALC_BASE!$N$3:$N$52,MATCH(ROW()-7,CALC_BASE!$M$3:$M$52,0)),\"\")","v":""},{"$f":"IFERROR(INDEX(CALC_BASE!$O$3:$O$52,MATCH(ROW()-7,CALC_BASE!$M$3:$M$52,0)),\"\")","v":""},{"$f":"IFERROR(INDEX(CALC_BASE!$P$3:$P$52,MATCH(ROW()-7,CALC_BASE!$M$3:$M$52,0)),\"\")","v":""},{"$f":"IFERROR(IF(D657=\"\",\"\",INDEX(tb_vendas[Preço de Venda],MATCH(D657,tb_vendas[N° Pedido/Empresa],0))/F657),\"\")","v":""},{"$f":"IFERROR(IF(D657=\"\",\"\",INDEX(tb_vendas[Data Fechamento],MATCH(D657,tb_vendas[N° Pedido/Empresa],0))+E657*INDEX(tb_formas_pagamento[Dias_Intervalo],MATCH(INDEX(tb_vendas[Forma_Pagamento],MATCH(D657,tb_vendas[N° Pedido/Empresa],0)),tb_formas_pagamento[Nome_Forma],0))),\"\")","v":""},null,{"$f":"IF(OR(tb_pagamentos[[#This Row],[Data_Vencimento]]=\"\",tb_pagamentos[[#This Row],[Valor_Parcela]]=\"\",tb_pagamentos[[#This Row],[Qtd_Total_Parcelas]]=\"\",tb_pagamentos[[#This Row],[Nr_Pedido]]=\"\"),\"\",IF(tb_pagamentos[[#This Row],[Data_Pagamento]]<>\"\",\"Pago\",IF(AND(tb_pagamentos[[#This Row],[Data_Pagamento]]=\"\",tb_pagamentos[[#This Row],[Data_Vencimento]]<TODAY()),\"Em Atraso\",\"A vencer\")))","v":""}]
[null,null,"",{"$f":"IFERROR(INDEX(CALC_BASE!$N$3:$N$52,MATCH(ROW()-7,CALC_BASE!$M$3:$M$52,0)),\"\")","v":""},{"$f":"IFERROR(INDEX(CALC_BASE!$O$3:$O$52,MATCH(ROW()-7,CALC_BASE!$M$3:$M$52,0)),\"\")","v":""},{"$f":"IFERROR(INDEX(CALC_BASE!$P$3:$P$52,MATCH(ROW()-7,CALC_BASE!$M$3:$M$52,0)),\"\")","v":""},{"$f":"IFERROR(IF(D658=\"\",\"\",INDEX(tb_vendas[Preço de Venda],MATCH(D658,tb_vendas[N° Pedido/Empresa],0))/F658),\"\")","v":""},{"$f":"IFERROR(IF(D658=\"\",\"\",INDEX(tb_vendas[Data Fechamento],MATCH(D658,tb_vendas[N° Pedido/Empresa],0))+E658*INDEX(tb_formas_pagamento[Dias_Intervalo],MATCH(INDEX(tb_vendas[Forma_Pagamento],MATCH(D658,tb_vendas[N° Pedido/Empresa],0)),tb_formas_pagamento[Nome_Forma],0))),\"\")","v":""},null,{"$f":"IF(OR(tb_pagamentos[[#This Row],[Data_Vencimento]]=\"\",tb_pagamentos[[#This Row],[Valor_Parcela]]=\"\",tb_pagamentos[[#This Row],[Qtd_Total_Parcelas]]=\"\",tb_pagamentos[[#This Row],[Nr_Pedido]]=\"\"),\"\",IF(tb_pagamentos[[#This Row],[Data_Pagamento]]<>\"\",\"Pago\",IF(AND(tb_pagamentos[[#This Row],[Data_Pagamento]]=\"\",tb_pagamentos[[#This Row],[Data_Vencimento]]<TODAY()),\"Em Atraso\",\"A vencer\")))","v":""}]
[null,null,"",{"$f":"IFERROR(INDEX(CALC_BASE!$N$3:$N$52,MATCH(ROW()-7,CALC_BASE!$M$3:$M$52,0)),\"\")","v":""},{"$f":"IFERROR(INDEX(CALC_BASE!$O$3:$O$52,MATCH(ROW()-7,CALC_BASE!$M$3:$M$52,0)),\"\")","v":""},{"$f":"IFERROR(INDEX(CALC_BASE!$P$3:$P$52,MATCH(ROW()-7,CALC_BASE!$M$3:$M$52,0)),\"\")","v":""},{"$f":"IFERROR(IF(D659=\"\",\"\",INDEX(tb_vendas[Preço de Venda],MATCH(D659,tb_vendas[N° Pedido/Empresa],0))/F659),\"\")","v":""},{"$f":"IFERROR(IF(D659=\"\",\"\",INDEX(tb_vendas[Data Fechamento],MATCH(D659,tb_vendas[N° Pedido/Empresa],0))+E659*INDEX(tb_formas_pagamento[Dias_Intervalo],MATCH(INDEX(tb_vendas[Forma_Pagamento],MATCH(D659,tb_vendas[N° Pedido/Empresa],0)),tb_formas_pagamento[Nome_Forma],0))),\"\")","v":""},null,{"$f":"IF(OR(tb_pagamentos[[#This Row],[Data_Vencimento]]=\"\",tb_pagamentos[[#This Row],[Valor_Parcela]]=\"\",tb_pagamentos[[#This Row],[Qtd_Total_Parcelas]]=\"\",tb_pagamentos[[#This Row],[Nr_Pedido]]=\"\"),\"\",IF(tb_pagamentos[[#This Row],[Data_Pagamento]]<>\"\",\"Pago\",IF(AND(tb_pagamentos[[#This Row],[Data_Pagamento]]=\"\",tb_pagamentos[[#This Row],[Data_Vencimento]]<TODAY()),\"Em Atraso\",\"A vencer\")))","v":""}]
[null,null,"",{"$f":"IFERROR(INDEX(CALC_BASE!$N$3:$N$52,MATCH(ROW()-7,CALC_BASE!$M$3:$M$52,0)),\"\")","v":""},{"$f":"IFERROR(INDEX(CALC_BASE!$O$3:$O$52,MATCH(ROW()-7,CALC_BASE!$M$3:$M$52,0)),\"\")","v":""},{"$f":"IFERROR(INDEX(CALC_BASE!$P$3:$P$52,MATCH(ROW()-7,CALC_BASE!$M$3:$M$52,0)),\"\")","v":""},{"$f":"IFERROR(IF(D660=\"\",\"\",INDEX(tb_vendas[Preço de Venda],MATCH(D660,tb_vendas[N° Pedido/Empresa],0))/F660),\"\")","v":""},{"$f":"IFERROR(IF(D660=\"\",\"\",INDEX(tb_vendas[Data Fechamento],MATCH(D660,tb_vendas[N° Pedido/Empresa],0))+E660*INDEX(tb_formas_pagamento[Dias_Intervalo],MATCH(INDEX(tb_vendas[Forma_Pagamento],MATCH(D660,tb_vendas[N° Pedido/Empresa],0)),tb_formas_pagamento[Nome_Forma],0))),\"\")","v":""},null,{"$f":"IF(OR(tb_pagamentos[[#This Row],[Data_Vencimento]]=\"\",tb_pagamentos[[#This Row],[Valor_Parcela]]=\"\",tb_pagamentos[[#This Row],[Qtd_Total_Parcelas]]=\"\",tb_pagamentos[[#This Row],[Nr_Pedido]]=\"\"),\"\",IF(tb_pagamentos[[#This Row],[Data_Pagamento]]<>\"\",\"Pago\",IF(AND(tb_pagamentos[[#This Row],[Data_Pagamento]]=\"\",tb_pagamentos[[#This Row],[Data_Vencimento]]<TODAY()),\"Em Atraso\",\"A vencer\")))","v":""}]
[null,null,"",{"$f":"IFERROR(INDEX(CALC_BASE!$N$3:$N$52,MATCH(ROW()-7,CALC_BASE!$M$3:$M$52,0)),\"\")","v":""},{"$f":"IFERROR(INDEX(CALC_BASE!$O$3:$O$52,MATCH(ROW()-7,CALC_BASE!$M$3:$M$52,0)),\"\")","v":""},{"$f":"IFERROR(INDEX(CALC_BASE!$P$3:$P$52,MATCH(ROW()-7,CALC_BASE!$M$3:$M$52,0)),\"\")","v":""},{"$f":"IFERROR(IF(D661=\"\",\"\",INDEX(tb_vendas[Preço de Venda],MATCH(D661,tb_vendas[N° Pedido/Empresa],0))/F661),\"\")","v":""},{"$f":"IFERROR(IF(D661=\"\",\"\",INDEX(tb_vendas[Data Fechamento],MATCH(D661,tb_vendas[N° Pedido/Empresa],0))+E661*INDEX(tb_formas_pagamento[Dias_Intervalo],MATCH(INDEX(tb_vendas[Forma_Pagamento],MATCH(D661,tb_vendas[N° Pedido/Empresa],0)),tb_formas_pagamento[Nome_Forma],0))),\"\")","v":""},null,{"$f":"IF(OR(tb_pagamentos[[#This Row],[Data_Vencimento]]=\"\",tb_pagamentos[[#This Row],[Valor_Parcela]]=\"\",tb_pagamentos[[#This Row],[Qtd_Total_Parcelas]]=\"\",tb_pagamentos[[#This Row],[Nr_Pedido]]=\"\"),\"\",IF(tb_pagamentos[[#This Row],[Data_Pagamento]]<>\"\",\"Pago\",IF(AND(tb_pagamentos[[#This Row],[Data_Pagamento]]=\"\",tb_pagamentos[[#This Row],[Data_Vencimento]]<TODAY()),\"Em Atraso\",\"A vencer\")))","v":""}]
[null,null,"",{"$f":"IFERROR(INDEX(CALC_BASE!$N$3:$N$52,MATCH(ROW()-7,CALC_BASE!$M$3:$M$52,0)),\"\")","v":""},{"$f":"IFERROR(INDEX(CALC_BASE!$O$3:$O$52,MATCH(ROW()-7,CALC_BASE!$M$3:$M$52,0)),\"\")","v":""},{"$f":"IFERROR(INDEX(CALC_BASE!$P$3:$P$52,MATCH(ROW()-7,CALC_BASE!$M$3:$M$52,0)),\"\")","v":""},{"$f":"IFERROR(IF(D662=\"\",\"\",INDEX(tb_vendas[Preço de Venda],MATCH(D662,tb_vendas[N° Pedido/Empresa],0))/F662),\"\")","v":""},{"$f":"IFERROR(IF(D662=\"\",\"\",INDEX(tb_vendas[Data Fechamento],MATCH(D662,tb_vendas[N° Pedido/Empresa],0))+E662*INDEX(tb_formas_pagamento[Dias_Intervalo],MATCH(INDEX(tb_vendas[Forma_Pagamento],MATCH(D662,tb_vendas[N° Pedido/Empresa],0)),tb_formas_pagamento[Nome_Forma],0))),\"\")","v":""},null,{"$f":"IF(OR(tb_pagamentos[[#This Row],[Data_Vencimento]]=\"\",tb_pagamentos[[#This Row],[Valor_Parcela]]=\"\",tb_pagamentos[[#This Row],[Qtd_Total_Parcelas]]=\"\",tb_pagamentos[[#This Row],[Nr_Pedido]]=\"\"),\"\",IF(tb_pagamentos[[#This Row],[Data_Pagamento]]<>\"\",\"Pago\",IF(AND(tb_pagamentos[[#This Row],[Data_Pagamento]]=\"\",tb_pagamentos[[#This Row],[Data_Vencimento]]<TODAY()),\"Em Atraso\",\"A vencer\")))","v":""}]
[null,null,"",{"$f":"IFERROR(INDEX(CALC_BASE!$N$3:$N$52,MATCH(ROW()-7,CALC_BASE!$M$3:$M$52,0)),\"\")","v":""},{"$f":"IFERROR(INDEX(CALC_BASE!$O$3:$O$52,MATCH(ROW()-7,CALC_BASE!$M$3:$M$52,0)),\"\")","v":""},{"$f":"IFERROR(INDEX(CALC_BASE!$P$3:$P$52,MATCH(ROW()-7,CALC_BASE!$M$3:$M$52,0)),\"\")","v":""},{"$f":"IFERROR(IF(D663=\"\",\"\",INDEX(tb_vendas[Preço de Venda],MATCH(D663,tb_vendas[N° Pedido/Empresa],0))/F663),\"\")","v":""},{"$f":"IFERROR(IF(D663=\"\",\"\",INDEX(tb_vendas[Data Fechamento],MATCH(D663,tb_vendas[N° Pedido/Empresa],0))+E663*INDEX(tb_formas_pagamento[Dias_Intervalo],MATCH(INDEX(tb_vendas[Forma_Pagamento],MATCH(D663,tb_vendas[N° Pedido/Empresa],0)),tb_formas_pagamento[Nome_Forma],0))),\"\")","v":""},null,{"$f":"IF(OR(tb_pagamentos[[#This Row],[Data_Vencimento]]=\"\",tb_pagamentos[[#This Row],[Valor_Parcela]]=\"\",tb_pagamentos[[#This Row],[Qtd_Total_Parcelas]]=\"\",tb_pagamentos[[#This Row],[Nr_Pedido]]=\"\"),\"\",IF(tb_pagamentos[[#This Row],[Data_Pagamento]]<>\"\",\"Pago\",IF(AND(tb_pagamentos[[#This Row],[Data_Pagamento]]=\"\",tb_pagamentos[[#This Row],[Data_Vencimento]]<TODAY()),\"Em Atraso\",\"A vencer\")))","v":""}]
[null,null,"",{"$f":"IFERROR(INDEX(CALC_BASE!$N$3:$N$52,MATCH(ROW()-7,CALC_BASE!$M$3:$M$52,0)),\"\")","v":""},{"$f":"IFERROR(INDEX(CALC_BASE!$O$3:$O$52,MATCH(ROW()-7,CALC_BASE!$M$3:$M$52,0)),\"\")","v":""},{"$f":"IFERROR(INDEX(CALC_BASE!$P$3:$P$52,MATCH(ROW()-7,CALC_BASE!$M$3:$M$52,0)),\"\")","v":""},{"$f":"IFERROR(IF(D664=\"\",\"\",INDEX(tb_vendas[Preço de Venda],MATCH(D664,tb_vendas[N° Pedido/Empresa],0))/F664),\"\")","v":""},{"$f":"IFERROR(IF(D664=\"\",\"\",INDEX(tb_vendas[Data Fechamento],MATCH(D664,tb_vendas[N° Pedido/Empresa],0))+E664*INDEX(tb_formas_pagamento[Dias_Intervalo],MATCH(INDEX(tb_vendas[Forma_Pagamento],MATCH(D664,tb_vendas[N° Pedido/Empresa],0)),tb_formas_pagamento[Nome_Forma],0))),\"\")","v":""},null,{"$f":"IF(OR(tb_pagamentos[[#This Row],[Data_Vencimento]]=\"\",tb_pagamentos[[#This Row],[Valor_Parcela]]=\"\",tb_pagamentos[[#This Row],[Qtd_Total_Parcelas]]=\"\",tb_pagamentos[[#This Row],[Nr_Pedido]]=\"\"),\"\",IF(tb_pagamentos[[#This Row],[Data_Pagamento]]<>\"\",\"Pago\",IF(AND(tb_pagamentos[[#This Row],[Data_Pagamento]]=\"\",tb_pagamentos[[#This Row],[Data_Vencimento]]<TODAY()),\"Em Atraso\",\"A vencer\")))","v":""}]
[null,null,"",{"$f":"IFERROR(INDEX(CALC_BASE!$N$3:$N$52,MATCH(ROW()-7,CALC_BASE!$M$3:$M$52,0)),\"\")","v":""},{"$f":"IFERROR(INDEX(CALC_BASE!$O$3:$O$52,MATCH(ROW()-7,CALC_BASE!$M$3:$M$52,0)),\"\")","v":""},{"$f":"IFERROR(INDEX(CALC_BASE!$P$3:$P$52,MATCH(ROW()-7,CALC_BASE!$M$3:$M$52,0)),\"\")","v":""},{"$f":"IFERROR(IF(D665=\"\",\"\",INDEX(tb_vendas[Preço de Venda],MATCH(D665,tb_vendas[N° Pedido/Empresa],0))/F665),\"\")","v":""},{"$f":"IFERROR(IF(D665=\"\",\"\",INDEX(tb_vendas[Data Fechamento],MATCH(D665,tb_vendas[N° Pedido/Empresa],0))+E665*INDEX(tb_formas_pagamento[Dias_Intervalo],MATCH(INDEX(tb_vendas[Forma_Pagamento],MATCH(D665,tb_vendas[N° Pedido/Empresa],0)),tb_formas_pagamento[Nome_Forma],0))),\"\")","v":""},null,{"$f":"IF(OR(tb_pagamentos[[#This Row],[Data_Vencimento]]=\"\",tb_pagamentos[[#This Row],[Valor_Parcela]]=\"\",tb_pagamentos[[#This Row],[Qtd_Total_Parcelas]]=\"\",tb_pagamentos[[#This Row],[Nr_Pedido]]=\"\"),\"\",IF(tb_pagamentos[[#This Row],[Data_Pagamento]]<>\"\",\"Pago\",IF(AND(tb_pagamentos[[#This Row],[Data_Pagamento]]=\"\",tb_pagamentos[[#This Row],[Data_Vencimento]]<TODAY()),\"Em Atraso\",\"A vencer\")))","v":""}]
[null,null,"",{"$f":"IFERROR(INDEX(CALC_BASE!$N$3:$N$52,MATCH(ROW()-7,CALC_BASE!$M$3:$M$52,0)),\"\")","v":""},{"$f":"IFERROR(INDEX(CALC_BASE!$O$3:$O$52,MATCH(ROW()-7,CALC_BASE!$M$3:$M$52,0)),\"\")","v":""},{"$f":"IFERROR(INDEX(CALC_BASE!$P$3:$P$52,MATCH(ROW()-7,CALC_BASE!$M$3:$M$52,0)),\"\")","v":""},{"$f":"IFERROR(IF(D666=\"\",\"\",INDEX(tb_vendas[Preço de Venda],MATCH(D666,tb_vendas[N° Pedido/Empresa],0))/F666),\"\")","v":""},{"$f":"IFERROR(IF(D666=\"\",\"\",INDEX(tb_vendas[Data Fechamento],MATCH(D666,tb_vendas[N° Pedido/Empresa],0))+E666*INDEX(tb_formas_pagamento[Dias_Intervalo],MATCH(INDEX(tb_vendas[Forma_Pagamento],MATCH(D666,tb_vendas[N° Pedido/Empresa],0)),tb_formas_pagamento[Nome_Forma],0))),\"\")","v":""},null,{"$f":"IF(OR(tb_pagamentos[[#This Row],[Data_Vencimento]]=\"\",tb_pagamentos[[#This Row],[Valor_Parcela]]=\"\",tb_pagamentos[[#This Row],[Qtd_Total_Parcelas]]=\"\",tb_pagamentos[[#This Row],[Nr_Pedido]]=\"\"),\"\",IF(tb_pagamentos[[#This Row],[Data_Pagamento]]<>\"\",\"Pago\",IF(AND(tb_pagamentos[[#This Row],[Data_Pagamento]]=\"\",tb_pagamentos[[#This Row],[Data_Vencimento]]<TODAY()),\"Em Atraso\",\"A vencer\")))","v":""}]
[null,null,"",{"$f":"IFERROR(INDEX(CALC_BASE!$N$3:$N$52,MATCH(ROW()-7,CALC_BASE!$M$3:$M$52,0)),\"\")","v":""},{"$f":"IFERROR(INDEX(CALC_BASE!$O$3:$O$52,MATCH(ROW()-7,CALC_BASE!$M$3:$M$52,0)),\"\")","v":""},{"$f":"IFERROR(INDEX(CALC_BASE!$P$3:$P$52,MATCH(ROW()-7,CALC_BASE!$M$3:$M$52,0)),\"\")","v":""},{"$f":"IFERROR(IF(D667=\"\",\"\",INDEX(tb_vendas[Preço de Venda],MATCH(D667,tb_vendas[N° Pedido/Empresa],0))/F667),\"\")","v":""},{"$f":"IFERROR(IF(D667=\"\",\"\",INDEX(tb_vendas[Data Fechamento],MATCH(D667,tb_vendas[N° Pedido/Empresa],0))+E667*INDEX(tb_formas_pagamento[Dias_Intervalo],MATCH(INDEX(tb_vendas[Forma_Pagamento],MATCH(D667,tb_vendas[N° Pedido/Empresa],0)),tb_formas_pagamento[Nome_Forma],0))),\"\")","v":""},null,{"$f":"IF(OR(tb_pagamentos[[#This Row],[Data_Vencimento]]=\"\",tb_pagamentos[[#This Row],[Valor_Parcela]]=\"\",tb_pagamentos[[#This Row],[Qtd_Total_Parcelas]]=\"\",tb_pagamentos[[#This Row],[Nr_Pedido]]=\"\"),\"\",IF(tb_pagamentos[[#This Row],[Data_Pagamento]]<>\"\",\"Pago\",IF(AND(tb_pagamentos[[#This Row],[Data_Pagamento]]=\"\",tb_pagamentos[[#This Row],[Data_Vencimento]]<TODAY()),\"Em Atraso\",\"A vencer\")))","v":""}]
[null,null,"",{"$f":"IFERROR(INDEX(CALC_BASE!$N$3:$N$52,MATCH(ROW()-7,CALC_BASE!$M$3:$M$52,0)),\"\")","v":""},{"$f":"IFERROR(INDEX(CALC_BASE!$O$3:$O$52,MATCH(ROW()-7,CALC_BASE!$M$3:$M$52,0)),\"\")","v":""},{"$f":"IFERROR(INDEX(CALC_BASE!$P$3:$P$52,MATCH(ROW()-7,CALC_BASE!$M$3:$M$52,0)),\"\")","v":""},{"$f":"IFERROR(IF(D668=\"\",\"\",INDEX(tb_vendas[Preço de Venda],MATCH(D668,tb_vendas[N° Pedido/Empresa],0))/F668),\"\")","v":""},{"$f":"IFERROR(IF(D668=\"\",\"\",INDEX(tb_vendas[Data Fechamento],MATCH(D668,tb_vendas[N° Pedido/Empresa],0))+E668*INDEX(tb_formas_pagamento[Dias_Intervalo],MATCH(INDEX(tb_vendas[Forma_Pagamento],MATCH(D668,tb_vendas[N° Pedido/Empresa],0)),tb_formas_pagamento[Nome_Forma],0))),\"\")","v":""},null,{"$f":"IF(OR(tb_pagamentos[[#This Row],[Data_Vencimento]]=\"\",tb_pagamentos[[#This Row],[Valor_Parcela]]=\"\",tb_pagamentos[[#This Row],[Qtd_Total_Parcelas]]=\"\",tb_pagamentos[[#This Row],[Nr_Pedido]]=\"\"),\"\",IF(tb_pagamentos[[#This Row],[Data_Pagamento]]<>\"\",\"Pago\",IF(AND(tb_pagamentos[[#This Row],[Data_Pagamento]]=\"\",tb_pagamentos[[#This Row],[Data_Vencimento]]<TODAY()),\"Em Atraso\",\"A vencer\")))","v":""}]
[null,null,"",{"$f":"IFERROR(INDEX(CALC_BASE!$N$3:$N$52,MATCH(ROW()-7,CALC_BASE!$M$3:$M$52,0)),\"\")","v":""},{"$f":"IFERROR(INDEX(CALC_BASE!$O$3:$O$52,MATCH(ROW()-7,CALC_BASE!$M$3:$M$52,0)),\"\")","v":""},{"$f":"IFERROR(INDEX(CALC_BASE!$P$3:$P$52,MATCH(ROW()-7,CALC_BASE!$M$3:$M$52,0)),\"\")","v":""},{"$f":"IFERROR(IF(D669=\"\",\"\",INDEX(tb_vendas[Preço de Venda],MATCH(D669,tb_vendas[N° Pedido/Empresa],0))/F669),\"\")","v":""},{"$f":"IFERROR(IF(D669=\"\",\"\",INDEX(tb_vendas[Data Fechamento],MATCH(D669,tb_vendas[N° Pedido/Empresa],0))+E669*INDEX(tb_formas_pagamento[Dias_Intervalo],MATCH(INDEX(tb_vendas[Forma_Pagamento],MATCH(D669,tb_vendas[N° Pedido/Empresa],0)),tb_formas_pagamento[Nome_Forma],0))),\"\")","v":""},null,{"$f":"IF(OR(tb_pagamentos[[#This Row],[Data_Vencimento]]=\"\",tb_pagamentos[[#This Row],[Valor_Parcela]]=\"\",tb_pagamentos[[#This Row],[Qtd_Total_Parcelas]]=\"\",tb_pagamentos[[#This Row],[Nr_Pedido]]=\"\"),\"\",IF(tb_pagamentos[[#This Row],[Data_Pagamento]]<>\"\",\"Pago\",IF(AND(tb_pagamentos[[#This Row],[Data_Pagamento]]=\"\",tb_pagamentos[[#This Row],[Data_Vencimento]]<TODAY()),\"Em Atraso\",\"A vencer\")))","v":""}]
[null,null,"",{"$f":"IFERROR(INDEX(CALC_BASE!$N$3:$N$52,MATCH(ROW()-7,CALC_BASE!$M$3:$M$52,0)),\"\")","v":""},{"$f":"IFERROR(INDEX(CALC_BASE!$O$3:$O$52,MATCH(ROW()-7,CALC_BASE!$M$3:$M$52,0)),\"\")","v":""},{"$f":"IFERROR(INDEX(CALC_BASE!$P$3:$P$52,MATCH(ROW()-7,CALC_BASE!$M$3:$M$52,0)),\"\")","v":""},{"$f":"IFERROR(IF(D670=\"\",\"\",INDEX(tb_vendas[Preço de Venda],MATCH(D670,tb_vendas[N° Pedido/Empresa],0))/F670),\"\")","v":""},{"$f":"IFERROR(IF(D670=\"\",\"\",INDEX(tb_vendas[Data Fechamento],MATCH(D670,tb_vendas[N° Pedido/Empresa],0))+E670*INDEX(tb_formas_pagamento[Dias_Intervalo],MATCH(INDEX(tb_vendas[Forma_Pagamento],MATCH(D670,tb_vendas[N° Pedido/Empresa],0)),tb_formas_pagamento[Nome_Forma],0))),\"\")","v":""},null,{"$f":"IF(OR(tb_pagamentos[[#This Row],[Data_Vencimento]]=\"\",tb_pagamentos[[#This Row],[Valor_Parcela]]=\"\",tb_pagamentos[[#This Row],[Qtd_Total_Parcelas]]=\"\",tb_pagamentos[[#This Row],[Nr_Pedido]]=\"\"),\"\",IF(tb_pagamentos[[#This Row],[Data_Pagamento]]<>\"\",\"Pago\",IF(AND(tb_pagamentos[[#This Row],[Data_Pagamento]]=\"\",tb_pagamentos[[#This Row],[Data_Vencimento]]<TODAY()),\"Em Atraso\",\"A vencer\")))","v":""}]
[null,null,"",{"$f":"IFERROR(INDEX(CALC_BASE!$N$3:$N$52,MATCH(ROW()-7,CALC_BASE!$M$3:$M$52,0)),\"\")","v":""},{"$f":"IFERROR(INDEX(CALC_BASE!$O$3:$O$52,MATCH(ROW()-7,CALC_BASE!$M$3:$M$52,0)),\"\")","v":""},{"$f":"IFERROR(INDEX(CALC_BASE!$P$3:$P$52,MATCH(ROW()-7,CALC_BASE!$M$3:$M$52,0)),\"\")","v":""},{"$f":"IFERROR(IF(D671=\"\",\"\",INDEX(tb_vendas[Preço de Venda],MATCH(D671,tb_vendas[N° Pedido/Empresa],0))/F671),\"\")","v":""},{"$f":"IFERROR(IF(D671=\"\",\"\",INDEX(tb_vendas[Data Fechamento],MATCH(D671,tb_vendas[N° Pedido/Empresa],0))+E671*INDEX(tb_formas_pagamento[Dias_Intervalo],MATCH(INDEX(tb_vendas[Forma_Pagamento],MATCH(D671,tb_vendas[N° Pedido/Empresa],0)),tb_formas_pagamento[Nome_Forma],0))),\"\")","v":""},null,{"$f":"IF(OR(tb_pagamentos[[#This Row],[Data_Vencimento]]=\"\",tb_pagamentos[[#This Row],[Valor_Parcela]]=\"\",tb_pagamentos[[#This Row],[Qtd_Total_Parcelas]]=\"\",tb_pagamentos[[#This Row],[Nr_Pedido]]=\"\"),\"\",IF(tb_pagamentos[[#This Row],[Data_Pagamento]]<>\"\",\"Pago\",IF(AND(tb_pagamentos[[#This Row],[Data_Pagamento]]=\"\",tb_pagamentos[[#This Row],[Data_Vencimento]]<TODAY()),\"Em Atraso\",\"A vencer\")))","v":""}]
[null,null,"",{"$f":"IFERROR(INDEX(CALC_BASE!$N$3:$N$52,MATCH(ROW()-7,CALC_BASE!$M$3:$M$52,0)),\"\")","v":""},{"$f":"IFERROR(INDEX(CALC_BASE!$O$3:$O$52,MATCH(ROW()-7,CALC_BASE!$M$3:$M$52,0)),\"\")","v":""},{"$f":"IFERROR(INDEX(CALC_BASE!$P$3:$P$52,MATCH(ROW()-7,CALC_BASE!$M$3:$M$52,0)),\"\")","v":""},{"$f":"IFERROR(IF(D672=\"\",\"\",INDEX(tb_vendas[Preço de Venda],MATCH(D672,tb_vendas[N° Pedido/Empresa],0))/F672),\"\")","v":""},{"$f":"IFERROR(IF(D672=\"\",\"\",INDEX(tb_vendas[Data Fechamento],MATCH(D672,tb_vendas[N° Pedido/Empresa],0))+E672*INDEX(tb_formas_pagamento[Dias_Intervalo],MATCH(INDEX(tb_vendas[Forma_Pagamento],MATCH(D672,tb_vendas[N° Pedido/Empresa],0)),tb_formas_pagamento[Nome_Forma],0))),\"\")","v":""},null,{"$f":"IF(OR(tb_pagamentos[[#This Row],[Data_Vencimento]]=\"\",tb_pagamentos[[#This Row],[Valor_Parcela]]=\"\",tb_pagamentos[[#This Row],[Qtd_Total_Parcelas]]=\"\",tb_pagamentos[[#This Row],[Nr_Pedido]]=\"\"),\"\",IF(tb_pagamentos[[#This Row],[Data_Pagamento]]<>\"\",\"Pago\",IF(AND(tb_pagamentos[[#This Row],[Data_Pagamento]]=\"\",tb_pagamentos[[#This Row],[Data_Vencimento]]<TODAY()),\"Em Atraso\",\"A vencer\")))","v":""}]
[null,null,"",{"$f":"IFERROR(INDEX(CALC_BASE!$N$3:$N$52,MATCH(ROW()-7,CALC_BASE!$M$3:$M$52,0)),\"\")","v":""},{"$f":"IFERROR(INDEX(CALC_BASE!$O$3:$O$52,MATCH(ROW()-7,CALC_BASE!$M$3:$M$52,0)),\"\")","v":""},{"$f":"IFERROR(INDEX(CALC_BASE!$P$3:$P$52,MATCH(ROW()-7,CALC_BASE!$M$3:$M$52,0)),\"\")","v":""},{"$f":"IFERROR(IF(D673=\"\",\"\",INDEX(tb_vendas[Preço de Venda],MATCH(D673,tb_vendas[N° Pedido/Empresa],0))/F673),\"\")","v":""},{"$f":"IFERROR(IF(D673=\"\",\"\",INDEX(tb_vendas[Data Fechamento],MATCH(D673,tb_vendas[N° Pedido/Empresa],0))+E673*INDEX(tb_formas_pagamento[Dias_Intervalo],MATCH(INDEX(tb_vendas[Forma_Pagamento],MATCH(D673,tb_vendas[N° Pedido/Empresa],0)),tb_formas_pagamento[Nome_Forma],0))),\"\")","v":""},null,{"$f":"IF(OR(tb_pagamentos[[#This Row],[Data_Vencimento]]=\"\",tb_pagamentos[[#This Row],[Valor_Parcela]]=\"\",tb_pagamentos[[#This Row],[Qtd_Total_Parcelas]]=\"\",tb_pagamentos[[#This Row],[Nr_Pedido]]=\"\"),\"\",IF(tb_pagamentos[[#This Row],[Data_Pagamento]]<>\"\",\"Pago\",IF(AND(tb_pagamentos[[#This Row],[Data_Pagamento]]=\"\",tb_pagamentos[[#This Row],[Data_Vencimento]]<TODAY()),\"Em Atraso\",\"A vencer\")))","v":""}]
[null,null,"",{"$f":"IFERROR(INDEX(CALC_BASE!$N$3:$N$52,MATCH(ROW()-7,CALC_BASE!$M$3:$M$52,0)),\"\")","v":""},{"$f":"IFERROR(INDEX(CALC_BASE!$O$3:$O$52,MATCH(ROW()-7,CALC_BASE!$M$3:$M$52,0)),\"\")","v":""},{"$f":"IFERROR(INDEX(CALC_BASE!$P$3:$P$52,MATCH(ROW()-7,CALC_BASE!$M$3:$M$52,0)),\"\")","v":""},{"$f":"IFERROR(IF(D674=\"\",\"\",INDEX(tb_vendas[Preço de Venda],MATCH(D674,tb_vendas[N° Pedido/Empresa],0))/F674),\"\")","v":""},{"$f":"IFERROR(IF(D674=\"\",\"\",INDEX(tb_vendas[Data Fechamento],MATCH(D674,tb_vendas[N° Pedido/Empresa],0))+E674*INDEX(tb_formas_pagamento[Dias_Intervalo],MATCH(INDEX(tb_vendas[Forma_Pagamento],MATCH(D674,tb_vendas[N° Pedido/Empresa],0)),tb_formas_pagamento[Nome_Forma],0))),\"\")","v":""},null,{"$f":"IF(OR(tb_pagamentos[[#This Row],[Data_Vencimento]]=\"\",tb_pagamentos[[#This Row],[Valor_Parcela]]=\"\",tb_pagamentos[[#This Row],[Qtd_Total_Parcelas]]=\"\",tb_pagamentos[[#This Row],[Nr_Pedido]]=\"\"),\"\",IF(tb_pagamentos[[#This Row],[Data_Pagamento]]<>\"\",\"Pago\",IF(AND(tb_pagamentos[[#This Row],[Data_Pagamento]]=\"\",tb_pagamentos[[#This Row],[Data_Vencimento]]<TODAY()),\"Em Atraso\",\"A vencer\")))","v":""}]
[null,null,"",{"$f":"IFERROR(INDEX(CALC_BASE!$N$3:$N$52,MATCH(ROW()-7,CALC_BASE!$M$3:$M$52,0)),\"\")","v":""},{"$f":"IFERROR(INDEX(CALC_BASE!$O$3:$O$52,MATCH(ROW()-7,CALC_BASE!$M$3:$M$52,0)),\"\")","v":""},{"$f":"IFERROR(INDEX(CALC_BASE!$P$3:$P$52,MATCH(ROW()-7,CALC_BASE!$M$3:$M$52,0)),\"\")","v":""},{"$f":"IFERROR(IF(D675=\"\",\"\",INDEX(tb_vendas[Preço de Venda],MATCH(D675,tb_vendas[N° Pedido/Empresa],0))/F675),\"\")","v":""},{"$f":"IFERROR(IF(D675=\"\",\"\",INDEX(tb_vendas[Data Fechamento],MATCH(D675,tb_vendas[N° Pedido/Empresa],0))+E675*INDEX(tb_formas_pagamento[Dias_Intervalo],MATCH(INDEX(tb_vendas[Forma_Pagamento],MATCH(D675,tb_vendas[N° Pedido/Empresa],0)),tb_formas_pagamento[Nome_Forma],0))),\"\")","v":""},null,{"$f":"IF(OR(tb_pagamentos[[#This Row],[Data_Vencimento]]=\"\",tb_pagamentos[[#This Row],[Valor_Parcela]]=\"\",tb_pagamentos[[#This Row],[Qtd_Total_Parcelas]]=\"\",tb_pagamentos[[#This Row],[Nr_Pedido]]=\"\"),\"\",IF(tb_pagamentos[[#This Row],[Data_Pagamento]]<>\"\",\"Pago\",IF(AND(tb_pagamentos[[#This Row],[Data_Pagamento]]=\"\",tb_pagamentos[[#This Row],[Data_Vencimento]]<TODAY()),\"Em Atraso\",\"A vencer\")))","v":""}]
[null,null,"",{"$f":"IFERROR(INDEX(CALC_BASE!$N$3:$N$52,MATCH(ROW()-7,CALC_BASE!$M$3:$M$52,0)),\"\")","v":""},{"$f":"IFERROR(INDEX(CALC_BASE!$O$3:$O$52,MATCH(ROW()-7,CALC_BASE!$M$3:$M$52,0)),\"\")","v":""},{"$f":"IFERROR(INDEX(CALC_BASE!$P$3:$P$52,MATCH(ROW()-7,CALC_BASE!$M$3:$M$52,0)),\"\")","v":""},{"$f":"IFERROR(IF(D676=\"\",\"\",INDEX(tb_vendas[Preço de Venda],MATCH(D676,tb_vendas[N° Pedido/Empresa],0))/F676),\"\")","v":""},{"$f":"IFERROR(IF(D676=\"\",\"\",INDEX(tb_vendas[Data Fechamento],MATCH(D676,tb_vendas[N° Pedido/Empresa],0))+E676*INDEX(tb_formas_pagamento[Dias_Intervalo],MATCH(INDEX(tb_vendas[Forma_Pagamento],MATCH(D676,tb_vendas[N° Pedido/Empresa],0)),tb_formas_pagamento[Nome_Forma],0))),\"\")","v":""},null,{"$f":"IF(OR(tb_pagamentos[[#This Row],[Data_Vencimento]]=\"\",tb_pagamentos[[#This Row],[Valor_Parcela]]=\"\",tb_pagamentos[[#This Row],[Qtd_Total_Parcelas]]=\"\",tb_pagamentos[[#This Row],[Nr_Pedido]]=\"\"),\"\",IF(tb_pagamentos[[#This Row],[Data_Pagamento]]<>\"\",\"Pago\",IF(AND(tb_pagamentos[[#This Row],[Data_Pagamento]]=\"\",tb_pagamentos[[#This Row],[Data_Vencimento]]<TODAY()),\"Em Atraso\",\"A vencer\")))","v":""}]
[null,null,"",{"$f":"IFERROR(INDEX(CALC_BASE!$N$3:$N$52,MATCH(ROW()-7,CALC_BASE!$M$3:$M$52,0)),\"\")","v":""},{"$f":"IFERROR(INDEX(CALC_BASE!$O$3:$O$52,MATCH(ROW()-7,CALC_BASE!$M$3:$M$52,0)),\"\")","v":""},{"$f":"IFERROR(INDEX(CALC_BASE!$P$3:$P$52,MATCH(ROW()-7,CALC_BASE!$M$3:$M$52,0)),\"\")","v":""},{"$f":"IFERROR(IF(D677=\"\",\"\",INDEX(tb_vendas[Preço de Venda],MATCH(D677,tb_vendas[N° Pedido/Empresa],0))/F677),\"\")","v":""},{"$f":"IFERROR(IF(D677=\"\",\"\",INDEX(tb_vendas[Data Fechamento],MATCH(D677,tb_vendas[N° Pedido/Empresa],0))+E677*INDEX(tb_formas_pagamento[Dias_Intervalo],MATCH(INDEX(tb_vendas[Forma_Pagamento],MATCH(D677,tb_vendas[N° Pedido/Empresa],0)),tb_formas_pagamento[Nome_Forma],0))),\"\")","v":""},null,{"$f":"IF(OR(tb_pagamentos[[#This Row],[Data_Vencimento]]=\"\",tb_pagamentos[[#This Row],[Valor_Parcela]]=\"\",tb_pagamentos[[#This Row],[Qtd_Total_Parcelas]]=\"\",tb_pagamentos[[#This Row],[Nr_Pedido]]=\"\"),\"\",IF(tb_pagamentos[[#This Row],[Data_Pagamento]]<>\"\",\"Pago\",IF(AND(tb_pagamentos[[#This Row],[Data_Pagamento]]=\"\",tb_pagamentos[[#This Row],[Data_Vencimento]]<TODAY()),\"Em Atraso\",\"A vencer\")))","v":""}]
[null,null,"",{"$f":"IFERROR(INDEX(CALC_BASE!$N$3:$N$52,MATCH(ROW()-7,CALC_BASE!$M$3:$M$52,0)),\"\")","v":""},{"$f":"IFERROR(INDEX(CALC_BASE!$O$3:$O$52,MATCH(ROW()-7,CALC_BASE!$M$3:$M$52,0)),\"\")","v":""},{"$f":"IFERROR(INDEX(CALC_BASE!$P$3:$P$52,MATCH(ROW()-7,CALC_BASE!$M$3:$M$52,0)),\"\")","v":""},{"$f":"IFERROR(IF(D678=\"\",\"\",INDEX(tb_vendas[Preço de Venda],MATCH(D678,tb_vendas[N° Pedido/Empresa],0))/F678),\"\")","v":""},{"$f":"IFERROR(IF(D678=\"\",\"\",INDEX(tb_vendas[Data Fechamento],MATCH(D678,tb_vendas[N° Pedido/Empresa],0))+E678*INDEX(tb_formas_pagamento[Dias_Intervalo],MATCH(INDEX(tb_vendas[Forma_Pagamento],MATCH(D678,tb_vendas[N° Pedido/Empresa],0)),tb_formas_pagamento[Nome_Forma],0))),\"\")","v":""},null,{"$f":"IF(OR(tb_pagamentos[[#This Row],[Data_Vencimento]]=\"\",tb_pagamentos[[#This Row],[Valor_Parcela]]=\"\",tb_pagamentos[[#This Row],[Qtd_Total_Parcelas]]=\"\",tb_pagamentos[[#This Row],[Nr_Pedido]]=\"\"),\"\",IF(tb_pagamentos[[#This Row],[Data_Pagamento]]<>\"\",\"Pago\",IF(AND(tb_pagamentos[[#This Row],[Data_Pagamento]]=\"\",tb_pagamentos[[#This Row],[Data_Vencimento]]<TODAY()),\"Em Atraso\",\"A vencer\")))","v":""}]
[null,null,"",{"$f":"IFERROR(INDEX(CALC_BASE!$N$3:$N$52,MATCH(ROW()-7,CALC_BASE!$M$3:$M$52,0)),\"\")","v":""},{"$f":"IFERROR(INDEX(CALC_BASE!$O$3:$O$52,MATCH(ROW()-7,CALC_BASE!$M$3:$M$52,0)),\"\")","v":""},{"$f":"IFERROR(INDEX(CALC_BASE!$P$3:$P$52,MATCH(ROW()-7,CALC_BASE!$M$3:$M$52,0)),\"\")","v":""},{"$f":"IFERROR(IF(D679=\"\",\"\",INDEX(tb_vendas[Preço de Venda],MATCH(D679,tb_vendas[N° Pedido/Empresa],0))/F679),\"\")","v":""},{"$f":"IFERROR(IF(D679=\"\",\"\",INDEX(tb_vendas[Data Fechamento],MATCH(D679,tb_vendas[N° Pedido/Empresa],0))+E679*INDEX(tb_formas_pagamento[Dias_Intervalo],MATCH(INDEX(tb_vendas[Forma_Pagamento],MATCH(D679,tb_vendas[N° Pedido/Empresa],0)),tb_formas_pagamento[Nome_Forma],0))),\"\")","v":""},null,{"$f":"IF(OR(tb_pagamentos[[#This Row],[Data_Vencimento]]=\"\",tb_pagamentos[[#This Row],[Valor_Parcela]]=\"\",tb_pagamentos[[#This Row],[Qtd_Total_Parcelas]]=\"\",tb_pagamentos[[#This Row],[Nr_Pedido]]=\"\"),\"\",IF(tb_pagamentos[[#This Row],[Data_Pagamento]]<>\"\",\"Pago\",IF(AND(tb_pagamentos[[#This Row],[Data_Pagamento]]=\"\",tb_pagamentos[[#This Row],[Data_Vencimento]]<TODAY()),\"Em Atraso\",\"A vencer\")))","v":""}]
[null,null,"",{"$f":"IFERROR(INDEX(CALC_BASE!$N$3:$N$52,MATCH(ROW()-7,CALC_BASE!$M$3:$M$52,0)),\"\")","v":""},{"$f":"IFERROR(INDEX(CALC_BASE!$O$3:$O$52,MATCH(ROW()-7,CALC_BASE!$M$3:$M$52,0)),\"\")","v":""},{"$f":"IFERROR(INDEX(CALC_BASE!$P$3:$P$52,MATCH(ROW()-7,CALC_BASE!$M$3:$M$52,0)),\"\")","v":""},{"$f":"IFERROR(IF(D680=\"\",\"\",INDEX(tb_vendas[Preço de Venda],MATCH(D680,tb_vendas[N° Pedido/Empresa],0))/F680),\"\")","v":""},{"$f":"IFERROR(IF(D680=\"\",\"\",INDEX(tb_vendas[Data Fechamento],MATCH(D680,tb_vendas[N° Pedido/Empresa],0))+E680*INDEX(tb_formas_pagamento[Dias_Intervalo],MATCH(INDEX(tb_vendas[Forma_Pagamento],MATCH(D680,tb_vendas[N° Pedido/Empresa],0)),tb_formas_pagamento[Nome_Forma],0))),\"\")","v":""},null,{"$f":"IF(OR(tb_pagamentos[[#This Row],[Data_Vencimento]]=\"\",tb_pagamentos[[#This Row],[Valor_Parcela]]=\"\",tb_pagamentos[[#This Row],[Qtd_Total_Parcelas]]=\"\",tb_pagamentos[[#This Row],[Nr_Pedido]]=\"\"),\"\",IF(tb_pagamentos[[#This Row],[Data_Pagamento]]<>\"\",\"Pago\",IF(AND(tb_pagamentos[[#This Row],[Data_Pagamento]]=\"\",tb_pagamentos[[#This Row],[Data_Vencimento]]<TODAY()),\"Em Atraso\",\"A vencer\")))","v":""}]
[null,null,"",{"$f":"IFERROR(INDEX(CALC_BASE!$N$3:$N$52,MATCH(ROW()-7,CALC_BASE!$M$3:$M$52,0)),\"\")","v":""},{"$f":"IFERROR(INDEX(CALC_BASE!$O$3:$O$52,MATCH(ROW()-7,CALC_BASE!$M$3:$M$52,0)),\"\")","v":""},{"$f":"IFERROR(INDEX(CALC_BASE!$P$3:$P$52,MATCH(ROW()-7,CALC_BASE!$M$3:$M$52,0)),\"\")","v":""},{"$f":"IFERROR(IF(D681=\"\",\"\",INDEX(tb_vendas[Preço de Venda],MATCH(D681,tb_vendas[N° Pedido/Empresa],0))/F681),\"\")","v":""},{"$f":"IFERROR(IF(D681=\"\",\"\",INDEX(tb_vendas[Data Fechamento],MATCH(D681,tb_vendas[N° Pedido/Empresa],0))+E681*INDEX(tb_formas_pagamento[Dias_Intervalo],MATCH(INDEX(tb_vendas[Forma_Pagamento],MATCH(D681,tb_vendas[N° Pedido/Empresa],0)),tb_formas_pagamento[Nome_Forma],0))),\"\")","v":""},null,{"$f":"IF(OR(tb_pagamentos[[#This Row],[Data_Vencimento]]=\"\",tb_pagamentos[[#This Row],[Valor_Parcela]]=\"\",tb_pagamentos[[#This Row],[Qtd_Total_Parcelas]]=\"\",tb_pagamentos[[#This Row],[Nr_Pedido]]=\"\"),\"\",IF(tb_pagamentos[[#This Row],[Data_Pagamento]]<>\"\",\"Pago\",IF(AND(tb_pagamentos[[#This Row],[Data_Pagamento]]=\"\",tb_pagamentos[[#This Row],[Data_Vencimento]]<TODAY()),\"Em Atraso\",\"A vencer\")))","v":""}]
[null,null,"",{"$f":"IFERROR(INDEX(CALC_BASE!$N$3:$N$52,MATCH(ROW()-7,CALC_BASE!$M$3:$M$52,0)),\"\")","v":""},{"$f":"IFERROR(INDEX(CALC_BASE!$O$3:$O$52,MATCH(ROW()-7,CALC_BASE!$M$3:$M$52,0)),\"\")","v":""},{"$f":"IFERROR(INDEX(CALC_BASE!$P$3:$P$52,MATCH(ROW()-7,CALC_BASE!$M$3:$M$52,0)),\"\")","v":""},{"$f":"IFERROR(IF(D682=\"\",\"\",INDEX(tb_vendas[Preço de Venda],MATCH(D682,tb_vendas[N° Pedido/Empresa],0))/F682),\"\")","v":""},{"$f":"IFERROR(IF(D682=\"\",\"\",INDEX(tb_vendas[Data Fechamento],MATCH(D682,tb_vendas[N° Pedido/Empresa],0))+E682*INDEX(tb_formas_pagamento[Dias_Intervalo],MATCH(INDEX(tb_vendas[Forma_Pagamento],MATCH(D682,tb_vendas[N° Pedido/Empresa],0)),tb_formas_pagamento[Nome_Forma],0))),\"\")","v":""},null,{"$f":"IF(OR(tb_pagamentos[[#This Row],[Data_Vencimento]]=\"\",tb_pagamentos[[#This Row],[Valor_Parcela]]=\"\",tb_pagamentos[[#This Row],[Qtd_Total_Parcelas]]=\"\",tb_pagamentos[[#This Row],[Nr_Pedido]]=\"\"),\"\",IF(tb_pagamentos[[#This Row],[Data_Pagamento]]<>\"\",\"Pago\",IF(AND(tb_pagamentos[[#This Row],[Data_Pagamento]]=\"\",tb_pagamentos[[#This Row],[Data_Vencimento]]<TODAY()),\"Em Atraso\",\"A vencer\")))","v":""}]
[null,null,"",{"$f":"IFERROR(INDEX(CALC_BASE!$N$3:$N$52,MATCH(ROW()-7,CALC_BASE!$M$3:$M$52,0)),\"\")","v":""},{"$f":"IFERROR(INDEX(CALC_BASE!$O$3:$O$52,MATCH(ROW()-7,CALC_BASE!$M$3:$M$52,0)),\"\")","v":""},{"$f":"IFERROR(INDEX(CALC_BASE!$P$3:$P$52,MATCH(ROW()-7,CALC_BASE!$M$3:$M$52,0)),\"\")","v":""},{"$f":"IFERROR(IF(D683=\"\",\"\",INDEX(tb_vendas[Preço de Venda],MATCH(D683,tb_vendas[N° Pedido/Empresa],0))/F683),\"\")","v":""},{"$f":"IFERROR(IF(D683=\"\",\"\",INDEX(tb_vendas[Data Fechamento],MATCH(D683,tb_vendas[N° Pedido/Empresa],0))+E683*INDEX(tb_formas_pagamento[Dias_Intervalo],MATCH(INDEX(tb_vendas[Forma_Pagamento],MATCH(D683,tb_vendas[N° Pedido/Empresa],0)),tb_formas_pagamento[Nome_Forma],0))),\"\")","v":""},null,{"$f":"IF(OR(tb_pagamentos[[#This Row],[Data_Vencimento]]=\"\",tb_pagamentos[[#This Row],[Valor_Parcela]]=\"\",tb_pagamentos[[#This Row],[Qtd_Total_Parcelas]]=\"\",tb_pagamentos[[#This Row],[Nr_Pedido]]=\"\"),\"\",IF(tb_pagamentos[[#This Row],[Data_Pagamento]]<>\"\",\"Pago\",IF(AND(tb_pagamentos[[#This Row],[Data_Pagamento]]=\"\",tb_pagamentos[[#This Row],[Data_Vencimento]]<TODAY()),\"Em Atraso\",\"A vencer\")))","v":""}]
[null,null,"",{"$f":"IFERROR(INDEX(CALC_BASE!$N$3:$N$52,MATCH(ROW()-7,CALC_BASE!$M$3:$M$52,0)),\"\")","v":""},{"$f":"IFERROR(INDEX(CALC_BASE!$O$3:$O$52,MATCH(ROW()-7,CALC_BASE!$M$3:$M$52,0)),\"\")","v":""},{"$f":"IFERROR(INDEX(CALC_BASE!$P$3:$P$52,MATCH(ROW()-7,CALC_BASE!$M$3:$M$52,0)),\"\")","v":""},{"$f":"IFERROR(IF(D684=\"\",\"\",INDEX(tb_vendas[Preço de Venda],MATCH(D684,tb_vendas[N° Pedido/Empresa],0))/F684),\"\")","v":""},{"$f":"IFERROR(IF(D684=\"\",\"\",INDEX(tb_vendas[Data Fechamento],MATCH(D684,tb_vendas[N° Pedido/Empresa],0))+E684*INDEX(tb_formas_pagamento[Dias_Intervalo],MATCH(INDEX(tb_vendas[Forma_Pagamento],MATCH(D684,tb_vendas[N° Pedido/Empresa],0)),tb_formas_pagamento[Nome_Forma],0))),\"\")","v":""},null,{"$f":"IF(OR(tb_pagamentos[[#This Row],[Data_Vencimento]]=\"\",tb_pagamentos[[#This Row],[Valor_Parcela]]=\"\",tb_pagamentos[[#This Row],[Qtd_Total_Parcelas]]=\"\",tb_pagamentos[[#This Row],[Nr_Pedido]]=\"\"),\"\",IF(tb_pagamentos[[#This Row],[Data_Pagamento]]<>\"\",\"Pago\",IF(AND(tb_pagamentos[[#This Row],[Data_Pagamento]]=\"\",tb_pagamentos[[#This Row],[Data_Vencimento]]<TODAY()),\"Em Atraso\",\"A vencer\")))","v":""}]
[null,null,"",{"$f":"IFERROR(INDEX(CALC_BASE!$N$3:$N$52,MATCH(ROW()-7,CALC_BASE!$M$3:$M$52,0)),\"\")","v":""},{"$f":"IFERROR(INDEX(CALC_BASE!$O$3:$O$52,MATCH(ROW()-7,CALC_BASE!$M$3:$M$52,0)),\"\")","v":""},{"$f":"IFERROR(INDEX(CALC_BASE!$P$3:$P$52,MATCH(ROW()-7,CALC_BASE!$M$3:$M$52,0)),\"\")","v":""},{"$f":"IFERROR(IF(D685=\"\",\"\",INDEX(tb_vendas[Preço de Venda],MATCH(D685,tb_vendas[N° Pedido/Empresa],0))/F685),\"\")","v":""},{"$f":"IFERROR(IF(D685=\"\",\"\",INDEX(tb_vendas[Data Fechamento],MATCH(D685,tb_vendas[N° Pedido/Empresa],0))+E685*INDEX(tb_formas_pagamento[Dias_Intervalo],MATCH(INDEX(tb_vendas[Forma_Pagamento],MATCH(D685,tb_vendas[N° Pedido/Empresa],0)),tb_formas_pagamento[Nome_Forma],0))),\"\")","v":""},null,{"$f":"IF(OR(tb_pagamentos[[#This Row],[Data_Vencimento]]=\"\",tb_pagamentos[[#This Row],[Valor_Parcela]]=\"\",tb_pagamentos[[#This Row],[Qtd_Total_Parcelas]]=\"\",tb_pagamentos[[#This Row],[Nr_Pedido]]=\"\"),\"\",IF(tb_pagamentos[[#This Row],[Data_Pagamento]]<>\"\",\"Pago\",IF(AND(tb_pagamentos[[#This Row],[Data_Pagamento]]=\"\",tb_pagamentos[[#This Row],[Data_Vencimento]]<TODAY()),\"Em Atraso\",\"A vencer\")))","v":""}]
[null,null,"",{"$f":"IFERROR(INDEX(CALC_BASE!$N$3:$N$52,MATCH(ROW()-7,CALC_BASE!$M$3:$M$52,0)),\"\")","v":""},{"$f":"IFERROR(INDEX(CALC_BASE!$O$3:$O$52,MATCH(ROW()-7,CALC_BASE!$M$3:$M$52,0)),\"\")","v":""},{"$f":"IFERROR(INDEX(CALC_BASE!$P$3:$P$52,MATCH(ROW()-7,CALC_BASE!$M$3:$M$52,0)),\"\")","v":""},{"$f":"IFERROR(IF(D686=\"\",\"\",INDEX(tb_vendas[Preço de Venda],MATCH(D686,tb_vendas[N° Pedido/Empresa],0))/F686),\"\")","v":""},{"$f":"IFERROR(IF(D686=\"\",\"\",INDEX(tb_vendas[Data Fechamento],MATCH(D686,tb_vendas[N° Pedido/Empresa],0))+E686*INDEX(tb_formas_pagamento[Dias_Intervalo],MATCH(INDEX(tb_vendas[Forma_Pagamento],MATCH(D686,tb_vendas[N° Pedido/Empresa],0)),tb_formas_pagamento[Nome_Forma],0))),\"\")","v":""},null,{"$f":"IF(OR(tb_pagamentos[[#This Row],[Data_Vencimento]]=\"\",tb_pagamentos[[#This Row],[Valor_Parcela]]=\"\",tb_pagamentos[[#This Row],[Qtd_Total_Parcelas]]=\"\",tb_pagamentos[[#This Row],[Nr_Pedido]]=\"\"),\"\",IF(tb_pagamentos[[#This Row],[Data_Pagamento]]<>\"\",\"Pago\",IF(AND(tb_pagamentos[[#This Row],[Data_Pagamento]]=\"\",tb_pagamentos[[#This Row],[Data_Vencimento]]<TODAY()),\"Em Atraso\",\"A vencer\")))","v":""}]
[null,null,"",{"$f":"IFERROR(INDEX(CALC_BASE!$N$3:$N$52,MATCH(ROW()-7,CALC_BASE!$M$3:$M$52,0)),\"\")","v":""},{"$f":"IFERROR(INDEX(CALC_BASE!$O$3:$O$52,MATCH(ROW()-7,CALC_BASE!$M$3:$M$52,0)),\"\")","v":""},{"$f":"IFERROR(INDEX(CALC_BASE!$P$3:$P$52,MATCH(ROW()-7,CALC_BASE!$M$3:$M$52,0)),\"\")","v":""},{"$f":"IFERROR(IF(D687=\"\",\"\",INDEX(tb_vendas[Preço de Venda],MATCH(D687,tb_vendas[N° Pedido/Empresa],0))/F687),\"\")","v":""},{"$f":"IFERROR(IF(D687=\"\",\"\",INDEX(tb_vendas[Data Fechamento],MATCH(D687,tb_vendas[N° Pedido/Empresa],0))+E687*INDEX(tb_formas_pagamento[Dias_Intervalo],MATCH(INDEX(tb_vendas[Forma_Pagamento],MATCH(D687,tb_vendas[N° Pedido/Empresa],0)),tb_formas_pagamento[Nome_Forma],0))),\"\")","v":""},null,{"$f":"IF(OR(tb_pagamentos[[#This Row],[Data_Vencimento]]=\"\",tb_pagamentos[[#This Row],[Valor_Parcela]]=\"\",tb_pagamentos[[#This Row],[Qtd_Total_Parcelas]]=\"\",tb_pagamentos[[#This Row],[Nr_Pedido]]=\"\"),\"\",IF(tb_pagamentos[[#This Row],[Data_Pagamento]]<>\"\",\"Pago\",IF(AND(tb_pagamentos[[#This Row],[Data_Pagamento]]=\"\",tb_pagamentos[[#This Row],[Data_Vencimento]]<TODAY()),\"Em Atraso\",\"A vencer\")))","v":""}]
[null,null,"",{"$f":"IFERROR(INDEX(CALC_BASE!$N$3:$N$52,MATCH(ROW()-7,CALC_BASE!$M$3:$M$52,0)),\"\")","v":""},{"$f":"IFERROR(INDEX(CALC_BASE!$O$3:$O$52,MATCH(ROW()-7,CALC_BASE!$M$3:$M$52,0)),\"\")","v":""},{"$f":"IFERROR(INDEX(CALC_BASE!$P$3:$P$52,MATCH(ROW()-7,CALC_BASE!$M$3:$M$52,0)),\"\")","v":""},{"$f":"IFERROR(IF(D688=\"\",\"\",INDEX(tb_vendas[Preço de Venda],MATCH(D688,tb_vendas[N° Pedido/Empresa],0))/F688),\"\")","v":""},{"$f":"IFERROR(IF(D688=\"\",\"\",INDEX(tb_vendas[Data Fechamento],MATCH(D688,tb_vendas[N° Pedido/Empresa],0))+E688*INDEX(tb_formas_pagamento[Dias_Intervalo],MATCH(INDEX(tb_vendas[Forma_Pagamento],MATCH(D688,tb_vendas[N° Pedido/Empresa],0)),tb_formas_pagamento[Nome_Forma],0))),\"\")","v":""},null,{"$f":"IF(OR(tb_pagamentos[[#This Row],[Data_Vencimento]]=\"\",tb_pagamentos[[#This Row],[Valor_Parcela]]=\"\",tb_pagamentos[[#This Row],[Qtd_Total_Parcelas]]=\"\",tb_pagamentos[[#This Row],[Nr_Pedido]]=\"\"),\"\",IF(tb_pagamentos[[#This Row],[Data_Pagamento]]<>\"\",\"Pago\",IF(AND(tb_pagamentos[[#This Row],[Data_Pagamento]]=\"\",tb_pagamentos[[#This Row],[Data_Vencimento]]<TODAY()),\"Em Atraso\",\"A vencer\")))","v":""}]
[null,null,"",{"$f":"IFERROR(INDEX(CALC_BASE!$N$3:$N$52,MATCH(ROW()-7,CALC_BASE!$M$3:$M$52,0)),\"\")","v":""},{"$f":"IFERROR(INDEX(CALC_BASE!$O$3:$O$52,MATCH(ROW()-7,CALC_BASE!$M$3:$M$52,0)),\"\")","v":""},{"$f":"IFERROR(INDEX(CALC_BASE!$P$3:$P$52,MATCH(ROW()-7,CALC_BASE!$M$3:$M$52,0)),\"\")","v":""},{"$f":"IFERROR(IF(D689=\"\",\"\",INDEX(tb_vendas[Preço de Venda],MATCH(D689,tb_vendas[N° Pedido/Empresa],0))/F689),\"\")","v":""},{"$f":"IFERROR(IF(D689=\"\",\"\",INDEX(tb_vendas[Data Fechamento],MATCH(D689,tb_vendas[N° Pedido/Empresa],0))+E689*INDEX(tb_formas_pagamento[Dias_Intervalo],MATCH(INDEX(tb_vendas[Forma_Pagamento],MATCH(D689,tb_vendas[N° Pedido/Empresa],0)),tb_formas_pagamento[Nome_Forma],0))),\"\")","v":""},null,{"$f":"IF(OR(tb_pagamentos[[#This Row],[Data_Vencimento]]=\"\",tb_pagamentos[[#This Row],[Valor_Parcela]]=\"\",tb_pagamentos[[#This Row],[Qtd_Total_Parcelas]]=\"\",tb_pagamentos[[#This Row],[Nr_Pedido]]=\"\"),\"\",IF(tb_pagamentos[[#This Row],[Data_Pagamento]]<>\"\",\"Pago\",IF(AND(tb_pagamentos[[#This Row],[Data_Pagamento]]=\"\",tb_pagamentos[[#This Row],[Data_Vencimento]]<TODAY()),\"Em Atraso\",\"A vencer\")))","v":""}]
[null,null,"",{"$f":"IFERROR(INDEX(CALC_BASE!$N$3:$N$52,MATCH(ROW()-7,CALC_BASE!$M$3:$M$52,0)),\"\")","v":""},{"$f":"IFERROR(INDEX(CALC_BASE!$O$3:$O$52,MATCH(ROW()-7,CALC_BASE!$M$3:$M$52,0)),\"\")","v":""},{"$f":"IFERROR(INDEX(CALC_BASE!$P$3:$P$52,MATCH(ROW()-7,CALC_BASE!$M$3:$M$52,0)),\"\")","v":""},{"$f":"IFERROR(IF(D690=\"\",\"\",INDEX(tb_vendas[Preço de Venda],MATCH(D690,tb_vendas[N° Pedido/Empresa],0))/F690),\"\")","v":""},{"$f":"IFERROR(IF(D690=\"\",\"\",INDEX(tb_vendas[Data Fechamento],MATCH(D690,tb_vendas[N° Pedido/Empresa],0))+E690*INDEX(tb_formas_pagamento[Dias_Intervalo],MATCH(INDEX(tb_vendas[Forma_Pagamento],MATCH(D690,tb_vendas[N° Pedido/Empresa],0)),tb_formas_pagamento[Nome_Forma],0))),\"\")","v":""},null,{"$f":"IF(OR(tb_pagamentos[[#This Row],[Data_Vencimento]]=\"\",tb_pagamentos[[#This Row],[Valor_Parcela]]=\"\",tb_pagamentos[[#This Row],[Qtd_Total_Parcelas]]=\"\",tb_pagamentos[[#This Row],[Nr_Pedido]]=\"\"),\"\",IF(tb_pagamentos[[#This Row],[Data_Pagamento]]<>\"\",\"Pago\",IF(AND(tb_pagamentos[[#This Row],[Data_Pagamento]]=\"\",tb_pagamentos[[#This Row],[Data_Vencimento]]<TODAY()),\"Em Atraso\",\"A vencer\")))","v":""}]
[null,null,"",{"$f":"IFERROR(INDEX(CALC_BASE!$N$3:$N$52,MATCH(ROW()-7,CALC_BASE!$M$3:$M$52,0)),\"\")","v":""},{"$f":"IFERROR(INDEX(CALC_BASE!$O$3:$O$52,MATCH(ROW()-7,CALC_BASE!$M$3:$M$52,0)),\"\")","v":""},{"$f":"IFERROR(INDEX(CALC_BASE!$P$3:$P$52,MATCH(ROW()-7,CALC_BASE!$M$3:$M$52,0)),\"\")","v":""},{"$f":"IFERROR(IF(D691=\"\",\"\",INDEX(tb_vendas[Preço de Venda],MATCH(D691,tb_vendas[N° Pedido/Empresa],0))/F691),\"\")","v":""},{"$f":"IFERROR(IF(D691=\"\",\"\",INDEX(tb_vendas[Data Fechamento],MATCH(D691,tb_vendas[N° Pedido/Empresa],0))+E691*INDEX(tb_formas_pagamento[Dias_Intervalo],MATCH(INDEX(tb_vendas[Forma_Pagamento],MATCH(D691,tb_vendas[N° Pedido/Empresa],0)),tb_formas_pagamento[Nome_Forma],0))),\"\")","v":""},null,{"$f":"IF(OR(tb_pagamentos[[#This Row],[Data_Vencimento]]=\"\",tb_pagamentos[[#This Row],[Valor_Parcela]]=\"\",tb_pagamentos[[#This Row],[Qtd_Total_Parcelas]]=\"\",tb_pagamentos[[#This Row],[Nr_Pedido]]=\"\"),\"\",IF(tb_pagamentos[[#This Row],[Data_Pagamento]]<>\"\",\"Pago\",IF(AND(tb_pagamentos[[#This Row],[Data_Pagamento]]=\"\",tb_pagamentos[[#This Row],[Data_Vencimento]]<TODAY()),\"Em Atraso\",\"A vencer\")))","v":""}]
[null,null,"",{"$f":"IFERROR(INDEX(CALC_BASE!$N$3:$N$52,MATCH(ROW()-7,CALC_BASE!$M$3:$M$52,0)),\"\")","v":""},{"$f":"IFERROR(INDEX(CALC_BASE!$O$3:$O$52,MATCH(ROW()-7,CALC_BASE!$M$3:$M$52,0)),\"\")","v":""},{"$f":"IFERROR(INDEX(CALC_BASE!$P$3:$P$52,MATCH(ROW()-7,CALC_BASE!$M$3:$M$52,0)),\"\")","v":""},{"$f":"IFERROR(IF(D692=\"\",\"\",INDEX(tb_vendas[Preço de Venda],MATCH(D692,tb_vendas[N° Pedido/Empresa],0))/F692),\"\")","v":""},{"$f":"IFERROR(IF(D692=\"\",\"\",INDEX(tb_vendas[Data Fechamento],MATCH(D692,tb_vendas[N° Pedido/Empresa],0))+E692*INDEX(tb_formas_pagamento[Dias_Intervalo],MATCH(INDEX(tb_vendas[Forma_Pagamento],MATCH(D692,tb_vendas[N° Pedido/Empresa],0)),tb_formas_pagamento[Nome_Forma],0))),\"\")","v":""},null,{"$f":"IF(OR(tb_pagamentos[[#This Row],[Data_Vencimento]]=\"\",tb_pagamentos[[#This Row],[Valor_Parcela]]=\"\",tb_pagamentos[[#This Row],[Qtd_Total_Parcelas]]=\"\",tb_pagamentos[[#This Row],[Nr_Pedido]]=\"\"),\"\",IF(tb_pagamentos[[#This Row],[Data_Pagamento]]<>\"\",\"Pago\",IF(AND(tb_pagamentos[[#This Row],[Data_Pagamento]]=\"\",tb_pagamentos[[#This Row],[Data_Vencimento]]<TODAY()),\"Em Atraso\",\"A vencer\")))","v":""}]
[null,null,"",{"$f":"IFERROR(INDEX(CALC_BASE!$N$3:$N$52,MATCH(ROW()-7,CALC_BASE!$M$3:$M$52,0)),\"\")","v":""},{"$f":"IFERROR(INDEX(CALC_BASE!$O$3:$O$52,MATCH(ROW()-7,CALC_BASE!$M$3:$M$52,0)),\"\")","v":""},{"$f":"IFERROR(INDEX(CALC_BASE!$P$3:$P$52,MATCH(ROW()-7,CALC_BASE!$M$3:$M$52,0)),\"\")","v":""},{"$f":"IFERROR(IF(D693=\"\",\"\",INDEX(tb_vendas[Preço de Venda],MATCH(D693,tb_vendas[N° Pedido/Empresa],0))/F693),\"\")","v":""},{"$f":"IFERROR(IF(D693=\"\",\"\",INDEX(tb_vendas[Data Fechamento],MATCH(D693,tb_vendas[N° Pedido/Empresa],0))+E693*INDEX(tb_formas_pagamento[Dias_Intervalo],MATCH(INDEX(tb_vendas[Forma_Pagamento],MATCH(D693,tb_vendas[N° Pedido/Empresa],0)),tb_formas_pagamento[Nome_Forma],0))),\"\")","v":""},null,{"$f":"IF(OR(tb_pagamentos[[#This Row],[Data_Vencimento]]=\"\",tb_pagamentos[[#This Row],[Valor_Parcela]]=\"\",tb_pagamentos[[#This Row],[Qtd_Total_Parcelas]]=\"\",tb_pagamentos[[#This Row],[Nr_Pedido]]=\"\"),\"\",IF(tb_pagamentos[[#This Row],[Data_Pagamento]]<>\"\",\"Pago\",IF(AND(tb_pagamentos[[#This Row],[Data_Pagamento]]=\"\",tb_pagamentos[[#This Row],[Data_Vencimento]]<TODAY()),\"Em Atraso\",\"A vencer\")))","v":""}]
[null,null,"",{"$f":"IFERROR(INDEX(CALC_BASE!$N$3:$N$52,MATCH(ROW()-7,CALC_BASE!$M$3:$M$52,0)),\"\")","v":""},{"$f":"IFERROR(INDEX(CALC_BASE!$O$3:$O$52,MATCH(ROW()-7,CALC_BASE!$M$3:$M$52,0)),\"\")","v":""},{"$f":"IFERROR(INDEX(CALC_BASE!$P$3:$P$52,MATCH(ROW()-7,CALC_BASE!$M$3:$M$52,0)),\"\")","v":""},{"$f":"IFERROR(IF(D694=\"\",\"\",INDEX(tb_vendas[Preço de Venda],MATCH(D694,tb_vendas[N° Pedido/Empresa],0))/F694),\"\")","v":""},{"$f":"IFERROR(IF(D694=\"\",\"\",INDEX(tb_vendas[Data Fechamento],MATCH(D694,tb_vendas[N° Pedido/Empresa],0))+E694*INDEX(tb_formas_pagamento[Dias_Intervalo],MATCH(INDEX(tb_vendas[Forma_Pagamento],MATCH(D694,tb_vendas[N° Pedido/Empresa],0)),tb_formas_pagamento[Nome_Forma],0))),\"\")","v":""},null,{"$f":"IF(OR(tb_pagamentos[[#This Row],[Data_Vencimento]]=\"\",tb_pagamentos[[#This Row],[Valor_Parcela]]=\"\",tb_pagamentos[[#This Row],[Qtd_Total_Parcelas]]=\"\",tb_pagamentos[[#This Row],[Nr_Pedido]]=\"\"),\"\",IF(tb_pagamentos[[#This Row],[Data_Pagamento]]<>\"\",\"Pago\",IF(AND(tb_pagamentos[[#This Row],[Data_Pagamento]]=\"\",tb_pagamentos[[#This Row],[Data_Vencimento]]<TODAY()),\"Em Atraso\",\"A vencer\")))","v":""}]
[null,null,"",{"$f":"IFERROR(INDEX(CALC_BASE!$N$3:$N$52,MATCH(ROW()-7,CALC_BASE!$M$3:$M$52,0)),\"\")","v":""},{"$f":"IFERROR(INDEX(CALC_BASE!$O$3:$O$52,MATCH(ROW()-7,CALC_BASE!$M$3:$M$52,0)),\"\")","v":""},{"$f":"IFERROR(INDEX(CALC_BASE!$P$3:$P$52,MATCH(ROW()-7,CALC_BASE!$M$3:$M$52,0)),\"\")","v":""},{"$f":"IFERROR(IF(D695=\"\",\"\",INDEX(tb_vendas[Preço de Venda],MATCH(D695,tb_vendas[N° Pedido/Empresa],0))/F695),\"\")","v":""},{"$f":"IFERROR(IF(D695=\"\",\"\",INDEX(tb_vendas[Data Fechamento],MATCH(D695,tb_vendas[N° Pedido/Empresa],0))+E695*INDEX(tb_formas_pagamento[Dias_Intervalo],MATCH(INDEX(tb_vendas[Forma_Pagamento],MATCH(D695,tb_vendas[N° Pedido/Empresa],0)),tb_formas_pagamento[Nome_Forma],0))),\"\")","v":""},null,{"$f":"IF(OR(tb_pagamentos[[#This Row],[Data_Vencimento]]=\"\",tb_pagamentos[[#This Row],[Valor_Parcela]]=\"\",tb_pagamentos[[#This Row],[Qtd_Total_Parcelas]]=\"\",tb_pagamentos[[#This Row],[Nr_Pedido]]=\"\"),\"\",IF(tb_pagamentos[[#This Row],[Data_Pagamento]]<>\"\",\"Pago\",IF(AND(tb_pagamentos[[#This Row],[Data_Pagamento]]=\"\",tb_pagamentos[[#This Row],[Data_Vencimento]]<TODAY()),\"Em Atraso\",\"A vencer\")))","v":""}]
[null,null,"",{"$f":"IFERROR(INDEX(CALC_BASE!$N$3:$N$52,MATCH(ROW()-7,CALC_BASE!$M$3:$M$52,0)),\"\")","v":""},{"$f":"IFERROR(INDEX(CALC_BASE!$O$3:$O$52,MATCH(ROW()-7,CALC_BASE!$M$3:$M$52,0)),\"\")","v":""},{"$f":"IFERROR(INDEX(CALC_BASE!$P$3:$P$52,MATCH(ROW()-7,CALC_BASE!$M$3:$M$52,0)),\"\")","v":""},{"$f":"IFERROR(IF(D696=\"\",\"\",INDEX(tb_vendas[Preço de Venda],MATCH(D696,tb_vendas[N° Pedido/Empresa],0))/F696),\"\")","v":""},{"$f":"IFERROR(IF(D696=\"\",\"\",INDEX(tb_vendas[Data Fechamento],MATCH(D696,tb_vendas[N° Pedido/Empresa],0))+E696*INDEX(tb_formas_pagamento[Dias_Intervalo],MATCH(INDEX(tb_vendas[Forma_Pagamento],MATCH(D696,tb_vendas[N° Pedido/Empresa],0)),tb_formas_pagamento[Nome_Forma],0))),\"\")","v":""},null,{"$f":"IF(OR(tb_pagamentos[[#This Row],[Data_Vencimento]]=\"\",tb_pagamentos[[#This Row],[Valor_Parcela]]=\"\",tb_pagamentos[[#This Row],[Qtd_Total_Parcelas]]=\"\",tb_pagamentos[[#This Row],[Nr_Pedido]]=\"\"),\"\",IF(tb_pagamentos[[#This Row],[Data_Pagamento]]<>\"\",\"Pago\",IF(AND(tb_pagamentos[[#This Row],[Data_Pagamento]]=\"\",tb_pagamentos[[#This Row],[Data_Vencimento]]<TODAY()),\"Em Atraso\",\"A vencer\")))","v":""}]
[null,null,"",{"$f":"IFERROR(INDEX(CALC_BASE!$N$3:$N$52,MATCH(ROW()-7,CALC_BASE!$M$3:$M$52,0)),\"\")","v":""},{"$f":"IFERROR(INDEX(CALC_BASE!$O$3:$O$52,MATCH(ROW()-7,CALC_BASE!$M$3:$M$52,0)),\"\")","v":""},{"$f":"IFERROR(INDEX(CALC_BASE!$P$3:$P$52,MATCH(ROW()-7,CALC_BASE!$M$3:$M$52,0)),\"\")","v":""},{"$f":"IFERROR(IF(D697=\"\",\"\",INDEX(tb_vendas[Preço de Venda],MATCH(D697,tb_vendas[N° Pedido/Empresa],0))/F697),\"\")","v":""},{"$f":"IFERROR(IF(D697=\"\",\"\",INDEX(tb_vendas[Data Fechamento],MATCH(D697,tb_vendas[N° Pedido/Empresa],0))+E697*INDEX(tb_formas_pagamento[Dias_Intervalo],MATCH(INDEX(tb_vendas[Forma_Pagamento],MATCH(D697,tb_vendas[N° Pedido/Empresa],0)),tb_formas_pagamento[Nome_Forma],0))),\"\")","v":""},null,{"$f":"IF(OR(tb_pagamentos[[#This Row],[Data_Vencimento]]=\"\",tb_pagamentos[[#This Row],[Valor_Parcela]]=\"\",tb_pagamentos[[#This Row],[Qtd_Total_Parcelas]]=\"\",tb_pagamentos[[#This Row],[Nr_Pedido]]=\"\"),\"\",IF(tb_pagamentos[[#This Row],[Data_Pagamento]]<>\"\",\"Pago\",IF(AND(tb_pagamentos[[#This Row],[Data_Pagamento]]=\"\",tb_pagamentos[[#This Row],[Data_Vencimento]]<TODAY()),\"Em Atraso\",\"A vencer\")))","v":""}]
[null,null,"",{"$f":"IFERROR(INDEX(CALC_BASE!$N$3:$N$52,MATCH(ROW()-7,CALC_BASE!$M$3:$M$52,0)),\"\")","v":""},{"$f":"IFERROR(INDEX(CALC_BASE!$O$3:$O$52,MATCH(ROW()-7,CALC_BASE!$M$3:$M$52,0)),\"\")","v":""},{"$f":"IFERROR(INDEX(CALC_BASE!$P$3:$P$52,MATCH(ROW()-7,CALC_BASE!$M$3:$M$52,0)),\"\")","v":""},{"$f":"IFERROR(IF(D698=\"\",\"\",INDEX(tb_vendas[Preço de Venda],MATCH(D698,tb_vendas[N° Pedido/Empresa],0))/F698),\"\")","v":""},{"$f":"IFERROR(IF(D698=\"\",\"\",INDEX(tb_vendas[Data Fechamento],MATCH(D698,tb_vendas[N° Pedido/Empresa],0))+E698*INDEX(tb_formas_pagamento[Dias_Intervalo],MATCH(INDEX(tb_vendas[Forma_Pagamento],MATCH(D698,tb_vendas[N° Pedido/Empresa],0)),tb_formas_pagamento[Nome_Forma],0))),\"\")","v":""},null,{"$f":"IF(OR(tb_pagamentos[[#This Row],[Data_Vencimento]]=\"\",tb_pagamentos[[#This Row],[Valor_Parcela]]=\"\",tb_pagamentos[[#This Row],[Qtd_Total_Parcelas]]=\"\",tb_pagamentos[[#This Row],[Nr_Pedido]]=\"\"),\"\",IF(tb_pagamentos[[#This Row],[Data_Pagamento]]<>\"\",\"Pago\",IF(AND(tb_pagamentos[[#This Row],[Data_Pagamento]]=\"\",tb_pagamentos[[#This Row],[Data_Vencimento]]<TODAY()),\"Em Atraso\",\"A vencer\")))","v":""}]
[null,null,"",{"$f":"IFERROR(INDEX(CALC_BASE!$N$3:$N$52,MATCH(ROW()-7,CALC_BASE!$M$3:$M$52,0)),\"\")","v":""},{"$f":"IFERROR(INDEX(CALC_BASE!$O$3:$O$52,MATCH(ROW()-7,CALC_BASE!$M$3:$M$52,0)),\"\")","v":""},{"$f":"IFERROR(INDEX(CALC_BASE!$P$3:$P$52,MATCH(ROW()-7,CALC_BASE!$M$3:$M$52,0)),\"\")","v":""},{"$f":"IFERROR(IF(D699=\"\",\"\",INDEX(tb_vendas[Preço de Venda],MATCH(D699,tb_vendas[N° Pedido/Empresa],0))/F699),\"\")","v":""},{"$f":"IFERROR(IF(D699=\"\",\"\",INDEX(tb_vendas[Data Fechamento],MATCH(D699,tb_vendas[N° Pedido/Empresa],0))+E699*INDEX(tb_formas_pagamento[Dias_Intervalo],MATCH(INDEX(tb_vendas[Forma_Pagamento],MATCH(D699,tb_vendas[N° Pedido/Empresa],0)),tb_formas_pagamento[Nome_Forma],0))),\"\")","v":""},null,{"$f":"IF(OR(tb_pagamentos[[#This Row],[Data_Vencimento]]=\"\",tb_pagamentos[[#This Row],[Valor_Parcela]]=\"\",tb_pagamentos[[#This Row],[Qtd_Total_Parcelas]]=\"\",tb_pagamentos[[#This Row],[Nr_Pedido]]=\"\"),\"\",IF(tb_pagamentos[[#This Row],[Data_Pagamento]]<>\"\",\"Pago\",IF(AND(tb_pagamentos[[#This Row],[Data_Pagamento]]=\"\",tb_pagamentos[[#This Row],[Data_Vencimento]]<TODAY()),\"Em Atraso\",\"A vencer\")))","v":""}]
[null,null,"",{"$f":"IFERROR(INDEX(CALC_BASE!$N$3:$N$52,MATCH(ROW()-7,CALC_BASE!$M$3:$M$52,0)),\"\")","v":""},{"$f":"IFERROR(INDEX(CALC_BASE!$O$3:$O$52,MATCH(ROW()-7,CALC_BASE!$M$3:$M$52,0)),\"\")","v":""},{"$f":"IFERROR(INDEX(CALC_BASE!$P$3:$P$52,MATCH(ROW()-7,CALC_BASE!$M$3:$M$52,0)),\"\")","v":""},{"$f":"IFERROR(IF(D700=\"\",\"\",INDEX(tb_vendas[Preço de Venda],MATCH(D700,tb_vendas[N° Pedido/Empresa],0))/F700),\"\")","v":""},{"$f":"IFERROR(IF(D700=\"\",\"\",INDEX(tb_vendas[Data Fechamento],MATCH(D700,tb_vendas[N° Pedido/Empresa],0))+E700*INDEX(tb_formas_pagamento[Dias_Intervalo],MATCH(INDEX(tb_vendas[Forma_Pagamento],MATCH(D700,tb_vendas[N° Pedido/Empresa],0)),tb_formas_pagamento[Nome_Forma],0))),\"\")","v":""},null,{"$f":"IF(OR(tb_pagamentos[[#This Row],[Data_Vencimento]]=\"\",tb_pagamentos[[#This Row],[Valor_Parcela]]=\"\",tb_pagamentos[[#This Row],[Qtd_Total_Parcelas]]=\"\",tb_pagamentos[[#This Row],[Nr_Pedido]]=\"\"),\"\",IF(tb_pagamentos[[#This Row],[Data_Pagamento]]<>\"\",\"Pago\",IF(AND(tb_pagamentos[[#This Row],[Data_Pagamento]]=\"\",tb_pagamentos[[#This Row],[Data_Vencimento]]<TODAY()),\"Em Atraso\",\"A vencer\")))","v":""}]
[null,null,"",{"$f":"IFERROR(INDEX(CALC_BASE!$N$3:$N$52,MATCH(ROW()-7,CALC_BASE!$M$3:$M$52,0)),\"\")","v":""},{"$f":"IFERROR(INDEX(CALC_BASE!$O$3:$O$52,MATCH(ROW()-7,CALC_BASE!$M$3:$M$52,0)),\"\")","v":""},{"$f":"IFERROR(INDEX(CALC_BASE!$P$3:$P$52,MATCH(ROW()-7,CALC_BASE!$M$3:$M$52,0)),\"\")","v":""},{"$f":"IFERROR(IF(D701=\"\",\"\",INDEX(tb_vendas[Preço de Venda],MATCH(D701,tb_vendas[N° Pedido/Empresa],0))/F701),\"\")","v":""},{"$f":"IFERROR(IF(D701=\"\",\"\",INDEX(tb_vendas[Data Fechamento],MATCH(D701,tb_vendas[N° Pedido/Empresa],0))+E701*INDEX(tb_formas_pagamento[Dias_Intervalo],MATCH(INDEX(tb_vendas[Forma_Pagamento],MATCH(D701,tb_vendas[N° Pedido/Empresa],0)),tb_formas_pagamento[Nome_Forma],0))),\"\")","v":""},null,{"$f":"IF(OR(tb_pagamentos[[#This Row],[Data_Vencimento]]=\"\",tb_pagamentos[[#This Row],[Valor_Parcela]]=\"\",tb_pagamentos[[#This Row],[Qtd_Total_Parcelas]]=\"\",tb_pagamentos[[#This Row],[Nr_Pedido]]=\"\"),\"\",IF(tb_pagamentos[[#This Row],[Data_Pagamento]]<>\"\",\"Pago\",IF(AND(tb_pagamentos[[#This Row],[Data_Pagamento]]=\"\",tb_pagamentos[[#This Row],[Data_Vencimento]]<TODAY()),\"Em Atraso\",\"A vencer\")))","v":""}]
[null,null,"",{"$f":"IFERROR(INDEX(CALC_BASE!$N$3:$N$52,MATCH(ROW()-7,CALC_BASE!$M$3:$M$52,0)),\"\")","v":""},{"$f":"IFERROR(INDEX(CALC_BASE!$O$3:$O$52,MATCH(ROW()-7,CALC_BASE!$M$3:$M$52,0)),\"\")","v":""},{"$f":"IFERROR(INDEX(CALC_BASE!$P$3:$P$52,MATCH(ROW()-7,CALC_BASE!$M$3:$M$52,0)),\"\")","v":""},{"$f":"IFERROR(IF(D702=\"\",\"\",INDEX(tb_vendas[Preço de Venda],MATCH(D702,tb_vendas[N° Pedido/Empresa],0))/F702),\"\")","v":""},{"$f":"IFERROR(IF(D702=\"\",\"\",INDEX(tb_vendas[Data Fechamento],MATCH(D702,tb_vendas[N° Pedido/Empresa],0))+E702*INDEX(tb_formas_pagamento[Dias_Intervalo],MATCH(INDEX(tb_vendas[Forma_Pagamento],MATCH(D702,tb_vendas[N° Pedido/Empresa],0)),tb_formas_pagamento[Nome_Forma],0))),\"\")","v":""},null,{"$f":"IF(OR(tb_pagamentos[[#This Row],[Data_Vencimento]]=\"\",tb_pagamentos[[#This Row],[Valor_Parcela]]=\"\",tb_pagamentos[[#This Row],[Qtd_Total_Parcelas]]=\"\",tb_pagamentos[[#This Row],[Nr_Pedido]]=\"\"),\"\",IF(tb_pagamentos[[#This Row],[Data_Pagamento]]<>\"\",\"Pago\",IF(AND(tb_pagamentos[[#This Row],[Data_Pagamento]]=\"\",tb_pagamentos[[#This Row],[Data_Vencimento]]<TODAY()),\"Em Atraso\",\"A vencer\")))","v":""}]
[null,null,"",{"$f":"IFERROR(INDEX(CALC_BASE!$N$3:$N$52,MATCH(ROW()-7,CALC_BASE!$M$3:$M$52,0)),\"\")","v":""},{"$f":"IFERROR(INDEX(CALC_BASE!$O$3:$O$52,MATCH(ROW()-7,CALC_BASE!$M$3:$M$52,0)),\"\")","v":""},{"$f":"IFERROR(INDEX(CALC_BASE!$P$3:$P$52,MATCH(ROW()-7,CALC_BASE!$M$3:$M$52,0)),\"\")","v":""},{"$f":"IFERROR(IF(D703=\"\",\"\",INDEX(tb_vendas[Preço de Venda],MATCH(D703,tb_vendas[N° Pedido/Empresa],0))/F703),\"\")","v":""},{"$f":"IFERROR(IF(D703=\"\",\"\",INDEX(tb_vendas[Data Fechamento],MATCH(D703,tb_vendas[N° Pedido/Empresa],0))+E703*INDEX(tb_formas_pagamento[Dias_Intervalo],MATCH(INDEX(tb_vendas[Forma_Pagamento],MATCH(D703,tb_vendas[N° Pedido/Empresa],0)),tb_formas_pagamento[Nome_Forma],0))),\"\")","v":""},null,{"$f":"IF(OR(tb_pagamentos[[#This Row],[Data_Vencimento]]=\"\",tb_pagamentos[[#This Row],[Valor_Parcela]]=\"\",tb_pagamentos[[#This Row],[Qtd_Total_Parcelas]]=\"\",tb_pagamentos[[#This Row],[Nr_Pedido]]=\"\"),\"\",IF(tb_pagamentos[[#This Row],[Data_Pagamento]]<>\"\",\"Pago\",IF(AND(tb_pagamentos[[#This Row],[Data_Pagamento]]=\"\",tb_pagamentos[[#This Row],[Data_Vencimento]]<TODAY()),\"Em Atraso\",\"A vencer\")))","v":""}]
[null,null,"",{"$f":"IFERROR(INDEX(CALC_BASE!$N$3:$N$52,MATCH(ROW()-7,CALC_BASE!$M$3:$M$52,0)),\"\")","v":""},{"$f":"IFERROR(INDEX(CALC_BASE!$O$3:$O$52,MATCH(ROW()-7,CALC_BASE!$M$3:$M$52,0)),\"\")","v":""},{"$f":"IFERROR(INDEX(CALC_BASE!$P$3:$P$52,MATCH(ROW()-7,CALC_BASE!$M$3:$M$52,0)),\"\")","v":""},{"$f":"IFERROR(IF(D704=\"\",\"\",INDEX(tb_vendas[Preço de Venda],MATCH(D704,tb_vendas[N° Pedido/Empresa],0))/F704),\"\")","v":""},{"$f":"IFERROR(IF(D704=\"\",\"\",INDEX(tb_vendas[Data Fechamento],MATCH(D704,tb_vendas[N° Pedido/Empresa],0))+E704*INDEX(tb_formas_pagamento[Dias_Intervalo],MATCH(INDEX(tb_vendas[Forma_Pagamento],MATCH(D704,tb_vendas[N° Pedido/Empresa],0)),tb_formas_pagamento[Nome_Forma],0))),\"\")","v":""},null,{"$f":"IF(OR(tb_pagamentos[[#This Row],[Data_Vencimento]]=\"\",tb_pagamentos[[#This Row],[Valor_Parcela]]=\"\",tb_pagamentos[[#This Row],[Qtd_Total_Parcelas]]=\"\",tb_pagamentos[[#This Row],[Nr_Pedido]]=\"\"),\"\",IF(tb_pagamentos[[#This Row],[Data_Pagamento]]<>\"\",\"Pago\",IF(AND(tb_pagamentos[[#This Row],[Data_Pagamento]]=\"\",tb_pagamentos[[#This Row],[Data_Vencimento]]<TODAY()),\"Em Atraso\",\"A vencer\")))","v":""}]
[null,null,"",{"$f":"IFERROR(INDEX(CALC_BASE!$N$3:$N$52,MATCH(ROW()-7,CALC_BASE!$M$3:$M$52,0)),\"\")","v":""},{"$f":"IFERROR(INDEX(CALC_BASE!$O$3:$O$52,MATCH(ROW()-7,CALC_BASE!$M$3:$M$52,0)),\"\")","v":""},{"$f":"IFERROR(INDEX(CALC_BASE!$P$3:$P$52,MATCH(ROW()-7,CALC_BASE!$M$3:$M$52,0)),\"\")","v":""},{"$f":"IFERROR(IF(D705=\"\",\"\",INDEX(tb_vendas[Preço de Venda],MATCH(D705,tb_vendas[N° Pedido/Empresa],0))/F705),\"\")","v":""},{"$f":"IFERROR(IF(D705=\"\",\"\",INDEX(tb_vendas[Data Fechamento],MATCH(D705,tb_vendas[N° Pedido/Empresa],0))+E705*INDEX(tb_formas_pagamento[Dias_Intervalo],MATCH(INDEX(tb_vendas[Forma_Pagamento],MATCH(D705,tb_vendas[N° Pedido/Empresa],0)),tb_formas_pagamento[Nome_Forma],0))),\"\")","v":""},null,{"$f":"IF(OR(tb_pagamentos[[#This Row],[Data_Vencimento]]=\"\",tb_pagamentos[[#This Row],[Valor_Parcela]]=\"\",tb_pagamentos[[#This Row],[Qtd_Total_Parcelas]]=\"\",tb_pagamentos[[#This Row],[Nr_Pedido]]=\"\"),\"\",IF(tb_pagamentos[[#This Row],[Data_Pagamento]]<>\"\",\"Pago\",IF(AND(tb_pagamentos[[#This Row],[Data_Pagamento]]=\"\",tb_pagamentos[[#This Row],[Data_Vencimento]]<TODAY()),\"Em Atraso\",\"A vencer\")))","v":""}]
[null,null,"",{"$f":"IFERROR(INDEX(CALC_BASE!$N$3:$N$52,MATCH(ROW()-7,CALC_BASE!$M$3:$M$52,0)),\"\")","v":""},{"$f":"IFERROR(INDEX(CALC_BASE!$O$3:$O$52,MATCH(ROW()-7,CALC_BASE!$M$3:$M$52,0)),\"\")","v":""},{"$f":"IFERROR(INDEX(CALC_BASE!$P$3:$P$52,MATCH(ROW()-7,CALC_BASE!$M$3:$M$52,0)),\"\")","v":""},{"$f":"IFERROR(IF(D706=\"\",\"\",INDEX(tb_vendas[Preço de Venda],MATCH(D706,tb_vendas[N° Pedido/Empresa],0))/F706),\"\")","v":""},{"$f":"IFERROR(IF(D706=\"\",\"\",INDEX(tb_vendas[Data Fechamento],MATCH(D706,tb_vendas[N° Pedido/Empresa],0))+E706*INDEX(tb_formas_pagamento[Dias_Intervalo],MATCH(INDEX(tb_vendas[Forma_Pagamento],MATCH(D706,tb_vendas[N° Pedido/Empresa],0)),tb_formas_pagamento[Nome_Forma],0))),\"\")","v":""},null,{"$f":"IF(OR(tb_pagamentos[[#This Row],[Data_Vencimento]]=\"\",tb_pagamentos[[#This Row],[Valor_Parcela]]=\"\",tb_pagamentos[[#This Row],[Qtd_Total_Parcelas]]=\"\",tb_pagamentos[[#This Row],[Nr_Pedido]]=\"\"),\"\",IF(tb_pagamentos[[#This Row],[Data_Pagamento]]<>\"\",\"Pago\",IF(AND(tb_pagamentos[[#This Row],[Data_Pagamento]]=\"\",tb_pagamentos[[#This Row],[Data_Vencimento]]<TODAY()),\"Em Atraso\",\"A vencer\")))","v":""}]
[null,null,"",{"$f":"IFERROR(INDEX(CALC_BASE!$N$3:$N$52,MATCH(ROW()-7,CALC_BASE!$M$3:$M$52,0)),\"\")","v":""},{"$f":"IFERROR(INDEX(CALC_BASE!$O$3:$O$52,MATCH(ROW()-7,CALC_BASE!$M$3:$M$52,0)),\"\")","v":""},{"$f":"IFERROR(INDEX(CALC_BASE!$P$3:$P$52,MATCH(ROW()-7,CALC_BASE!$M$3:$M$52,0)),\"\")","v":""},{"$f":"IFERROR(IF(D707=\"\",\"\",INDEX(tb_vendas[Preço de Venda],MATCH(D707,tb_vendas[N° Pedido/Empresa],0))/F707),\"\")","v":""},{"$f":"IFERROR(IF(D707=\"\",\"\",INDEX(tb_vendas[Data Fechamento],MATCH(D707,tb_vendas[N° Pedido/Empresa],0))+E707*INDEX(tb_formas_pagamento[Dias_Intervalo],MATCH(INDEX(tb_vendas[Forma_Pagamento],MATCH(D707,tb_vendas[N° Pedido/Empresa],0)),tb_formas_pagamento[Nome_Forma],0))),\"\")","v":""},null,{"$f":"IF(OR(tb_pagamentos[[#This Row],[Data_Vencimento]]=\"\",tb_pagamentos[[#This Row],[Valor_Parcela]]=\"\",tb_pagamentos[[#This Row],[Qtd_Total_Parcelas]]=\"\",tb_pagamentos[[#This Row],[Nr_Pedido]]=\"\"),\"\",IF(tb_pagamentos[[#This Row],[Data_Pagamento]]<>\"\",\"Pago\",IF(AND(tb_pagamentos[[#This Row],[Data_Pagamento]]=\"\",tb_pagamentos[[#This Row],[Data_Vencimento]]<TODAY()),\"Em Atraso\",\"A vencer\")))","v":""}]
[null,null,"",{"$f":"IFERROR(INDEX(CALC_BASE!$N$3:$N$52,MATCH(ROW()-7,CALC_BASE!$M$3:$M$52,0)),\"\")","v":""},{"$f":"IFERROR(INDEX(CALC_BASE!$O$3:$O$52,MATCH(ROW()-7,CALC_BASE!$M$3:$M$52,0)),\"\")","v":""},{"$f":"IFERROR(INDEX(CALC_BASE!$P$3:$P$52,MATCH(ROW()-7,CALC_BASE!$M$3:$M$52,0)),\"\")","v":""},{"$f":"IFERROR(IF(D708=\"\",\"\",INDEX(tb_vendas[Preço de Venda],MATCH(D708,tb_vendas[N° Pedido/Empresa],0))/F708),\"\")","v":""},{"$f":"IFERROR(IF(D708=\"\",\"\",INDEX(tb_vendas[Data Fechamento],MATCH(D708,tb_vendas[N° Pedido/Empresa],0))+E708*INDEX(tb_formas_pagamento[Dias_Intervalo],MATCH(INDEX(tb_vendas[Forma_Pagamento],MATCH(D708,tb_vendas[N° Pedido/Empresa],0)),tb_formas_pagamento[Nome_Forma],0))),\"\")","v":""},null,{"$f":"IF(OR(tb_pagamentos[[#This Row],[Data_Vencimento]]=\"\",tb_pagamentos[[#This Row],[Valor_Parcela]]=\"\",tb_pagamentos[[#This Row],[Qtd_Total_Parcelas]]=\"\",tb_pagamentos[[#This Row],[Nr_Pedido]]=\"\"),\"\",IF(tb_pagamentos[[#This Row],[Data_Pagamento]]<>\"\",\"Pago\",IF(AND(tb_pagamentos[[#This Row],[Data_Pagamento]]=\"\",tb_pagamentos[[#This Row],[Data_Vencimento]]<TODAY()),\"Em Atraso\",\"A vencer\")))","v":""}]
[null,null,"",{"$f":"IFERROR(INDEX(CALC_BASE!$N$3:$N$52,MATCH(ROW()-7,CALC_BASE!$M$3:$M$52,0)),\"\")","v":""},{"$f":"IFERROR(INDEX(CALC_BASE!$O$3:$O$52,MATCH(ROW()-7,CALC_BASE!$M$3:$M$52,0)),\"\")","v":""},{"$f":"IFERROR(INDEX(CALC_BASE!$P$3:$P$52,MATCH(ROW()-7,CALC_BASE!$M$3:$M$52,0)),\"\")","v":""},{"$f":"IFERROR(IF(D709=\"\",\"\",INDEX(tb_vendas[Preço de Venda],MATCH(D709,tb_vendas[N° Pedido/Empresa],0))/F709),\"\")","v":""},{"$f":"IFERROR(IF(D709=\"\",\"\",INDEX(tb_vendas[Data Fechamento],MATCH(D709,tb_vendas[N° Pedido/Empresa],0))+E709*INDEX(tb_formas_pagamento[Dias_Intervalo],MATCH(INDEX(tb_vendas[Forma_Pagamento],MATCH(D709,tb_vendas[N° Pedido/Empresa],0)),tb_formas_pagamento[Nome_Forma],0))),\"\")","v":""},null,{"$f":"IF(OR(tb_pagamentos[[#This Row],[Data_Vencimento]]=\"\",tb_pagamentos[[#This Row],[Valor_Parcela]]=\"\",tb_pagamentos[[#This Row],[Qtd_Total_Parcelas]]=\"\",tb_pagamentos[[#This Row],[Nr_Pedido]]=\"\"),\"\",IF(tb_pagamentos[[#This Row],[Data_Pagamento]]<>\"\",\"Pago\",IF(AND(tb_pagamentos[[#This Row],[Data_Pagamento]]=\"\",tb_pagamentos[[#This Row],[Data_Vencimento]]<TODAY()),\"Em Atraso\",\"A vencer\")))","v":""}]
[null,null,"",{"$f":"IFERROR(INDEX(CALC_BASE!$N$3:$N$52,MATCH(ROW()-7,CALC_BASE!$M$3:$M$52,0)),\"\")","v":""},{"$f":"IFERROR(INDEX(CALC_BASE!$O$3:$O$52,MATCH(ROW()-7,CALC_BASE!$M$3:$M$52,0)),\"\")","v":""},{"$f":"IFERROR(INDEX(CALC_BASE!$P$3:$P$52,MATCH(ROW()-7,CALC_BASE!$M$3:$M$52,0)),\"\")","v":""},{"$f":"IFERROR(IF(D710=\"\",\"\",INDEX(tb_vendas[Preço de Venda],MATCH(D710,tb_vendas[N° Pedido/Empresa],0))/F710),\"\")","v":""},{"$f":"IFERROR(IF(D710=\"\",\"\",INDEX(tb_vendas[Data Fechamento],MATCH(D710,tb_vendas[N° Pedido/Empresa],0))+E710*INDEX(tb_formas_pagamento[Dias_Intervalo],MATCH(INDEX(tb_vendas[Forma_Pagamento],MATCH(D710,tb_vendas[N° Pedido/Empresa],0)),tb_formas_pagamento[Nome_Forma],0))),\"\")","v":""},null,{"$f":"IF(OR(tb_pagamentos[[#This Row],[Data_Vencimento]]=\"\",tb_pagamentos[[#This Row],[Valor_Parcela]]=\"\",tb_pagamentos[[#This Row],[Qtd_Total_Parcelas]]=\"\",tb_pagamentos[[#This Row],[Nr_Pedido]]=\"\"),\"\",IF(tb_pagamentos[[#This Row],[Data_Pagamento]]<>\"\",\"Pago\",IF(AND(tb_pagamentos[[#This Row],[Data_Pagamento]]=\"\",tb_pagamentos[[#This Row],[Data_Vencimento]]<TODAY()),\"Em Atraso\",\"A vencer\")))","v":""}]
[null,null,"",{"$f":"IFERROR(INDEX(CALC_BASE!$N$3:$N$52,MATCH(ROW()-7,CALC_BASE!$M$3:$M$52,0)),\"\")","v":""},{"$f":"IFERROR(INDEX(CALC_BASE!$O$3:$O$52,MATCH(ROW()-7,CALC_BASE!$M$3:$M$52,0)),\"\")","v":""},{"$f":"IFERROR(INDEX(CALC_BASE!$P$3:$P$52,MATCH(ROW()-7,CALC_BASE!$M$3:$M$52,0)),\"\")","v":""},{"$f":"IFERROR(IF(D711=\"\",\"\",INDEX(tb_vendas[Preço de Venda],MATCH(D711,tb_vendas[N° Pedido/Empresa],0))/F711),\"\")","v":""},{"$f":"IFERROR(IF(D711=\"\",\"\",INDEX(tb_vendas[Data Fechamento],MATCH(D711,tb_vendas[N° Pedido/Empresa],0))+E711*INDEX(tb_formas_pagamento[Dias_Intervalo],MATCH(INDEX(tb_vendas[Forma_Pagamento],MATCH(D711,tb_vendas[N° Pedido/Empresa],0)),tb_formas_pagamento[Nome_Forma],0))),\"\")","v":""},null,{"$f":"IF(OR(tb_pagamentos[[#This Row],[Data_Vencimento]]=\"\",tb_pagamentos[[#This Row],[Valor_Parcela]]=\"\",tb_pagamentos[[#This Row],[Qtd_Total_Parcelas]]=\"\",tb_pagamentos[[#This Row],[Nr_Pedido]]=\"\"),\"\",IF(tb_pagamentos[[#This Row],[Data_Pagamento]]<>\"\",\"Pago\",IF(AND(tb_pagamentos[[#This Row],[Data_Pagamento]]=\"\",tb_pagamentos[[#This Row],[Data_Vencimento]]<TODAY()),\"Em Atraso\",\"A vencer\")))","v":""}]
[null,null,"",{"$f":"IFERROR(INDEX(CALC_BASE!$N$3:$N$52,MATCH(ROW()-7,CALC_BASE!$M$3:$M$52,0)),\"\")","v":""},{"$f":"IFERROR(INDEX(CALC_BASE!$O$3:$O$52,MATCH(ROW()-7,CALC_BASE!$M$3:$M$52,0)),\"\")","v":""},{"$f":"IFERROR(INDEX(CALC_BASE!$P$3:$P$52,MATCH(ROW()-7,CALC_BASE!$M$3:$M$52,0)),\"\")","v":""},{"$f":"IFERROR(IF(D712=\"\",\"\",INDEX(tb_vendas[Preço de Venda],MATCH(D712,tb_vendas[N° Pedido/Empresa],0))/F712),\"\")","v":""},{"$f":"IFERROR(IF(D712=\"\",\"\",INDEX(tb_vendas[Data Fechamento],MATCH(D712,tb_vendas[N° Pedido/Empresa],0))+E712*INDEX(tb_formas_pagamento[Dias_Intervalo],MATCH(INDEX(tb_vendas[Forma_Pagamento],MATCH(D712,tb_vendas[N° Pedido/Empresa],0)),tb_formas_pagamento[Nome_Forma],0))),\"\")","v":""},null,{"$f":"IF(OR(tb_pagamentos[[#This Row],[Data_Vencimento]]=\"\",tb_pagamentos[[#This Row],[Valor_Parcela]]=\"\",tb_pagamentos[[#This Row],[Qtd_Total_Parcelas]]=\"\",tb_pagamentos[[#This Row],[Nr_Pedido]]=\"\"),\"\",IF(tb_pagamentos[[#This Row],[Data_Pagamento]]<>\"\",\"Pago\",IF(AND(tb_pagamentos[[#This Row],[Data_Pagamento]]=\"\",tb_pagamentos[[#This Row],[Data_Vencimento]]<TODAY()),\"Em Atraso\",\"A vencer\")))","v":""}]
[null,null,"",{"$f":"IFERROR(INDEX(CALC_BASE!$N$3:$N$52,MATCH(ROW()-7,CALC_BASE!$M$3:$M$52,0)),\"\")","v":""},{"$f":"IFERROR(INDEX(CALC_BASE!$O$3:$O$52,MATCH(ROW()-7,CALC_BASE!$M$3:$M$52,0)),\"\")","v":""},{"$f":"IFERROR(INDEX(CALC_BASE!$P$3:$P$52,MATCH(ROW()-7,CALC_BASE!$M$3:$M$52,0)),\"\")","v":""},{"$f":"IFERROR(IF(D713=\"\",\"\",INDEX(tb_vendas[Preço de Venda],MATCH(D713,tb_vendas[N° Pedido/Empresa],0))/F713),\"\")","v":""},{"$f":"IFERROR(IF(D713=\"\",\"\",INDEX(tb_vendas[Data Fechamento],MATCH(D713,tb_vendas[N° Pedido/Empresa],0))+E713*INDEX(tb_formas_pagamento[Dias_Intervalo],MATCH(INDEX(tb_vendas[Forma_Pagamento],MATCH(D713,tb_vendas[N° Pedido/Empresa],0)),tb_formas_pagamento[Nome_Forma],0))),\"\")","v":""},null,{"$f":"IF(OR(tb_pagamentos[[#This Row],[Data_Vencimento]]=\"\",tb_pagamentos[[#This Row],[Valor_Parcela]]=\"\",tb_pagamentos[[#This Row],[Qtd_Total_Parcelas]]=\"\",tb_pagamentos[[#This Row],[Nr_Pedido]]=\"\"),\"\",IF(tb_pagamentos[[#This Row],[Data_Pagamento]]<>\"\",\"Pago\",IF(AND(tb_pagamentos[[#This Row],[Data_Pagamento]]=\"\",tb_pagamentos[[#This Row],[Data_Vencimento]]<TODAY()),\"Em Atraso\",\"A vencer\")))","v":""}]
[null,null,"",{"$f":"IFERROR(INDEX(CALC_BASE!$N$3:$N$52,MATCH(ROW()-7,CALC_BASE!$M$3:$M$52,0)),\"\")","v":""},{"$f":"IFERROR(INDEX(CALC_BASE!$O$3:$O$52,MATCH(ROW()-7,CALC_BASE!$M$3:$M$52,0)),\"\")","v":""},{"$f":"IFERROR(INDEX(CALC_BASE!$P$3:$P$52,MATCH(ROW()-7,CALC_BASE!$M$3:$M$52,0)),\"\")","v":""},{"$f":"IFERROR(IF(D714=\"\",\"\",INDEX(tb_vendas[Preço de Venda],MATCH(D714,tb_vendas[N° Pedido/Empresa],0))/F714),\"\")","v":""},{"$f":"IFERROR(IF(D714=\"\",\"\",INDEX(tb_vendas[Data Fechamento],MATCH(D714,tb_vendas[N° Pedido/Empresa],0))+E714*INDEX(tb_formas_pagamento[Dias_Intervalo],MATCH(INDEX(tb_vendas[Forma_Pagamento],MATCH(D714,tb_vendas[N° Pedido/Empresa],0)),tb_formas_pagamento[Nome_Forma],0))),\"\")","v":""},null,{"$f":"IF(OR(tb_pagamentos[[#This Row],[Data_Vencimento]]=\"\",tb_pagamentos[[#This Row],[Valor_Parcela]]=\"\",tb_pagamentos[[#This Row],[Qtd_Total_Parcelas]]=\"\",tb_pagamentos[[#This Row],[Nr_Pedido]]=\"\"),\"\",IF(tb_pagamentos[[#This Row],[Data_Pagamento]]<>\"\",\"Pago\",IF(AND(tb_pagamentos[[#This Row],[Data_Pagamento]]=\"\",tb_pagamentos[[#This Row],[Data_Vencimento]]<TODAY()),\"Em Atraso\",\"A vencer\")))","v":""}]
[null,null,"",{"$f":"IFERROR(INDEX(CALC_BASE!$N$3:$N$52,MATCH(ROW()-7,CALC_BASE!$M$3:$M$52,0)),\"\")","v":""},{"$f":"IFERROR(INDEX(CALC_BASE!$O$3:$O$52,MATCH(ROW()-7,CALC_BASE!$M$3:$M$52,0)),\"\")","v":""},{"$f":"IFERROR(INDEX(CALC_BASE!$P$3:$P$52,MATCH(ROW()-7,CALC_BASE!$M$3:$M$52,0)),\"\")","v":""},{"$f":"IFERROR(IF(D715=\"\",\"\",INDEX(tb_vendas[Preço de Venda],MATCH(D715,tb_vendas[N° Pedido/Empresa],0))/F715),\"\")","v":""},{"$f":"IFERROR(IF(D715=\"\",\"\",INDEX(tb_vendas[Data Fechamento],MATCH(D715,tb_vendas[N° Pedido/Empresa],0))+E715*INDEX(tb_formas_pagamento[Dias_Intervalo],MATCH(INDEX(tb_vendas[Forma_Pagamento],MATCH(D715,tb_vendas[N° Pedido/Empresa],0)),tb_formas_pagamento[Nome_Forma],0))),\"\")","v":""},null,{"$f":"IF(OR(tb_pagamentos[[#This Row],[Data_Vencimento]]=\"\",tb_pagamentos[[#This Row],[Valor_Parcela]]=\"\",tb_pagamentos[[#This Row],[Qtd_Total_Parcelas]]=\"\",tb_pagamentos[[#This Row],[Nr_Pedido]]=\"\"),\"\",IF(tb_pagamentos[[#This Row],[Data_Pagamento]]<>\"\",\"Pago\",IF(AND(tb_pagamentos[[#This Row],[Data_Pagamento]]=\"\",tb_pagamentos[[#This Row],[Data_Vencimento]]<TODAY()),\"Em Atraso\",\"A vencer\")))","v":""}]
[null,null,"",{"$f":"IFERROR(INDEX(CALC_BASE!$N$3:$N$52,MATCH(ROW()-7,CALC_BASE!$M$3:$M$52,0)),\"\")","v":""},{"$f":"IFERROR(INDEX(CALC_BASE!$O$3:$O$52,MATCH(ROW()-7,CALC_BASE!$M$3:$M$52,0)),\"\")","v":""},{"$f":"IFERROR(INDEX(CALC_BASE!$P$3:$P$52,MATCH(ROW()-7,CALC_BASE!$M$3:$M$52,0)),\"\")","v":""},{"$f":"IFERROR(IF(D716=\"\",\"\",INDEX(tb_vendas[Preço de Venda],MATCH(D716,tb_vendas[N° Pedido/Empresa],0))/F716),\"\")","v":""},{"$f":"IFERROR(IF(D716=\"\",\"\",INDEX(tb_vendas[Data Fechamento],MATCH(D716,tb_vendas[N° Pedido/Empresa],0))+E716*INDEX(tb_formas_pagamento[Dias_Intervalo],MATCH(INDEX(tb_vendas[Forma_Pagamento],MATCH(D716,tb_vendas[N° Pedido/Empresa],0)),tb_formas_pagamento[Nome_Forma],0))),\"\")","v":""},null,{"$f":"IF(OR(tb_pagamentos[[#This Row],[Data_Vencimento]]=\"\",tb_pagamentos[[#This Row],[Valor_Parcela]]=\"\",tb_pagamentos[[#This Row],[Qtd_Total_Parcelas]]=\"\",tb_pagamentos[[#This Row],[Nr_Pedido]]=\"\"),\"\",IF(tb_pagamentos[[#This Row],[Data_Pagamento]]<>\"\",\"Pago\",IF(AND(tb_pagamentos[[#This Row],[Data_Pagamento]]=\"\",tb_pagamentos[[#This Row],[Data_Vencimento]]<TODAY()),\"Em Atraso\",\"A vencer\")))","v":""}]
[null,null,"",{"$f":"IFERROR(INDEX(CALC_BASE!$N$3:$N$52,MATCH(ROW()-7,CALC_BASE!$M$3:$M$52,0)),\"\")","v":""},{"$f":"IFERROR(INDEX(CALC_BASE!$O$3:$O$52,MATCH(ROW()-7,CALC_BASE!$M$3:$M$52,0)),\"\")","v":""},{"$f":"IFERROR(INDEX(CALC_BASE!$P$3:$P$52,MATCH(ROW()-7,CALC_BASE!$M$3:$M$52,0)),\"\")","v":""},{"$f":"IFERROR(IF(D717=\"\",\"\",INDEX(tb_vendas[Preço de Venda],MATCH(D717,tb_vendas[N° Pedido/Empresa],0))/F717),\"\")","v":""},{"$f":"IFERROR(IF(D717=\"\",\"\",INDEX(tb_vendas[Data Fechamento],MATCH(D717,tb_vendas[N° Pedido/Empresa],0))+E717*INDEX(tb_formas_pagamento[Dias_Intervalo],MATCH(INDEX(tb_vendas[Forma_Pagamento],MATCH(D717,tb_vendas[N° Pedido/Empresa],0)),tb_formas_pagamento[Nome_Forma],0))),\"\")","v":""},null,{"$f":"IF(OR(tb_pagamentos[[#This Row],[Data_Vencimento]]=\"\",tb_pagamentos[[#This Row],[Valor_Parcela]]=\"\",tb_pagamentos[[#This Row],[Qtd_Total_Parcelas]]=\"\",tb_pagamentos[[#This Row],[Nr_Pedido]]=\"\"),\"\",IF(tb_pagamentos[[#This Row],[Data_Pagamento]]<>\"\",\"Pago\",IF(AND(tb_pagamentos[[#This Row],[Data_Pagamento]]=\"\",tb_pagamentos[[#This Row],[Data_Vencimento]]<TODAY()),\"Em Atraso\",\"A vencer\")))","v":""}]
[null,null,"",{"$f":"IFERROR(INDEX(CALC_BASE!$N$3:$N$52,MATCH(ROW()-7,CALC_BASE!$M$3:$M$52,0)),\"\")","v":""},{"$f":"IFERROR(INDEX(CALC_BASE!$O$3:$O$52,MATCH(ROW()-7,CALC_BASE!$M$3:$M$52,0)),\"\")","v":""},{"$f":"IFERROR(INDEX(CALC_BASE!$P$3:$P$52,MATCH(ROW()-7,CALC_BASE!$M$3:$M$52,0)),\"\")","v":""},{"$f":"IFERROR(IF(D718=\"\",\"\",INDEX(tb_vendas[Preço de Venda],MATCH(D718,tb_vendas[N° Pedido/Empresa],0))/F718),\"\")","v":""},{"$f":"IFERROR(IF(D718=\"\",\"\",INDEX(tb_vendas[Data Fechamento],MATCH(D718,tb_vendas[N° Pedido/Empresa],0))+E718*INDEX(tb_formas_pagamento[Dias_Intervalo],MATCH(INDEX(tb_vendas[Forma_Pagamento],MATCH(D718,tb_vendas[N° Pedido/Empresa],0)),tb_formas_pagamento[Nome_Forma],0))),\"\")","v":""},null,{"$f":"IF(OR(tb_pagamentos[[#This Row],[Data_Vencimento]]=\"\",tb_pagamentos[[#This Row],[Valor_Parcela]]=\"\",tb_pagamentos[[#This Row],[Qtd_Total_Parcelas]]=\"\",tb_pagamentos[[#This Row],[Nr_Pedido]]=\"\"),\"\",IF(tb_pagamentos[[#This Row],[Data_Pagamento]]<>\"\",\"Pago\",IF(AND(tb_pagamentos[[#This Row],[Data_Pagamento]]=\"\",tb_pagamentos[[#This Row],[Data_Vencimento]]<TODAY()),\"Em Atraso\",\"A vencer\")))","v":""}]
[null,null,{"$f":"IF(OR(D719=\"\",E719=\"\"),\"\",D719&\"-\"&E719)","v":""},{"$f":"IFERROR(INDEX(CALC_BASE!$N$3:$N$52,MATCH(ROW()-7,CALC_BASE!$M$3:$M$52,0)),\"\")","v":""},{"$f":"IFERROR(INDEX(CALC_BASE!$O$3:$O$52,MATCH(ROW()-7,CALC_BASE!$M$3:$M$52,0)),\"\")","v":""},{"$f":"IFERROR(INDEX(CALC_BASE!$P$3:$P$52,MATCH(ROW()-7,CALC_BASE!$M$3:$M$52,0)),\"\")","v":""},{"$f":"IFERROR(IF(D719=\"\",\"\",INDEX(tb_vendas[Preço de Venda],MATCH(D719,tb_vendas[N° Pedido/Empresa],0))/F719),\"\")","v":""},{"$f":"IFERROR(IF(D719=\"\",\"\",INDEX(tb_vendas[Data Fechamento],MATCH(D719,tb_vendas[N° Pedido/Empresa],0))+E719*INDEX(tb_formas_pagamento[Dias_Intervalo],MATCH(INDEX(tb_vendas[Forma_Pagamento],MATCH(D719,tb_vendas[N° Pedido/Empresa],0)),tb_formas_pagamento[Nome_Forma],0))),\"\")","v":""},null,{"$f":"IF(OR(tb_pagamentos[[#This Row],[Data_Vencimento]]=\"\",tb_pagamentos[[#This Row],[Valor_Parcela]]=\"\",tb_pagamentos[[#This Row],[Qtd_Total_Parcelas]]=\"\",tb_pagamentos[[#This Row],[Nr_Pedido]]=\"\"),\"\",IF(tb_pagamentos[[#This Row],[Data_Pagamento]]<>\"\",\"Pago\",IF(AND(tb_pagamentos[[#This Row],[Data_Pagamento]]=\"\",tb_pagamentos[[#This Row],[Data_Vencimento]]<TODAY()),\"Em Atraso\",\"A vencer\")))","v":""}]
[null,null,"",{"$f":"IFERROR(INDEX(CALC_BASE!$N$3:$N$52,MATCH(ROW()-7,CALC_BASE!$M$3:$M$52,0)),\"\")","v":""},{"$f":"IFERROR(INDEX(CALC_BASE!$O$3:$O$52,MATCH(ROW()-7,CALC_BASE!$M$3:$M$52,0)),\"\")","v":""},{"$f":"IFERROR(INDEX(CALC_BASE!$P$3:$P$52,MATCH(ROW()-7,CALC_BASE!$M$3:$M$52,0)),\"\")","v":""},{"$f":"IFERROR(IF(D720=\"\",\"\",INDEX(tb_vendas[Preço de Venda],MATCH(D720,tb_vendas[N° Pedido/Empresa],0))/F720),\"\")","v":""},{"$f":"IFERROR(IF(D720=\"\",\"\",INDEX(tb_vendas[Data Fechamento],MATCH(D720,tb_vendas[N° Pedido/Empresa],0))+E720*INDEX(tb_formas_pagamento[Dias_Intervalo],MATCH(INDEX(tb_vendas[Forma_Pagamento],MATCH(D720,tb_vendas[N° Pedido/Empresa],0)),tb_formas_pagamento[Nome_Forma],0))),\"\")","v":""},null,{"$f":"IF(OR(tb_pagamentos[[#This Row],[Data_Vencimento]]=\"\",tb_pagamentos[[#This Row],[Valor_Parcela]]=\"\",tb_pagamentos[[#This Row],[Qtd_Total_Parcelas]]=\"\",tb_pagamentos[[#This Row],[Nr_Pedido]]=\"\"),\"\",IF(tb_pagamentos[[#This Row],[Data_Pagamento]]<>\"\",\"Pago\",IF(AND(tb_pagamentos[[#This Row],[Data_Pagamento]]=\"\",tb_pagamentos[[#This Row],[Data_Vencimento]]<TODAY()),\"Em Atraso\",\"A vencer\")))","v":""}]
[null,null,"",{"$f":"IFERROR(INDEX(CALC_BASE!$N$3:$N$52,MATCH(ROW()-7,CALC_BASE!$M$3:$M$52,0)),\"\")","v":""},{"$f":"IFERROR(INDEX(CALC_BASE!$O$3:$O$52,MATCH(ROW()-7,CALC_BASE!$M$3:$M$52,0)),\"\")","v":""},{"$f":"IFERROR(INDEX(CALC_BASE!$P$3:$P$52,MATCH(ROW()-7,CALC_BASE!$M$3:$M$52,0)),\"\")","v":""},{"$f":"IFERROR(IF(D721=\"\",\"\",INDEX(tb_vendas[Preço de Venda],MATCH(D721,tb_vendas[N° Pedido/Empresa],0))/F721),\"\")","v":""},{"$f":"IFERROR(IF(D721=\"\",\"\",INDEX(tb_vendas[Data Fechamento],MATCH(D721,tb_vendas[N° Pedido/Empresa],0))+E721*INDEX(tb_formas_pagamento[Dias_Intervalo],MATCH(INDEX(tb_vendas[Forma_Pagamento],MATCH(D721,tb_vendas[N° Pedido/Empresa],0)),tb_formas_pagamento[Nome_Forma],0))),\"\")","v":""},null,{"$f":"IF(OR(tb_pagamentos[[#This Row],[Data_Vencimento]]=\"\",tb_pagamentos[[#This Row],[Valor_Parcela]]=\"\",tb_pagamentos[[#This Row],[Qtd_Total_Parcelas]]=\"\",tb_pagamentos[[#This Row],[Nr_Pedido]]=\"\"),\"\",IF(tb_pagamentos[[#This Row],[Data_Pagamento]]<>\"\",\"Pago\",IF(AND(tb_pagamentos[[#This Row],[Data_Pagamento]]=\"\",tb_pagamentos[[#This Row],[Data_Vencimento]]<TODAY()),\"Em Atraso\",\"A vencer\")))","v":""}]
[null,null,"",{"$f":"IFERROR(INDEX(CALC_BASE!$N$3:$N$52,MATCH(ROW()-7,CALC_BASE!$M$3:$M$52,0)),\"\")","v":""},{"$f":"IFERROR(INDEX(CALC_BASE!$O$3:$O$52,MATCH(ROW()-7,CALC_BASE!$M$3:$M$52,0)),\"\")","v":""},{"$f":"IFERROR(INDEX(CALC_BASE!$P$3:$P$52,MATCH(ROW()-7,CALC_BASE!$M$3:$M$52,0)),\"\")","v":""},{"$f":"IFERROR(IF(D722=\"\",\"\",INDEX(tb_vendas[Preço de Venda],MATCH(D722,tb_vendas[N° Pedido/Empresa],0))/F722),\"\")","v":""},{"$f":"IFERROR(IF(D722=\"\",\"\",INDEX(tb_vendas[Data Fechamento],MATCH(D722,tb_vendas[N° Pedido/Empresa],0))+E722*INDEX(tb_formas_pagamento[Dias_Intervalo],MATCH(INDEX(tb_vendas[Forma_Pagamento],MATCH(D722,tb_vendas[N° Pedido/Empresa],0)),tb_formas_pagamento[Nome_Forma],0))),\"\")","v":""},null,{"$f":"IF(OR(tb_pagamentos[[#This Row],[Data_Vencimento]]=\"\",tb_pagamentos[[#This Row],[Valor_Parcela]]=\"\",tb_pagamentos[[#This Row],[Qtd_Total_Parcelas]]=\"\",tb_pagamentos[[#This Row],[Nr_Pedido]]=\"\"),\"\",IF(tb_pagamentos[[#This Row],[Data_Pagamento]]<>\"\",\"Pago\",IF(AND(tb_pagamentos[[#This Row],[Data_Pagamento]]=\"\",tb_pagamentos[[#This Row],[Data_Vencimento]]<TODAY()),\"Em Atraso\",\"A vencer\")))","v":""}]
[null,null,"",{"$f":"IFERROR(INDEX(CALC_BASE!$N$3:$N$52,MATCH(ROW()-7,CALC_BASE!$M$3:$M$52,0)),\"\")","v":""},{"$f":"IFERROR(INDEX(CALC_BASE!$O$3:$O$52,MATCH(ROW()-7,CALC_BASE!$M$3:$M$52,0)),\"\")","v":""},{"$f":"IFERROR(INDEX(CALC_BASE!$P$3:$P$52,MATCH(ROW()-7,CALC_BASE!$M$3:$M$52,0)),\"\")","v":""},{"$f":"IFERROR(IF(D723=\"\",\"\",INDEX(tb_vendas[Preço de Venda],MATCH(D723,tb_vendas[N° Pedido/Empresa],0))/F723),\"\")","v":""},{"$f":"IFERROR(IF(D723=\"\",\"\",INDEX(tb_vendas[Data Fechamento],MATCH(D723,tb_vendas[N° Pedido/Empresa],0))+E723*INDEX(tb_formas_pagamento[Dias_Intervalo],MATCH(INDEX(tb_vendas[Forma_Pagamento],MATCH(D723,tb_vendas[N° Pedido/Empresa],0)),tb_formas_pagamento[Nome_Forma],0))),\"\")","v":""},null,{"$f":"IF(OR(tb_pagamentos[[#This Row],[Data_Vencimento]]=\"\",tb_pagamentos[[#This Row],[Valor_Parcela]]=\"\",tb_pagamentos[[#This Row],[Qtd_Total_Parcelas]]=\"\",tb_pagamentos[[#This Row],[Nr_Pedido]]=\"\"),\"\",IF(tb_pagamentos[[#This Row],[Data_Pagamento]]<>\"\",\"Pago\",IF(AND(tb_pagamentos[[#This Row],[Data_Pagamento]]=\"\",tb_pagamentos[[#This Row],[Data_Vencimento]]<TODAY()),\"Em Atraso\",\"A vencer\")))","v":""}]
[null,null,"",{"$f":"IFERROR(INDEX(CALC_BASE!$N$3:$N$52,MATCH(ROW()-7,CALC_BASE!$M$3:$M$52,0)),\"\")","v":""},{"$f":"IFERROR(INDEX(CALC_BASE!$O$3:$O$52,MATCH(ROW()-7,CALC_BASE!$M$3:$M$52,0)),\"\")","v":""},{"$f":"IFERROR(INDEX(CALC_BASE!$P$3:$P$52,MATCH(ROW()-7,CALC_BASE!$M$3:$M$52,0)),\"\")","v":""},{"$f":"IFERROR(IF(D724=\"\",\"\",INDEX(tb_vendas[Preço de Venda],MATCH(D724,tb_vendas[N° Pedido/Empresa],0))/F724),\"\")","v":""},{"$f":"IFERROR(IF(D724=\"\",\"\",INDEX(tb_vendas[Data Fechamento],MATCH(D724,tb_vendas[N° Pedido/Empresa],0))+E724*INDEX(tb_formas_pagamento[Dias_Intervalo],MATCH(INDEX(tb_vendas[Forma_Pagamento],MATCH(D724,tb_vendas[N° Pedido/Empresa],0)),tb_formas_pagamento[Nome_Forma],0))),\"\")","v":""},null,{"$f":"IF(OR(tb_pagamentos[[#This Row],[Data_Vencimento]]=\"\",tb_pagamentos[[#This Row],[Valor_Parcela]]=\"\",tb_pagamentos[[#This Row],[Qtd_Total_Parcelas]]=\"\",tb_pagamentos[[#This Row],[Nr_Pedido]]=\"\"),\"\",IF(tb_pagamentos[[#This Row],[Data_Pagamento]]<>\"\",\"Pago\",IF(AND(tb_pagamentos[[#This Row],[Data_Pagamento]]=\"\",tb_pagamentos[[#This Row],[Data_Vencimento]]<TODAY()),\"Em Atraso\",\"A vencer\")))","v":""}]
[null,null,"",{"$f":"IFERROR(INDEX(CALC_BASE!$N$3:$N$52,MATCH(ROW()-7,CALC_BASE!$M$3:$M$52,0)),\"\")","v":""},{"$f":"IFERROR(INDEX(CALC_BASE!$O$3:$O$52,MATCH(ROW()-7,CALC_BASE!$M$3:$M$52,0)),\"\")","v":""},{"$f":"IFERROR(INDEX(CALC_BASE!$P$3:$P$52,MATCH(ROW()-7,CALC_BASE!$M$3:$M$52,0)),\"\")","v":""},{"$f":"IFERROR(IF(D725=\"\",\"\",INDEX(tb_vendas[Preço de Venda],MATCH(D725,tb_vendas[N° Pedido/Empresa],0))/F725),\"\")","v":""},{"$f":"IFERROR(IF(D725=\"\",\"\",INDEX(tb_vendas[Data Fechamento],MATCH(D725,tb_vendas[N° Pedido/Empresa],0))+E725*INDEX(tb_formas_pagamento[Dias_Intervalo],MATCH(INDEX(tb_vendas[Forma_Pagamento],MATCH(D725,tb_vendas[N° Pedido/Empresa],0)),tb_formas_pagamento[Nome_Forma],0))),\"\")","v":""},null,{"$f":"IF(OR(tb_pagamentos[[#This Row],[Data_Vencimento]]=\"\",tb_pagamentos[[#This Row],[Valor_Parcela]]=\"\",tb_pagamentos[[#This Row],[Qtd_Total_Parcelas]]=\"\",tb_pagamentos[[#This Row],[Nr_Pedido]]=\"\"),\"\",IF(tb_pagamentos[[#This Row],[Data_Pagamento]]<>\"\",\"Pago\",IF(AND(tb_pagamentos[[#This Row],[Data_Pagamento]]=\"\",tb_pagamentos[[#This Row],[Data_Vencimento]]<TODAY()),\"Em Atraso\",\"A vencer\")))","v":""}]
[null,null,"",{"$f":"IFERROR(INDEX(CALC_BASE!$N$3:$N$52,MATCH(ROW()-7,CALC_BASE!$M$3:$M$52,0)),\"\")","v":""},{"$f":"IFERROR(INDEX(CALC_BASE!$O$3:$O$52,MATCH(ROW()-7,CALC_BASE!$M$3:$M$52,0)),\"\")","v":""},{"$f":"IFERROR(INDEX(CALC_BASE!$P$3:$P$52,MATCH(ROW()-7,CALC_BASE!$M$3:$M$52,0)),\"\")","v":""},{"$f":"IFERROR(IF(D726=\"\",\"\",INDEX(tb_vendas[Preço de Venda],MATCH(D726,tb_vendas[N° Pedido/Empresa],0))/F726),\"\")","v":""},{"$f":"IFERROR(IF(D726=\"\",\"\",INDEX(tb_vendas[Data Fechamento],MATCH(D726,tb_vendas[N° Pedido/Empresa],0))+E726*INDEX(tb_formas_pagamento[Dias_Intervalo],MATCH(INDEX(tb_vendas[Forma_Pagamento],MATCH(D726,tb_vendas[N° Pedido/Empresa],0)),tb_formas_pagamento[Nome_Forma],0))),\"\")","v":""},null,{"$f":"IF(OR(tb_pagamentos[[#This Row],[Data_Vencimento]]=\"\",tb_pagamentos[[#This Row],[Valor_Parcela]]=\"\",tb_pagamentos[[#This Row],[Qtd_Total_Parcelas]]=\"\",tb_pagamentos[[#This Row],[Nr_Pedido]]=\"\"),\"\",IF(tb_pagamentos[[#This Row],[Data_Pagamento]]<>\"\",\"Pago\",IF(AND(tb_pagamentos[[#This Row],[Data_Pagamento]]=\"\",tb_pagamentos[[#This Row],[Data_Vencimento]]<TODAY()),\"Em Atraso\",\"A vencer\")))","v":""}]
[null,null,"",{"$f":"IFERROR(INDEX(CALC_BASE!$N$3:$N$52,MATCH(ROW()-7,CALC_BASE!$M$3:$M$52,0)),\"\")","v":""},{"$f":"IFERROR(INDEX(CALC_BASE!$O$3:$O$52,MATCH(ROW()-7,CALC_BASE!$M$3:$M$52,0)),\"\")","v":""},{"$f":"IFERROR(INDEX(CALC_BASE!$P$3:$P$52,MATCH(ROW()-7,CALC_BASE!$M$3:$M$52,0)),\"\")","v":""},{"$f":"IFERROR(IF(D727=\"\",\"\",INDEX(tb_vendas[Preço de Venda],MATCH(D727,tb_vendas[N° Pedido/Empresa],0))/F727),\"\")","v":""},{"$f":"IFERROR(IF(D727=\"\",\"\",INDEX(tb_vendas[Data Fechamento],MATCH(D727,tb_vendas[N° Pedido/Empresa],0))+E727*INDEX(tb_formas_pagamento[Dias_Intervalo],MATCH(INDEX(tb_vendas[Forma_Pagamento],MATCH(D727,tb_vendas[N° Pedido/Empresa],0)),tb_formas_pagamento[Nome_Forma],0))),\"\")","v":""},null,{"$f":"IF(OR(tb_pagamentos[[#This Row],[Data_Vencimento]]=\"\",tb_pagamentos[[#This Row],[Valor_Parcela]]=\"\",tb_pagamentos[[#This Row],[Qtd_Total_Parcelas]]=\"\",tb_pagamentos[[#This Row],[Nr_Pedido]]=\"\"),\"\",IF(tb_pagamentos[[#This Row],[Data_Pagamento]]<>\"\",\"Pago\",IF(AND(tb_pagamentos[[#This Row],[Data_Pagamento]]=\"\",tb_pagamentos[[#This Row],[Data_Vencimento]]<TODAY()),\"Em Atraso\",\"A vencer\")))","v":""}]
[null,null,"",{"$f":"IFERROR(INDEX(CALC_BASE!$N$3:$N$52,MATCH(ROW()-7,CALC_BASE!$M$3:$M$52,0)),\"\")","v":""},{"$f":"IFERROR(INDEX(CALC_BASE!$O$3:$O$52,MATCH(ROW()-7,CALC_BASE!$M$3:$M$52,0)),\"\")","v":""},{"$f":"IFERROR(INDEX(CALC_BASE!$P$3:$P$52,MATCH(ROW()-7,CALC_BASE!$M$3:$M$52,0)),\"\")","v":""},{"$f":"IFERROR(IF(D728=\"\",\"\",INDEX(tb_vendas[Preço de Venda],MATCH(D728,tb_vendas[N° Pedido/Empresa],0))/F728),\"\")","v":""},{"$f":"IFERROR(IF(D728=\"\",\"\",INDEX(tb_vendas[Data Fechamento],MATCH(D728,tb_vendas[N° Pedido/Empresa],0))+E728*INDEX(tb_formas_pagamento[Dias_Intervalo],MATCH(INDEX(tb_vendas[Forma_Pagamento],MATCH(D728,tb_vendas[N° Pedido/Empresa],0)),tb_formas_pagamento[Nome_Forma],0))),\"\")","v":""},null,{"$f":"IF(OR(tb_pagamentos[[#This Row],[Data_Vencimento]]=\"\",tb_pagamentos[[#This Row],[Valor_Parcela]]=\"\",tb_pagamentos[[#This Row],[Qtd_Total_Parcelas]]=\"\",tb_pagamentos[[#This Row],[Nr_Pedido]]=\"\"),\"\",IF(tb_pagamentos[[#This Row],[Data_Pagamento]]<>\"\",\"Pago\",IF(AND(tb_pagamentos[[#This Row],[Data_Pagamento]]=\"\",tb_pagamentos[[#This Row],[Data_Vencimento]]<TODAY()),\"Em Atraso\",\"A vencer\")))","v":""}]
[null,null,"",{"$f":"IFERROR(INDEX(CALC_BASE!$N$3:$N$52,MATCH(ROW()-7,CALC_BASE!$M$3:$M$52,0)),\"\")","v":""},{"$f":"IFERROR(INDEX(CALC_BASE!$O$3:$O$52,MATCH(ROW()-7,CALC_BASE!$M$3:$M$52,0)),\"\")","v":""},{"$f":"IFERROR(INDEX(CALC_BASE!$P$3:$P$52,MATCH(ROW()-7,CALC_BASE!$M$3:$M$52,0)),\"\")","v":""},{"$f":"IFERROR(IF(D729=\"\",\"\",INDEX(tb_vendas[Preço de Venda],MATCH(D729,tb_vendas[N° Pedido/Empresa],0))/F729),\"\")","v":""},{"$f":"IFERROR(IF(D729=\"\",\"\",INDEX(tb_vendas[Data Fechamento],MATCH(D729,tb_vendas[N° Pedido/Empresa],0))+E729*INDEX(tb_formas_pagamento[Dias_Intervalo],MATCH(INDEX(tb_vendas[Forma_Pagamento],MATCH(D729,tb_vendas[N° Pedido/Empresa],0)),tb_formas_pagamento[Nome_Forma],0))),\"\")","v":""},null,{"$f":"IF(OR(tb_pagamentos[[#This Row],[Data_Vencimento]]=\"\",tb_pagamentos[[#This Row],[Valor_Parcela]]=\"\",tb_pagamentos[[#This Row],[Qtd_Total_Parcelas]]=\"\",tb_pagamentos[[#This Row],[Nr_Pedido]]=\"\"),\"\",IF(tb_pagamentos[[#This Row],[Data_Pagamento]]<>\"\",\"Pago\",IF(AND(tb_pagamentos[[#This Row],[Data_Pagamento]]=\"\",tb_pagamentos[[#This Row],[Data_Vencimento]]<TODAY()),\"Em Atraso\",\"A vencer\")))","v":""}]
[null,null,"",{"$f":"IFERROR(INDEX(CALC_BASE!$N$3:$N$52,MATCH(ROW()-7,CALC_BASE!$M$3:$M$52,0)),\"\")","v":""},{"$f":"IFERROR(INDEX(CALC_BASE!$O$3:$O$52,MATCH(ROW()-7,CALC_BASE!$M$3:$M$52,0)),\"\")","v":""},{"$f":"IFERROR(INDEX(CALC_BASE!$P$3:$P$52,MATCH(ROW()-7,CALC_BASE!$M$3:$M$52,0)),\"\")","v":""},{"$f":"IFERROR(IF(D730=\"\",\"\",INDEX(tb_vendas[Preço de Venda],MATCH(D730,tb_vendas[N° Pedido/Empresa],0))/F730),\"\")","v":""},{"$f":"IFERROR(IF(D730=\"\",\"\",INDEX(tb_vendas[Data Fechamento],MATCH(D730,tb_vendas[N° Pedido/Empresa],0))+E730*INDEX(tb_formas_pagamento[Dias_Intervalo],MATCH(INDEX(tb_vendas[Forma_Pagamento],MATCH(D730,tb_vendas[N° Pedido/Empresa],0)),tb_formas_pagamento[Nome_Forma],0))),\"\")","v":""},null,{"$f":"IF(OR(tb_pagamentos[[#This Row],[Data_Vencimento]]=\"\",tb_pagamentos[[#This Row],[Valor_Parcela]]=\"\",tb_pagamentos[[#This Row],[Qtd_Total_Parcelas]]=\"\",tb_pagamentos[[#This Row],[Nr_Pedido]]=\"\"),\"\",IF(tb_pagamentos[[#This Row],[Data_Pagamento]]<>\"\",\"Pago\",IF(AND(tb_pagamentos[[#This Row],[Data_Pagamento]]=\"\",tb_pagamentos[[#This Row],[Data_Vencimento]]<TODAY()),\"Em Atraso\",\"A vencer\")))","v":""}]
[null,null,"",{"$f":"IFERROR(INDEX(CALC_BASE!$N$3:$N$52,MATCH(ROW()-7,CALC_BASE!$M$3:$M$52,0)),\"\")","v":""},{"$f":"IFERROR(INDEX(CALC_BASE!$O$3:$O$52,MATCH(ROW()-7,CALC_BASE!$M$3:$M$52,0)),\"\")","v":""},{"$f":"IFERROR(INDEX(CALC_BASE!$P$3:$P$52,MATCH(ROW()-7,CALC_BASE!$M$3:$M$52,0)),\"\")","v":""},{"$f":"IFERROR(IF(D731=\"\",\"\",INDEX(tb_vendas[Preço de Venda],MATCH(D731,tb_vendas[N° Pedido/Empresa],0))/F731),\"\")","v":""},{"$f":"IFERROR(IF(D731=\"\",\"\",INDEX(tb_vendas[Data Fechamento],MATCH(D731,tb_vendas[N° Pedido/Empresa],0))+E731*INDEX(tb_formas_pagamento[Dias_Intervalo],MATCH(INDEX(tb_vendas[Forma_Pagamento],MATCH(D731,tb_vendas[N° Pedido/Empresa],0)),tb_formas_pagamento[Nome_Forma],0))),\"\")","v":""},null,{"$f":"IF(OR(tb_pagamentos[[#This Row],[Data_Vencimento]]=\"\",tb_pagamentos[[#This Row],[Valor_Parcela]]=\"\",tb_pagamentos[[#This Row],[Qtd_Total_Parcelas]]=\"\",tb_pagamentos[[#This Row],[Nr_Pedido]]=\"\"),\"\",IF(tb_pagamentos[[#This Row],[Data_Pagamento]]<>\"\",\"Pago\",IF(AND(tb_pagamentos[[#This Row],[Data_Pagamento]]=\"\",tb_pagamentos[[#This Row],[Data_Vencimento]]<TODAY()),\"Em Atraso\",\"A vencer\")))","v":""}]
[null,null,"",{"$f":"IFERROR(INDEX(CALC_BASE!$N$3:$N$52,MATCH(ROW()-7,CALC_BASE!$M$3:$M$52,0)),\"\")","v":""},{"$f":"IFERROR(INDEX(CALC_BASE!$O$3:$O$52,MATCH(ROW()-7,CALC_BASE!$M$3:$M$52,0)),\"\")","v":""},{"$f":"IFERROR(INDEX(CALC_BASE!$P$3:$P$52,MATCH(ROW()-7,CALC_BASE!$M$3:$M$52,0)),\"\")","v":""},{"$f":"IFERROR(IF(D732=\"\",\"\",INDEX(tb_vendas[Preço de Venda],MATCH(D732,tb_vendas[N° Pedido/Empresa],0))/F732),\"\")","v":""},{"$f":"IFERROR(IF(D732=\"\",\"\",INDEX(tb_vendas[Data Fechamento],MATCH(D732,tb_vendas[N° Pedido/Empresa],0))+E732*INDEX(tb_formas_pagamento[Dias_Intervalo],MATCH(INDEX(tb_vendas[Forma_Pagamento],MATCH(D732,tb_vendas[N° Pedido/Empresa],0)),tb_formas_pagamento[Nome_Forma],0))),\"\")","v":""},null,{"$f":"IF(OR(tb_pagamentos[[#This Row],[Data_Vencimento]]=\"\",tb_pagamentos[[#This Row],[Valor_Parcela]]=\"\",tb_pagamentos[[#This Row],[Qtd_Total_Parcelas]]=\"\",tb_pagamentos[[#This Row],[Nr_Pedido]]=\"\"),\"\",IF(tb_pagamentos[[#This Row],[Data_Pagamento]]<>\"\",\"Pago\",IF(AND(tb_pagamentos[[#This Row],[Data_Pagamento]]=\"\",tb_pagamentos[[#This Row],[Data_Vencimento]]<TODAY()),\"Em Atraso\",\"A vencer\")))","v":""}]
[null,null,"",{"$f":"IFERROR(INDEX(CALC_BASE!$N$3:$N$52,MATCH(ROW()-7,CALC_BASE!$M$3:$M$52,0)),\"\")","v":""},{"$f":"IFERROR(INDEX(CALC_BASE!$O$3:$O$52,MATCH(ROW()-7,CALC_BASE!$M$3:$M$52,0)),\"\")","v":""},{"$f":"IFERROR(INDEX(CALC_BASE!$P$3:$P$52,MATCH(ROW()-7,CALC_BASE!$M$3:$M$52,0)),\"\")","v":""},{"$f":"IFERROR(IF(D733=\"\",\"\",INDEX(tb_vendas[Preço de Venda],MATCH(D733,tb_vendas[N° Pedido/Empresa],0))/F733),\"\")","v":""},{"$f":"IFERROR(IF(D733=\"\",\"\",INDEX(tb_vendas[Data Fechamento],MATCH(D733,tb_vendas[N° Pedido/Empresa],0))+E733*INDEX(tb_formas_pagamento[Dias_Intervalo],MATCH(INDEX(tb_vendas[Forma_Pagamento],MATCH(D733,tb_vendas[N° Pedido/Empresa],0)),tb_formas_pagamento[Nome_Forma],0))),\"\")","v":""},null,{"$f":"IF(OR(tb_pagamentos[[#This Row],[Data_Vencimento]]=\"\",tb_pagamentos[[#This Row],[Valor_Parcela]]=\"\",tb_pagamentos[[#This Row],[Qtd_Total_Parcelas]]=\"\",tb_pagamentos[[#This Row],[Nr_Pedido]]=\"\"),\"\",IF(tb_pagamentos[[#This Row],[Data_Pagamento]]<>\"\",\"Pago\",IF(AND(tb_pagamentos[[#This Row],[Data_Pagamento]]=\"\",tb_pagamentos[[#This Row],[Data_Vencimento]]<TODAY()),\"Em Atraso\",\"A vencer\")))","v":""}]
[null,null,"",{"$f":"IFERROR(INDEX(CALC_BASE!$N$3:$N$52,MATCH(ROW()-7,CALC_BASE!$M$3:$M$52,0)),\"\")","v":""},{"$f":"IFERROR(INDEX(CALC_BASE!$O$3:$O$52,MATCH(ROW()-7,CALC_BASE!$M$3:$M$52,0)),\"\")","v":""},{"$f":"IFERROR(INDEX(CALC_BASE!$P$3:$P$52,MATCH(ROW()-7,CALC_BASE!$M$3:$M$52,0)),\"\")","v":""},{"$f":"IFERROR(IF(D734=\"\",\"\",INDEX(tb_vendas[Preço de Venda],MATCH(D734,tb_vendas[N° Pedido/Empresa],0))/F734),\"\")","v":""},{"$f":"IFERROR(IF(D734=\"\",\"\",INDEX(tb_vendas[Data Fechamento],MATCH(D734,tb_vendas[N° Pedido/Empresa],0))+E734*INDEX(tb_formas_pagamento[Dias_Intervalo],MATCH(INDEX(tb_vendas[Forma_Pagamento],MATCH(D734,tb_vendas[N° Pedido/Empresa],0)),tb_formas_pagamento[Nome_Forma],0))),\"\")","v":""},null,{"$f":"IF(OR(tb_pagamentos[[#This Row],[Data_Vencimento]]=\"\",tb_pagamentos[[#This Row],[Valor_Parcela]]=\"\",tb_pagamentos[[#This Row],[Qtd_Total_Parcelas]]=\"\",tb_pagamentos[[#This Row],[Nr_Pedido]]=\"\"),\"\",IF(tb_pagamentos[[#This Row],[Data_Pagamento]]<>\"\",\"Pago\",IF(AND(tb_pagamentos[[#This Row],[Data_Pagamento]]=\"\",tb_pagamentos[[#This Row],[Data_Vencimento]]<TODAY()),\"Em Atraso\",\"A vencer\")))","v":""}]
[null,null,"",{"$f":"IFERROR(INDEX(CALC_BASE!$N$3:$N$52,MATCH(ROW()-7,CALC_BASE!$M$3:$M$52,0)),\"\")","v":""},{"$f":"IFERROR(INDEX(CALC_BASE!$O$3:$O$52,MATCH(ROW()-7,CALC_BASE!$M$3:$M$52,0)),\"\")","v":""},{"$f":"IFERROR(INDEX(CALC_BASE!$P$3:$P$52,MATCH(ROW()-7,CALC_BASE!$M$3:$M$52,0)),\"\")","v":""},{"$f":"IFERROR(IF(D735=\"\",\"\",INDEX(tb_vendas[Preço de Venda],MATCH(D735,tb_vendas[N° Pedido/Empresa],0))/F735),\"\")","v":""},{"$f":"IFERROR(IF(D735=\"\",\"\",INDEX(tb_vendas[Data Fechamento],MATCH(D735,tb_vendas[N° Pedido/Empresa],0))+E735*INDEX(tb_formas_pagamento[Dias_Intervalo],MATCH(INDEX(tb_vendas[Forma_Pagamento],MATCH(D735,tb_vendas[N° Pedido/Empresa],0)),tb_formas_pagamento[Nome_Forma],0))),\"\")","v":""},null,{"$f":"IF(OR(tb_pagamentos[[#This Row],[Data_Vencimento]]=\"\",tb_pagamentos[[#This Row],[Valor_Parcela]]=\"\",tb_pagamentos[[#This Row],[Qtd_Total_Parcelas]]=\"\",tb_pagamentos[[#This Row],[Nr_Pedido]]=\"\"),\"\",IF(tb_pagamentos[[#This Row],[Data_Pagamento]]<>\"\",\"Pago\",IF(AND(tb_pagamentos[[#This Row],[Data_Pagamento]]=\"\",tb_pagamentos[[#This Row],[Data_Vencimento]]<TODAY()),\"Em Atraso\",\"A vencer\")))","v":""}]
[null,null,"",{"$f":"IFERROR(INDEX(CALC_BASE!$N$3:$N$52,MATCH(ROW()-7,CALC_BASE!$M$3:$M$52,0)),\"\")","v":""},{"$f":"IFERROR(INDEX(CALC_BASE!$O$3:$O$52,MATCH(ROW()-7,CALC_BASE!$M$3:$M$52,0)),\"\")","v":""},{"$f":"IFERROR(INDEX(CALC_BASE!$P$3:$P$52,MATCH(ROW()-7,CALC_BASE!$M$3:$M$52,0)),\"\")","v":""},{"$f":"IFERROR(IF(D736=\"\",\"\",INDEX(tb_vendas[Preço de Venda],MATCH(D736,tb_vendas[N° Pedido/Empresa],0))/F736),\"\")","v":""},{"$f":"IFERROR(IF(D736=\"\",\"\",INDEX(tb_vendas[Data Fechamento],MATCH(D736,tb_vendas[N° Pedido/Empresa],0))+E736*INDEX(tb_formas_pagamento[Dias_Intervalo],MATCH(INDEX(tb_vendas[Forma_Pagamento],MATCH(D736,tb_vendas[N° Pedido/Empresa],0)),tb_formas_pagamento[Nome_Forma],0))),\"\")","v":""},null,{"$f":"IF(OR(tb_pagamentos[[#This Row],[Data_Vencimento]]=\"\",tb_pagamentos[[#This Row],[Valor_Parcela]]=\"\",tb_pagamentos[[#This Row],[Qtd_Total_Parcelas]]=\"\",tb_pagamentos[[#This Row],[Nr_Pedido]]=\"\"),\"\",IF(tb_pagamentos[[#This Row],[Data_Pagamento]]<>\"\",\"Pago\",IF(AND(tb_pagamentos[[#This Row],[Data_Pagamento]]=\"\",tb_pagamentos[[#This Row],[Data_Vencimento]]<TODAY()),\"Em Atraso\",\"A vencer\")))","v":""}]
[null,null,"",{"$f":"IFERROR(INDEX(CALC_BASE!$N$3:$N$52,MATCH(ROW()-7,CALC_BASE!$M$3:$M$52,0)),\"\")","v":""},{"$f":"IFERROR(INDEX(CALC_BASE!$O$3:$O$52,MATCH(ROW()-7,CALC_BASE!$M$3:$M$52,0)),\"\")","v":""},{"$f":"IFERROR(INDEX(CALC_BASE!$P$3:$P$52,MATCH(ROW()-7,CALC_BASE!$M$3:$M$52,0)),\"\")","v":""},{"$f":"IFERROR(IF(D737=\"\",\"\",INDEX(tb_vendas[Preço de Venda],MATCH(D737,tb_vendas[N° Pedido/Empresa],0))/F737),\"\")","v":""},{"$f":"IFERROR(IF(D737=\"\",\"\",INDEX(tb_vendas[Data Fechamento],MATCH(D737,tb_vendas[N° Pedido/Empresa],0))+E737*INDEX(tb_formas_pagamento[Dias_Intervalo],MATCH(INDEX(tb_vendas[Forma_Pagamento],MATCH(D737,tb_vendas[N° Pedido/Empresa],0)),tb_formas_pagamento[Nome_Forma],0))),\"\")","v":""},null,{"$f":"IF(OR(tb_pagamentos[[#This Row],[Data_Vencimento]]=\"\",tb_pagamentos[[#This Row],[Valor_Parcela]]=\"\",tb_pagamentos[[#This Row],[Qtd_Total_Parcelas]]=\"\",tb_pagamentos[[#This Row],[Nr_Pedido]]=\"\"),\"\",IF(tb_pagamentos[[#This Row],[Data_Pagamento]]<>\"\",\"Pago\",IF(AND(tb_pagamentos[[#This Row],[Data_Pagamento]]=\"\",tb_pagamentos[[#This Row],[Data_Vencimento]]<TODAY()),\"Em Atraso\",\"A vencer\")))","v":""}]
[null,null,"",{"$f":"IFERROR(INDEX(CALC_BASE!$N$3:$N$52,MATCH(ROW()-7,CALC_BASE!$M$3:$M$52,0)),\"\")","v":""},{"$f":"IFERROR(INDEX(CALC_BASE!$O$3:$O$52,MATCH(ROW()-7,CALC_BASE!$M$3:$M$52,0)),\"\")","v":""},{"$f":"IFERROR(INDEX(CALC_BASE!$P$3:$P$52,MATCH(ROW()-7,CALC_BASE!$M$3:$M$52,0)),\"\")","v":""},{"$f":"IFERROR(IF(D738=\"\",\"\",INDEX(tb_vendas[Preço de Venda],MATCH(D738,tb_vendas[N° Pedido/Empresa],0))/F738),\"\")","v":""},{"$f":"IFERROR(IF(D738=\"\",\"\",INDEX(tb_vendas[Data Fechamento],MATCH(D738,tb_vendas[N° Pedido/Empresa],0))+E738*INDEX(tb_formas_pagamento[Dias_Intervalo],MATCH(INDEX(tb_vendas[Forma_Pagamento],MATCH(D738,tb_vendas[N° Pedido/Empresa],0)),tb_formas_pagamento[Nome_Forma],0))),\"\")","v":""},null,{"$f":"IF(OR(tb_pagamentos[[#This Row],[Data_Vencimento]]=\"\",tb_pagamentos[[#This Row],[Valor_Parcela]]=\"\",tb_pagamentos[[#This Row],[Qtd_Total_Parcelas]]=\"\",tb_pagamentos[[#This Row],[Nr_Pedido]]=\"\"),\"\",IF(tb_pagamentos[[#This Row],[Data_Pagamento]]<>\"\",\"Pago\",IF(AND(tb_pagamentos[[#This Row],[Data_Pagamento]]=\"\",tb_pagamentos[[#This Row],[Data_Vencimento]]<TODAY()),\"Em Atraso\",\"A vencer\")))","v":""}]
[null,null,"",{"$f":"IFERROR(INDEX(CALC_BASE!$N$3:$N$52,MATCH(ROW()-7,CALC_BASE!$M$3:$M$52,0)),\"\")","v":""},{"$f":"IFERROR(INDEX(CALC_BASE!$O$3:$O$52,MATCH(ROW()-7,CALC_BASE!$M$3:$M$52,0)),\"\")","v":""},{"$f":"IFERROR(INDEX(CALC_BASE!$P$3:$P$52,MATCH(ROW()-7,CALC_BASE!$M$3:$M$52,0)),\"\")","v":""},{"$f":"IFERROR(IF(D739=\"\",\"\",INDEX(tb_vendas[Preço de Venda],MATCH(D739,tb_vendas[N° Pedido/Empresa],0))/F739),\"\")","v":""},{"$f":"IFERROR(IF(D739=\"\",\"\",INDEX(tb_vendas[Data Fechamento],MATCH(D739,tb_vendas[N° Pedido/Empresa],0))+E739*INDEX(tb_formas_pagamento[Dias_Intervalo],MATCH(INDEX(tb_vendas[Forma_Pagamento],MATCH(D739,tb_vendas[N° Pedido/Empresa],0)),tb_formas_pagamento[Nome_Forma],0))),\"\")","v":""},null,{"$f":"IF(OR(tb_pagamentos[[#This Row],[Data_Vencimento]]=\"\",tb_pagamentos[[#This Row],[Valor_Parcela]]=\"\",tb_pagamentos[[#This Row],[Qtd_Total_Parcelas]]=\"\",tb_pagamentos[[#This Row],[Nr_Pedido]]=\"\"),\"\",IF(tb_pagamentos[[#This Row],[Data_Pagamento]]<>\"\",\"Pago\",IF(AND(tb_pagamentos[[#This Row],[Data_Pagamento]]=\"\",tb_pagamentos[[#This Row],[Data_Vencimento]]<TODAY()),\"Em Atraso\",\"A vencer\")))","v":""}]
[null,null,"",{"$f":"IFERROR(INDEX(CALC_BASE!$N$3:$N$52,MATCH(ROW()-7,CALC_BASE!$M$3:$M$52,0)),\"\")","v":""},{"$f":"IFERROR(INDEX(CALC_BASE!$O$3:$O$52,MATCH(ROW()-7,CALC_BASE!$M$3:$M$52,0)),\"\")","v":""},{"$f":"IFERROR(INDEX(CALC_BASE!$P$3:$P$52,MATCH(ROW()-7,CALC_BASE!$M$3:$M$52,0)),\"\")","v":""},{"$f":"IFERROR(IF(D740=\"\",\"\",INDEX(tb_vendas[Preço de Venda],MATCH(D740,tb_vendas[N° Pedido/Empresa],0))/F740),\"\")","v":""},{"$f":"IFERROR(IF(D740=\"\",\"\",INDEX(tb_vendas[Data Fechamento],MATCH(D740,tb_vendas[N° Pedido/Empresa],0))+E740*INDEX(tb_formas_pagamento[Dias_Intervalo],MATCH(INDEX(tb_vendas[Forma_Pagamento],MATCH(D740,tb_vendas[N° Pedido/Empresa],0)),tb_formas_pagamento[Nome_Forma],0))),\"\")","v":""},null,{"$f":"IF(OR(tb_pagamentos[[#This Row],[Data_Vencimento]]=\"\",tb_pagamentos[[#This Row],[Valor_Parcela]]=\"\",tb_pagamentos[[#This Row],[Qtd_Total_Parcelas]]=\"\",tb_pagamentos[[#This Row],[Nr_Pedido]]=\"\"),\"\",IF(tb_pagamentos[[#This Row],[Data_Pagamento]]<>\"\",\"Pago\",IF(AND(tb_pagamentos[[#This Row],[Data_Pagamento]]=\"\",tb_pagamentos[[#This Row],[Data_Vencimento]]<TODAY()),\"Em Atraso\",\"A vencer\")))","v":""}]
[null,null,"",{"$f":"IFERROR(INDEX(CALC_BASE!$N$3:$N$52,MATCH(ROW()-7,CALC_BASE!$M$3:$M$52,0)),\"\")","v":""},{"$f":"IFERROR(INDEX(CALC_BASE!$O$3:$O$52,MATCH(ROW()-7,CALC_BASE!$M$3:$M$52,0)),\"\")","v":""},{"$f":"IFERROR(INDEX(CALC_BASE!$P$3:$P$52,MATCH(ROW()-7,CALC_BASE!$M$3:$M$52,0)),\"\")","v":""},{"$f":"IFERROR(IF(D741=\"\",\"\",INDEX(tb_vendas[Preço de Venda],MATCH(D741,tb_vendas[N° Pedido/Empresa],0))/F741),\"\")","v":""},{"$f":"IFERROR(IF(D741=\"\",\"\",INDEX(tb_vendas[Data Fechamento],MATCH(D741,tb_vendas[N° Pedido/Empresa],0))+E741*INDEX(tb_formas_pagamento[Dias_Intervalo],MATCH(INDEX(tb_vendas[Forma_Pagamento],MATCH(D741,tb_vendas[N° Pedido/Empresa],0)),tb_formas_pagamento[Nome_Forma],0))),\"\")","v":""},null,{"$f":"IF(OR(tb_pagamentos[[#This Row],[Data_Vencimento]]=\"\",tb_pagamentos[[#This Row],[Valor_Parcela]]=\"\",tb_pagamentos[[#This Row],[Qtd_Total_Parcelas]]=\"\",tb_pagamentos[[#This Row],[Nr_Pedido]]=\"\"),\"\",IF(tb_pagamentos[[#This Row],[Data_Pagamento]]<>\"\",\"Pago\",IF(AND(tb_pagamentos[[#This Row],[Data_Pagamento]]=\"\",tb_pagamentos[[#This Row],[Data_Vencimento]]<TODAY()),\"Em Atraso\",\"A vencer\")))","v":""}]
[null,null,"",{"$f":"IFERROR(INDEX(CALC_BASE!$N$3:$N$52,MATCH(ROW()-7,CALC_BASE!$M$3:$M$52,0)),\"\")","v":""},{"$f":"IFERROR(INDEX(CALC_BASE!$O$3:$O$52,MATCH(ROW()-7,CALC_BASE!$M$3:$M$52,0)),\"\")","v":""},{"$f":"IFERROR(INDEX(CALC_BASE!$P$3:$P$52,MATCH(ROW()-7,CALC_BASE!$M$3:$M$52,0)),\"\")","v":""},{"$f":"IFERROR(IF(D742=\"\",\"\",INDEX(tb_vendas[Preço de Venda],MATCH(D742,tb_vendas[N° Pedido/Empresa],0))/F742),\"\")","v":""},{"$f":"IFERROR(IF(D742=\"\",\"\",INDEX(tb_vendas[Data Fechamento],MATCH(D742,tb_vendas[N° Pedido/Empresa],0))+E742*INDEX(tb_formas_pagamento[Dias_Intervalo],MATCH(INDEX(tb_vendas[Forma_Pagamento],MATCH(D742,tb_vendas[N° Pedido/Empresa],0)),tb_formas_pagamento[Nome_Forma],0))),\"\")","v":""},null,{"$f":"IF(OR(tb_pagamentos[[#This Row],[Data_Vencimento]]=\"\",tb_pagamentos[[#This Row],[Valor_Parcela]]=\"\",tb_pagamentos[[#This Row],[Qtd_Total_Parcelas]]=\"\",tb_pagamentos[[#This Row],[Nr_Pedido]]=\"\"),\"\",IF(tb_pagamentos[[#This Row],[Data_Pagamento]]<>\"\",\"Pago\",IF(AND(tb_pagamentos[[#This Row],[Data_Pagamento]]=\"\",tb_pagamentos[[#This Row],[Data_Vencimento]]<TODAY()),\"Em Atraso\",\"A vencer\")))","v":""}]
[null,null,"",{"$f":"IFERROR(INDEX(CALC_BASE!$N$3:$N$52,MATCH(ROW()-7,CALC_BASE!$M$3:$M$52,0)),\"\")","v":""},{"$f":"IFERROR(INDEX(CALC_BASE!$O$3:$O$52,MATCH(ROW()-7,CALC_BASE!$M$3:$M$52,0)),\"\")","v":""},{"$f":"IFERROR(INDEX(CALC_BASE!$P$3:$P$52,MATCH(ROW()-7,CALC_BASE!$M$3:$M$52,0)),\"\")","v":""},{"$f":"IFERROR(IF(D743=\"\",\"\",INDEX(tb_vendas[Preço de Venda],MATCH(D743,tb_vendas[N° Pedido/Empresa],0))/F743),\"\")","v":""},{"$f":"IFERROR(IF(D743=\"\",\"\",INDEX(tb_vendas[Data Fechamento],MATCH(D743,tb_vendas[N° Pedido/Empresa],0))+E743*INDEX(tb_formas_pagamento[Dias_Intervalo],MATCH(INDEX(tb_vendas[Forma_Pagamento],MATCH(D743,tb_vendas[N° Pedido/Empresa],0)),tb_formas_pagamento[Nome_Forma],0))),\"\")","v":""},null,{"$f":"IF(OR(tb_pagamentos[[#This Row],[Data_Vencimento]]=\"\",tb_pagamentos[[#This Row],[Valor_Parcela]]=\"\",tb_pagamentos[[#This Row],[Qtd_Total_Parcelas]]=\"\",tb_pagamentos[[#This Row],[Nr_Pedido]]=\"\"),\"\",IF(tb_pagamentos[[#This Row],[Data_Pagamento]]<>\"\",\"Pago\",IF(AND(tb_pagamentos[[#This Row],[Data_Pagamento]]=\"\",tb_pagamentos[[#This Row],[Data_Vencimento]]<TODAY()),\"Em Atraso\",\"A vencer\")))","v":""}]
[null,null,"",{"$f":"IFERROR(INDEX(CALC_BASE!$N$3:$N$52,MATCH(ROW()-7,CALC_BASE!$M$3:$M$52,0)),\"\")","v":""},{"$f":"IFERROR(INDEX(CALC_BASE!$O$3:$O$52,MATCH(ROW()-7,CALC_BASE!$M$3:$M$52,0)),\"\")","v":""},{"$f":"IFERROR(INDEX(CALC_BASE!$P$3:$P$52,MATCH(ROW()-7,CALC_BASE!$M$3:$M$52,0)),\"\")","v":""},{"$f":"IFERROR(IF(D744=\"\",\"\",INDEX(tb_vendas[Preço de Venda],MATCH(D744,tb_vendas[N° Pedido/Empresa],0))/F744),\"\")","v":""},{"$f":"IFERROR(IF(D744=\"\",\"\",INDEX(tb_vendas[Data Fechamento],MATCH(D744,tb_vendas[N° Pedido/Empresa],0))+E744*INDEX(tb_formas_pagamento[Dias_Intervalo],MATCH(INDEX(tb_vendas[Forma_Pagamento],MATCH(D744,tb_vendas[N° Pedido/Empresa],0)),tb_formas_pagamento[Nome_Forma],0))),\"\")","v":""},null,{"$f":"IF(OR(tb_pagamentos[[#This Row],[Data_Vencimento]]=\"\",tb_pagamentos[[#This Row],[Valor_Parcela]]=\"\",tb_pagamentos[[#This Row],[Qtd_Total_Parcelas]]=\"\",tb_pagamentos[[#This Row],[Nr_Pedido]]=\"\"),\"\",IF(tb_pagamentos[[#This Row],[Data_Pagamento]]<>\"\",\"Pago\",IF(AND(tb_pagamentos[[#This Row],[Data_Pagamento]]=\"\",tb_pagamentos[[#This Row],[Data_Vencimento]]<TODAY()),\"Em Atraso\",\"A vencer\")))","v":""}]
[null,null,"",{"$f":"IFERROR(INDEX(CALC_BASE!$N$3:$N$52,MATCH(ROW()-7,CALC_BASE!$M$3:$M$52,0)),\"\")","v":""},{"$f":"IFERROR(INDEX(CALC_BASE!$O$3:$O$52,MATCH(ROW()-7,CALC_BASE!$M$3:$M$52,0)),\"\")","v":""},{"$f":"IFERROR(INDEX(CALC_BASE!$P$3:$P$52,MATCH(ROW()-7,CALC_BASE!$M$3:$M$52,0)),\"\")","v":""},{"$f":"IFERROR(IF(D745=\"\",\"\",INDEX(tb_vendas[Preço de Venda],MATCH(D745,tb_vendas[N° Pedido/Empresa],0))/F745),\"\")","v":""},{"$f":"IFERROR(IF(D745=\"\",\"\",INDEX(tb_vendas[Data Fechamento],MATCH(D745,tb_vendas[N° Pedido/Empresa],0))+E745*INDEX(tb_formas_pagamento[Dias_Intervalo],MATCH(INDEX(tb_vendas[Forma_Pagamento],MATCH(D745,tb_vendas[N° Pedido/Empresa],0)),tb_formas_pagamento[Nome_Forma],0))),\"\")","v":""},null,{"$f":"IF(OR(tb_pagamentos[[#This Row],[Data_Vencimento]]=\"\",tb_pagamentos[[#This Row],[Valor_Parcela]]=\"\",tb_pagamentos[[#This Row],[Qtd_Total_Parcelas]]=\"\",tb_pagamentos[[#This Row],[Nr_Pedido]]=\"\"),\"\",IF(tb_pagamentos[[#This Row],[Data_Pagamento]]<>\"\",\"Pago\",IF(AND(tb_pagamentos[[#This Row],[Data_Pagamento]]=\"\",tb_pagamentos[[#This Row],[Data_Vencimento]]<TODAY()),\"Em Atraso\",\"A vencer\")))","v":""}]
[null,null,"",{"$f":"IFERROR(INDEX(CALC_BASE!$N$3:$N$52,MATCH(ROW()-7,CALC_BASE!$M$3:$M$52,0)),\"\")","v":""},{"$f":"IFERROR(INDEX(CALC_BASE!$O$3:$O$52,MATCH(ROW()-7,CALC_BASE!$M$3:$M$52,0)),\"\")","v":""},{"$f":"IFERROR(INDEX(CALC_BASE!$P$3:$P$52,MATCH(ROW()-7,CALC_BASE!$M$3:$M$52,0)),\"\")","v":""},{"$f":"IFERROR(IF(D746=\"\",\"\",INDEX(tb_vendas[Preço de Venda],MATCH(D746,tb_vendas[N° Pedido/Empresa],0))/F746),\"\")","v":""},{"$f":"IFERROR(IF(D746=\"\",\"\",INDEX(tb_vendas[Data Fechamento],MATCH(D746,tb_vendas[N° Pedido/Empresa],0))+E746*INDEX(tb_formas_pagamento[Dias_Intervalo],MATCH(INDEX(tb_vendas[Forma_Pagamento],MATCH(D746,tb_vendas[N° Pedido/Empresa],0)),tb_formas_pagamento[Nome_Forma],0))),\"\")","v":""},null,{"$f":"IF(OR(tb_pagamentos[[#This Row],[Data_Vencimento]]=\"\",tb_pagamentos[[#This Row],[Valor_Parcela]]=\"\",tb_pagamentos[[#This Row],[Qtd_Total_Parcelas]]=\"\",tb_pagamentos[[#This Row],[Nr_Pedido]]=\"\"),\"\",IF(tb_pagamentos[[#This Row],[Data_Pagamento]]<>\"\",\"Pago\",IF(AND(tb_pagamentos[[#This Row],[Data_Pagamento]]=\"\",tb_pagamentos[[#This Row],[Data_Vencimento]]<TODAY()),\"Em Atraso\",\"A vencer\")))","v":""}]
[null,null,"",{"$f":"IFERROR(INDEX(CALC_BASE!$N$3:$N$52,MATCH(ROW()-7,CALC_BASE!$M$3:$M$52,0)),\"\")","v":""},{"$f":"IFERROR(INDEX(CALC_BASE!$O$3:$O$52,MATCH(ROW()-7,CALC_BASE!$M$3:$M$52,0)),\"\")","v":""},{"$f":"IFERROR(INDEX(CALC_BASE!$P$3:$P$52,MATCH(ROW()-7,CALC_BASE!$M$3:$M$52,0)),\"\")","v":""},{"$f":"IFERROR(IF(D747=\"\",\"\",INDEX(tb_vendas[Preço de Venda],MATCH(D747,tb_vendas[N° Pedido/Empresa],0))/F747),\"\")","v":""},{"$f":"IFERROR(IF(D747=\"\",\"\",INDEX(tb_vendas[Data Fechamento],MATCH(D747,tb_vendas[N° Pedido/Empresa],0))+E747*INDEX(tb_formas_pagamento[Dias_Intervalo],MATCH(INDEX(tb_vendas[Forma_Pagamento],MATCH(D747,tb_vendas[N° Pedido/Empresa],0)),tb_formas_pagamento[Nome_Forma],0))),\"\")","v":""},null,{"$f":"IF(OR(tb_pagamentos[[#This Row],[Data_Vencimento]]=\"\",tb_pagamentos[[#This Row],[Valor_Parcela]]=\"\",tb_pagamentos[[#This Row],[Qtd_Total_Parcelas]]=\"\",tb_pagamentos[[#This Row],[Nr_Pedido]]=\"\"),\"\",IF(tb_pagamentos[[#This Row],[Data_Pagamento]]<>\"\",\"Pago\",IF(AND(tb_pagamentos[[#This Row],[Data_Pagamento]]=\"\",tb_pagamentos[[#This Row],[Data_Vencimento]]<TODAY()),\"Em Atraso\",\"A vencer\")))","v":""}]
[null,null,"",{"$f":"IFERROR(INDEX(CALC_BASE!$N$3:$N$52,MATCH(ROW()-7,CALC_BASE!$M$3:$M$52,0)),\"\")","v":""},{"$f":"IFERROR(INDEX(CALC_BASE!$O$3:$O$52,MATCH(ROW()-7,CALC_BASE!$M$3:$M$52,0)),\"\")","v":""},{"$f":"IFERROR(INDEX(CALC_BASE!$P$3:$P$52,MATCH(ROW()-7,CALC_BASE!$M$3:$M$52,0)),\"\")","v":""},{"$f":"IFERROR(IF(D748=\"\",\"\",INDEX(tb_vendas[Preço de Venda],MATCH(D748,tb_vendas[N° Pedido/Empresa],0))/F748),\"\")","v":""},{"$f":"IFERROR(IF(D748=\"\",\"\",INDEX(tb_vendas[Data Fechamento],MATCH(D748,tb_vendas[N° Pedido/Empresa],0))+E748*INDEX(tb_formas_pagamento[Dias_Intervalo],MATCH(INDEX(tb_vendas[Forma_Pagamento],MATCH(D748,tb_vendas[N° Pedido/Empresa],0)),tb_formas_pagamento[Nome_Forma],0))),\"\")","v":""},null,{"$f":"IF(OR(tb_pagamentos[[#This Row],[Data_Vencimento]]=\"\",tb_pagamentos[[#This Row],[Valor_Parcela]]=\"\",tb_pagamentos[[#This Row],[Qtd_Total_Parcelas]]=\"\",tb_pagamentos[[#This Row],[Nr_Pedido]]=\"\"),\"\",IF(tb_pagamentos[[#This Row],[Data_Pagamento]]<>\"\",\"Pago\",IF(AND(tb_pagamentos[[#This Row],[Data_Pagamento]]=\"\",tb_pagamentos[[#This Row],[Data_Vencimento]]<TODAY()),\"Em Atraso\",\"A vencer\")))","v":""}]
[null,null,"",{"$f":"IFERROR(INDEX(CALC_BASE!$N$3:$N$52,MATCH(ROW()-7,CALC_BASE!$M$3:$M$52,0)),\"\")","v":""},{"$f":"IFERROR(INDEX(CALC_BASE!$O$3:$O$52,MATCH(ROW()-7,CALC_BASE!$M$3:$M$52,0)),\"\")","v":""},{"$f":"IFERROR(INDEX(CALC_BASE!$P$3:$P$52,MATCH(ROW()-7,CALC_BASE!$M$3:$M$52,0)),\"\")","v":""},{"$f":"IFERROR(IF(D749=\"\",\"\",INDEX(tb_vendas[Preço de Venda],MATCH(D749,tb_vendas[N° Pedido/Empresa],0))/F749),\"\")","v":""},{"$f":"IFERROR(IF(D749=\"\",\"\",INDEX(tb_vendas[Data Fechamento],MATCH(D749,tb_vendas[N° Pedido/Empresa],0))+E749*INDEX(tb_formas_pagamento[Dias_Intervalo],MATCH(INDEX(tb_vendas[Forma_Pagamento],MATCH(D749,tb_vendas[N° Pedido/Empresa],0)),tb_formas_pagamento[Nome_Forma],0))),\"\")","v":""},null,{"$f":"IF(OR(tb_pagamentos[[#This Row],[Data_Vencimento]]=\"\",tb_pagamentos[[#This Row],[Valor_Parcela]]=\"\",tb_pagamentos[[#This Row],[Qtd_Total_Parcelas]]=\"\",tb_pagamentos[[#This Row],[Nr_Pedido]]=\"\"),\"\",IF(tb_pagamentos[[#This Row],[Data_Pagamento]]<>\"\",\"Pago\",IF(AND(tb_pagamentos[[#This Row],[Data_Pagamento]]=\"\",tb_pagamentos[[#This Row],[Data_Vencimento]]<TODAY()),\"Em Atraso\",\"A vencer\")))","v":""}]
[null,null,"",{"$f":"IFERROR(INDEX(CALC_BASE!$N$3:$N$52,MATCH(ROW()-7,CALC_BASE!$M$3:$M$52,0)),\"\")","v":""},{"$f":"IFERROR(INDEX(CALC_BASE!$O$3:$O$52,MATCH(ROW()-7,CALC_BASE!$M$3:$M$52,0)),\"\")","v":""},{"$f":"IFERROR(INDEX(CALC_BASE!$P$3:$P$52,MATCH(ROW()-7,CALC_BASE!$M$3:$M$52,0)),\"\")","v":""},{"$f":"IFERROR(IF(D750=\"\",\"\",INDEX(tb_vendas[Preço de Venda],MATCH(D750,tb_vendas[N° Pedido/Empresa],0))/F750),\"\")","v":""},{"$f":"IFERROR(IF(D750=\"\",\"\",INDEX(tb_vendas[Data Fechamento],MATCH(D750,tb_vendas[N° Pedido/Empresa],0))+E750*INDEX(tb_formas_pagamento[Dias_Intervalo],MATCH(INDEX(tb_vendas[Forma_Pagamento],MATCH(D750,tb_vendas[N° Pedido/Empresa],0)),tb_formas_pagamento[Nome_Forma],0))),\"\")","v":""},null,{"$f":"IF(OR(tb_pagamentos[[#This Row],[Data_Vencimento]]=\"\",tb_pagamentos[[#This Row],[Valor_Parcela]]=\"\",tb_pagamentos[[#This Row],[Qtd_Total_Parcelas]]=\"\",tb_pagamentos[[#This Row],[Nr_Pedido]]=\"\"),\"\",IF(tb_pagamentos[[#This Row],[Data_Pagamento]]<>\"\",\"Pago\",IF(AND(tb_pagamentos[[#This Row],[Data_Pagamento]]=\"\",tb_pagamentos[[#This Row],[Data_Vencimento]]<TODAY()),\"Em Atraso\",\"A vencer\")))","v":""}]
[null,null,"",{"$f":"IFERROR(INDEX(CALC_BASE!$N$3:$N$52,MATCH(ROW()-7,CALC_BASE!$M$3:$M$52,0)),\"\")","v":""},{"$f":"IFERROR(INDEX(CALC_BASE!$O$3:$O$52,MATCH(ROW()-7,CALC_BASE!$M$3:$M$52,0)),\"\")","v":""},{"$f":"IFERROR(INDEX(CALC_BASE!$P$3:$P$52,MATCH(ROW()-7,CALC_BASE!$M$3:$M$52,0)),\"\")","v":""},{"$f":"IFERROR(IF(D751=\"\",\"\",INDEX(tb_vendas[Preço de Venda],MATCH(D751,tb_vendas[N° Pedido/Empresa],0))/F751),\"\")","v":""},{"$f":"IFERROR(IF(D751=\"\",\"\",INDEX(tb_vendas[Data Fechamento],MATCH(D751,tb_vendas[N° Pedido/Empresa],0))+E751*INDEX(tb_formas_pagamento[Dias_Intervalo],MATCH(INDEX(tb_vendas[Forma_Pagamento],MATCH(D751,tb_vendas[N° Pedido/Empresa],0)),tb_formas_pagamento[Nome_Forma],0))),\"\")","v":""},null,{"$f":"IF(OR(tb_pagamentos[[#This Row],[Data_Vencimento]]=\"\",tb_pagamentos[[#This Row],[Valor_Parcela]]=\"\",tb_pagamentos[[#This Row],[Qtd_Total_Parcelas]]=\"\",tb_pagamentos[[#This Row],[Nr_Pedido]]=\"\"),\"\",IF(tb_pagamentos[[#This Row],[Data_Pagamento]]<>\"\",\"Pago\",IF(AND(tb_pagamentos[[#This Row],[Data_Pagamento]]=\"\",tb_pagamentos[[#This Row],[Data_Vencimento]]<TODAY()),\"Em Atraso\",\"A vencer\")))","v":""}]
[null,null,"",{"$f":"IFERROR(INDEX(CALC_BASE!$N$3:$N$52,MATCH(ROW()-7,CALC_BASE!$M$3:$M$52,0)),\"\")","v":""},{"$f":"IFERROR(INDEX(CALC_BASE!$O$3:$O$52,MATCH(ROW()-7,CALC_BASE!$M$3:$M$52,0)),\"\")","v":""},{"$f":"IFERROR(INDEX(CALC_BASE!$P$3:$P$52,MATCH(ROW()-7,CALC_BASE!$M$3:$M$52,0)),\"\")","v":""},{"$f":"IFERROR(IF(D752=\"\",\"\",INDEX(tb_vendas[Preço de Venda],MATCH(D752,tb_vendas[N° Pedido/Empresa],0))/F752),\"\")","v":""},{"$f":"IFERROR(IF(D752=\"\",\"\",INDEX(tb_vendas[Data Fechamento],MATCH(D752,tb_vendas[N° Pedido/Empresa],0))+E752*INDEX(tb_formas_pagamento[Dias_Intervalo],MATCH(INDEX(tb_vendas[Forma_Pagamento],MATCH(D752,tb_vendas[N° Pedido/Empresa],0)),tb_formas_pagamento[Nome_Forma],0))),\"\")","v":""},null,{"$f":"IF(OR(tb_pagamentos[[#This Row],[Data_Vencimento]]=\"\",tb_pagamentos[[#This Row],[Valor_Parcela]]=\"\",tb_pagamentos[[#This Row],[Qtd_Total_Parcelas]]=\"\",tb_pagamentos[[#This Row],[Nr_Pedido]]=\"\"),\"\",IF(tb_pagamentos[[#This Row],[Data_Pagamento]]<>\"\",\"Pago\",IF(AND(tb_pagamentos[[#This Row],[Data_Pagamento]]=\"\",tb_pagamentos[[#This Row],[Data_Vencimento]]<TODAY()),\"Em Atraso\",\"A vencer\")))","v":""}]
[null,null,"",{"$f":"IFERROR(INDEX(CALC_BASE!$N$3:$N$52,MATCH(ROW()-7,CALC_BASE!$M$3:$M$52,0)),\"\")","v":""},{"$f":"IFERROR(INDEX(CALC_BASE!$O$3:$O$52,MATCH(ROW()-7,CALC_BASE!$M$3:$M$52,0)),\"\")","v":""},{"$f":"IFERROR(INDEX(CALC_BASE!$P$3:$P$52,MATCH(ROW()-7,CALC_BASE!$M$3:$M$52,0)),\"\")","v":""},{"$f":"IFERROR(IF(D753=\"\",\"\",INDEX(tb_vendas[Preço de Venda],MATCH(D753,tb_vendas[N° Pedido/Empresa],0))/F753),\"\")","v":""},{"$f":"IFERROR(IF(D753=\"\",\"\",INDEX(tb_vendas[Data Fechamento],MATCH(D753,tb_vendas[N° Pedido/Empresa],0))+E753*INDEX(tb_formas_pagamento[Dias_Intervalo],MATCH(INDEX(tb_vendas[Forma_Pagamento],MATCH(D753,tb_vendas[N° Pedido/Empresa],0)),tb_formas_pagamento[Nome_Forma],0))),\"\")","v":""},null,{"$f":"IF(OR(tb_pagamentos[[#This Row],[Data_Vencimento]]=\"\",tb_pagamentos[[#This Row],[Valor_Parcela]]=\"\",tb_pagamentos[[#This Row],[Qtd_Total_Parcelas]]=\"\",tb_pagamentos[[#This Row],[Nr_Pedido]]=\"\"),\"\",IF(tb_pagamentos[[#This Row],[Data_Pagamento]]<>\"\",\"Pago\",IF(AND(tb_pagamentos[[#This Row],[Data_Pagamento]]=\"\",tb_pagamentos[[#This Row],[Data_Vencimento]]<TODAY()),\"Em Atraso\",\"A vencer\")))","v":""}]
[null,null,"",{"$f":"IFERROR(INDEX(CALC_BASE!$N$3:$N$52,MATCH(ROW()-7,CALC_BASE!$M$3:$M$52,0)),\"\")","v":""},{"$f":"IFERROR(INDEX(CALC_BASE!$O$3:$O$52,MATCH(ROW()-7,CALC_BASE!$M$3:$M$52,0)),\"\")","v":""},{"$f":"IFERROR(INDEX(CALC_BASE!$P$3:$P$52,MATCH(ROW()-7,CALC_BASE!$M$3:$M$52,0)),\"\")","v":""},{"$f":"IFERROR(IF(D754=\"\",\"\",INDEX(tb_vendas[Preço de Venda],MATCH(D754,tb_vendas[N° Pedido/Empresa],0))/F754),\"\")","v":""},{"$f":"IFERROR(IF(D754=\"\",\"\",INDEX(tb_vendas[Data Fechamento],MATCH(D754,tb_vendas[N° Pedido/Empresa],0))+E754*INDEX(tb_formas_pagamento[Dias_Intervalo],MATCH(INDEX(tb_vendas[Forma_Pagamento],MATCH(D754,tb_vendas[N° Pedido/Empresa],0)),tb_formas_pagamento[Nome_Forma],0))),\"\")","v":""},null,{"$f":"IF(OR(tb_pagamentos[[#This Row],[Data_Vencimento]]=\"\",tb_pagamentos[[#This Row],[Valor_Parcela]]=\"\",tb_pagamentos[[#This Row],[Qtd_Total_Parcelas]]=\"\",tb_pagamentos[[#This Row],[Nr_Pedido]]=\"\"),\"\",IF(tb_pagamentos[[#This Row],[Data_Pagamento]]<>\"\",\"Pago\",IF(AND(tb_pagamentos[[#This Row],[Data_Pagamento]]=\"\",tb_pagamentos[[#This Row],[Data_Vencimento]]<TODAY()),\"Em Atraso\",\"A vencer\")))","v":""}]
[null,null,"",{"$f":"IFERROR(INDEX(CALC_BASE!$N$3:$N$52,MATCH(ROW()-7,CALC_BASE!$M$3:$M$52,0)),\"\")","v":""},{"$f":"IFERROR(INDEX(CALC_BASE!$O$3:$O$52,MATCH(ROW()-7,CALC_BASE!$M$3:$M$52,0)),\"\")","v":""},{"$f":"IFERROR(INDEX(CALC_BASE!$P$3:$P$52,MATCH(ROW()-7,CALC_BASE!$M$3:$M$52,0)),\"\")","v":""},{"$f":"IFERROR(IF(D755=\"\",\"\",INDEX(tb_vendas[Preço de Venda],MATCH(D755,tb_vendas[N° Pedido/Empresa],0))/F755),\"\")","v":""},{"$f":"IFERROR(IF(D755=\"\",\"\",INDEX(tb_vendas[Data Fechamento],MATCH(D755,tb_vendas[N° Pedido/Empresa],0))+E755*INDEX(tb_formas_pagamento[Dias_Intervalo],MATCH(INDEX(tb_vendas[Forma_Pagamento],MATCH(D755,tb_vendas[N° Pedido/Empresa],0)),tb_formas_pagamento[Nome_Forma],0))),\"\")","v":""},null,{"$f":"IF(OR(tb_pagamentos[[#This Row],[Data_Vencimento]]=\"\",tb_pagamentos[[#This Row],[Valor_Parcela]]=\"\",tb_pagamentos[[#This Row],[Qtd_Total_Parcelas]]=\"\",tb_pagamentos[[#This Row],[Nr_Pedido]]=\"\"),\"\",IF(tb_pagamentos[[#This Row],[Data_Pagamento]]<>\"\",\"Pago\",IF(AND(tb_pagamentos[[#This Row],[Data_Pagamento]]=\"\",tb_pagamentos[[#This Row],[Data_Vencimento]]<TODAY()),\"Em Atraso\",\"A vencer\")))","v":""}]
[null,null,"",{"$f":"IFERROR(INDEX(CALC_BASE!$N$3:$N$52,MATCH(ROW()-7,CALC_BASE!$M$3:$M$52,0)),\"\")","v":""},{"$f":"IFERROR(INDEX(CALC_BASE!$O$3:$O$52,MATCH(ROW()-7,CALC_BASE!$M$3:$M$52,0)),\"\")","v":""},{"$f":"IFERROR(INDEX(CALC_BASE!$P$3:$P$52,MATCH(ROW()-7,CALC_BASE!$M$3:$M$52,0)),\"\")","v":""},{"$f":"IFERROR(IF(D756=\"\",\"\",INDEX(tb_vendas[Preço de Venda],MATCH(D756,tb_vendas[N° Pedido/Empresa],0))/F756),\"\")","v":""},{"$f":"IFERROR(IF(D756=\"\",\"\",INDEX(tb_vendas[Data Fechamento],MATCH(D756,tb_vendas[N° Pedido/Empresa],0))+E756*INDEX(tb_formas_pagamento[Dias_Intervalo],MATCH(INDEX(tb_vendas[Forma_Pagamento],MATCH(D756,tb_vendas[N° Pedido/Empresa],0)),tb_formas_pagamento[Nome_Forma],0))),\"\")","v":""},null,{"$f":"IF(OR(tb_pagamentos[[#This Row],[Data_Vencimento]]=\"\",tb_pagamentos[[#This Row],[Valor_Parcela]]=\"\",tb_pagamentos[[#This Row],[Qtd_Total_Parcelas]]=\"\",tb_pagamentos[[#This Row],[Nr_Pedido]]=\"\"),\"\",IF(tb_pagamentos[[#This Row],[Data_Pagamento]]<>\"\",\"Pago\",IF(AND(tb_pagamentos[[#This Row],[Data_Pagamento]]=\"\",tb_pagamentos[[#This Row],[Data_Vencimento]]<TODAY()),\"Em Atraso\",\"A vencer\")))","v":""}]
[null,null,"",{"$f":"IFERROR(INDEX(CALC_BASE!$N$3:$N$52,MATCH(ROW()-7,CALC_BASE!$M$3:$M$52,0)),\"\")","v":""},{"$f":"IFERROR(INDEX(CALC_BASE!$O$3:$O$52,MATCH(ROW()-7,CALC_BASE!$M$3:$M$52,0)),\"\")","v":""},{"$f":"IFERROR(INDEX(CALC_BASE!$P$3:$P$52,MATCH(ROW()-7,CALC_BASE!$M$3:$M$52,0)),\"\")","v":""},{"$f":"IFERROR(IF(D757=\"\",\"\",INDEX(tb_vendas[Preço de Venda],MATCH(D757,tb_vendas[N° Pedido/Empresa],0))/F757),\"\")","v":""},{"$f":"IFERROR(IF(D757=\"\",\"\",INDEX(tb_vendas[Data Fechamento],MATCH(D757,tb_vendas[N° Pedido/Empresa],0))+E757*INDEX(tb_formas_pagamento[Dias_Intervalo],MATCH(INDEX(tb_vendas[Forma_Pagamento],MATCH(D757,tb_vendas[N° Pedido/Empresa],0)),tb_formas_pagamento[Nome_Forma],0))),\"\")","v":""},null,{"$f":"IF(OR(tb_pagamentos[[#This Row],[Data_Vencimento]]=\"\",tb_pagamentos[[#This Row],[Valor_Parcela]]=\"\",tb_pagamentos[[#This Row],[Qtd_Total_Parcelas]]=\"\",tb_pagamentos[[#This Row],[Nr_Pedido]]=\"\"),\"\",IF(tb_pagamentos[[#This Row],[Data_Pagamento]]<>\"\",\"Pago\",IF(AND(tb_pagamentos[[#This Row],[Data_Pagamento]]=\"\",tb_pagamentos[[#This Row],[Data_Vencimento]]<TODAY()),\"Em Atraso\",\"A vencer\")))","v":""}]
[null,null,"",{"$f":"IFERROR(INDEX(CALC_BASE!$N$3:$N$52,MATCH(ROW()-7,CALC_BASE!$M$3:$M$52,0)),\"\")","v":""},{"$f":"IFERROR(INDEX(CALC_BASE!$O$3:$O$52,MATCH(ROW()-7,CALC_BASE!$M$3:$M$52,0)),\"\")","v":""},{"$f":"IFERROR(INDEX(CALC_BASE!$P$3:$P$52,MATCH(ROW()-7,CALC_BASE!$M$3:$M$52,0)),\"\")","v":""},{"$f":"IFERROR(IF(D758=\"\",\"\",INDEX(tb_vendas[Preço de Venda],MATCH(D758,tb_vendas[N° Pedido/Empresa],0))/F758),\"\")","v":""},{"$f":"IFERROR(IF(D758=\"\",\"\",INDEX(tb_vendas[Data Fechamento],MATCH(D758,tb_vendas[N° Pedido/Empresa],0))+E758*INDEX(tb_formas_pagamento[Dias_Intervalo],MATCH(INDEX(tb_vendas[Forma_Pagamento],MATCH(D758,tb_vendas[N° Pedido/Empresa],0)),tb_formas_pagamento[Nome_Forma],0))),\"\")","v":""},null,{"$f":"IF(OR(tb_pagamentos[[#This Row],[Data_Vencimento]]=\"\",tb_pagamentos[[#This Row],[Valor_Parcela]]=\"\",tb_pagamentos[[#This Row],[Qtd_Total_Parcelas]]=\"\",tb_pagamentos[[#This Row],[Nr_Pedido]]=\"\"),\"\",IF(tb_pagamentos[[#This Row],[Data_Pagamento]]<>\"\",\"Pago\",IF(AND(tb_pagamentos[[#This Row],[Data_Pagamento]]=\"\",tb_pagamentos[[#This Row],[Data_Vencimento]]<TODAY()),\"Em Atraso\",\"A vencer\")))","v":""}]
[null,null,"",{"$f":"IFERROR(INDEX(CALC_BASE!$N$3:$N$52,MATCH(ROW()-7,CALC_BASE!$M$3:$M$52,0)),\"\")","v":""},{"$f":"IFERROR(INDEX(CALC_BASE!$O$3:$O$52,MATCH(ROW()-7,CALC_BASE!$M$3:$M$52,0)),\"\")","v":""},{"$f":"IFERROR(INDEX(CALC_BASE!$P$3:$P$52,MATCH(ROW()-7,CALC_BASE!$M$3:$M$52,0)),\"\")","v":""},{"$f":"IFERROR(IF(D759=\"\",\"\",INDEX(tb_vendas[Preço de Venda],MATCH(D759,tb_vendas[N° Pedido/Empresa],0))/F759),\"\")","v":""},{"$f":"IFERROR(IF(D759=\"\",\"\",INDEX(tb_vendas[Data Fechamento],MATCH(D759,tb_vendas[N° Pedido/Empresa],0))+E759*INDEX(tb_formas_pagamento[Dias_Intervalo],MATCH(INDEX(tb_vendas[Forma_Pagamento],MATCH(D759,tb_vendas[N° Pedido/Empresa],0)),tb_formas_pagamento[Nome_Forma],0))),\"\")","v":""},null,{"$f":"IF(OR(tb_pagamentos[[#This Row],[Data_Vencimento]]=\"\",tb_pagamentos[[#This Row],[Valor_Parcela]]=\"\",tb_pagamentos[[#This Row],[Qtd_Total_Parcelas]]=\"\",tb_pagamentos[[#This Row],[Nr_Pedido]]=\"\"),\"\",IF(tb_pagamentos[[#This Row],[Data_Pagamento]]<>\"\",\"Pago\",IF(AND(tb_pagamentos[[#This Row],[Data_Pagamento]]=\"\",tb_pagamentos[[#This Row],[Data_Vencimento]]<TODAY()),\"Em Atraso\",\"A vencer\")))","v":""}]
[null,null,"",{"$f":"IFERROR(INDEX(CALC_BASE!$N$3:$N$52,MATCH(ROW()-7,CALC_BASE!$M$3:$M$52,0)),\"\")","v":""},{"$f":"IFERROR(INDEX(CALC_BASE!$O$3:$O$52,MATCH(ROW()-7,CALC_BASE!$M$3:$M$52,0)),\"\")","v":""},{"$f":"IFERROR(INDEX(CALC_BASE!$P$3:$P$52,MATCH(ROW()-7,CALC_BASE!$M$3:$M$52,0)),\"\")","v":""},{"$f":"IFERROR(IF(D760=\"\",\"\",INDEX(tb_vendas[Preço de Venda],MATCH(D760,tb_vendas[N° Pedido/Empresa],0))/F760),\"\")","v":""},{"$f":"IFERROR(IF(D760=\"\",\"\",INDEX(tb_vendas[Data Fechamento],MATCH(D760,tb_vendas[N° Pedido/Empresa],0))+E760*INDEX(tb_formas_pagamento[Dias_Intervalo],MATCH(INDEX(tb_vendas[Forma_Pagamento],MATCH(D760,tb_vendas[N° Pedido/Empresa],0)),tb_formas_pagamento[Nome_Forma],0))),\"\")","v":""},null,{"$f":"IF(OR(tb_pagamentos[[#This Row],[Data_Vencimento]]=\"\",tb_pagamentos[[#This Row],[Valor_Parcela]]=\"\",tb_pagamentos[[#This Row],[Qtd_Total_Parcelas]]=\"\",tb_pagamentos[[#This Row],[Nr_Pedido]]=\"\"),\"\",IF(tb_pagamentos[[#This Row],[Data_Pagamento]]<>\"\",\"Pago\",IF(AND(tb_pagamentos[[#This Row],[Data_Pagamento]]=\"\",tb_pagamentos[[#This Row],[Data_Vencimento]]<TODAY()),\"Em Atraso\",\"A vencer\")))","v":""}]
[null,null,"",{"$f":"IFERROR(INDEX(CALC_BASE!$N$3:$N$52,MATCH(ROW()-7,CALC_BASE!$M$3:$M$52,0)),\"\")","v":""},{"$f":"IFERROR(INDEX(CALC_BASE!$O$3:$O$52,MATCH(ROW()-7,CALC_BASE!$M$3:$M$52,0)),\"\")","v":""},{"$f":"IFERROR(INDEX(CALC_BASE!$P$3:$P$52,MATCH(ROW()-7,CALC_BASE!$M$3:$M$52,0)),\"\")","v":""},{"$f":"IFERROR(IF(D761=\"\",\"\",INDEX(tb_vendas[Preço de Venda],MATCH(D761,tb_vendas[N° Pedido/Empresa],0))/F761),\"\")","v":""},{"$f":"IFERROR(IF(D761=\"\",\"\",INDEX(tb_vendas[Data Fechamento],MATCH(D761,tb_vendas[N° Pedido/Empresa],0))+E761*INDEX(tb_formas_pagamento[Dias_Intervalo],MATCH(INDEX(tb_vendas[Forma_Pagamento],MATCH(D761,tb_vendas[N° Pedido/Empresa],0)),tb_formas_pagamento[Nome_Forma],0))),\"\")","v":""},null,{"$f":"IF(OR(tb_pagamentos[[#This Row],[Data_Vencimento]]=\"\",tb_pagamentos[[#This Row],[Valor_Parcela]]=\"\",tb_pagamentos[[#This Row],[Qtd_Total_Parcelas]]=\"\",tb_pagamentos[[#This Row],[Nr_Pedido]]=\"\"),\"\",IF(tb_pagamentos[[#This Row],[Data_Pagamento]]<>\"\",\"Pago\",IF(AND(tb_pagamentos[[#This Row],[Data_Pagamento]]=\"\",tb_pagamentos[[#This Row],[Data_Vencimento]]<TODAY()),\"Em Atraso\",\"A vencer\")))","v":""}]
[null,null,"",{"$f":"IFERROR(INDEX(CALC_BASE!$N$3:$N$52,MATCH(ROW()-7,CALC_BASE!$M$3:$M$52,0)),\"\")","v":""},{"$f":"IFERROR(INDEX(CALC_BASE!$O$3:$O$52,MATCH(ROW()-7,CALC_BASE!$M$3:$M$52,0)),\"\")","v":""},{"$f":"IFERROR(INDEX(CALC_BASE!$P$3:$P$52,MATCH(ROW()-7,CALC_BASE!$M$3:$M$52,0)),\"\")","v":""},{"$f":"IFERROR(IF(D762=\"\",\"\",INDEX(tb_vendas[Preço de Venda],MATCH(D762,tb_vendas[N° Pedido/Empresa],0))/F762),\"\")","v":""},{"$f":"IFERROR(IF(D762=\"\",\"\",INDEX(tb_vendas[Data Fechamento],MATCH(D762,tb_vendas[N° Pedido/Empresa],0))+E762*INDEX(tb_formas_pagamento[Dias_Intervalo],MATCH(INDEX(tb_vendas[Forma_Pagamento],MATCH(D762,tb_vendas[N° Pedido/Empresa],0)),tb_formas_pagamento[Nome_Forma],0))),\"\")","v":""},null,{"$f":"IF(OR(tb_pagamentos[[#This Row],[Data_Vencimento]]=\"\",tb_pagamentos[[#This Row],[Valor_Parcela]]=\"\",tb_pagamentos[[#This Row],[Qtd_Total_Parcelas]]=\"\",tb_pagamentos[[#This Row],[Nr_Pedido]]=\"\"),\"\",IF(tb_pagamentos[[#This Row],[Data_Pagamento]]<>\"\",\"Pago\",IF(AND(tb_pagamentos[[#This Row],[Data_Pagamento]]=\"\",tb_pagamentos[[#This Row],[Data_Vencimento]]<TODAY()),\"Em Atraso\",\"A vencer\")))","v":""}]
[null,null,"",{"$f":"IFERROR(INDEX(CALC_BASE!$N$3:$N$52,MATCH(ROW()-7,CALC_BASE!$M$3:$M$52,0)),\"\")","v":""},{"$f":"IFERROR(INDEX(CALC_BASE!$O$3:$O$52,MATCH(ROW()-7,CALC_BASE!$M$3:$M$52,0)),\"\")","v":""},{"$f":"IFERROR(INDEX(CALC_BASE!$P$3:$P$52,MATCH(ROW()-7,CALC_BASE!$M$3:$M$52,0)),\"\")","v":""},{"$f":"IFERROR(IF(D763=\"\",\"\",INDEX(tb_vendas[Preço de Venda],MATCH(D763,tb_vendas[N° Pedido/Empresa],0))/F763),\"\")","v":""},{"$f":"IFERROR(IF(D763=\"\",\"\",INDEX(tb_vendas[Data Fechamento],MATCH(D763,tb_vendas[N° Pedido/Empresa],0))+E763*INDEX(tb_formas_pagamento[Dias_Intervalo],MATCH(INDEX(tb_vendas[Forma_Pagamento],MATCH(D763,tb_vendas[N° Pedido/Empresa],0)),tb_formas_pagamento[Nome_Forma],0))),\"\")","v":""},null,{"$f":"IF(OR(tb_pagamentos[[#This Row],[Data_Vencimento]]=\"\",tb_pagamentos[[#This Row],[Valor_Parcela]]=\"\",tb_pagamentos[[#This Row],[Qtd_Total_Parcelas]]=\"\",tb_pagamentos[[#This Row],[Nr_Pedido]]=\"\"),\"\",IF(tb_pagamentos[[#This Row],[Data_Pagamento]]<>\"\",\"Pago\",IF(AND(tb_pagamentos[[#This Row],[Data_Pagamento]]=\"\",tb_pagamentos[[#This Row],[Data_Vencimento]]<TODAY()),\"Em Atraso\",\"A vencer\")))","v":""}]
[null,null,"",{"$f":"IFERROR(INDEX(CALC_BASE!$N$3:$N$52,MATCH(ROW()-7,CALC_BASE!$M$3:$M$52,0)),\"\")","v":""},{"$f":"IFERROR(INDEX(CALC_BASE!$O$3:$O$52,MATCH(ROW()-7,CALC_BASE!$M$3:$M$52,0)),\"\")","v":""},{"$f":"IFERROR(INDEX(CALC_BASE!$P$3:$P$52,MATCH(ROW()-7,CALC_BASE!$M$3:$M$52,0)),\"\")","v":""},{"$f":"IFERROR(IF(D764=\"\",\"\",INDEX(tb_vendas[Preço de Venda],MATCH(D764,tb_vendas[N° Pedido/Empresa],0))/F764),\"\")","v":""},{"$f":"IFERROR(IF(D764=\"\",\"\",INDEX(tb_vendas[Data Fechamento],MATCH(D764,tb_vendas[N° Pedido/Empresa],0))+E764*INDEX(tb_formas_pagamento[Dias_Intervalo],MATCH(INDEX(tb_vendas[Forma_Pagamento],MATCH(D764,tb_vendas[N° Pedido/Empresa],0)),tb_formas_pagamento[Nome_Forma],0))),\"\")","v":""},null,{"$f":"IF(OR(tb_pagamentos[[#This Row],[Data_Vencimento]]=\"\",tb_pagamentos[[#This Row],[Valor_Parcela]]=\"\",tb_pagamentos[[#This Row],[Qtd_Total_Parcelas]]=\"\",tb_pagamentos[[#This Row],[Nr_Pedido]]=\"\"),\"\",IF(tb_pagamentos[[#This Row],[Data_Pagamento]]<>\"\",\"Pago\",IF(AND(tb_pagamentos[[#This Row],[Data_Pagamento]]=\"\",tb_pagamentos[[#This Row],[Data_Vencimento]]<TODAY()),\"Em Atraso\",\"A vencer\")))","v":""}]
[null,null,"",{"$f":"IFERROR(INDEX(CALC_BASE!$N$3:$N$52,MATCH(ROW()-7,CALC_BASE!$M$3:$M$52,0)),\"\")","v":""},{"$f":"IFERROR(INDEX(CALC_BASE!$O$3:$O$52,MATCH(ROW()-7,CALC_BASE!$M$3:$M$52,0)),\"\")","v":""},{"$f":"IFERROR(INDEX(CALC_BASE!$P$3:$P$52,MATCH(ROW()-7,CALC_BASE!$M$3:$M$52,0)),\"\")","v":""},{"$f":"IFERROR(IF(D765=\"\",\"\",INDEX(tb_vendas[Preço de Venda],MATCH(D765,tb_vendas[N° Pedido/Empresa],0))/F765),\"\")","v":""},{"$f":"IFERROR(IF(D765=\"\",\"\",INDEX(tb_vendas[Data Fechamento],MATCH(D765,tb_vendas[N° Pedido/Empresa],0))+E765*INDEX(tb_formas_pagamento[Dias_Intervalo],MATCH(INDEX(tb_vendas[Forma_Pagamento],MATCH(D765,tb_vendas[N° Pedido/Empresa],0)),tb_formas_pagamento[Nome_Forma],0))),\"\")","v":""},null,{"$f":"IF(OR(tb_pagamentos[[#This Row],[Data_Vencimento]]=\"\",tb_pagamentos[[#This Row],[Valor_Parcela]]=\"\",tb_pagamentos[[#This Row],[Qtd_Total_Parcelas]]=\"\",tb_pagamentos[[#This Row],[Nr_Pedido]]=\"\"),\"\",IF(tb_pagamentos[[#This Row],[Data_Pagamento]]<>\"\",\"Pago\",IF(AND(tb_pagamentos[[#This Row],[Data_Pagamento]]=\"\",tb_pagamentos[[#This Row],[Data_Vencimento]]<TODAY()),\"Em Atraso\",\"A vencer\")))","v":""}]
[null,null,"",{"$f":"IFERROR(INDEX(CALC_BASE!$N$3:$N$52,MATCH(ROW()-7,CALC_BASE!$M$3:$M$52,0)),\"\")","v":""},{"$f":"IFERROR(INDEX(CALC_BASE!$O$3:$O$52,MATCH(ROW()-7,CALC_BASE!$M$3:$M$52,0)),\"\")","v":""},{"$f":"IFERROR(INDEX(CALC_BASE!$P$3:$P$52,MATCH(ROW()-7,CALC_BASE!$M$3:$M$52,0)),\"\")","v":""},{"$f":"IFERROR(IF(D766=\"\",\"\",INDEX(tb_vendas[Preço de Venda],MATCH(D766,tb_vendas[N° Pedido/Empresa],0))/F766),\"\")","v":""},{"$f":"IFERROR(IF(D766=\"\",\"\",INDEX(tb_vendas[Data Fechamento],MATCH(D766,tb_vendas[N° Pedido/Empresa],0))+E766*INDEX(tb_formas_pagamento[Dias_Intervalo],MATCH(INDEX(tb_vendas[Forma_Pagamento],MATCH(D766,tb_vendas[N° Pedido/Empresa],0)),tb_formas_pagamento[Nome_Forma],0))),\"\")","v":""},null,{"$f":"IF(OR(tb_pagamentos[[#This Row],[Data_Vencimento]]=\"\",tb_pagamentos[[#This Row],[Valor_Parcela]]=\"\",tb_pagamentos[[#This Row],[Qtd_Total_Parcelas]]=\"\",tb_pagamentos[[#This Row],[Nr_Pedido]]=\"\"),\"\",IF(tb_pagamentos[[#This Row],[Data_Pagamento]]<>\"\",\"Pago\",IF(AND(tb_pagamentos[[#This Row],[Data_Pagamento]]=\"\",tb_pagamentos[[#This Row],[Data_Vencimento]]<TODAY()),\"Em Atraso\",\"A vencer\")))","v":""}]
[null,null,"",{"$f":"IFERROR(INDEX(CALC_BASE!$N$3:$N$52,MATCH(ROW()-7,CALC_BASE!$M$3:$M$52,0)),\"\")","v":""},{"$f":"IFERROR(INDEX(CALC_BASE!$O$3:$O$52,MATCH(ROW()-7,CALC_BASE!$M$3:$M$52,0)),\"\")","v":""},{"$f":"IFERROR(INDEX(CALC_BASE!$P$3:$P$52,MATCH(ROW()-7,CALC_BASE!$M$3:$M$52,0)),\"\")","v":""},{"$f":"IFERROR(IF(D767=\"\",\"\",INDEX(tb_vendas[Preço de Venda],MATCH(D767,tb_vendas[N° Pedido/Empresa],0))/F767),\"\")","v":""},{"$f":"IFERROR(IF(D767=\"\",\"\",INDEX(tb_vendas[Data Fechamento],MATCH(D767,tb_vendas[N° Pedido/Empresa],0))+E767*INDEX(tb_formas_pagamento[Dias_Intervalo],MATCH(INDEX(tb_vendas[Forma_Pagamento],MATCH(D767,tb_vendas[N° Pedido/Empresa],0)),tb_formas_pagamento[Nome_Forma],0))),\"\")","v":""},null,{"$f":"IF(OR(tb_pagamentos[[#This Row],[Data_Vencimento]]=\"\",tb_pagamentos[[#This Row],[Valor_Parcela]]=\"\",tb_pagamentos[[#This Row],[Qtd_Total_Parcelas]]=\"\",tb_pagamentos[[#This Row],[Nr_Pedido]]=\"\"),\"\",IF(tb_pagamentos[[#This Row],[Data_Pagamento]]<>\"\",\"Pago\",IF(AND(tb_pagamentos[[#This Row],[Data_Pagamento]]=\"\",tb_pagamentos[[#This Row],[Data_Vencimento]]<TODAY()),\"Em Atraso\",\"A vencer\")))","v":""}]
[null,null,"",{"$f":"IFERROR(INDEX(CALC_BASE!$N$3:$N$52,MATCH(ROW()-7,CALC_BASE!$M$3:$M$52,0)),\"\")","v":""},{"$f":"IFERROR(INDEX(CALC_BASE!$O$3:$O$52,MATCH(ROW()-7,CALC_BASE!$M$3:$M$52,0)),\"\")","v":""},{"$f":"IFERROR(INDEX(CALC_BASE!$P$3:$P$52,MATCH(ROW()-7,CALC_BASE!$M$3:$M$52,0)),\"\")","v":""},{"$f":"IFERROR(IF(D768=\"\",\"\",INDEX(tb_vendas[Preço de Venda],MATCH(D768,tb_vendas[N° Pedido/Empresa],0))/F768),\"\")","v":""},{"$f":"IFERROR(IF(D768=\"\",\"\",INDEX(tb_vendas[Data Fechamento],MATCH(D768,tb_vendas[N° Pedido/Empresa],0))+E768*INDEX(tb_formas_pagamento[Dias_Intervalo],MATCH(INDEX(tb_vendas[Forma_Pagamento],MATCH(D768,tb_vendas[N° Pedido/Empresa],0)),tb_formas_pagamento[Nome_Forma],0))),\"\")","v":""},null,{"$f":"IF(OR(tb_pagamentos[[#This Row],[Data_Vencimento]]=\"\",tb_pagamentos[[#This Row],[Valor_Parcela]]=\"\",tb_pagamentos[[#This Row],[Qtd_Total_Parcelas]]=\"\",tb_pagamentos[[#This Row],[Nr_Pedido]]=\"\"),\"\",IF(tb_pagamentos[[#This Row],[Data_Pagamento]]<>\"\",\"Pago\",IF(AND(tb_pagamentos[[#This Row],[Data_Pagamento]]=\"\",tb_pagamentos[[#This Row],[Data_Vencimento]]<TODAY()),\"Em Atraso\",\"A vencer\")))","v":""}]
[null,null,"",{"$f":"IFERROR(INDEX(CALC_BASE!$N$3:$N$52,MATCH(ROW()-7,CALC_BASE!$M$3:$M$52,0)),\"\")","v":""},{"$f":"IFERROR(INDEX(CALC_BASE!$O$3:$O$52,MATCH(ROW()-7,CALC_BASE!$M$3:$M$52,0)),\"\")","v":""},{"$f":"IFERROR(INDEX(CALC_BASE!$P$3:$P$52,MATCH(ROW()-7,CALC_BASE!$M$3:$M$52,0)),\"\")","v":""},{"$f":"IFERROR(IF(D769=\"\",\"\",INDEX(tb_vendas[Preço de Venda],MATCH(D769,tb_vendas[N° Pedido/Empresa],0))/F769),\"\")","v":""},{"$f":"IFERROR(IF(D769=\"\",\"\",INDEX(tb_vendas[Data Fechamento],MATCH(D769,tb_vendas[N° Pedido/Empresa],0))+E769*INDEX(tb_formas_pagamento[Dias_Intervalo],MATCH(INDEX(tb_vendas[Forma_Pagamento],MATCH(D769,tb_vendas[N° Pedido/Empresa],0)),tb_formas_pagamento[Nome_Forma],0))),\"\")","v":""},null,{"$f":"IF(OR(tb_pagamentos[[#This Row],[Data_Vencimento]]=\"\",tb_pagamentos[[#This Row],[Valor_Parcela]]=\"\",tb_pagamentos[[#This Row],[Qtd_Total_Parcelas]]=\"\",tb_pagamentos[[#This Row],[Nr_Pedido]]=\"\"),\"\",IF(tb_pagamentos[[#This Row],[Data_Pagamento]]<>\"\",\"Pago\",IF(AND(tb_pagamentos[[#This Row],[Data_Pagamento]]=\"\",tb_pagamentos[[#This Row],[Data_Vencimento]]<TODAY()),\"Em Atraso\",\"A vencer\")))","v":""}]
[null,null,"",{"$f":"IFERROR(INDEX(CALC_BASE!$N$3:$N$52,MATCH(ROW()-7,CALC_BASE!$M$3:$M$52,0)),\"\")","v":""},{"$f":"IFERROR(INDEX(CALC_BASE!$O$3:$O$52,MATCH(ROW()-7,CALC_BASE!$M$3:$M$52,0)),\"\")","v":""},{"$f":"IFERROR(INDEX(CALC_BASE!$P$3:$P$52,MATCH(ROW()-7,CALC_BASE!$M$3:$M$52,0)),\"\")","v":""},{"$f":"IFERROR(IF(D770=\"\",\"\",INDEX(tb_vendas[Preço de Venda],MATCH(D770,tb_vendas[N° Pedido/Empresa],0))/F770),\"\")","v":""},{"$f":"IFERROR(IF(D770=\"\",\"\",INDEX(tb_vendas[Data Fechamento],MATCH(D770,tb_vendas[N° Pedido/Empresa],0))+E770*INDEX(tb_formas_pagamento[Dias_Intervalo],MATCH(INDEX(tb_vendas[Forma_Pagamento],MATCH(D770,tb_vendas[N° Pedido/Empresa],0)),tb_formas_pagamento[Nome_Forma],0))),\"\")","v":""},null,{"$f":"IF(OR(tb_pagamentos[[#This Row],[Data_Vencimento]]=\"\",tb_pagamentos[[#This Row],[Valor_Parcela]]=\"\",tb_pagamentos[[#This Row],[Qtd_Total_Parcelas]]=\"\",tb_pagamentos[[#This Row],[Nr_Pedido]]=\"\"),\"\",IF(tb_pagamentos[[#This Row],[Data_Pagamento]]<>\"\",\"Pago\",IF(AND(tb_pagamentos[[#This Row],[Data_Pagamento]]=\"\",tb_pagamentos[[#This Row],[Data_Vencimento]]<TODAY()),\"Em Atraso\",\"A vencer\")))","v":""}]
[null,null,"",{"$f":"IFERROR(INDEX(CALC_BASE!$N$3:$N$52,MATCH(ROW()-7,CALC_BASE!$M$3:$M$52,0)),\"\")","v":""},{"$f":"IFERROR(INDEX(CALC_BASE!$O$3:$O$52,MATCH(ROW()-7,CALC_BASE!$M$3:$M$52,0)),\"\")","v":""},{"$f":"IFERROR(INDEX(CALC_BASE!$P$3:$P$52,MATCH(ROW()-7,CALC_BASE!$M$3:$M$52,0)),\"\")","v":""},{"$f":"IFERROR(IF(D771=\"\",\"\",INDEX(tb_vendas[Preço de Venda],MATCH(D771,tb_vendas[N° Pedido/Empresa],0))/F771),\"\")","v":""},{"$f":"IFERROR(IF(D771=\"\",\"\",INDEX(tb_vendas[Data Fechamento],MATCH(D771,tb_vendas[N° Pedido/Empresa],0))+E771*INDEX(tb_formas_pagamento[Dias_Intervalo],MATCH(INDEX(tb_vendas[Forma_Pagamento],MATCH(D771,tb_vendas[N° Pedido/Empresa],0)),tb_formas_pagamento[Nome_Forma],0))),\"\")","v":""},null,{"$f":"IF(OR(tb_pagamentos[[#This Row],[Data_Vencimento]]=\"\",tb_pagamentos[[#This Row],[Valor_Parcela]]=\"\",tb_pagamentos[[#This Row],[Qtd_Total_Parcelas]]=\"\",tb_pagamentos[[#This Row],[Nr_Pedido]]=\"\"),\"\",IF(tb_pagamentos[[#This Row],[Data_Pagamento]]<>\"\",\"Pago\",IF(AND(tb_pagamentos[[#This Row],[Data_Pagamento]]=\"\",tb_pagamentos[[#This Row],[Data_Vencimento]]<TODAY()),\"Em Atraso\",\"A vencer\")))","v":""}]
[null,null,"",{"$f":"IFERROR(INDEX(CALC_BASE!$N$3:$N$52,MATCH(ROW()-7,CALC_BASE!$M$3:$M$52,0)),\"\")","v":""},{"$f":"IFERROR(INDEX(CALC_BASE!$O$3:$O$52,MATCH(ROW()-7,CALC_BASE!$M$3:$M$52,0)),\"\")","v":""},{"$f":"IFERROR(INDEX(CALC_BASE!$P$3:$P$52,MATCH(ROW()-7,CALC_BASE!$M$3:$M$52,0)),\"\")","v":""},{"$f":"IFERROR(IF(D772=\"\",\"\",INDEX(tb_vendas[Preço de Venda],MATCH(D772,tb_vendas[N° Pedido/Empresa],0))/F772),\"\")","v":""},{"$f":"IFERROR(IF(D772=\"\",\"\",INDEX(tb_vendas[Data Fechamento],MATCH(D772,tb_vendas[N° Pedido/Empresa],0))+E772*INDEX(tb_formas_pagamento[Dias_Intervalo],MATCH(INDEX(tb_vendas[Forma_Pagamento],MATCH(D772,tb_vendas[N° Pedido/Empresa],0)),tb_formas_pagamento[Nome_Forma],0))),\"\")","v":""},null,{"$f":"IF(OR(tb_pagamentos[[#This Row],[Data_Vencimento]]=\"\",tb_pagamentos[[#This Row],[Valor_Parcela]]=\"\",tb_pagamentos[[#This Row],[Qtd_Total_Parcelas]]=\"\",tb_pagamentos[[#This Row],[Nr_Pedido]]=\"\"),\"\",IF(tb_pagamentos[[#This Row],[Data_Pagamento]]<>\"\",\"Pago\",IF(AND(tb_pagamentos[[#This Row],[Data_Pagamento]]=\"\",tb_pagamentos[[#This Row],[Data_Vencimento]]<TODAY()),\"Em Atraso\",\"A vencer\")))","v":""}]
[null,null,"",{"$f":"IFERROR(INDEX(CALC_BASE!$N$3:$N$52,MATCH(ROW()-7,CALC_BASE!$M$3:$M$52,0)),\"\")","v":""},{"$f":"IFERROR(INDEX(CALC_BASE!$O$3:$O$52,MATCH(ROW()-7,CALC_BASE!$M$3:$M$52,0)),\"\")","v":""},{"$f":"IFERROR(INDEX(CALC_BASE!$P$3:$P$52,MATCH(ROW()-7,CALC_BASE!$M$3:$M$52,0)),\"\")","v":""},{"$f":"IFERROR(IF(D773=\"\",\"\",INDEX(tb_vendas[Preço de Venda],MATCH(D773,tb_vendas[N° Pedido/Empresa],0))/F773),\"\")","v":""},{"$f":"IFERROR(IF(D773=\"\",\"\",INDEX(tb_vendas[Data Fechamento],MATCH(D773,tb_vendas[N° Pedido/Empresa],0))+E773*INDEX(tb_formas_pagamento[Dias_Intervalo],MATCH(INDEX(tb_vendas[Forma_Pagamento],MATCH(D773,tb_vendas[N° Pedido/Empresa],0)),tb_formas_pagamento[Nome_Forma],0))),\"\")","v":""},null,{"$f":"IF(OR(tb_pagamentos[[#This Row],[Data_Vencimento]]=\"\",tb_pagamentos[[#This Row],[Valor_Parcela]]=\"\",tb_pagamentos[[#This Row],[Qtd_Total_Parcelas]]=\"\",tb_pagamentos[[#This Row],[Nr_Pedido]]=\"\"),\"\",IF(tb_pagamentos[[#This Row],[Data_Pagamento]]<>\"\",\"Pago\",IF(AND(tb_pagamentos[[#This Row],[Data_Pagamento]]=\"\",tb_pagamentos[[#This Row],[Data_Vencimento]]<TODAY()),\"Em Atraso\",\"A vencer\")))","v":""}]
[null,null,"",{"$f":"IFERROR(INDEX(CALC_BASE!$N$3:$N$52,MATCH(ROW()-7,CALC_BASE!$M$3:$M$52,0)),\"\")","v":""},{"$f":"IFERROR(INDEX(CALC_BASE!$O$3:$O$52,MATCH(ROW()-7,CALC_BASE!$M$3:$M$52,0)),\"\")","v":""},{"$f":"IFERROR(INDEX(CALC_BASE!$P$3:$P$52,MATCH(ROW()-7,CALC_BASE!$M$3:$M$52,0)),\"\")","v":""},{"$f":"IFERROR(IF(D774=\"\",\"\",INDEX(tb_vendas[Preço de Venda],MATCH(D774,tb_vendas[N° Pedido/Empresa],0))/F774),\"\")","v":""},{"$f":"IFERROR(IF(D774=\"\",\"\",INDEX(tb_vendas[Data Fechamento],MATCH(D774,tb_vendas[N° Pedido/Empresa],0))+E774*INDEX(tb_formas_pagamento[Dias_Intervalo],MATCH(INDEX(tb_vendas[Forma_Pagamento],MATCH(D774,tb_vendas[N° Pedido/Empresa],0)),tb_formas_pagamento[Nome_Forma],0))),\"\")","v":""},null,{"$f":"IF(OR(tb_pagamentos[[#This Row],[Data_Vencimento]]=\"\",tb_pagamentos[[#This Row],[Valor_Parcela]]=\"\",tb_pagamentos[[#This Row],[Qtd_Total_Parcelas]]=\"\",tb_pagamentos[[#This Row],[Nr_Pedido]]=\"\"),\"\",IF(tb_pagamentos[[#This Row],[Data_Pagamento]]<>\"\",\"Pago\",IF(AND(tb_pagamentos[[#This Row],[Data_Pagamento]]=\"\",tb_pagamentos[[#This Row],[Data_Vencimento]]<TODAY()),\"Em Atraso\",\"A vencer\")))","v":""}]
[null,null,"",{"$f":"IFERROR(INDEX(CALC_BASE!$N$3:$N$52,MATCH(ROW()-7,CALC_BASE!$M$3:$M$52,0)),\"\")","v":""},{"$f":"IFERROR(INDEX(CALC_BASE!$O$3:$O$52,MATCH(ROW()-7,CALC_BASE!$M$3:$M$52,0)),\"\")","v":""},{"$f":"IFERROR(INDEX(CALC_BASE!$P$3:$P$52,MATCH(ROW()-7,CALC_BASE!$M$3:$M$52,0)),\"\")","v":""},{"$f":"IFERROR(IF(D775=\"\",\"\",INDEX(tb_vendas[Preço de Venda],MATCH(D775,tb_vendas[N° Pedido/Empresa],0))/F775),\"\")","v":""},{"$f":"IFERROR(IF(D775=\"\",\"\",INDEX(tb_vendas[Data Fechamento],MATCH(D775,tb_vendas[N° Pedido/Empresa],0))+E775*INDEX(tb_formas_pagamento[Dias_Intervalo],MATCH(INDEX(tb_vendas[Forma_Pagamento],MATCH(D775,tb_vendas[N° Pedido/Empresa],0)),tb_formas_pagamento[Nome_Forma],0))),\"\")","v":""},null,{"$f":"IF(OR(tb_pagamentos[[#This Row],[Data_Vencimento]]=\"\",tb_pagamentos[[#This Row],[Valor_Parcela]]=\"\",tb_pagamentos[[#This Row],[Qtd_Total_Parcelas]]=\"\",tb_pagamentos[[#This Row],[Nr_Pedido]]=\"\"),\"\",IF(tb_pagamentos[[#This Row],[Data_Pagamento]]<>\"\",\"Pago\",IF(AND(tb_pagamentos[[#This Row],[Data_Pagamento]]=\"\",tb_pagamentos[[#This Row],[Data_Vencimento]]<TODAY()),\"Em Atraso\",\"A vencer\")))","v":""}]
[null,null,"",{"$f":"IFERROR(INDEX(CALC_BASE!$N$3:$N$52,MATCH(ROW()-7,CALC_BASE!$M$3:$M$52,0)),\"\")","v":""},{"$f":"IFERROR(INDEX(CALC_BASE!$O$3:$O$52,MATCH(ROW()-7,CALC_BASE!$M$3:$M$52,0)),\"\")","v":""},{"$f":"IFERROR(INDEX(CALC_BASE!$P$3:$P$52,MATCH(ROW()-7,CALC_BASE!$M$3:$M$52,0)),\"\")","v":""},{"$f":"IFERROR(IF(D776=\"\",\"\",INDEX(tb_vendas[Preço de Venda],MATCH(D776,tb_vendas[N° Pedido/Empresa],0))/F776),\"\")","v":""},{"$f":"IFERROR(IF(D776=\"\",\"\",INDEX(tb_vendas[Data Fechamento],MATCH(D776,tb_vendas[N° Pedido/Empresa],0))+E776*INDEX(tb_formas_pagamento[Dias_Intervalo],MATCH(INDEX(tb_vendas[Forma_Pagamento],MATCH(D776,tb_vendas[N° Pedido/Empresa],0)),tb_formas_pagamento[Nome_Forma],0))),\"\")","v":""},null,{"$f":"IF(OR(tb_pagamentos[[#This Row],[Data_Vencimento]]=\"\",tb_pagamentos[[#This Row],[Valor_Parcela]]=\"\",tb_pagamentos[[#This Row],[Qtd_Total_Parcelas]]=\"\",tb_pagamentos[[#This Row],[Nr_Pedido]]=\"\"),\"\",IF(tb_pagamentos[[#This Row],[Data_Pagamento]]<>\"\",\"Pago\",IF(AND(tb_pagamentos[[#This Row],[Data_Pagamento]]=\"\",tb_pagamentos[[#This Row],[Data_Vencimento]]<TODAY()),\"Em Atraso\",\"A vencer\")))","v":""}]
[null,null,"",{"$f":"IFERROR(INDEX(CALC_BASE!$N$3:$N$52,MATCH(ROW()-7,CALC_BASE!$M$3:$M$52,0)),\"\")","v":""},{"$f":"IFERROR(INDEX(CALC_BASE!$O$3:$O$52,MATCH(ROW()-7,CALC_BASE!$M$3:$M$52,0)),\"\")","v":""},{"$f":"IFERROR(INDEX(CALC_BASE!$P$3:$P$52,MATCH(ROW()-7,CALC_BASE!$M$3:$M$52,0)),\"\")","v":""},{"$f":"IFERROR(IF(D777=\"\",\"\",INDEX(tb_vendas[Preço de Venda],MATCH(D777,tb_vendas[N° Pedido/Empresa],0))/F777),\"\")","v":""},{"$f":"IFERROR(IF(D777=\"\",\"\",INDEX(tb_vendas[Data Fechamento],MATCH(D777,tb_vendas[N° Pedido/Empresa],0))+E777*INDEX(tb_formas_pagamento[Dias_Intervalo],MATCH(INDEX(tb_vendas[Forma_Pagamento],MATCH(D777,tb_vendas[N° Pedido/Empresa],0)),tb_formas_pagamento[Nome_Forma],0))),\"\")","v":""},null,{"$f":"IF(OR(tb_pagamentos[[#This Row],[Data_Vencimento]]=\"\",tb_pagamentos[[#This Row],[Valor_Parcela]]=\"\",tb_pagamentos[[#This Row],[Qtd_Total_Parcelas]]=\"\",tb_pagamentos[[#This Row],[Nr_Pedido]]=\"\"),\"\",IF(tb_pagamentos[[#This Row],[Data_Pagamento]]<>\"\",\"Pago\",IF(AND(tb_pagamentos[[#This Row],[Data_Pagamento]]=\"\",tb_pagamentos[[#This Row],[Data_Vencimento]]<TODAY()),\"Em Atraso\",\"A vencer\")))","v":""}]
[null,null,"",{"$f":"IFERROR(INDEX(CALC_BASE!$N$3:$N$52,MATCH(ROW()-7,CALC_BASE!$M$3:$M$52,0)),\"\")","v":""},{"$f":"IFERROR(INDEX(CALC_BASE!$O$3:$O$52,MATCH(ROW()-7,CALC_BASE!$M$3:$M$52,0)),\"\")","v":""},{"$f":"IFERROR(INDEX(CALC_BASE!$P$3:$P$52,MATCH(ROW()-7,CALC_BASE!$M$3:$M$52,0)),\"\")","v":""},{"$f":"IFERROR(IF(D778=\"\",\"\",INDEX(tb_vendas[Preço de Venda],MATCH(D778,tb_vendas[N° Pedido/Empresa],0))/F778),\"\")","v":""},{"$f":"IFERROR(IF(D778=\"\",\"\",INDEX(tb_vendas[Data Fechamento],MATCH(D778,tb_vendas[N° Pedido/Empresa],0))+E778*INDEX(tb_formas_pagamento[Dias_Intervalo],MATCH(INDEX(tb_vendas[Forma_Pagamento],MATCH(D778,tb_vendas[N° Pedido/Empresa],0)),tb_formas_pagamento[Nome_Forma],0))),\"\")","v":""},null,{"$f":"IF(OR(tb_pagamentos[[#This Row],[Data_Vencimento]]=\"\",tb_pagamentos[[#This Row],[Valor_Parcela]]=\"\",tb_pagamentos[[#This Row],[Qtd_Total_Parcelas]]=\"\",tb_pagamentos[[#This Row],[Nr_Pedido]]=\"\"),\"\",IF(tb_pagamentos[[#This Row],[Data_Pagamento]]<>\"\",\"Pago\",IF(AND(tb_pagamentos[[#This Row],[Data_Pagamento]]=\"\",tb_pagamentos[[#This Row],[Data_Vencimento]]<TODAY()),\"Em Atraso\",\"A vencer\")))","v":""}]
[null,null,"",{"$f":"IFERROR(INDEX(CALC_BASE!$N$3:$N$52,MATCH(ROW()-7,CALC_BASE!$M$3:$M$52,0)),\"\")","v":""},{"$f":"IFERROR(INDEX(CALC_BASE!$O$3:$O$52,MATCH(ROW()-7,CALC_BASE!$M$3:$M$52,0)),\"\")","v":""},{"$f":"IFERROR(INDEX(CALC_BASE!$P$3:$P$52,MATCH(ROW()-7,CALC_BASE!$M$3:$M$52,0)),\"\")","v":""},{"$f":"IFERROR(IF(D779=\"\",\"\",INDEX(tb_vendas[Preço de Venda],MATCH(D779,tb_vendas[N° Pedido/Empresa],0))/F779),\"\")","v":""},{"$f":"IFERROR(IF(D779=\"\",\"\",INDEX(tb_vendas[Data Fechamento],MATCH(D779,tb_vendas[N° Pedido/Empresa],0))+E779*INDEX(tb_formas_pagamento[Dias_Intervalo],MATCH(INDEX(tb_vendas[Forma_Pagamento],MATCH(D779,tb_vendas[N° Pedido/Empresa],0)),tb_formas_pagamento[Nome_Forma],0))),\"\")","v":""},null,{"$f":"IF(OR(tb_pagamentos[[#This Row],[Data_Vencimento]]=\"\",tb_pagamentos[[#This Row],[Valor_Parcela]]=\"\",tb_pagamentos[[#This Row],[Qtd_Total_Parcelas]]=\"\",tb_pagamentos[[#This Row],[Nr_Pedido]]=\"\"),\"\",IF(tb_pagamentos[[#This Row],[Data_Pagamento]]<>\"\",\"Pago\",IF(AND(tb_pagamentos[[#This Row],[Data_Pagamento]]=\"\",tb_pagamentos[[#This Row],[Data_Vencimento]]<TODAY()),\"Em Atraso\",\"A vencer\")))","v":""}]
[null,null,"",{"$f":"IFERROR(INDEX(CALC_BASE!$N$3:$N$52,MATCH(ROW()-7,CALC_BASE!$M$3:$M$52,0)),\"\")","v":""},{"$f":"IFERROR(INDEX(CALC_BASE!$O$3:$O$52,MATCH(ROW()-7,CALC_BASE!$M$3:$M$52,0)),\"\")","v":""},{"$f":"IFERROR(INDEX(CALC_BASE!$P$3:$P$52,MATCH(ROW()-7,CALC_BASE!$M$3:$M$52,0)),\"\")","v":""},{"$f":"IFERROR(IF(D780=\"\",\"\",INDEX(tb_vendas[Preço de Venda],MATCH(D780,tb_vendas[N° Pedido/Empresa],0))/F780),\"\")","v":""},{"$f":"IFERROR(IF(D780=\"\",\"\",INDEX(tb_vendas[Data Fechamento],MATCH(D780,tb_vendas[N° Pedido/Empresa],0))+E780*INDEX(tb_formas_pagamento[Dias_Intervalo],MATCH(INDEX(tb_vendas[Forma_Pagamento],MATCH(D780,tb_vendas[N° Pedido/Empresa],0)),tb_formas_pagamento[Nome_Forma],0))),\"\")","v":""},null,{"$f":"IF(OR(tb_pagamentos[[#This Row],[Data_Vencimento]]=\"\",tb_pagamentos[[#This Row],[Valor_Parcela]]=\"\",tb_pagamentos[[#This Row],[Qtd_Total_Parcelas]]=\"\",tb_pagamentos[[#This Row],[Nr_Pedido]]=\"\"),\"\",IF(tb_pagamentos[[#This Row],[Data_Pagamento]]<>\"\",\"Pago\",IF(AND(tb_pagamentos[[#This Row],[Data_Pagamento]]=\"\",tb_pagamentos[[#This Row],[Data_Vencimento]]<TODAY()),\"Em Atraso\",\"A vencer\")))","v":""}]
[null,null,"",{"$f":"IFERROR(INDEX(CALC_BASE!$N$3:$N$52,MATCH(ROW()-7,CALC_BASE!$M$3:$M$52,0)),\"\")","v":""},{"$f":"IFERROR(INDEX(CALC_BASE!$O$3:$O$52,MATCH(ROW()-7,CALC_BASE!$M$3:$M$52,0)),\"\")","v":""},{"$f":"IFERROR(INDEX(CALC_BASE!$P$3:$P$52,MATCH(ROW()-7,CALC_BASE!$M$3:$M$52,0)),\"\")","v":""},{"$f":"IFERROR(IF(D781=\"\",\"\",INDEX(tb_vendas[Preço de Venda],MATCH(D781,tb_vendas[N° Pedido/Empresa],0))/F781),\"\")","v":""},{"$f":"IFERROR(IF(D781=\"\",\"\",INDEX(tb_vendas[Data Fechamento],MATCH(D781,tb_vendas[N° Pedido/Empresa],0))+E781*INDEX(tb_formas_pagamento[Dias_Intervalo],MATCH(INDEX(tb_vendas[Forma_Pagamento],MATCH(D781,tb_vendas[N° Pedido/Empresa],0)),tb_formas_pagamento[Nome_Forma],0))),\"\")","v":""},null,{"$f":"IF(OR(tb_pagamentos[[#This Row],[Data_Vencimento]]=\"\",tb_pagamentos[[#This Row],[Valor_Parcela]]=\"\",tb_pagamentos[[#This Row],[Qtd_Total_Parcelas]]=\"\",tb_pagamentos[[#This Row],[Nr_Pedido]]=\"\"),\"\",IF(tb_pagamentos[[#This Row],[Data_Pagamento]]<>\"\",\"Pago\",IF(AND(tb_pagamentos[[#This Row],[Data_Pagamento]]=\"\",tb_pagamentos[[#This Row],[Data_Vencimento]]<TODAY()),\"Em Atraso\",\"A vencer\")))","v":""}]
[null,null,"",{"$f":"IFERROR(INDEX(CALC_BASE!$N$3:$N$52,MATCH(ROW()-7,CALC_BASE!$M$3:$M$52,0)),\"\")","v":""},{"$f":"IFERROR(INDEX(CALC_BASE!$O$3:$O$52,MATCH(ROW()-7,CALC_BASE!$M$3:$M$52,0)),\"\")","v":""},{"$f":"IFERROR(INDEX(CALC_BASE!$P$3:$P$52,MATCH(ROW()-7,CALC_BASE!$M$3:$M$52,0)),\"\")","v":""},{"$f":"IFERROR(IF(D782=\"\",\"\",INDEX(tb_vendas[Preço de Venda],MATCH(D782,tb_vendas[N° Pedido/Empresa],0))/F782),\"\")","v":""},{"$f":"IFERROR(IF(D782=\"\",\"\",INDEX(tb_vendas[Data Fechamento],MATCH(D782,tb_vendas[N° Pedido/Empresa],0))+E782*INDEX(tb_formas_pagamento[Dias_Intervalo],MATCH(INDEX(tb_vendas[Forma_Pagamento],MATCH(D782,tb_vendas[N° Pedido/Empresa],0)),tb_formas_pagamento[Nome_Forma],0))),\"\")","v":""},null,{"$f":"IF(OR(tb_pagamentos[[#This Row],[Data_Vencimento]]=\"\",tb_pagamentos[[#This Row],[Valor_Parcela]]=\"\",tb_pagamentos[[#This Row],[Qtd_Total_Parcelas]]=\"\",tb_pagamentos[[#This Row],[Nr_Pedido]]=\"\"),\"\",IF(tb_pagamentos[[#This Row],[Data_Pagamento]]<>\"\",\"Pago\",IF(AND(tb_pagamentos[[#This Row],[Data_Pagamento]]=\"\",tb_pagamentos[[#This Row],[Data_Vencimento]]<TODAY()),\"Em Atraso\",\"A vencer\")))","v":""}]
[null,null,{"$f":"IF(OR(D783=\"\",E783=\"\"),\"\",D783&\"-\"&E783)","v":""},{"$f":"IFERROR(INDEX(CALC_BASE!$N$3:$N$52,MATCH(ROW()-7,CALC_BASE!$M$3:$M$52,0)),\"\")","v":""},{"$f":"IFERROR(INDEX(CALC_BASE!$O$3:$O$52,MATCH(ROW()-7,CALC_BASE!$M$3:$M$52,0)),\"\")","v":""},{"$f":"IFERROR(INDEX(CALC_BASE!$P$3:$P$52,MATCH(ROW()-7,CALC_BASE!$M$3:$M$52,0)),\"\")","v":""},{"$f":"IFERROR(IF(D783=\"\",\"\",INDEX(tb_vendas[Preço de Venda],MATCH(D783,tb_vendas[N° Pedido/Empresa],0))/F783),\"\")","v":""},{"$f":"IFERROR(IF(D783=\"\",\"\",INDEX(tb_vendas[Data Fechamento],MATCH(D783,tb_vendas[N° Pedido/Empresa],0))+E783*INDEX(tb_formas_pagamento[Dias_Intervalo],MATCH(INDEX(tb_vendas[Forma_Pagamento],MATCH(D783,tb_vendas[N° Pedido/Empresa],0)),tb_formas_pagamento[Nome_Forma],0))),\"\")","v":""},null,{"$f":"IF(OR(tb_pagamentos[[#This Row],[Data_Vencimento]]=\"\",tb_pagamentos[[#This Row],[Valor_Parcela]]=\"\",tb_pagamentos[[#This Row],[Qtd_Total_Parcelas]]=\"\",tb_pagamentos[[#This Row],[Nr_Pedido]]=\"\"),\"\",IF(tb_pagamentos[[#This Row],[Data_Pagamento]]<>\"\",\"Pago\",IF(AND(tb_pagamentos[[#This Row],[Data_Pagamento]]=\"\",tb_pagamentos[[#This Row],[Data_Vencimento]]<TODAY()),\"Em Atraso\",\"A vencer\")))","v":""}]
[null,null,"",{"$f":"IFERROR(INDEX(CALC_BASE!$N$3:$N$52,MATCH(ROW()-7,CALC_BASE!$M$3:$M$52,0)),\"\")","v":""},{"$f":"IFERROR(INDEX(CALC_BASE!$O$3:$O$52,MATCH(ROW()-7,CALC_BASE!$M$3:$M$52,0)),\"\")","v":""},{"$f":"IFERROR(INDEX(CALC_BASE!$P$3:$P$52,MATCH(ROW()-7,CALC_BASE!$M$3:$M$52,0)),\"\")","v":""},{"$f":"IFERROR(IF(D784=\"\",\"\",INDEX(tb_vendas[Preço de Venda],MATCH(D784,tb_vendas[N° Pedido/Empresa],0))/F784),\"\")","v":""},{"$f":"IFERROR(IF(D784=\"\",\"\",INDEX(tb_vendas[Data Fechamento],MATCH(D784,tb_vendas[N° Pedido/Empresa],0))+E784*INDEX(tb_formas_pagamento[Dias_Intervalo],MATCH(INDEX(tb_vendas[Forma_Pagamento],MATCH(D784,tb_vendas[N° Pedido/Empresa],0)),tb_formas_pagamento[Nome_Forma],0))),\"\")","v":""},null,{"$f":"IF(OR(tb_pagamentos[[#This Row],[Data_Vencimento]]=\"\",tb_pagamentos[[#This Row],[Valor_Parcela]]=\"\",tb_pagamentos[[#This Row],[Qtd_Total_Parcelas]]=\"\",tb_pagamentos[[#This Row],[Nr_Pedido]]=\"\"),\"\",IF(tb_pagamentos[[#This Row],[Data_Pagamento]]<>\"\",\"Pago\",IF(AND(tb_pagamentos[[#This Row],[Data_Pagamento]]=\"\",tb_pagamentos[[#This Row],[Data_Vencimento]]<TODAY()),\"Em Atraso\",\"A vencer\")))","v":""}]
[null,null,"",{"$f":"IFERROR(INDEX(CALC_BASE!$N$3:$N$52,MATCH(ROW()-7,CALC_BASE!$M$3:$M$52,0)),\"\")","v":""},{"$f":"IFERROR(INDEX(CALC_BASE!$O$3:$O$52,MATCH(ROW()-7,CALC_BASE!$M$3:$M$52,0)),\"\")","v":""},{"$f":"IFERROR(INDEX(CALC_BASE!$P$3:$P$52,MATCH(ROW()-7,CALC_BASE!$M$3:$M$52,0)),\"\")","v":""},{"$f":"IFERROR(IF(D785=\"\",\"\",INDEX(tb_vendas[Preço de Venda],MATCH(D785,tb_vendas[N° Pedido/Empresa],0))/F785),\"\")","v":""},{"$f":"IFERROR(IF(D785=\"\",\"\",INDEX(tb_vendas[Data Fechamento],MATCH(D785,tb_vendas[N° Pedido/Empresa],0))+E785*INDEX(tb_formas_pagamento[Dias_Intervalo],MATCH(INDEX(tb_vendas[Forma_Pagamento],MATCH(D785,tb_vendas[N° Pedido/Empresa],0)),tb_formas_pagamento[Nome_Forma],0))),\"\")","v":""},null,{"$f":"IF(OR(tb_pagamentos[[#This Row],[Data_Vencimento]]=\"\",tb_pagamentos[[#This Row],[Valor_Parcela]]=\"\",tb_pagamentos[[#This Row],[Qtd_Total_Parcelas]]=\"\",tb_pagamentos[[#This Row],[Nr_Pedido]]=\"\"),\"\",IF(tb_pagamentos[[#This Row],[Data_Pagamento]]<>\"\",\"Pago\",IF(AND(tb_pagamentos[[#This Row],[Data_Pagamento]]=\"\",tb_pagamentos[[#This Row],[Data_Vencimento]]<TODAY()),\"Em Atraso\",\"A vencer\")))","v":""}]
[null,null,"",{"$f":"IFERROR(INDEX(CALC_BASE!$N$3:$N$52,MATCH(ROW()-7,CALC_BASE!$M$3:$M$52,0)),\"\")","v":""},{"$f":"IFERROR(INDEX(CALC_BASE!$O$3:$O$52,MATCH(ROW()-7,CALC_BASE!$M$3:$M$52,0)),\"\")","v":""},{"$f":"IFERROR(INDEX(CALC_BASE!$P$3:$P$52,MATCH(ROW()-7,CALC_BASE!$M$3:$M$52,0)),\"\")","v":""},{"$f":"IFERROR(IF(D786=\"\",\"\",INDEX(tb_vendas[Preço de Venda],MATCH(D786,tb_vendas[N° Pedido/Empresa],0))/F786),\"\")","v":""},{"$f":"IFERROR(IF(D786=\"\",\"\",INDEX(tb_vendas[Data Fechamento],MATCH(D786,tb_vendas[N° Pedido/Empresa],0))+E786*INDEX(tb_formas_pagamento[Dias_Intervalo],MATCH(INDEX(tb_vendas[Forma_Pagamento],MATCH(D786,tb_vendas[N° Pedido/Empresa],0)),tb_formas_pagamento[Nome_Forma],0))),\"\")","v":""},null,{"$f":"IF(OR(tb_pagamentos[[#This Row],[Data_Vencimento]]=\"\",tb_pagamentos[[#This Row],[Valor_Parcela]]=\"\",tb_pagamentos[[#This Row],[Qtd_Total_Parcelas]]=\"\",tb_pagamentos[[#This Row],[Nr_Pedido]]=\"\"),\"\",IF(tb_pagamentos[[#This Row],[Data_Pagamento]]<>\"\",\"Pago\",IF(AND(tb_pagamentos[[#This Row],[Data_Pagamento]]=\"\",tb_pagamentos[[#This Row],[Data_Vencimento]]<TODAY()),\"Em Atraso\",\"A vencer\")))","v":""}]
[null,null,"",{"$f":"IFERROR(INDEX(CALC_BASE!$N$3:$N$52,MATCH(ROW()-7,CALC_BASE!$M$3:$M$52,0)),\"\")","v":""},{"$f":"IFERROR(INDEX(CALC_BASE!$O$3:$O$52,MATCH(ROW()-7,CALC_BASE!$M$3:$M$52,0)),\"\")","v":""},{"$f":"IFERROR(INDEX(CALC_BASE!$P$3:$P$52,MATCH(ROW()-7,CALC_BASE!$M$3:$M$52,0)),\"\")","v":""},{"$f":"IFERROR(IF(D787=\"\",\"\",INDEX(tb_vendas[Preço de Venda],MATCH(D787,tb_vendas[N° Pedido/Empresa],0))/F787),\"\")","v":""},{"$f":"IFERROR(IF(D787=\"\",\"\",INDEX(tb_vendas[Data Fechamento],MATCH(D787,tb_vendas[N° Pedido/Empresa],0))+E787*INDEX(tb_formas_pagamento[Dias_Intervalo],MATCH(INDEX(tb_vendas[Forma_Pagamento],MATCH(D787,tb_vendas[N° Pedido/Empresa],0)),tb_formas_pagamento[Nome_Forma],0))),\"\")","v":""},null,{"$f":"IF(OR(tb_pagamentos[[#This Row],[Data_Vencimento]]=\"\",tb_pagamentos[[#This Row],[Valor_Parcela]]=\"\",tb_pagamentos[[#This Row],[Qtd_Total_Parcelas]]=\"\",tb_pagamentos[[#This Row],[Nr_Pedido]]=\"\"),\"\",IF(tb_pagamentos[[#This Row],[Data_Pagamento]]<>\"\",\"Pago\",IF(AND(tb_pagamentos[[#This Row],[Data_Pagamento]]=\"\",tb_pagamentos[[#This Row],[Data_Vencimento]]<TODAY()),\"Em Atraso\",\"A vencer\")))","v":""}]
[null,null,"",{"$f":"IFERROR(INDEX(CALC_BASE!$N$3:$N$52,MATCH(ROW()-7,CALC_BASE!$M$3:$M$52,0)),\"\")","v":""},{"$f":"IFERROR(INDEX(CALC_BASE!$O$3:$O$52,MATCH(ROW()-7,CALC_BASE!$M$3:$M$52,0)),\"\")","v":""},{"$f":"IFERROR(INDEX(CALC_BASE!$P$3:$P$52,MATCH(ROW()-7,CALC_BASE!$M$3:$M$52,0)),\"\")","v":""},{"$f":"IFERROR(IF(D788=\"\",\"\",INDEX(tb_vendas[Preço de Venda],MATCH(D788,tb_vendas[N° Pedido/Empresa],0))/F788),\"\")","v":""},{"$f":"IFERROR(IF(D788=\"\",\"\",INDEX(tb_vendas[Data Fechamento],MATCH(D788,tb_vendas[N° Pedido/Empresa],0))+E788*INDEX(tb_formas_pagamento[Dias_Intervalo],MATCH(INDEX(tb_vendas[Forma_Pagamento],MATCH(D788,tb_vendas[N° Pedido/Empresa],0)),tb_formas_pagamento[Nome_Forma],0))),\"\")","v":""},null,{"$f":"IF(OR(tb_pagamentos[[#This Row],[Data_Vencimento]]=\"\",tb_pagamentos[[#This Row],[Valor_Parcela]]=\"\",tb_pagamentos[[#This Row],[Qtd_Total_Parcelas]]=\"\",tb_pagamentos[[#This Row],[Nr_Pedido]]=\"\"),\"\",IF(tb_pagamentos[[#This Row],[Data_Pagamento]]<>\"\",\"Pago\",IF(AND(tb_pagamentos[[#This Row],[Data_Pagamento]]=\"\",tb_pagamentos[[#This Row],[Data_Vencimento]]<TODAY()),\"Em Atraso\",\"A vencer\")))","v":""}]
[null,null,"",{"$f":"IFERROR(INDEX(CALC_BASE!$N$3:$N$52,MATCH(ROW()-7,CALC_BASE!$M$3:$M$52,0)),\"\")","v":""},{"$f":"IFERROR(INDEX(CALC_BASE!$O$3:$O$52,MATCH(ROW()-7,CALC_BASE!$M$3:$M$52,0)),\"\")","v":""},{"$f":"IFERROR(INDEX(CALC_BASE!$P$3:$P$52,MATCH(ROW()-7,CALC_BASE!$M$3:$M$52,0)),\"\")","v":""},{"$f":"IFERROR(IF(D789=\"\",\"\",INDEX(tb_vendas[Preço de Venda],MATCH(D789,tb_vendas[N° Pedido/Empresa],0))/F789),\"\")","v":""},{"$f":"IFERROR(IF(D789=\"\",\"\",INDEX(tb_vendas[Data Fechamento],MATCH(D789,tb_vendas[N° Pedido/Empresa],0))+E789*INDEX(tb_formas_pagamento[Dias_Intervalo],MATCH(INDEX(tb_vendas[Forma_Pagamento],MATCH(D789,tb_vendas[N° Pedido/Empresa],0)),tb_formas_pagamento[Nome_Forma],0))),\"\")","v":""},null,{"$f":"IF(OR(tb_pagamentos[[#This Row],[Data_Vencimento]]=\"\",tb_pagamentos[[#This Row],[Valor_Parcela]]=\"\",tb_pagamentos[[#This Row],[Qtd_Total_Parcelas]]=\"\",tb_pagamentos[[#This Row],[Nr_Pedido]]=\"\"),\"\",IF(tb_pagamentos[[#This Row],[Data_Pagamento]]<>\"\",\"Pago\",IF(AND(tb_pagamentos[[#This Row],[Data_Pagamento]]=\"\",tb_pagamentos[[#This Row],[Data_Vencimento]]<TODAY()),\"Em Atraso\",\"A vencer\")))","v":""}]
[null,null,"",{"$f":"IFERROR(INDEX(CALC_BASE!$N$3:$N$52,MATCH(ROW()-7,CALC_BASE!$M$3:$M$52,0)),\"\")","v":""},{"$f":"IFERROR(INDEX(CALC_BASE!$O$3:$O$52,MATCH(ROW()-7,CALC_BASE!$M$3:$M$52,0)),\"\")","v":""},{"$f":"IFERROR(INDEX(CALC_BASE!$P$3:$P$52,MATCH(ROW()-7,CALC_BASE!$M$3:$M$52,0)),\"\")","v":""},{"$f":"IFERROR(IF(D790=\"\",\"\",INDEX(tb_vendas[Preço de Venda],MATCH(D790,tb_vendas[N° Pedido/Empresa],0))/F790),\"\")","v":""},{"$f":"IFERROR(IF(D790=\"\",\"\",INDEX(tb_vendas[Data Fechamento],MATCH(D790,tb_vendas[N° Pedido/Empresa],0))+E790*INDEX(tb_formas_pagamento[Dias_Intervalo],MATCH(INDEX(tb_vendas[Forma_Pagamento],MATCH(D790,tb_vendas[N° Pedido/Empresa],0)),tb_formas_pagamento[Nome_Forma],0))),\"\")","v":""},null,{"$f":"IF(OR(tb_pagamentos[[#This Row],[Data_Vencimento]]=\"\",tb_pagamentos[[#This Row],[Valor_Parcela]]=\"\",tb_pagamentos[[#This Row],[Qtd_Total_Parcelas]]=\"\",tb_pagamentos[[#This Row],[Nr_Pedido]]=\"\"),\"\",IF(tb_pagamentos[[#This Row],[Data_Pagamento]]<>\"\",\"Pago\",IF(AND(tb_pagamentos[[#This Row],[Data_Pagamento]]=\"\",tb_pagamentos[[#This Row],[Data_Vencimento]]<TODAY()),\"Em Atraso\",\"A vencer\")))","v":""}]
[null,null,"",{"$f":"IFERROR(INDEX(CALC_BASE!$N$3:$N$52,MATCH(ROW()-7,CALC_BASE!$M$3:$M$52,0)),\"\")","v":""},{"$f":"IFERROR(INDEX(CALC_BASE!$O$3:$O$52,MATCH(ROW()-7,CALC_BASE!$M$3:$M$52,0)),\"\")","v":""},{"$f":"IFERROR(INDEX(CALC_BASE!$P$3:$P$52,MATCH(ROW()-7,CALC_BASE!$M$3:$M$52,0)),\"\")","v":""},{"$f":"IFERROR(IF(D791=\"\",\"\",INDEX(tb_vendas[Preço de Venda],MATCH(D791,tb_vendas[N° Pedido/Empresa],0))/F791),\"\")","v":""},{"$f":"IFERROR(IF(D791=\"\",\"\",INDEX(tb_vendas[Data Fechamento],MATCH(D791,tb_vendas[N° Pedido/Empresa],0))+E791*INDEX(tb_formas_pagamento[Dias_Intervalo],MATCH(INDEX(tb_vendas[Forma_Pagamento],MATCH(D791,tb_vendas[N° Pedido/Empresa],0)),tb_formas_pagamento[Nome_Forma],0))),\"\")","v":""},null,{"$f":"IF(OR(tb_pagamentos[[#This Row],[Data_Vencimento]]=\"\",tb_pagamentos[[#This Row],[Valor_Parcela]]=\"\",tb_pagamentos[[#This Row],[Qtd_Total_Parcelas]]=\"\",tb_pagamentos[[#This Row],[Nr_Pedido]]=\"\"),\"\",IF(tb_pagamentos[[#This Row],[Data_Pagamento]]<>\"\",\"Pago\",IF(AND(tb_pagamentos[[#This Row],[Data_Pagamento]]=\"\",tb_pagamentos[[#This Row],[Data_Vencimento]]<TODAY()),\"Em Atraso\",\"A vencer\")))","v":""}]
[null,null,"",{"$f":"IFERROR(INDEX(CALC_BASE!$N$3:$N$52,MATCH(ROW()-7,CALC_BASE!$M$3:$M$52,0)),\"\")","v":""},{"$f":"IFERROR(INDEX(CALC_BASE!$O$3:$O$52,MATCH(ROW()-7,CALC_BASE!$M$3:$M$52,0)),\"\")","v":""},{"$f":"IFERROR(INDEX(CALC_BASE!$P$3:$P$52,MATCH(ROW()-7,CALC_BASE!$M$3:$M$52,0)),\"\")","v":""},{"$f":"IFERROR(IF(D792=\"\",\"\",INDEX(tb_vendas[Preço de Venda],MATCH(D792,tb_vendas[N° Pedido/Empresa],0))/F792),\"\")","v":""},{"$f":"IFERROR(IF(D792=\"\",\"\",INDEX(tb_vendas[Data Fechamento],MATCH(D792,tb_vendas[N° Pedido/Empresa],0))+E792*INDEX(tb_formas_pagamento[Dias_Intervalo],MATCH(INDEX(tb_vendas[Forma_Pagamento],MATCH(D792,tb_vendas[N° Pedido/Empresa],0)),tb_formas_pagamento[Nome_Forma],0))),\"\")","v":""},null,{"$f":"IF(OR(tb_pagamentos[[#This Row],[Data_Vencimento]]=\"\",tb_pagamentos[[#This Row],[Valor_Parcela]]=\"\",tb_pagamentos[[#This Row],[Qtd_Total_Parcelas]]=\"\",tb_pagamentos[[#This Row],[Nr_Pedido]]=\"\"),\"\",IF(tb_pagamentos[[#This Row],[Data_Pagamento]]<>\"\",\"Pago\",IF(AND(tb_pagamentos[[#This Row],[Data_Pagamento]]=\"\",tb_pagamentos[[#This Row],[Data_Vencimento]]<TODAY()),\"Em Atraso\",\"A vencer\")))","v":""}]
[null,null,"",{"$f":"IFERROR(INDEX(CALC_BASE!$N$3:$N$52,MATCH(ROW()-7,CALC_BASE!$M$3:$M$52,0)),\"\")","v":""},{"$f":"IFERROR(INDEX(CALC_BASE!$O$3:$O$52,MATCH(ROW()-7,CALC_BASE!$M$3:$M$52,0)),\"\")","v":""},{"$f":"IFERROR(INDEX(CALC_BASE!$P$3:$P$52,MATCH(ROW()-7,CALC_BASE!$M$3:$M$52,0)),\"\")","v":""},{"$f":"IFERROR(IF(D793=\"\",\"\",INDEX(tb_vendas[Preço de Venda],MATCH(D793,tb_vendas[N° Pedido/Empresa],0))/F793),\"\")","v":""},{"$f":"IFERROR(IF(D793=\"\",\"\",INDEX(tb_vendas[Data Fechamento],MATCH(D793,tb_vendas[N° Pedido/Empresa],0))+E793*INDEX(tb_formas_pagamento[Dias_Intervalo],MATCH(INDEX(tb_vendas[Forma_Pagamento],MATCH(D793,tb_vendas[N° Pedido/Empresa],0)),tb_formas_pagamento[Nome_Forma],0))),\"\")","v":""},null,{"$f":"IF(OR(tb_pagamentos[[#This Row],[Data_Vencimento]]=\"\",tb_pagamentos[[#This Row],[Valor_Parcela]]=\"\",tb_pagamentos[[#This Row],[Qtd_Total_Parcelas]]=\"\",tb_pagamentos[[#This Row],[Nr_Pedido]]=\"\"),\"\",IF(tb_pagamentos[[#This Row],[Data_Pagamento]]<>\"\",\"Pago\",IF(AND(tb_pagamentos[[#This Row],[Data_Pagamento]]=\"\",tb_pagamentos[[#This Row],[Data_Vencimento]]<TODAY()),\"Em Atraso\",\"A vencer\")))","v":""}]
[null,null,"",{"$f":"IFERROR(INDEX(CALC_BASE!$N$3:$N$52,MATCH(ROW()-7,CALC_BASE!$M$3:$M$52,0)),\"\")","v":""},{"$f":"IFERROR(INDEX(CALC_BASE!$O$3:$O$52,MATCH(ROW()-7,CALC_BASE!$M$3:$M$52,0)),\"\")","v":""},{"$f":"IFERROR(INDEX(CALC_BASE!$P$3:$P$52,MATCH(ROW()-7,CALC_BASE!$M$3:$M$52,0)),\"\")","v":""},{"$f":"IFERROR(IF(D794=\"\",\"\",INDEX(tb_vendas[Preço de Venda],MATCH(D794,tb_vendas[N° Pedido/Empresa],0))/F794),\"\")","v":""},{"$f":"IFERROR(IF(D794=\"\",\"\",INDEX(tb_vendas[Data Fechamento],MATCH(D794,tb_vendas[N° Pedido/Empresa],0))+E794*INDEX(tb_formas_pagamento[Dias_Intervalo],MATCH(INDEX(tb_vendas[Forma_Pagamento],MATCH(D794,tb_vendas[N° Pedido/Empresa],0)),tb_formas_pagamento[Nome_Forma],0))),\"\")","v":""},null,{"$f":"IF(OR(tb_pagamentos[[#This Row],[Data_Vencimento]]=\"\",tb_pagamentos[[#This Row],[Valor_Parcela]]=\"\",tb_pagamentos[[#This Row],[Qtd_Total_Parcelas]]=\"\",tb_pagamentos[[#This Row],[Nr_Pedido]]=\"\"),\"\",IF(tb_pagamentos[[#This Row],[Data_Pagamento]]<>\"\",\"Pago\",IF(AND(tb_pagamentos[[#This Row],[Data_Pagamento]]=\"\",tb_pagamentos[[#This Row],[Data_Vencimento]]<TODAY()),\"Em Atraso\",\"A vencer\")))","v":""}]
[null,null,"",{"$f":"IFERROR(INDEX(CALC_BASE!$N$3:$N$52,MATCH(ROW()-7,CALC_BASE!$M$3:$M$52,0)),\"\")","v":""},{"$f":"IFERROR(INDEX(CALC_BASE!$O$3:$O$52,MATCH(ROW()-7,CALC_BASE!$M$3:$M$52,0)),\"\")","v":""},{"$f":"IFERROR(INDEX(CALC_BASE!$P$3:$P$52,MATCH(ROW()-7,CALC_BASE!$M$3:$M$52,0)),\"\")","v":""},{"$f":"IFERROR(IF(D795=\"\",\"\",INDEX(tb_vendas[Preço de Venda],MATCH(D795,tb_vendas[N° Pedido/Empresa],0))/F795),\"\")","v":""},{"$f":"IFERROR(IF(D795=\"\",\"\",INDEX(tb_vendas[Data Fechamento],MATCH(D795,tb_vendas[N° Pedido/Empresa],0))+E795*INDEX(tb_formas_pagamento[Dias_Intervalo],MATCH(INDEX(tb_vendas[Forma_Pagamento],MATCH(D795,tb_vendas[N° Pedido/Empresa],0)),tb_formas_pagamento[Nome_Forma],0))),\"\")","v":""},null,{"$f":"IF(OR(tb_pagamentos[[#This Row],[Data_Vencimento]]=\"\",tb_pagamentos[[#This Row],[Valor_Parcela]]=\"\",tb_pagamentos[[#This Row],[Qtd_Total_Parcelas]]=\"\",tb_pagamentos[[#This Row],[Nr_Pedido]]=\"\"),\"\",IF(tb_pagamentos[[#This Row],[Data_Pagamento]]<>\"\",\"Pago\",IF(AND(tb_pagamentos[[#This Row],[Data_Pagamento]]=\"\",tb_pagamentos[[#This Row],[Data_Vencimento]]<TODAY()),\"Em Atraso\",\"A vencer\")))","v":""}]
[null,null,"",{"$f":"IFERROR(INDEX(CALC_BASE!$N$3:$N$52,MATCH(ROW()-7,CALC_BASE!$M$3:$M$52,0)),\"\")","v":""},{"$f":"IFERROR(INDEX(CALC_BASE!$O$3:$O$52,MATCH(ROW()-7,CALC_BASE!$M$3:$M$52,0)),\"\")","v":""},{"$f":"IFERROR(INDEX(CALC_BASE!$P$3:$P$52,MATCH(ROW()-7,CALC_BASE!$M$3:$M$52,0)),\"\")","v":""},{"$f":"IFERROR(IF(D796=\"\",\"\",INDEX(tb_vendas[Preço de Venda],MATCH(D796,tb_vendas[N° Pedido/Empresa],0))/F796),\"\")","v":""},{"$f":"IFERROR(IF(D796=\"\",\"\",INDEX(tb_vendas[Data Fechamento],MATCH(D796,tb_vendas[N° Pedido/Empresa],0))+E796*INDEX(tb_formas_pagamento[Dias_Intervalo],MATCH(INDEX(tb_vendas[Forma_Pagamento],MATCH(D796,tb_vendas[N° Pedido/Empresa],0)),tb_formas_pagamento[Nome_Forma],0))),\"\")","v":""},null,{"$f":"IF(OR(tb_pagamentos[[#This Row],[Data_Vencimento]]=\"\",tb_pagamentos[[#This Row],[Valor_Parcela]]=\"\",tb_pagamentos[[#This Row],[Qtd_Total_Parcelas]]=\"\",tb_pagamentos[[#This Row],[Nr_Pedido]]=\"\"),\"\",IF(tb_pagamentos[[#This Row],[Data_Pagamento]]<>\"\",\"Pago\",IF(AND(tb_pagamentos[[#This Row],[Data_Pagamento]]=\"\",tb_pagamentos[[#This Row],[Data_Vencimento]]<TODAY()),\"Em Atraso\",\"A vencer\")))","v":""}]
[null,null,"",{"$f":"IFERROR(INDEX(CALC_BASE!$N$3:$N$52,MATCH(ROW()-7,CALC_BASE!$M$3:$M$52,0)),\"\")","v":""},{"$f":"IFERROR(INDEX(CALC_BASE!$O$3:$O$52,MATCH(ROW()-7,CALC_BASE!$M$3:$M$52,0)),\"\")","v":""},{"$f":"IFERROR(INDEX(CALC_BASE!$P$3:$P$52,MATCH(ROW()-7,CALC_BASE!$M$3:$M$52,0)),\"\")","v":""},{"$f":"IFERROR(IF(D797=\"\",\"\",INDEX(tb_vendas[Preço de Venda],MATCH(D797,tb_vendas[N° Pedido/Empresa],0))/F797),\"\")","v":""},{"$f":"IFERROR(IF(D797=\"\",\"\",INDEX(tb_vendas[Data Fechamento],MATCH(D797,tb_vendas[N° Pedido/Empresa],0))+E797*INDEX(tb_formas_pagamento[Dias_Intervalo],MATCH(INDEX(tb_vendas[Forma_Pagamento],MATCH(D797,tb_vendas[N° Pedido/Empresa],0)),tb_formas_pagamento[Nome_Forma],0))),\"\")","v":""},null,{"$f":"IF(OR(tb_pagamentos[[#This Row],[Data_Vencimento]]=\"\",tb_pagamentos[[#This Row],[Valor_Parcela]]=\"\",tb_pagamentos[[#This Row],[Qtd_Total_Parcelas]]=\"\",tb_pagamentos[[#This Row],[Nr_Pedido]]=\"\"),\"\",IF(tb_pagamentos[[#This Row],[Data_Pagamento]]<>\"\",\"Pago\",IF(AND(tb_pagamentos[[#This Row],[Data_Pagamento]]=\"\",tb_pagamentos[[#This Row],[Data_Vencimento]]<TODAY()),\"Em Atraso\",\"A vencer\")))","v":""}]
[null,null,"",{"$f":"IFERROR(INDEX(CALC_BASE!$N$3:$N$52,MATCH(ROW()-7,CALC_BASE!$M$3:$M$52,0)),\"\")","v":""},{"$f":"IFERROR(INDEX(CALC_BASE!$O$3:$O$52,MATCH(ROW()-7,CALC_BASE!$M$3:$M$52,0)),\"\")","v":""},{"$f":"IFERROR(INDEX(CALC_BASE!$P$3:$P$52,MATCH(ROW()-7,CALC_BASE!$M$3:$M$52,0)),\"\")","v":""},{"$f":"IFERROR(IF(D798=\"\",\"\",INDEX(tb_vendas[Preço de Venda],MATCH(D798,tb_vendas[N° Pedido/Empresa],0))/F798),\"\")","v":""},{"$f":"IFERROR(IF(D798=\"\",\"\",INDEX(tb_vendas[Data Fechamento],MATCH(D798,tb_vendas[N° Pedido/Empresa],0))+E798*INDEX(tb_formas_pagamento[Dias_Intervalo],MATCH(INDEX(tb_vendas[Forma_Pagamento],MATCH(D798,tb_vendas[N° Pedido/Empresa],0)),tb_formas_pagamento[Nome_Forma],0))),\"\")","v":""},null,{"$f":"IF(OR(tb_pagamentos[[#This Row],[Data_Vencimento]]=\"\",tb_pagamentos[[#This Row],[Valor_Parcela]]=\"\",tb_pagamentos[[#This Row],[Qtd_Total_Parcelas]]=\"\",tb_pagamentos[[#This Row],[Nr_Pedido]]=\"\"),\"\",IF(tb_pagamentos[[#This Row],[Data_Pagamento]]<>\"\",\"Pago\",IF(AND(tb_pagamentos[[#This Row],[Data_Pagamento]]=\"\",tb_pagamentos[[#This Row],[Data_Vencimento]]<TODAY()),\"Em Atraso\",\"A vencer\")))","v":""}]
[null,null,"",{"$f":"IFERROR(INDEX(CALC_BASE!$N$3:$N$52,MATCH(ROW()-7,CALC_BASE!$M$3:$M$52,0)),\"\")","v":""},{"$f":"IFERROR(INDEX(CALC_BASE!$O$3:$O$52,MATCH(ROW()-7,CALC_BASE!$M$3:$M$52,0)),\"\")","v":""},{"$f":"IFERROR(INDEX(CALC_BASE!$P$3:$P$52,MATCH(ROW()-7,CALC_BASE!$M$3:$M$52,0)),\"\")","v":""},{"$f":"IFERROR(IF(D799=\"\",\"\",INDEX(tb_vendas[Preço de Venda],MATCH(D799,tb_vendas[N° Pedido/Empresa],0))/F799),\"\")","v":""},{"$f":"IFERROR(IF(D799=\"\",\"\",INDEX(tb_vendas[Data Fechamento],MATCH(D799,tb_vendas[N° Pedido/Empresa],0))+E799*INDEX(tb_formas_pagamento[Dias_Intervalo],MATCH(INDEX(tb_vendas[Forma_Pagamento],MATCH(D799,tb_vendas[N° Pedido/Empresa],0)),tb_formas_pagamento[Nome_Forma],0))),\"\")","v":""},null,{"$f":"IF(OR(tb_pagamentos[[#This Row],[Data_Vencimento]]=\"\",tb_pagamentos[[#This Row],[Valor_Parcela]]=\"\",tb_pagamentos[[#This Row],[Qtd_Total_Parcelas]]=\"\",tb_pagamentos[[#This Row],[Nr_Pedido]]=\"\"),\"\",IF(tb_pagamentos[[#This Row],[Data_Pagamento]]<>\"\",\"Pago\",IF(AND(tb_pagamentos[[#This Row],[Data_Pagamento]]=\"\",tb_pagamentos[[#This Row],[Data_Vencimento]]<TODAY()),\"Em Atraso\",\"A vencer\")))","v":""}]
[null,null,"",{"$f":"IFERROR(INDEX(CALC_BASE!$N$3:$N$52,MATCH(ROW()-7,CALC_BASE!$M$3:$M$52,0)),\"\")","v":""},{"$f":"IFERROR(INDEX(CALC_BASE!$O$3:$O$52,MATCH(ROW()-7,CALC_BASE!$M$3:$M$52,0)),\"\")","v":""},{"$f":"IFERROR(INDEX(CALC_BASE!$P$3:$P$52,MATCH(ROW()-7,CALC_BASE!$M$3:$M$52,0)),\"\")","v":""},{"$f":"IFERROR(IF(D800=\"\",\"\",INDEX(tb_vendas[Preço de Venda],MATCH(D800,tb_vendas[N° Pedido/Empresa],0))/F800),\"\")","v":""},{"$f":"IFERROR(IF(D800=\"\",\"\",INDEX(tb_vendas[Data Fechamento],MATCH(D800,tb_vendas[N° Pedido/Empresa],0))+E800*INDEX(tb_formas_pagamento[Dias_Intervalo],MATCH(INDEX(tb_vendas[Forma_Pagamento],MATCH(D800,tb_vendas[N° Pedido/Empresa],0)),tb_formas_pagamento[Nome_Forma],0))),\"\")","v":""},null,{"$f":"IF(OR(tb_pagamentos[[#This Row],[Data_Vencimento]]=\"\",tb_pagamentos[[#This Row],[Valor_Parcela]]=\"\",tb_pagamentos[[#This Row],[Qtd_Total_Parcelas]]=\"\",tb_pagamentos[[#This Row],[Nr_Pedido]]=\"\"),\"\",IF(tb_pagamentos[[#This Row],[Data_Pagamento]]<>\"\",\"Pago\",IF(AND(tb_pagamentos[[#This Row],[Data_Pagamento]]=\"\",tb_pagamentos[[#This Row],[Data_Vencimento]]<TODAY()),\"Em Atraso\",\"A vencer\")))","v":""}]
[null,null,"",{"$f":"IFERROR(INDEX(CALC_BASE!$N$3:$N$52,MATCH(ROW()-7,CALC_BASE!$M$3:$M$52,0)),\"\")","v":""},{"$f":"IFERROR(INDEX(CALC_BASE!$O$3:$O$52,MATCH(ROW()-7,CALC_BASE!$M$3:$M$52,0)),\"\")","v":""},{"$f":"IFERROR(INDEX(CALC_BASE!$P$3:$P$52,MATCH(ROW()-7,CALC_BASE!$M$3:$M$52,0)),\"\")","v":""},{"$f":"IFERROR(IF(D801=\"\",\"\",INDEX(tb_vendas[Preço de Venda],MATCH(D801,tb_vendas[N° Pedido/Empresa],0))/F801),\"\")","v":""},{"$f":"IFERROR(IF(D801=\"\",\"\",INDEX(tb_vendas[Data Fechamento],MATCH(D801,tb_vendas[N° Pedido/Empresa],0))+E801*INDEX(tb_formas_pagamento[Dias_Intervalo],MATCH(INDEX(tb_vendas[Forma_Pagamento],MATCH(D801,tb_vendas[N° Pedido/Empresa],0)),tb_formas_pagamento[Nome_Forma],0))),\"\")","v":""},null,{"$f":"IF(OR(tb_pagamentos[[#This Row],[Data_Vencimento]]=\"\",tb_pagamentos[[#This Row],[Valor_Parcela]]=\"\",tb_pagamentos[[#This Row],[Qtd_Total_Parcelas]]=\"\",tb_pagamentos[[#This Row],[Nr_Pedido]]=\"\"),\"\",IF(tb_pagamentos[[#This Row],[Data_Pagamento]]<>\"\",\"Pago\",IF(AND(tb_pagamentos[[#This Row],[Data_Pagamento]]=\"\",tb_pagamentos[[#This Row],[Data_Vencimento]]<TODAY()),\"Em Atraso\",\"A vencer\")))","v":""}]
[null,null,"",{"$f":"IFERROR(INDEX(CALC_BASE!$N$3:$N$52,MATCH(ROW()-7,CALC_BASE!$M$3:$M$52,0)),\"\")","v":""},{"$f":"IFERROR(INDEX(CALC_BASE!$O$3:$O$52,MATCH(ROW()-7,CALC_BASE!$M$3:$M$52,0)),\"\")","v":""},{"$f":"IFERROR(INDEX(CALC_BASE!$P$3:$P$52,MATCH(ROW()-7,CALC_BASE!$M$3:$M$52,0)),\"\")","v":""},{"$f":"IFERROR(IF(D802=\"\",\"\",INDEX(tb_vendas[Preço de Venda],MATCH(D802,tb_vendas[N° Pedido/Empresa],0))/F802),\"\")","v":""},{"$f":"IFERROR(IF(D802=\"\",\"\",INDEX(tb_vendas[Data Fechamento],MATCH(D802,tb_vendas[N° Pedido/Empresa],0))+E802*INDEX(tb_formas_pagamento[Dias_Intervalo],MATCH(INDEX(tb_vendas[Forma_Pagamento],MATCH(D802,tb_vendas[N° Pedido/Empresa],0)),tb_formas_pagamento[Nome_Forma],0))),\"\")","v":""},null,{"$f":"IF(OR(tb_pagamentos[[#This Row],[Data_Vencimento]]=\"\",tb_pagamentos[[#This Row],[Valor_Parcela]]=\"\",tb_pagamentos[[#This Row],[Qtd_Total_Parcelas]]=\"\",tb_pagamentos[[#This Row],[Nr_Pedido]]=\"\"),\"\",IF(tb_pagamentos[[#This Row],[Data_Pagamento]]<>\"\",\"Pago\",IF(AND(tb_pagamentos[[#This Row],[Data_Pagamento]]=\"\",tb_pagamentos[[#This Row],[Data_Vencimento]]<TODAY()),\"Em Atraso\",\"A vencer\")))","v":""}]
[null,null,"",{"$f":"IFERROR(INDEX(CALC_BASE!$N$3:$N$52,MATCH(ROW()-7,CALC_BASE!$M$3:$M$52,0)),\"\")","v":""},{"$f":"IFERROR(INDEX(CALC_BASE!$O$3:$O$52,MATCH(ROW()-7,CALC_BASE!$M$3:$M$52,0)),\"\")","v":""},{"$f":"IFERROR(INDEX(CALC_BASE!$P$3:$P$52,MATCH(ROW()-7,CALC_BASE!$M$3:$M$52,0)),\"\")","v":""},{"$f":"IFERROR(IF(D803=\"\",\"\",INDEX(tb_vendas[Preço de Venda],MATCH(D803,tb_vendas[N° Pedido/Empresa],0))/F803),\"\")","v":""},{"$f":"IFERROR(IF(D803=\"\",\"\",INDEX(tb_vendas[Data Fechamento],MATCH(D803,tb_vendas[N° Pedido/Empresa],0))+E803*INDEX(tb_formas_pagamento[Dias_Intervalo],MATCH(INDEX(tb_vendas[Forma_Pagamento],MATCH(D803,tb_vendas[N° Pedido/Empresa],0)),tb_formas_pagamento[Nome_Forma],0))),\"\")","v":""},null,{"$f":"IF(OR(tb_pagamentos[[#This Row],[Data_Vencimento]]=\"\",tb_pagamentos[[#This Row],[Valor_Parcela]]=\"\",tb_pagamentos[[#This Row],[Qtd_Total_Parcelas]]=\"\",tb_pagamentos[[#This Row],[Nr_Pedido]]=\"\"),\"\",IF(tb_pagamentos[[#This Row],[Data_Pagamento]]<>\"\",\"Pago\",IF(AND(tb_pagamentos[[#This Row],[Data_Pagamento]]=\"\",tb_pagamentos[[#This Row],[Data_Vencimento]]<TODAY()),\"Em Atraso\",\"A vencer\")))","v":""}]
[null,null,"",{"$f":"IFERROR(INDEX(CALC_BASE!$N$3:$N$52,MATCH(ROW()-7,CALC_BASE!$M$3:$M$52,0)),\"\")","v":""},{"$f":"IFERROR(INDEX(CALC_BASE!$O$3:$O$52,MATCH(ROW()-7,CALC_BASE!$M$3:$M$52,0)),\"\")","v":""},{"$f":"IFERROR(INDEX(CALC_BASE!$P$3:$P$52,MATCH(ROW()-7,CALC_BASE!$M$3:$M$52,0)),\"\")","v":""},{"$f":"IFERROR(IF(D804=\"\",\"\",INDEX(tb_vendas[Preço de Venda],MATCH(D804,tb_vendas[N° Pedido/Empresa],0))/F804),\"\")","v":""},{"$f":"IFERROR(IF(D804=\"\",\"\",INDEX(tb_vendas[Data Fechamento],MATCH(D804,tb_vendas[N° Pedido/Empresa],0))+E804*INDEX(tb_formas_pagamento[Dias_Intervalo],MATCH(INDEX(tb_vendas[Forma_Pagamento],MATCH(D804,tb_vendas[N° Pedido/Empresa],0)),tb_formas_pagamento[Nome_Forma],0))),\"\")","v":""},null,{"$f":"IF(OR(tb_pagamentos[[#This Row],[Data_Vencimento]]=\"\",tb_pagamentos[[#This Row],[Valor_Parcela]]=\"\",tb_pagamentos[[#This Row],[Qtd_Total_Parcelas]]=\"\",tb_pagamentos[[#This Row],[Nr_Pedido]]=\"\"),\"\",IF(tb_pagamentos[[#This Row],[Data_Pagamento]]<>\"\",\"Pago\",IF(AND(tb_pagamentos[[#This Row],[Data_Pagamento]]=\"\",tb_pagamentos[[#This Row],[Data_Vencimento]]<TODAY()),\"Em Atraso\",\"A vencer\")))","v":""}]
[null,null,"",{"$f":"IFERROR(INDEX(CALC_BASE!$N$3:$N$52,MATCH(ROW()-7,CALC_BASE!$M$3:$M$52,0)),\"\")","v":""},{"$f":"IFERROR(INDEX(CALC_BASE!$O$3:$O$52,MATCH(ROW()-7,CALC_BASE!$M$3:$M$52,0)),\"\")","v":""},{"$f":"IFERROR(INDEX(CALC_BASE!$P$3:$P$52,MATCH(ROW()-7,CALC_BASE!$M$3:$M$52,0)),\"\")","v":""},{"$f":"IFERROR(IF(D805=\"\",\"\",INDEX(tb_vendas[Preço de Venda],MATCH(D805,tb_vendas[N° Pedido/Empresa],0))/F805),\"\")","v":""},{"$f":"IFERROR(IF(D805=\"\",\"\",INDEX(tb_vendas[Data Fechamento],MATCH(D805,tb_vendas[N° Pedido/Empresa],0))+E805*INDEX(tb_formas_pagamento[Dias_Intervalo],MATCH(INDEX(tb_vendas[Forma_Pagamento],MATCH(D805,tb_vendas[N° Pedido/Empresa],0)),tb_formas_pagamento[Nome_Forma],0))),\"\")","v":""},null,{"$f":"IF(OR(tb_pagamentos[[#This Row],[Data_Vencimento]]=\"\",tb_pagamentos[[#This Row],[Valor_Parcela]]=\"\",tb_pagamentos[[#This Row],[Qtd_Total_Parcelas]]=\"\",tb_pagamentos[[#This Row],[Nr_Pedido]]=\"\"),\"\",IF(tb_pagamentos[[#This Row],[Data_Pagamento]]<>\"\",\"Pago\",IF(AND(tb_pagamentos[[#This Row],[Data_Pagamento]]=\"\",tb_pagamentos[[#This Row],[Data_Vencimento]]<TODAY()),\"Em Atraso\",\"A vencer\")))","v":""}]
[null,null,"",{"$f":"IFERROR(INDEX(CALC_BASE!$N$3:$N$52,MATCH(ROW()-7,CALC_BASE!$M$3:$M$52,0)),\"\")","v":""},{"$f":"IFERROR(INDEX(CALC_BASE!$O$3:$O$52,MATCH(ROW()-7,CALC_BASE!$M$3:$M$52,0)),\"\")","v":""},{"$f":"IFERROR(INDEX(CALC_BASE!$P$3:$P$52,MATCH(ROW()-7,CALC_BASE!$M$3:$M$52,0)),\"\")","v":""},{"$f":"IFERROR(IF(D806=\"\",\"\",INDEX(tb_vendas[Preço de Venda],MATCH(D806,tb_vendas[N° Pedido/Empresa],0))/F806),\"\")","v":""},{"$f":"IFERROR(IF(D806=\"\",\"\",INDEX(tb_vendas[Data Fechamento],MATCH(D806,tb_vendas[N° Pedido/Empresa],0))+E806*INDEX(tb_formas_pagamento[Dias_Intervalo],MATCH(INDEX(tb_vendas[Forma_Pagamento],MATCH(D806,tb_vendas[N° Pedido/Empresa],0)),tb_formas_pagamento[Nome_Forma],0))),\"\")","v":""},null,{"$f":"IF(OR(tb_pagamentos[[#This Row],[Data_Vencimento]]=\"\",tb_pagamentos[[#This Row],[Valor_Parcela]]=\"\",tb_pagamentos[[#This Row],[Qtd_Total_Parcelas]]=\"\",tb_pagamentos[[#This Row],[Nr_Pedido]]=\"\"),\"\",IF(tb_pagamentos[[#This Row],[Data_Pagamento]]<>\"\",\"Pago\",IF(AND(tb_pagamentos[[#This Row],[Data_Pagamento]]=\"\",tb_pagamentos[[#This Row],[Data_Vencimento]]<TODAY()),\"Em Atraso\",\"A vencer\")))","v":""}]
[null,null,"",{"$f":"IFERROR(INDEX(CALC_BASE!$N$3:$N$52,MATCH(ROW()-7,CALC_BASE!$M$3:$M$52,0)),\"\")","v":""},{"$f":"IFERROR(INDEX(CALC_BASE!$O$3:$O$52,MATCH(ROW()-7,CALC_BASE!$M$3:$M$52,0)),\"\")","v":""},{"$f":"IFERROR(INDEX(CALC_BASE!$P$3:$P$52,MATCH(ROW()-7,CALC_BASE!$M$3:$M$52,0)),\"\")","v":""},{"$f":"IFERROR(IF(D807=\"\",\"\",INDEX(tb_vendas[Preço de Venda],MATCH(D807,tb_vendas[N° Pedido/Empresa],0))/F807),\"\")","v":""},{"$f":"IFERROR(IF(D807=\"\",\"\",INDEX(tb_vendas[Data Fechamento],MATCH(D807,tb_vendas[N° Pedido/Empresa],0))+E807*INDEX(tb_formas_pagamento[Dias_Intervalo],MATCH(INDEX(tb_vendas[Forma_Pagamento],MATCH(D807,tb_vendas[N° Pedido/Empresa],0)),tb_formas_pagamento[Nome_Forma],0))),\"\")","v":""},null,{"$f":"IF(OR(tb_pagamentos[[#This Row],[Data_Vencimento]]=\"\",tb_pagamentos[[#This Row],[Valor_Parcela]]=\"\",tb_pagamentos[[#This Row],[Qtd_Total_Parcelas]]=\"\",tb_pagamentos[[#This Row],[Nr_Pedido]]=\"\"),\"\",IF(tb_pagamentos[[#This Row],[Data_Pagamento]]<>\"\",\"Pago\",IF(AND(tb_pagamentos[[#This Row],[Data_Pagamento]]=\"\",tb_pagamentos[[#This Row],[Data_Vencimento]]<TODAY()),\"Em Atraso\",\"A vencer\")))","v":""}]
[null,null,"",{"$f":"IFERROR(INDEX(CALC_BASE!$N$3:$N$52,MATCH(ROW()-7,CALC_BASE!$M$3:$M$52,0)),\"\")","v":""},{"$f":"IFERROR(INDEX(CALC_BASE!$O$3:$O$52,MATCH(ROW()-7,CALC_BASE!$M$3:$M$52,0)),\"\")","v":""},{"$f":"IFERROR(INDEX(CALC_BASE!$P$3:$P$52,MATCH(ROW()-7,CALC_BASE!$M$3:$M$52,0)),\"\")","v":""},{"$f":"IFERROR(IF(D808=\"\",\"\",INDEX(tb_vendas[Preço de Venda],MATCH(D808,tb_vendas[N° Pedido/Empresa],0))/F808),\"\")","v":""},{"$f":"IFERROR(IF(D808=\"\",\"\",INDEX(tb_vendas[Data Fechamento],MATCH(D808,tb_vendas[N° Pedido/Empresa],0))+E808*INDEX(tb_formas_pagamento[Dias_Intervalo],MATCH(INDEX(tb_vendas[Forma_Pagamento],MATCH(D808,tb_vendas[N° Pedido/Empresa],0)),tb_formas_pagamento[Nome_Forma],0))),\"\")","v":""},null,{"$f":"IF(OR(tb_pagamentos[[#This Row],[Data_Vencimento]]=\"\",tb_pagamentos[[#This Row],[Valor_Parcela]]=\"\",tb_pagamentos[[#This Row],[Qtd_Total_Parcelas]]=\"\",tb_pagamentos[[#This Row],[Nr_Pedido]]=\"\"),\"\",IF(tb_pagamentos[[#This Row],[Data_Pagamento]]<>\"\",\"Pago\",IF(AND(tb_pagamentos[[#This Row],[Data_Pagamento]]=\"\",tb_pagamentos[[#This Row],[Data_Vencimento]]<TODAY()),\"Em Atraso\",\"A vencer\")))","v":""}]
[null,null,"",{"$f":"IFERROR(INDEX(CALC_BASE!$N$3:$N$52,MATCH(ROW()-7,CALC_BASE!$M$3:$M$52,0)),\"\")","v":""},{"$f":"IFERROR(INDEX(CALC_BASE!$O$3:$O$52,MATCH(ROW()-7,CALC_BASE!$M$3:$M$52,0)),\"\")","v":""},{"$f":"IFERROR(INDEX(CALC_BASE!$P$3:$P$52,MATCH(ROW()-7,CALC_BASE!$M$3:$M$52,0)),\"\")","v":""},{"$f":"IFERROR(IF(D809=\"\",\"\",INDEX(tb_vendas[Preço de Venda],MATCH(D809,tb_vendas[N° Pedido/Empresa],0))/F809),\"\")","v":""},{"$f":"IFERROR(IF(D809=\"\",\"\",INDEX(tb_vendas[Data Fechamento],MATCH(D809,tb_vendas[N° Pedido/Empresa],0))+E809*INDEX(tb_formas_pagamento[Dias_Intervalo],MATCH(INDEX(tb_vendas[Forma_Pagamento],MATCH(D809,tb_vendas[N° Pedido/Empresa],0)),tb_formas_pagamento[Nome_Forma],0))),\"\")","v":""},null,{"$f":"IF(OR(tb_pagamentos[[#This Row],[Data_Vencimento]]=\"\",tb_pagamentos[[#This Row],[Valor_Parcela]]=\"\",tb_pagamentos[[#This Row],[Qtd_Total_Parcelas]]=\"\",tb_pagamentos[[#This Row],[Nr_Pedido]]=\"\"),\"\",IF(tb_pagamentos[[#This Row],[Data_Pagamento]]<>\"\",\"Pago\",IF(AND(tb_pagamentos[[#This Row],[Data_Pagamento]]=\"\",tb_pagamentos[[#This Row],[Data_Vencimento]]<TODAY()),\"Em Atraso\",\"A vencer\")))","v":""}]
[null,null,"",{"$f":"IFERROR(INDEX(CALC_BASE!$N$3:$N$52,MATCH(ROW()-7,CALC_BASE!$M$3:$M$52,0)),\"\")","v":""},{"$f":"IFERROR(INDEX(CALC_BASE!$O$3:$O$52,MATCH(ROW()-7,CALC_BASE!$M$3:$M$52,0)),\"\")","v":""},{"$f":"IFERROR(INDEX(CALC_BASE!$P$3:$P$52,MATCH(ROW()-7,CALC_BASE!$M$3:$M$52,0)),\"\")","v":""},{"$f":"IFERROR(IF(D810=\"\",\"\",INDEX(tb_vendas[Preço de Venda],MATCH(D810,tb_vendas[N° Pedido/Empresa],0))/F810),\"\")","v":""},{"$f":"IFERROR(IF(D810=\"\",\"\",INDEX(tb_vendas[Data Fechamento],MATCH(D810,tb_vendas[N° Pedido/Empresa],0))+E810*INDEX(tb_formas_pagamento[Dias_Intervalo],MATCH(INDEX(tb_vendas[Forma_Pagamento],MATCH(D810,tb_vendas[N° Pedido/Empresa],0)),tb_formas_pagamento[Nome_Forma],0))),\"\")","v":""},null,{"$f":"IF(OR(tb_pagamentos[[#This Row],[Data_Vencimento]]=\"\",tb_pagamentos[[#This Row],[Valor_Parcela]]=\"\",tb_pagamentos[[#This Row],[Qtd_Total_Parcelas]]=\"\",tb_pagamentos[[#This Row],[Nr_Pedido]]=\"\"),\"\",IF(tb_pagamentos[[#This Row],[Data_Pagamento]]<>\"\",\"Pago\",IF(AND(tb_pagamentos[[#This Row],[Data_Pagamento]]=\"\",tb_pagamentos[[#This Row],[Data_Vencimento]]<TODAY()),\"Em Atraso\",\"A vencer\")))","v":""}]
[null,null,"",{"$f":"IFERROR(INDEX(CALC_BASE!$N$3:$N$52,MATCH(ROW()-7,CALC_BASE!$M$3:$M$52,0)),\"\")","v":""},{"$f":"IFERROR(INDEX(CALC_BASE!$O$3:$O$52,MATCH(ROW()-7,CALC_BASE!$M$3:$M$52,0)),\"\")","v":""},{"$f":"IFERROR(INDEX(CALC_BASE!$P$3:$P$52,MATCH(ROW()-7,CALC_BASE!$M$3:$M$52,0)),\"\")","v":""},{"$f":"IFERROR(IF(D811=\"\",\"\",INDEX(tb_vendas[Preço de Venda],MATCH(D811,tb_vendas[N° Pedido/Empresa],0))/F811),\"\")","v":""},{"$f":"IFERROR(IF(D811=\"\",\"\",INDEX(tb_vendas[Data Fechamento],MATCH(D811,tb_vendas[N° Pedido/Empresa],0))+E811*INDEX(tb_formas_pagamento[Dias_Intervalo],MATCH(INDEX(tb_vendas[Forma_Pagamento],MATCH(D811,tb_vendas[N° Pedido/Empresa],0)),tb_formas_pagamento[Nome_Forma],0))),\"\")","v":""},null,{"$f":"IF(OR(tb_pagamentos[[#This Row],[Data_Vencimento]]=\"\",tb_pagamentos[[#This Row],[Valor_Parcela]]=\"\",tb_pagamentos[[#This Row],[Qtd_Total_Parcelas]]=\"\",tb_pagamentos[[#This Row],[Nr_Pedido]]=\"\"),\"\",IF(tb_pagamentos[[#This Row],[Data_Pagamento]]<>\"\",\"Pago\",IF(AND(tb_pagamentos[[#This Row],[Data_Pagamento]]=\"\",tb_pagamentos[[#This Row],[Data_Vencimento]]<TODAY()),\"Em Atraso\",\"A vencer\")))","v":""}]
[null,null,"",{"$f":"IFERROR(INDEX(CALC_BASE!$N$3:$N$52,MATCH(ROW()-7,CALC_BASE!$M$3:$M$52,0)),\"\")","v":""},{"$f":"IFERROR(INDEX(CALC_BASE!$O$3:$O$52,MATCH(ROW()-7,CALC_BASE!$M$3:$M$52,0)),\"\")","v":""},{"$f":"IFERROR(INDEX(CALC_BASE!$P$3:$P$52,MATCH(ROW()-7,CALC_BASE!$M$3:$M$52,0)),\"\")","v":""},{"$f":"IFERROR(IF(D812=\"\",\"\",INDEX(tb_vendas[Preço de Venda],MATCH(D812,tb_vendas[N° Pedido/Empresa],0))/F812),\"\")","v":""},{"$f":"IFERROR(IF(D812=\"\",\"\",INDEX(tb_vendas[Data Fechamento],MATCH(D812,tb_vendas[N° Pedido/Empresa],0))+E812*INDEX(tb_formas_pagamento[Dias_Intervalo],MATCH(INDEX(tb_vendas[Forma_Pagamento],MATCH(D812,tb_vendas[N° Pedido/Empresa],0)),tb_formas_pagamento[Nome_Forma],0))),\"\")","v":""},null,{"$f":"IF(OR(tb_pagamentos[[#This Row],[Data_Vencimento]]=\"\",tb_pagamentos[[#This Row],[Valor_Parcela]]=\"\",tb_pagamentos[[#This Row],[Qtd_Total_Parcelas]]=\"\",tb_pagamentos[[#This Row],[Nr_Pedido]]=\"\"),\"\",IF(tb_pagamentos[[#This Row],[Data_Pagamento]]<>\"\",\"Pago\",IF(AND(tb_pagamentos[[#This Row],[Data_Pagamento]]=\"\",tb_pagamentos[[#This Row],[Data_Vencimento]]<TODAY()),\"Em Atraso\",\"A vencer\")))","v":""}]
[null,null,"",{"$f":"IFERROR(INDEX(CALC_BASE!$N$3:$N$52,MATCH(ROW()-7,CALC_BASE!$M$3:$M$52,0)),\"\")","v":""},{"$f":"IFERROR(INDEX(CALC_BASE!$O$3:$O$52,MATCH(ROW()-7,CALC_BASE!$M$3:$M$52,0)),\"\")","v":""},{"$f":"IFERROR(INDEX(CALC_BASE!$P$3:$P$52,MATCH(ROW()-7,CALC_BASE!$M$3:$M$52,0)),\"\")","v":""},{"$f":"IFERROR(IF(D813=\"\",\"\",INDEX(tb_vendas[Preço de Venda],MATCH(D813,tb_vendas[N° Pedido/Empresa],0))/F813),\"\")","v":""},{"$f":"IFERROR(IF(D813=\"\",\"\",INDEX(tb_vendas[Data Fechamento],MATCH(D813,tb_vendas[N° Pedido/Empresa],0))+E813*INDEX(tb_formas_pagamento[Dias_Intervalo],MATCH(INDEX(tb_vendas[Forma_Pagamento],MATCH(D813,tb_vendas[N° Pedido/Empresa],0)),tb_formas_pagamento[Nome_Forma],0))),\"\")","v":""},null,{"$f":"IF(OR(tb_pagamentos[[#This Row],[Data_Vencimento]]=\"\",tb_pagamentos[[#This Row],[Valor_Parcela]]=\"\",tb_pagamentos[[#This Row],[Qtd_Total_Parcelas]]=\"\",tb_pagamentos[[#This Row],[Nr_Pedido]]=\"\"),\"\",IF(tb_pagamentos[[#This Row],[Data_Pagamento]]<>\"\",\"Pago\",IF(AND(tb_pagamentos[[#This Row],[Data_Pagamento]]=\"\",tb_pagamentos[[#This Row],[Data_Vencimento]]<TODAY()),\"Em Atraso\",\"A vencer\")))","v":""}]
[null,null,"",{"$f":"IFERROR(INDEX(CALC_BASE!$N$3:$N$52,MATCH(ROW()-7,CALC_BASE!$M$3:$M$52,0)),\"\")","v":""},{"$f":"IFERROR(INDEX(CALC_BASE!$O$3:$O$52,MATCH(ROW()-7,CALC_BASE!$M$3:$M$52,0)),\"\")","v":""},{"$f":"IFERROR(INDEX(CALC_BASE!$P$3:$P$52,MATCH(ROW()-7,CALC_BASE!$M$3:$M$52,0)),\"\")","v":""},{"$f":"IFERROR(IF(D814=\"\",\"\",INDEX(tb_vendas[Preço de Venda],MATCH(D814,tb_vendas[N° Pedido/Empresa],0))/F814),\"\")","v":""},{"$f":"IFERROR(IF(D814=\"\",\"\",INDEX(tb_vendas[Data Fechamento],MATCH(D814,tb_vendas[N° Pedido/Empresa],0))+E814*INDEX(tb_formas_pagamento[Dias_Intervalo],MATCH(INDEX(tb_vendas[Forma_Pagamento],MATCH(D814,tb_vendas[N° Pedido/Empresa],0)),tb_formas_pagamento[Nome_Forma],0))),\"\")","v":""},null,{"$f":"IF(OR(tb_pagamentos[[#This Row],[Data_Vencimento]]=\"\",tb_pagamentos[[#This Row],[Valor_Parcela]]=\"\",tb_pagamentos[[#This Row],[Qtd_Total_Parcelas]]=\"\",tb_pagamentos[[#This Row],[Nr_Pedido]]=\"\"),\"\",IF(tb_pagamentos[[#This Row],[Data_Pagamento]]<>\"\",\"Pago\",IF(AND(tb_pagamentos[[#This Row],[Data_Pagamento]]=\"\",tb_pagamentos[[#This Row],[Data_Vencimento]]<TODAY()),\"Em Atraso\",\"A vencer\")))","v":""}]
[null,null,"",{"$f":"IFERROR(INDEX(CALC_BASE!$N$3:$N$52,MATCH(ROW()-7,CALC_BASE!$M$3:$M$52,0)),\"\")","v":""},{"$f":"IFERROR(INDEX(CALC_BASE!$O$3:$O$52,MATCH(ROW()-7,CALC_BASE!$M$3:$M$52,0)),\"\")","v":""},{"$f":"IFERROR(INDEX(CALC_BASE!$P$3:$P$52,MATCH(ROW()-7,CALC_BASE!$M$3:$M$52,0)),\"\")","v":""},{"$f":"IFERROR(IF(D815=\"\",\"\",INDEX(tb_vendas[Preço de Venda],MATCH(D815,tb_vendas[N° Pedido/Empresa],0))/F815),\"\")","v":""},{"$f":"IFERROR(IF(D815=\"\",\"\",INDEX(tb_vendas[Data Fechamento],MATCH(D815,tb_vendas[N° Pedido/Empresa],0))+E815*INDEX(tb_formas_pagamento[Dias_Intervalo],MATCH(INDEX(tb_vendas[Forma_Pagamento],MATCH(D815,tb_vendas[N° Pedido/Empresa],0)),tb_formas_pagamento[Nome_Forma],0))),\"\")","v":""},null,{"$f":"IF(OR(tb_pagamentos[[#This Row],[Data_Vencimento]]=\"\",tb_pagamentos[[#This Row],[Valor_Parcela]]=\"\",tb_pagamentos[[#This Row],[Qtd_Total_Parcelas]]=\"\",tb_pagamentos[[#This Row],[Nr_Pedido]]=\"\"),\"\",IF(tb_pagamentos[[#This Row],[Data_Pagamento]]<>\"\",\"Pago\",IF(AND(tb_pagamentos[[#This Row],[Data_Pagamento]]=\"\",tb_pagamentos[[#This Row],[Data_Vencimento]]<TODAY()),\"Em Atraso\",\"A vencer\")))","v":""}]
[null,null,"",{"$f":"IFERROR(INDEX(CALC_BASE!$N$3:$N$52,MATCH(ROW()-7,CALC_BASE!$M$3:$M$52,0)),\"\")","v":""},{"$f":"IFERROR(INDEX(CALC_BASE!$O$3:$O$52,MATCH(ROW()-7,CALC_BASE!$M$3:$M$52,0)),\"\")","v":""},{"$f":"IFERROR(INDEX(CALC_BASE!$P$3:$P$52,MATCH(ROW()-7,CALC_BASE!$M$3:$M$52,0)),\"\")","v":""},{"$f":"IFERROR(IF(D816=\"\",\"\",INDEX(tb_vendas[Preço de Venda],MATCH(D816,tb_vendas[N° Pedido/Empresa],0))/F816),\"\")","v":""},{"$f":"IFERROR(IF(D816=\"\",\"\",INDEX(tb_vendas[Data Fechamento],MATCH(D816,tb_vendas[N° Pedido/Empresa],0))+E816*INDEX(tb_formas_pagamento[Dias_Intervalo],MATCH(INDEX(tb_vendas[Forma_Pagamento],MATCH(D816,tb_vendas[N° Pedido/Empresa],0)),tb_formas_pagamento[Nome_Forma],0))),\"\")","v":""},null,{"$f":"IF(OR(tb_pagamentos[[#This Row],[Data_Vencimento]]=\"\",tb_pagamentos[[#This Row],[Valor_Parcela]]=\"\",tb_pagamentos[[#This Row],[Qtd_Total_Parcelas]]=\"\",tb_pagamentos[[#This Row],[Nr_Pedido]]=\"\"),\"\",IF(tb_pagamentos[[#This Row],[Data_Pagamento]]<>\"\",\"Pago\",IF(AND(tb_pagamentos[[#This Row],[Data_Pagamento]]=\"\",tb_pagamentos[[#This Row],[Data_Vencimento]]<TODAY()),\"Em Atraso\",\"A vencer\")))","v":""}]
[null,null,"",{"$f":"IFERROR(INDEX(CALC_BASE!$N$3:$N$52,MATCH(ROW()-7,CALC_BASE!$M$3:$M$52,0)),\"\")","v":""},{"$f":"IFERROR(INDEX(CALC_BASE!$O$3:$O$52,MATCH(ROW()-7,CALC_BASE!$M$3:$M$52,0)),\"\")","v":""},{"$f":"IFERROR(INDEX(CALC_BASE!$P$3:$P$52,MATCH(ROW()-7,CALC_BASE!$M$3:$M$52,0)),\"\")","v":""},{"$f":"IFERROR(IF(D817=\"\",\"\",INDEX(tb_vendas[Preço de Venda],MATCH(D817,tb_vendas[N° Pedido/Empresa],0))/F817),\"\")","v":""},{"$f":"IFERROR(IF(D817=\"\",\"\",INDEX(tb_vendas[Data Fechamento],MATCH(D817,tb_vendas[N° Pedido/Empresa],0))+E817*INDEX(tb_formas_pagamento[Dias_Intervalo],MATCH(INDEX(tb_vendas[Forma_Pagamento],MATCH(D817,tb_vendas[N° Pedido/Empresa],0)),tb_formas_pagamento[Nome_Forma],0))),\"\")","v":""},null,{"$f":"IF(OR(tb_pagamentos[[#This Row],[Data_Vencimento]]=\"\",tb_pagamentos[[#This Row],[Valor_Parcela]]=\"\",tb_pagamentos[[#This Row],[Qtd_Total_Parcelas]]=\"\",tb_pagamentos[[#This Row],[Nr_Pedido]]=\"\"),\"\",IF(tb_pagamentos[[#This Row],[Data_Pagamento]]<>\"\",\"Pago\",IF(AND(tb_pagamentos[[#This Row],[Data_Pagamento]]=\"\",tb_pagamentos[[#This Row],[Data_Vencimento]]<TODAY()),\"Em Atraso\",\"A vencer\")))","v":""}]
[null,null,"",{"$f":"IFERROR(INDEX(CALC_BASE!$N$3:$N$52,MATCH(ROW()-7,CALC_BASE!$M$3:$M$52,0)),\"\")","v":""},{"$f":"IFERROR(INDEX(CALC_BASE!$O$3:$O$52,MATCH(ROW()-7,CALC_BASE!$M$3:$M$52,0)),\"\")","v":""},{"$f":"IFERROR(INDEX(CALC_BASE!$P$3:$P$52,MATCH(ROW()-7,CALC_BASE!$M$3:$M$52,0)),\"\")","v":""},{"$f":"IFERROR(IF(D818=\"\",\"\",INDEX(tb_vendas[Preço de Venda],MATCH(D818,tb_vendas[N° Pedido/Empresa],0))/F818),\"\")","v":""},{"$f":"IFERROR(IF(D818=\"\",\"\",INDEX(tb_vendas[Data Fechamento],MATCH(D818,tb_vendas[N° Pedido/Empresa],0))+E818*INDEX(tb_formas_pagamento[Dias_Intervalo],MATCH(INDEX(tb_vendas[Forma_Pagamento],MATCH(D818,tb_vendas[N° Pedido/Empresa],0)),tb_formas_pagamento[Nome_Forma],0))),\"\")","v":""},null,{"$f":"IF(OR(tb_pagamentos[[#This Row],[Data_Vencimento]]=\"\",tb_pagamentos[[#This Row],[Valor_Parcela]]=\"\",tb_pagamentos[[#This Row],[Qtd_Total_Parcelas]]=\"\",tb_pagamentos[[#This Row],[Nr_Pedido]]=\"\"),\"\",IF(tb_pagamentos[[#This Row],[Data_Pagamento]]<>\"\",\"Pago\",IF(AND(tb_pagamentos[[#This Row],[Data_Pagamento]]=\"\",tb_pagamentos[[#This Row],[Data_Vencimento]]<TODAY()),\"Em Atraso\",\"A vencer\")))","v":""}]
[null,null,"",{"$f":"IFERROR(INDEX(CALC_BASE!$N$3:$N$52,MATCH(ROW()-7,CALC_BASE!$M$3:$M$52,0)),\"\")","v":""},{"$f":"IFERROR(INDEX(CALC_BASE!$O$3:$O$52,MATCH(ROW()-7,CALC_BASE!$M$3:$M$52,0)),\"\")","v":""},{"$f":"IFERROR(INDEX(CALC_BASE!$P$3:$P$52,MATCH(ROW()-7,CALC_BASE!$M$3:$M$52,0)),\"\")","v":""},{"$f":"IFERROR(IF(D819=\"\",\"\",INDEX(tb_vendas[Preço de Venda],MATCH(D819,tb_vendas[N° Pedido/Empresa],0))/F819),\"\")","v":""},{"$f":"IFERROR(IF(D819=\"\",\"\",INDEX(tb_vendas[Data Fechamento],MATCH(D819,tb_vendas[N° Pedido/Empresa],0))+E819*INDEX(tb_formas_pagamento[Dias_Intervalo],MATCH(INDEX(tb_vendas[Forma_Pagamento],MATCH(D819,tb_vendas[N° Pedido/Empresa],0)),tb_formas_pagamento[Nome_Forma],0))),\"\")","v":""},null,{"$f":"IF(OR(tb_pagamentos[[#This Row],[Data_Vencimento]]=\"\",tb_pagamentos[[#This Row],[Valor_Parcela]]=\"\",tb_pagamentos[[#This Row],[Qtd_Total_Parcelas]]=\"\",tb_pagamentos[[#This Row],[Nr_Pedido]]=\"\"),\"\",IF(tb_pagamentos[[#This Row],[Data_Pagamento]]<>\"\",\"Pago\",IF(AND(tb_pagamentos[[#This Row],[Data_Pagamento]]=\"\",tb_pagamentos[[#This Row],[Data_Vencimento]]<TODAY()),\"Em Atraso\",\"A vencer\")))","v":""}]
[null,null,"",{"$f":"IFERROR(INDEX(CALC_BASE!$N$3:$N$52,MATCH(ROW()-7,CALC_BASE!$M$3:$M$52,0)),\"\")","v":""},{"$f":"IFERROR(INDEX(CALC_BASE!$O$3:$O$52,MATCH(ROW()-7,CALC_BASE!$M$3:$M$52,0)),\"\")","v":""},{"$f":"IFERROR(INDEX(CALC_BASE!$P$3:$P$52,MATCH(ROW()-7,CALC_BASE!$M$3:$M$52,0)),\"\")","v":""},{"$f":"IFERROR(IF(D820=\"\",\"\",INDEX(tb_vendas[Preço de Venda],MATCH(D820,tb_vendas[N° Pedido/Empresa],0))/F820),\"\")","v":""},{"$f":"IFERROR(IF(D820=\"\",\"\",INDEX(tb_vendas[Data Fechamento],MATCH(D820,tb_vendas[N° Pedido/Empresa],0))+E820*INDEX(tb_formas_pagamento[Dias_Intervalo],MATCH(INDEX(tb_vendas[Forma_Pagamento],MATCH(D820,tb_vendas[N° Pedido/Empresa],0)),tb_formas_pagamento[Nome_Forma],0))),\"\")","v":""},null,{"$f":"IF(OR(tb_pagamentos[[#This Row],[Data_Vencimento]]=\"\",tb_pagamentos[[#This Row],[Valor_Parcela]]=\"\",tb_pagamentos[[#This Row],[Qtd_Total_Parcelas]]=\"\",tb_pagamentos[[#This Row],[Nr_Pedido]]=\"\"),\"\",IF(tb_pagamentos[[#This Row],[Data_Pagamento]]<>\"\",\"Pago\",IF(AND(tb_pagamentos[[#This Row],[Data_Pagamento]]=\"\",tb_pagamentos[[#This Row],[Data_Vencimento]]<TODAY()),\"Em Atraso\",\"A vencer\")))","v":""}]
[null,null,"",{"$f":"IFERROR(INDEX(CALC_BASE!$N$3:$N$52,MATCH(ROW()-7,CALC_BASE!$M$3:$M$52,0)),\"\")","v":""},{"$f":"IFERROR(INDEX(CALC_BASE!$O$3:$O$52,MATCH(ROW()-7,CALC_BASE!$M$3:$M$52,0)),\"\")","v":""},{"$f":"IFERROR(INDEX(CALC_BASE!$P$3:$P$52,MATCH(ROW()-7,CALC_BASE!$M$3:$M$52,0)),\"\")","v":""},{"$f":"IFERROR(IF(D821=\"\",\"\",INDEX(tb_vendas[Preço de Venda],MATCH(D821,tb_vendas[N° Pedido/Empresa],0))/F821),\"\")","v":""},{"$f":"IFERROR(IF(D821=\"\",\"\",INDEX(tb_vendas[Data Fechamento],MATCH(D821,tb_vendas[N° Pedido/Empresa],0))+E821*INDEX(tb_formas_pagamento[Dias_Intervalo],MATCH(INDEX(tb_vendas[Forma_Pagamento],MATCH(D821,tb_vendas[N° Pedido/Empresa],0)),tb_formas_pagamento[Nome_Forma],0))),\"\")","v":""},null,{"$f":"IF(OR(tb_pagamentos[[#This Row],[Data_Vencimento]]=\"\",tb_pagamentos[[#This Row],[Valor_Parcela]]=\"\",tb_pagamentos[[#This Row],[Qtd_Total_Parcelas]]=\"\",tb_pagamentos[[#This Row],[Nr_Pedido]]=\"\"),\"\",IF(tb_pagamentos[[#This Row],[Data_Pagamento]]<>\"\",\"Pago\",IF(AND(tb_pagamentos[[#This Row],[Data_Pagamento]]=\"\",tb_pagamentos[[#This Row],[Data_Vencimento]]<TODAY()),\"Em Atraso\",\"A vencer\")))","v":""}]
[null,null,"",{"$f":"IFERROR(INDEX(CALC_BASE!$N$3:$N$52,MATCH(ROW()-7,CALC_BASE!$M$3:$M$52,0)),\"\")","v":""},{"$f":"IFERROR(INDEX(CALC_BASE!$O$3:$O$52,MATCH(ROW()-7,CALC_BASE!$M$3:$M$52,0)),\"\")","v":""},{"$f":"IFERROR(INDEX(CALC_BASE!$P$3:$P$52,MATCH(ROW()-7,CALC_BASE!$M$3:$M$52,0)),\"\")","v":""},{"$f":"IFERROR(IF(D822=\"\",\"\",INDEX(tb_vendas[Preço de Venda],MATCH(D822,tb_vendas[N° Pedido/Empresa],0))/F822),\"\")","v":""},{"$f":"IFERROR(IF(D822=\"\",\"\",INDEX(tb_vendas[Data Fechamento],MATCH(D822,tb_vendas[N° Pedido/Empresa],0))+E822*INDEX(tb_formas_pagamento[Dias_Intervalo],MATCH(INDEX(tb_vendas[Forma_Pagamento],MATCH(D822,tb_vendas[N° Pedido/Empresa],0)),tb_formas_pagamento[Nome_Forma],0))),\"\")","v":""},null,{"$f":"IF(OR(tb_pagamentos[[#This Row],[Data_Vencimento]]=\"\",tb_pagamentos[[#This Row],[Valor_Parcela]]=\"\",tb_pagamentos[[#This Row],[Qtd_Total_Parcelas]]=\"\",tb_pagamentos[[#This Row],[Nr_Pedido]]=\"\"),\"\",IF(tb_pagamentos[[#This Row],[Data_Pagamento]]<>\"\",\"Pago\",IF(AND(tb_pagamentos[[#This Row],[Data_Pagamento]]=\"\",tb_pagamentos[[#This Row],[Data_Vencimento]]<TODAY()),\"Em Atraso\",\"A vencer\")))","v":""}]
[null,null,"",{"$f":"IFERROR(INDEX(CALC_BASE!$N$3:$N$52,MATCH(ROW()-7,CALC_BASE!$M$3:$M$52,0)),\"\")","v":""},{"$f":"IFERROR(INDEX(CALC_BASE!$O$3:$O$52,MATCH(ROW()-7,CALC_BASE!$M$3:$M$52,0)),\"\")","v":""},{"$f":"IFERROR(INDEX(CALC_BASE!$P$3:$P$52,MATCH(ROW()-7,CALC_BASE!$M$3:$M$52,0)),\"\")","v":""},{"$f":"IFERROR(IF(D823=\"\",\"\",INDEX(tb_vendas[Preço de Venda],MATCH(D823,tb_vendas[N° Pedido/Empresa],0))/F823),\"\")","v":""},{"$f":"IFERROR(IF(D823=\"\",\"\",INDEX(tb_vendas[Data Fechamento],MATCH(D823,tb_vendas[N° Pedido/Empresa],0))+E823*INDEX(tb_formas_pagamento[Dias_Intervalo],MATCH(INDEX(tb_vendas[Forma_Pagamento],MATCH(D823,tb_vendas[N° Pedido/Empresa],0)),tb_formas_pagamento[Nome_Forma],0))),\"\")","v":""},null,{"$f":"IF(OR(tb_pagamentos[[#This Row],[Data_Vencimento]]=\"\",tb_pagamentos[[#This Row],[Valor_Parcela]]=\"\",tb_pagamentos[[#This Row],[Qtd_Total_Parcelas]]=\"\",tb_pagamentos[[#This Row],[Nr_Pedido]]=\"\"),\"\",IF(tb_pagamentos[[#This Row],[Data_Pagamento]]<>\"\",\"Pago\",IF(AND(tb_pagamentos[[#This Row],[Data_Pagamento]]=\"\",tb_pagamentos[[#This Row],[Data_Vencimento]]<TODAY()),\"Em Atraso\",\"A vencer\")))","v":""}]
[null,null,"",{"$f":"IFERROR(INDEX(CALC_BASE!$N$3:$N$52,MATCH(ROW()-7,CALC_BASE!$M$3:$M$52,0)),\"\")","v":""},{"$f":"IFERROR(INDEX(CALC_BASE!$O$3:$O$52,MATCH(ROW()-7,CALC_BASE!$M$3:$M$52,0)),\"\")","v":""},{"$f":"IFERROR(INDEX(CALC_BASE!$P$3:$P$52,MATCH(ROW()-7,CALC_BASE!$M$3:$M$52,0)),\"\")","v":""},{"$f":"IFERROR(IF(D824=\"\",\"\",INDEX(tb_vendas[Preço de Venda],MATCH(D824,tb_vendas[N° Pedido/Empresa],0))/F824),\"\")","v":""},{"$f":"IFERROR(IF(D824=\"\",\"\",INDEX(tb_vendas[Data Fechamento],MATCH(D824,tb_vendas[N° Pedido/Empresa],0))+E824*INDEX(tb_formas_pagamento[Dias_Intervalo],MATCH(INDEX(tb_vendas[Forma_Pagamento],MATCH(D824,tb_vendas[N° Pedido/Empresa],0)),tb_formas_pagamento[Nome_Forma],0))),\"\")","v":""},null,{"$f":"IF(OR(tb_pagamentos[[#This Row],[Data_Vencimento]]=\"\",tb_pagamentos[[#This Row],[Valor_Parcela]]=\"\",tb_pagamentos[[#This Row],[Qtd_Total_Parcelas]]=\"\",tb_pagamentos[[#This Row],[Nr_Pedido]]=\"\"),\"\",IF(tb_pagamentos[[#This Row],[Data_Pagamento]]<>\"\",\"Pago\",IF(AND(tb_pagamentos[[#This Row],[Data_Pagamento]]=\"\",tb_pagamentos[[#This Row],[Data_Vencimento]]<TODAY()),\"Em Atraso\",\"A vencer\")))","v":""}]
[null,null,"",{"$f":"IFERROR(INDEX(CALC_BASE!$N$3:$N$52,MATCH(ROW()-7,CALC_BASE!$M$3:$M$52,0)),\"\")","v":""},{"$f":"IFERROR(INDEX(CALC_BASE!$O$3:$O$52,MATCH(ROW()-7,CALC_BASE!$M$3:$M$52,0)),\"\")","v":""},{"$f":"IFERROR(INDEX(CALC_BASE!$P$3:$P$52,MATCH(ROW()-7,CALC_BASE!$M$3:$M$52,0)),\"\")","v":""},{"$f":"IFERROR(IF(D825=\"\",\"\",INDEX(tb_vendas[Preço de Venda],MATCH(D825,tb_vendas[N° Pedido/Empresa],0))/F825),\"\")","v":""},{"$f":"IFERROR(IF(D825=\"\",\"\",INDEX(tb_vendas[Data Fechamento],MATCH(D825,tb_vendas[N° Pedido/Empresa],0))+E825*INDEX(tb_formas_pagamento[Dias_Intervalo],MATCH(INDEX(tb_vendas[Forma_Pagamento],MATCH(D825,tb_vendas[N° Pedido/Empresa],0)),tb_formas_pagamento[Nome_Forma],0))),\"\")","v":""},null,{"$f":"IF(OR(tb_pagamentos[[#This Row],[Data_Vencimento]]=\"\",tb_pagamentos[[#This Row],[Valor_Parcela]]=\"\",tb_pagamentos[[#This Row],[Qtd_Total_Parcelas]]=\"\",tb_pagamentos[[#This Row],[Nr_Pedido]]=\"\"),\"\",IF(tb_pagamentos[[#This Row],[Data_Pagamento]]<>\"\",\"Pago\",IF(AND(tb_pagamentos[[#This Row],[Data_Pagamento]]=\"\",tb_pagamentos[[#This Row],[Data_Vencimento]]<TODAY()),\"Em Atraso\",\"A vencer\")))","v":""}]
[null,null,"",{"$f":"IFERROR(INDEX(CALC_BASE!$N$3:$N$52,MATCH(ROW()-7,CALC_BASE!$M$3:$M$52,0)),\"\")","v":""},{"$f":"IFERROR(INDEX(CALC_BASE!$O$3:$O$52,MATCH(ROW()-7,CALC_BASE!$M$3:$M$52,0)),\"\")","v":""},{"$f":"IFERROR(INDEX(CALC_BASE!$P$3:$P$52,MATCH(ROW()-7,CALC_BASE!$M$3:$M$52,0)),\"\")","v":""},{"$f":"IFERROR(IF(D826=\"\",\"\",INDEX(tb_vendas[Preço de Venda],MATCH(D826,tb_vendas[N° Pedido/Empresa],0))/F826),\"\")","v":""},{"$f":"IFERROR(IF(D826=\"\",\"\",INDEX(tb_vendas[Data Fechamento],MATCH(D826,tb_vendas[N° Pedido/Empresa],0))+E826*INDEX(tb_formas_pagamento[Dias_Intervalo],MATCH(INDEX(tb_vendas[Forma_Pagamento],MATCH(D826,tb_vendas[N° Pedido/Empresa],0)),tb_formas_pagamento[Nome_Forma],0))),\"\")","v":""},null,{"$f":"IF(OR(tb_pagamentos[[#This Row],[Data_Vencimento]]=\"\",tb_pagamentos[[#This Row],[Valor_Parcela]]=\"\",tb_pagamentos[[#This Row],[Qtd_Total_Parcelas]]=\"\",tb_pagamentos[[#This Row],[Nr_Pedido]]=\"\"),\"\",IF(tb_pagamentos[[#This Row],[Data_Pagamento]]<>\"\",\"Pago\",IF(AND(tb_pagamentos[[#This Row],[Data_Pagamento]]=\"\",tb_pagamentos[[#This Row],[Data_Vencimento]]<TODAY()),\"Em Atraso\",\"A vencer\")))","v":""}]
[null,null,"",{"$f":"IFERROR(INDEX(CALC_BASE!$N$3:$N$52,MATCH(ROW()-7,CALC_BASE!$M$3:$M$52,0)),\"\")","v":""},{"$f":"IFERROR(INDEX(CALC_BASE!$O$3:$O$52,MATCH(ROW()-7,CALC_BASE!$M$3:$M$52,0)),\"\")","v":""},{"$f":"IFERROR(INDEX(CALC_BASE!$P$3:$P$52,MATCH(ROW()-7,CALC_BASE!$M$3:$M$52,0)),\"\")","v":""},{"$f":"IFERROR(IF(D827=\"\",\"\",INDEX(tb_vendas[Preço de Venda],MATCH(D827,tb_vendas[N° Pedido/Empresa],0))/F827),\"\")","v":""},{"$f":"IFERROR(IF(D827=\"\",\"\",INDEX(tb_vendas[Data Fechamento],MATCH(D827,tb_vendas[N° Pedido/Empresa],0))+E827*INDEX(tb_formas_pagamento[Dias_Intervalo],MATCH(INDEX(tb_vendas[Forma_Pagamento],MATCH(D827,tb_vendas[N° Pedido/Empresa],0)),tb_formas_pagamento[Nome_Forma],0))),\"\")","v":""},null,{"$f":"IF(OR(tb_pagamentos[[#This Row],[Data_Vencimento]]=\"\",tb_pagamentos[[#This Row],[Valor_Parcela]]=\"\",tb_pagamentos[[#This Row],[Qtd_Total_Parcelas]]=\"\",tb_pagamentos[[#This Row],[Nr_Pedido]]=\"\"),\"\",IF(tb_pagamentos[[#This Row],[Data_Pagamento]]<>\"\",\"Pago\",IF(AND(tb_pagamentos[[#This Row],[Data_Pagamento]]=\"\",tb_pagamentos[[#This Row],[Data_Vencimento]]<TODAY()),\"Em Atraso\",\"A vencer\")))","v":""}]
[null,null,"",{"$f":"IFERROR(INDEX(CALC_BASE!$N$3:$N$52,MATCH(ROW()-7,CALC_BASE!$M$3:$M$52,0)),\"\")","v":""},{"$f":"IFERROR(INDEX(CALC_BASE!$O$3:$O$52,MATCH(ROW()-7,CALC_BASE!$M$3:$M$52,0)),\"\")","v":""},{"$f":"IFERROR(INDEX(CALC_BASE!$P$3:$P$52,MATCH(ROW()-7,CALC_BASE!$M$3:$M$52,0)),\"\")","v":""},{"$f":"IFERROR(IF(D828=\"\",\"\",INDEX(tb_vendas[Preço de Venda],MATCH(D828,tb_vendas[N° Pedido/Empresa],0))/F828),\"\")","v":""},{"$f":"IFERROR(IF(D828=\"\",\"\",INDEX(tb_vendas[Data Fechamento],MATCH(D828,tb_vendas[N° Pedido/Empresa],0))+E828*INDEX(tb_formas_pagamento[Dias_Intervalo],MATCH(INDEX(tb_vendas[Forma_Pagamento],MATCH(D828,tb_vendas[N° Pedido/Empresa],0)),tb_formas_pagamento[Nome_Forma],0))),\"\")","v":""},null,{"$f":"IF(OR(tb_pagamentos[[#This Row],[Data_Vencimento]]=\"\",tb_pagamentos[[#This Row],[Valor_Parcela]]=\"\",tb_pagamentos[[#This Row],[Qtd_Total_Parcelas]]=\"\",tb_pagamentos[[#This Row],[Nr_Pedido]]=\"\"),\"\",IF(tb_pagamentos[[#This Row],[Data_Pagamento]]<>\"\",\"Pago\",IF(AND(tb_pagamentos[[#This Row],[Data_Pagamento]]=\"\",tb_pagamentos[[#This Row],[Data_Vencimento]]<TODAY()),\"Em Atraso\",\"A vencer\")))","v":""}]
[null,null,"",{"$f":"IFERROR(INDEX(CALC_BASE!$N$3:$N$52,MATCH(ROW()-7,CALC_BASE!$M$3:$M$52,0)),\"\")","v":""},{"$f":"IFERROR(INDEX(CALC_BASE!$O$3:$O$52,MATCH(ROW()-7,CALC_BASE!$M$3:$M$52,0)),\"\")","v":""},{"$f":"IFERROR(INDEX(CALC_BASE!$P$3:$P$52,MATCH(ROW()-7,CALC_BASE!$M$3:$M$52,0)),\"\")","v":""},{"$f":"IFERROR(IF(D829=\"\",\"\",INDEX(tb_vendas[Preço de Venda],MATCH(D829,tb_vendas[N° Pedido/Empresa],0))/F829),\"\")","v":""},{"$f":"IFERROR(IF(D829=\"\",\"\",INDEX(tb_vendas[Data Fechamento],MATCH(D829,tb_vendas[N° Pedido/Empresa],0))+E829*INDEX(tb_formas_pagamento[Dias_Intervalo],MATCH(INDEX(tb_vendas[Forma_Pagamento],MATCH(D829,tb_vendas[N° Pedido/Empresa],0)),tb_formas_pagamento[Nome_Forma],0))),\"\")","v":""},null,{"$f":"IF(OR(tb_pagamentos[[#This Row],[Data_Vencimento]]=\"\",tb_pagamentos[[#This Row],[Valor_Parcela]]=\"\",tb_pagamentos[[#This Row],[Qtd_Total_Parcelas]]=\"\",tb_pagamentos[[#This Row],[Nr_Pedido]]=\"\"),\"\",IF(tb_pagamentos[[#This Row],[Data_Pagamento]]<>\"\",\"Pago\",IF(AND(tb_pagamentos[[#This Row],[Data_Pagamento]]=\"\",tb_pagamentos[[#This Row],[Data_Vencimento]]<TODAY()),\"Em Atraso\",\"A vencer\")))","v":""}]
[null,null,"",{"$f":"IFERROR(INDEX(CALC_BASE!$N$3:$N$52,MATCH(ROW()-7,CALC_BASE!$M$3:$M$52,0)),\"\")","v":""},{"$f":"IFERROR(INDEX(CALC_BASE!$O$3:$O$52,MATCH(ROW()-7,CALC_BASE!$M$3:$M$52,0)),\"\")","v":""},{"$f":"IFERROR(INDEX(CALC_BASE!$P$3:$P$52,MATCH(ROW()-7,CALC_BASE!$M$3:$M$52,0)),\"\")","v":""},{"$f":"IFERROR(IF(D830=\"\",\"\",INDEX(tb_vendas[Preço de Venda],MATCH(D830,tb_vendas[N° Pedido/Empresa],0))/F830),\"\")","v":""},{"$f":"IFERROR(IF(D830=\"\",\"\",INDEX(tb_vendas[Data Fechamento],MATCH(D830,tb_vendas[N° Pedido/Empresa],0))+E830*INDEX(tb_formas_pagamento[Dias_Intervalo],MATCH(INDEX(tb_vendas[Forma_Pagamento],MATCH(D830,tb_vendas[N° Pedido/Empresa],0)),tb_formas_pagamento[Nome_Forma],0))),\"\")","v":""},null,{"$f":"IF(OR(tb_pagamentos[[#This Row],[Data_Vencimento]]=\"\",tb_pagamentos[[#This Row],[Valor_Parcela]]=\"\",tb_pagamentos[[#This Row],[Qtd_Total_Parcelas]]=\"\",tb_pagamentos[[#This Row],[Nr_Pedido]]=\"\"),\"\",IF(tb_pagamentos[[#This Row],[Data_Pagamento]]<>\"\",\"Pago\",IF(AND(tb_pagamentos[[#This Row],[Data_Pagamento]]=\"\",tb_pagamentos[[#This Row],[Data_Vencimento]]<TODAY()),\"Em Atraso\",\"A vencer\")))","v":""}]
[null,null,"",{"$f":"IFERROR(INDEX(CALC_BASE!$N$3:$N$52,MATCH(ROW()-7,CALC_BASE!$M$3:$M$52,0)),\"\")","v":""},{"$f":"IFERROR(INDEX(CALC_BASE!$O$3:$O$52,MATCH(ROW()-7,CALC_BASE!$M$3:$M$52,0)),\"\")","v":""},{"$f":"IFERROR(INDEX(CALC_BASE!$P$3:$P$52,MATCH(ROW()-7,CALC_BASE!$M$3:$M$52,0)),\"\")","v":""},{"$f":"IFERROR(IF(D831=\"\",\"\",INDEX(tb_vendas[Preço de Venda],MATCH(D831,tb_vendas[N° Pedido/Empresa],0))/F831),\"\")","v":""},{"$f":"IFERROR(IF(D831=\"\",\"\",INDEX(tb_vendas[Data Fechamento],MATCH(D831,tb_vendas[N° Pedido/Empresa],0))+E831*INDEX(tb_formas_pagamento[Dias_Intervalo],MATCH(INDEX(tb_vendas[Forma_Pagamento],MATCH(D831,tb_vendas[N° Pedido/Empresa],0)),tb_formas_pagamento[Nome_Forma],0))),\"\")","v":""},null,{"$f":"IF(OR(tb_pagamentos[[#This Row],[Data_Vencimento]]=\"\",tb_pagamentos[[#This Row],[Valor_Parcela]]=\"\",tb_pagamentos[[#This Row],[Qtd_Total_Parcelas]]=\"\",tb_pagamentos[[#This Row],[Nr_Pedido]]=\"\"),\"\",IF(tb_pagamentos[[#This Row],[Data_Pagamento]]<>\"\",\"Pago\",IF(AND(tb_pagamentos[[#This Row],[Data_Pagamento]]=\"\",tb_pagamentos[[#This Row],[Data_Vencimento]]<TODAY()),\"Em Atraso\",\"A vencer\")))","v":""}]
[null,null,"",{"$f":"IFERROR(INDEX(CALC_BASE!$N$3:$N$52,MATCH(ROW()-7,CALC_BASE!$M$3:$M$52,0)),\"\")","v":""},{"$f":"IFERROR(INDEX(CALC_BASE!$O$3:$O$52,MATCH(ROW()-7,CALC_BASE!$M$3:$M$52,0)),\"\")","v":""},{"$f":"IFERROR(INDEX(CALC_BASE!$P$3:$P$52,MATCH(ROW()-7,CALC_BASE!$M$3:$M$52,0)),\"\")","v":""},{"$f":"IFERROR(IF(D832=\"\",\"\",INDEX(tb_vendas[Preço de Venda],MATCH(D832,tb_vendas[N° Pedido/Empresa],0))/F832),\"\")","v":""},{"$f":"IFERROR(IF(D832=\"\",\"\",INDEX(tb_vendas[Data Fechamento],MATCH(D832,tb_vendas[N° Pedido/Empresa],0))+E832*INDEX(tb_formas_pagamento[Dias_Intervalo],MATCH(INDEX(tb_vendas[Forma_Pagamento],MATCH(D832,tb_vendas[N° Pedido/Empresa],0)),tb_formas_pagamento[Nome_Forma],0))),\"\")","v":""},null,{"$f":"IF(OR(tb_pagamentos[[#This Row],[Data_Vencimento]]=\"\",tb_pagamentos[[#This Row],[Valor_Parcela]]=\"\",tb_pagamentos[[#This Row],[Qtd_Total_Parcelas]]=\"\",tb_pagamentos[[#This Row],[Nr_Pedido]]=\"\"),\"\",IF(tb_pagamentos[[#This Row],[Data_Pagamento]]<>\"\",\"Pago\",IF(AND(tb_pagamentos[[#This Row],[Data_Pagamento]]=\"\",tb_pagamentos[[#This Row],[Data_Vencimento]]<TODAY()),\"Em Atraso\",\"A vencer\")))","v":""}]
[null,null,"",{"$f":"IFERROR(INDEX(CALC_BASE!$N$3:$N$52,MATCH(ROW()-7,CALC_BASE!$M$3:$M$52,0)),\"\")","v":""},{"$f":"IFERROR(INDEX(CALC_BASE!$O$3:$O$52,MATCH(ROW()-7,CALC_BASE!$M$3:$M$52,0)),\"\")","v":""},{"$f":"IFERROR(INDEX(CALC_BASE!$P$3:$P$52,MATCH(ROW()-7,CALC_BASE!$M$3:$M$52,0)),\"\")","v":""},{"$f":"IFERROR(IF(D833=\"\",\"\",INDEX(tb_vendas[Preço de Venda],MATCH(D833,tb_vendas[N° Pedido/Empresa],0))/F833),\"\")","v":""},{"$f":"IFERROR(IF(D833=\"\",\"\",INDEX(tb_vendas[Data Fechamento],MATCH(D833,tb_vendas[N° Pedido/Empresa],0))+E833*INDEX(tb_formas_pagamento[Dias_Intervalo],MATCH(INDEX(tb_vendas[Forma_Pagamento],MATCH(D833,tb_vendas[N° Pedido/Empresa],0)),tb_formas_pagamento[Nome_Forma],0))),\"\")","v":""},null,{"$f":"IF(OR(tb_pagamentos[[#This Row],[Data_Vencimento]]=\"\",tb_pagamentos[[#This Row],[Valor_Parcela]]=\"\",tb_pagamentos[[#This Row],[Qtd_Total_Parcelas]]=\"\",tb_pagamentos[[#This Row],[Nr_Pedido]]=\"\"),\"\",IF(tb_pagamentos[[#This Row],[Data_Pagamento]]<>\"\",\"Pago\",IF(AND(tb_pagamentos[[#This Row],[Data_Pagamento]]=\"\",tb_pagamentos[[#This Row],[Data_Vencimento]]<TODAY()),\"Em Atraso\",\"A vencer\")))","v":""}]
[null,null,"",{"$f":"IFERROR(INDEX(CALC_BASE!$N$3:$N$52,MATCH(ROW()-7,CALC_BASE!$M$3:$M$52,0)),\"\")","v":""},{"$f":"IFERROR(INDEX(CALC_BASE!$O$3:$O$52,MATCH(ROW()-7,CALC_BASE!$M$3:$M$52,0)),\"\")","v":""},{"$f":"IFERROR(INDEX(CALC_BASE!$P$3:$P$52,MATCH(ROW()-7,CALC_BASE!$M$3:$M$52,0)),\"\")","v":""},{"$f":"IFERROR(IF(D834=\"\",\"\",INDEX(tb_vendas[Preço de Venda],MATCH(D834,tb_vendas[N° Pedido/Empresa],0))/F834),\"\")","v":""},{"$f":"IFERROR(IF(D834=\"\",\"\",INDEX(tb_vendas[Data Fechamento],MATCH(D834,tb_vendas[N° Pedido/Empresa],0))+E834*INDEX(tb_formas_pagamento[Dias_Intervalo],MATCH(INDEX(tb_vendas[Forma_Pagamento],MATCH(D834,tb_vendas[N° Pedido/Empresa],0)),tb_formas_pagamento[Nome_Forma],0))),\"\")","v":""},null,{"$f":"IF(OR(tb_pagamentos[[#This Row],[Data_Vencimento]]=\"\",tb_pagamentos[[#This Row],[Valor_Parcela]]=\"\",tb_pagamentos[[#This Row],[Qtd_Total_Parcelas]]=\"\",tb_pagamentos[[#This Row],[Nr_Pedido]]=\"\"),\"\",IF(tb_pagamentos[[#This Row],[Data_Pagamento]]<>\"\",\"Pago\",IF(AND(tb_pagamentos[[#This Row],[Data_Pagamento]]=\"\",tb_pagamentos[[#This Row],[Data_Vencimento]]<TODAY()),\"Em Atraso\",\"A vencer\")))","v":""}]
[null,null,"",{"$f":"IFERROR(INDEX(CALC_BASE!$N$3:$N$52,MATCH(ROW()-7,CALC_BASE!$M$3:$M$52,0)),\"\")","v":""},{"$f":"IFERROR(INDEX(CALC_BASE!$O$3:$O$52,MATCH(ROW()-7,CALC_BASE!$M$3:$M$52,0)),\"\")","v":""},{"$f":"IFERROR(INDEX(CALC_BASE!$P$3:$P$52,MATCH(ROW()-7,CALC_BASE!$M$3:$M$52,0)),\"\")","v":""},{"$f":"IFERROR(IF(D835=\"\",\"\",INDEX(tb_vendas[Preço de Venda],MATCH(D835,tb_vendas[N° Pedido/Empresa],0))/F835),\"\")","v":""},{"$f":"IFERROR(IF(D835=\"\",\"\",INDEX(tb_vendas[Data Fechamento],MATCH(D835,tb_vendas[N° Pedido/Empresa],0))+E835*INDEX(tb_formas_pagamento[Dias_Intervalo],MATCH(INDEX(tb_vendas[Forma_Pagamento],MATCH(D835,tb_vendas[N° Pedido/Empresa],0)),tb_formas_pagamento[Nome_Forma],0))),\"\")","v":""},null,{"$f":"IF(OR(tb_pagamentos[[#This Row],[Data_Vencimento]]=\"\",tb_pagamentos[[#This Row],[Valor_Parcela]]=\"\",tb_pagamentos[[#This Row],[Qtd_Total_Parcelas]]=\"\",tb_pagamentos[[#This Row],[Nr_Pedido]]=\"\"),\"\",IF(tb_pagamentos[[#This Row],[Data_Pagamento]]<>\"\",\"Pago\",IF(AND(tb_pagamentos[[#This Row],[Data_Pagamento]]=\"\",tb_pagamentos[[#This Row],[Data_Vencimento]]<TODAY()),\"Em Atraso\",\"A vencer\")))","v":""}]
[null,null,"",{"$f":"IFERROR(INDEX(CALC_BASE!$N$3:$N$52,MATCH(ROW()-7,CALC_BASE!$M$3:$M$52,0)),\"\")","v":""},{"$f":"IFERROR(INDEX(CALC_BASE!$O$3:$O$52,MATCH(ROW()-7,CALC_BASE!$M$3:$M$52,0)),\"\")","v":""},{"$f":"IFERROR(INDEX(CALC_BASE!$P$3:$P$52,MATCH(ROW()-7,CALC_BASE!$M$3:$M$52,0)),\"\")","v":""},{"$f":"IFERROR(IF(D836=\"\",\"\",INDEX(tb_vendas[Preço de Venda],MATCH(D836,tb_vendas[N° Pedido/Empresa],0))/F836),\"\")","v":""},{"$f":"IFERROR(IF(D836=\"\",\"\",INDEX(tb_vendas[Data Fechamento],MATCH(D836,tb_vendas[N° Pedido/Empresa],0))+E836*INDEX(tb_formas_pagamento[Dias_Intervalo],MATCH(INDEX(tb_vendas[Forma_Pagamento],MATCH(D836,tb_vendas[N° Pedido/Empresa],0)),tb_formas_pagamento[Nome_Forma],0))),\"\")","v":""},null,{"$f":"IF(OR(tb_pagamentos[[#This Row],[Data_Vencimento]]=\"\",tb_pagamentos[[#This Row],[Valor_Parcela]]=\"\",tb_pagamentos[[#This Row],[Qtd_Total_Parcelas]]=\"\",tb_pagamentos[[#This Row],[Nr_Pedido]]=\"\"),\"\",IF(tb_pagamentos[[#This Row],[Data_Pagamento]]<>\"\",\"Pago\",IF(AND(tb_pagamentos[[#This Row],[Data_Pagamento]]=\"\",tb_pagamentos[[#This Row],[Data_Vencimento]]<TODAY()),\"Em Atraso\",\"A vencer\")))","v":""}]
[null,null,"",{"$f":"IFERROR(INDEX(CALC_BASE!$N$3:$N$52,MATCH(ROW()-7,CALC_BASE!$M$3:$M$52,0)),\"\")","v":""},{"$f":"IFERROR(INDEX(CALC_BASE!$O$3:$O$52,MATCH(ROW()-7,CALC_BASE!$M$3:$M$52,0)),\"\")","v":""},{"$f":"IFERROR(INDEX(CALC_BASE!$P$3:$P$52,MATCH(ROW()-7,CALC_BASE!$M$3:$M$52,0)),\"\")","v":""},{"$f":"IFERROR(IF(D837=\"\",\"\",INDEX(tb_vendas[Preço de Venda],MATCH(D837,tb_vendas[N° Pedido/Empresa],0))/F837),\"\")","v":""},{"$f":"IFERROR(IF(D837=\"\",\"\",INDEX(tb_vendas[Data Fechamento],MATCH(D837,tb_vendas[N° Pedido/Empresa],0))+E837*INDEX(tb_formas_pagamento[Dias_Intervalo],MATCH(INDEX(tb_vendas[Forma_Pagamento],MATCH(D837,tb_vendas[N° Pedido/Empresa],0)),tb_formas_pagamento[Nome_Forma],0))),\"\")","v":""},null,{"$f":"IF(OR(tb_pagamentos[[#This Row],[Data_Vencimento]]=\"\",tb_pagamentos[[#This Row],[Valor_Parcela]]=\"\",tb_pagamentos[[#This Row],[Qtd_Total_Parcelas]]=\"\",tb_pagamentos[[#This Row],[Nr_Pedido]]=\"\"),\"\",IF(tb_pagamentos[[#This Row],[Data_Pagamento]]<>\"\",\"Pago\",IF(AND(tb_pagamentos[[#This Row],[Data_Pagamento]]=\"\",tb_pagamentos[[#This Row],[Data_Vencimento]]<TODAY()),\"Em Atraso\",\"A vencer\")))","v":""}]
[null,null,"",{"$f":"IFERROR(INDEX(CALC_BASE!$N$3:$N$52,MATCH(ROW()-7,CALC_BASE!$M$3:$M$52,0)),\"\")","v":""},{"$f":"IFERROR(INDEX(CALC_BASE!$O$3:$O$52,MATCH(ROW()-7,CALC_BASE!$M$3:$M$52,0)),\"\")","v":""},{"$f":"IFERROR(INDEX(CALC_BASE!$P$3:$P$52,MATCH(ROW()-7,CALC_BASE!$M$3:$M$52,0)),\"\")","v":""},{"$f":"IFERROR(IF(D838=\"\",\"\",INDEX(tb_vendas[Preço de Venda],MATCH(D838,tb_vendas[N° Pedido/Empresa],0))/F838),\"\")","v":""},{"$f":"IFERROR(IF(D838=\"\",\"\",INDEX(tb_vendas[Data Fechamento],MATCH(D838,tb_vendas[N° Pedido/Empresa],0))+E838*INDEX(tb_formas_pagamento[Dias_Intervalo],MATCH(INDEX(tb_vendas[Forma_Pagamento],MATCH(D838,tb_vendas[N° Pedido/Empresa],0)),tb_formas_pagamento[Nome_Forma],0))),\"\")","v":""},null,{"$f":"IF(OR(tb_pagamentos[[#This Row],[Data_Vencimento]]=\"\",tb_pagamentos[[#This Row],[Valor_Parcela]]=\"\",tb_pagamentos[[#This Row],[Qtd_Total_Parcelas]]=\"\",tb_pagamentos[[#This Row],[Nr_Pedido]]=\"\"),\"\",IF(tb_pagamentos[[#This Row],[Data_Pagamento]]<>\"\",\"Pago\",IF(AND(tb_pagamentos[[#This Row],[Data_Pagamento]]=\"\",tb_pagamentos[[#This Row],[Data_Vencimento]]<TODAY()),\"Em Atraso\",\"A vencer\")))","v":""}]
[null,null,"",{"$f":"IFERROR(INDEX(CALC_BASE!$N$3:$N$52,MATCH(ROW()-7,CALC_BASE!$M$3:$M$52,0)),\"\")","v":""},{"$f":"IFERROR(INDEX(CALC_BASE!$O$3:$O$52,MATCH(ROW()-7,CALC_BASE!$M$3:$M$52,0)),\"\")","v":""},{"$f":"IFERROR(INDEX(CALC_BASE!$P$3:$P$52,MATCH(ROW()-7,CALC_BASE!$M$3:$M$52,0)),\"\")","v":""},{"$f":"IFERROR(IF(D839=\"\",\"\",INDEX(tb_vendas[Preço de Venda],MATCH(D839,tb_vendas[N° Pedido/Empresa],0))/F839),\"\")","v":""},{"$f":"IFERROR(IF(D839=\"\",\"\",INDEX(tb_vendas[Data Fechamento],MATCH(D839,tb_vendas[N° Pedido/Empresa],0))+E839*INDEX(tb_formas_pagamento[Dias_Intervalo],MATCH(INDEX(tb_vendas[Forma_Pagamento],MATCH(D839,tb_vendas[N° Pedido/Empresa],0)),tb_formas_pagamento[Nome_Forma],0))),\"\")","v":""},null,{"$f":"IF(OR(tb_pagamentos[[#This Row],[Data_Vencimento]]=\"\",tb_pagamentos[[#This Row],[Valor_Parcela]]=\"\",tb_pagamentos[[#This Row],[Qtd_Total_Parcelas]]=\"\",tb_pagamentos[[#This Row],[Nr_Pedido]]=\"\"),\"\",IF(tb_pagamentos[[#This Row],[Data_Pagamento]]<>\"\",\"Pago\",IF(AND(tb_pagamentos[[#This Row],[Data_Pagamento]]=\"\",tb_pagamentos[[#This Row],[Data_Vencimento]]<TODAY()),\"Em Atraso\",\"A vencer\")))","v":""}]
[null,null,"",{"$f":"IFERROR(INDEX(CALC_BASE!$N$3:$N$52,MATCH(ROW()-7,CALC_BASE!$M$3:$M$52,0)),\"\")","v":""},{"$f":"IFERROR(INDEX(CALC_BASE!$O$3:$O$52,MATCH(ROW()-7,CALC_BASE!$M$3:$M$52,0)),\"\")","v":""},{"$f":"IFERROR(INDEX(CALC_BASE!$P$3:$P$52,MATCH(ROW()-7,CALC_BASE!$M$3:$M$52,0)),\"\")","v":""},{"$f":"IFERROR(IF(D840=\"\",\"\",INDEX(tb_vendas[Preço de Venda],MATCH(D840,tb_vendas[N° Pedido/Empresa],0))/F840),\"\")","v":""},{"$f":"IFERROR(IF(D840=\"\",\"\",INDEX(tb_vendas[Data Fechamento],MATCH(D840,tb_vendas[N° Pedido/Empresa],0))+E840*INDEX(tb_formas_pagamento[Dias_Intervalo],MATCH(INDEX(tb_vendas[Forma_Pagamento],MATCH(D840,tb_vendas[N° Pedido/Empresa],0)),tb_formas_pagamento[Nome_Forma],0))),\"\")","v":""},null,{"$f":"IF(OR(tb_pagamentos[[#This Row],[Data_Vencimento]]=\"\",tb_pagamentos[[#This Row],[Valor_Parcela]]=\"\",tb_pagamentos[[#This Row],[Qtd_Total_Parcelas]]=\"\",tb_pagamentos[[#This Row],[Nr_Pedido]]=\"\"),\"\",IF(tb_pagamentos[[#This Row],[Data_Pagamento]]<>\"\",\"Pago\",IF(AND(tb_pagamentos[[#This Row],[Data_Pagamento]]=\"\",tb_pagamentos[[#This Row],[Data_Vencimento]]<TODAY()),\"Em Atraso\",\"A vencer\")))","v":""}]
[null,null,"",{"$f":"IFERROR(INDEX(CALC_BASE!$N$3:$N$52,MATCH(ROW()-7,CALC_BASE!$M$3:$M$52,0)),\"\")","v":""},{"$f":"IFERROR(INDEX(CALC_BASE!$O$3:$O$52,MATCH(ROW()-7,CALC_BASE!$M$3:$M$52,0)),\"\")","v":""},{"$f":"IFERROR(INDEX(CALC_BASE!$P$3:$P$52,MATCH(ROW()-7,CALC_BASE!$M$3:$M$52,0)),\"\")","v":""},{"$f":"IFERROR(IF(D841=\"\",\"\",INDEX(tb_vendas[Preço de Venda],MATCH(D841,tb_vendas[N° Pedido/Empresa],0))/F841),\"\")","v":""},{"$f":"IFERROR(IF(D841=\"\",\"\",INDEX(tb_vendas[Data Fechamento],MATCH(D841,tb_vendas[N° Pedido/Empresa],0))+E841*INDEX(tb_formas_pagamento[Dias_Intervalo],MATCH(INDEX(tb_vendas[Forma_Pagamento],MATCH(D841,tb_vendas[N° Pedido/Empresa],0)),tb_formas_pagamento[Nome_Forma],0))),\"\")","v":""},null,{"$f":"IF(OR(tb_pagamentos[[#This Row],[Data_Vencimento]]=\"\",tb_pagamentos[[#This Row],[Valor_Parcela]]=\"\",tb_pagamentos[[#This Row],[Qtd_Total_Parcelas]]=\"\",tb_pagamentos[[#This Row],[Nr_Pedido]]=\"\"),\"\",IF(tb_pagamentos[[#This Row],[Data_Pagamento]]<>\"\",\"Pago\",IF(AND(tb_pagamentos[[#This Row],[Data_Pagamento]]=\"\",tb_pagamentos[[#This Row],[Data_Vencimento]]<TODAY()),\"Em Atraso\",\"A vencer\")))","v":""}]
[null,null,"",{"$f":"IFERROR(INDEX(CALC_BASE!$N$3:$N$52,MATCH(ROW()-7,CALC_BASE!$M$3:$M$52,0)),\"\")","v":""},{"$f":"IFERROR(INDEX(CALC_BASE!$O$3:$O$52,MATCH(ROW()-7,CALC_BASE!$M$3:$M$52,0)),\"\")","v":""},{"$f":"IFERROR(INDEX(CALC_BASE!$P$3:$P$52,MATCH(ROW()-7,CALC_BASE!$M$3:$M$52,0)),\"\")","v":""},{"$f":"IFERROR(IF(D842=\"\",\"\",INDEX(tb_vendas[Preço de Venda],MATCH(D842,tb_vendas[N° Pedido/Empresa],0))/F842),\"\")","v":""},{"$f":"IFERROR(IF(D842=\"\",\"\",INDEX(tb_vendas[Data Fechamento],MATCH(D842,tb_vendas[N° Pedido/Empresa],0))+E842*INDEX(tb_formas_pagamento[Dias_Intervalo],MATCH(INDEX(tb_vendas[Forma_Pagamento],MATCH(D842,tb_vendas[N° Pedido/Empresa],0)),tb_formas_pagamento[Nome_Forma],0))),\"\")","v":""},null,{"$f":"IF(OR(tb_pagamentos[[#This Row],[Data_Vencimento]]=\"\",tb_pagamentos[[#This Row],[Valor_Parcela]]=\"\",tb_pagamentos[[#This Row],[Qtd_Total_Parcelas]]=\"\",tb_pagamentos[[#This Row],[Nr_Pedido]]=\"\"),\"\",IF(tb_pagamentos[[#This Row],[Data_Pagamento]]<>\"\",\"Pago\",IF(AND(tb_pagamentos[[#This Row],[Data_Pagamento]]=\"\",tb_pagamentos[[#This Row],[Data_Vencimento]]<TODAY()),\"Em Atraso\",\"A vencer\")))","v":""}]
[null,null,"",{"$f":"IFERROR(INDEX(CALC_BASE!$N$3:$N$52,MATCH(ROW()-7,CALC_BASE!$M$3:$M$52,0)),\"\")","v":""},{"$f":"IFERROR(INDEX(CALC_BASE!$O$3:$O$52,MATCH(ROW()-7,CALC_BASE!$M$3:$M$52,0)),\"\")","v":""},{"$f":"IFERROR(INDEX(CALC_BASE!$P$3:$P$52,MATCH(ROW()-7,CALC_BASE!$M$3:$M$52,0)),\"\")","v":""},{"$f":"IFERROR(IF(D843=\"\",\"\",INDEX(tb_vendas[Preço de Venda],MATCH(D843,tb_vendas[N° Pedido/Empresa],0))/F843),\"\")","v":""},{"$f":"IFERROR(IF(D843=\"\",\"\",INDEX(tb_vendas[Data Fechamento],MATCH(D843,tb_vendas[N° Pedido/Empresa],0))+E843*INDEX(tb_formas_pagamento[Dias_Intervalo],MATCH(INDEX(tb_vendas[Forma_Pagamento],MATCH(D843,tb_vendas[N° Pedido/Empresa],0)),tb_formas_pagamento[Nome_Forma],0))),\"\")","v":""},null,{"$f":"IF(OR(tb_pagamentos[[#This Row],[Data_Vencimento]]=\"\",tb_pagamentos[[#This Row],[Valor_Parcela]]=\"\",tb_pagamentos[[#This Row],[Qtd_Total_Parcelas]]=\"\",tb_pagamentos[[#This Row],[Nr_Pedido]]=\"\"),\"\",IF(tb_pagamentos[[#This Row],[Data_Pagamento]]<>\"\",\"Pago\",IF(AND(tb_pagamentos[[#This Row],[Data_Pagamento]]=\"\",tb_pagamentos[[#This Row],[Data_Vencimento]]<TODAY()),\"Em Atraso\",\"A vencer\")))","v":""}]
[null,null,"",{"$f":"IFERROR(INDEX(CALC_BASE!$N$3:$N$52,MATCH(ROW()-7,CALC_BASE!$M$3:$M$52,0)),\"\")","v":""},{"$f":"IFERROR(INDEX(CALC_BASE!$O$3:$O$52,MATCH(ROW()-7,CALC_BASE!$M$3:$M$52,0)),\"\")","v":""},{"$f":"IFERROR(INDEX(CALC_BASE!$P$3:$P$52,MATCH(ROW()-7,CALC_BASE!$M$3:$M$52,0)),\"\")","v":""},{"$f":"IFERROR(IF(D844=\"\",\"\",INDEX(tb_vendas[Preço de Venda],MATCH(D844,tb_vendas[N° Pedido/Empresa],0))/F844),\"\")","v":""},{"$f":"IFERROR(IF(D844=\"\",\"\",INDEX(tb_vendas[Data Fechamento],MATCH(D844,tb_vendas[N° Pedido/Empresa],0))+E844*INDEX(tb_formas_pagamento[Dias_Intervalo],MATCH(INDEX(tb_vendas[Forma_Pagamento],MATCH(D844,tb_vendas[N° Pedido/Empresa],0)),tb_formas_pagamento[Nome_Forma],0))),\"\")","v":""},null,{"$f":"IF(OR(tb_pagamentos[[#This Row],[Data_Vencimento]]=\"\",tb_pagamentos[[#This Row],[Valor_Parcela]]=\"\",tb_pagamentos[[#This Row],[Qtd_Total_Parcelas]]=\"\",tb_pagamentos[[#This Row],[Nr_Pedido]]=\"\"),\"\",IF(tb_pagamentos[[#This Row],[Data_Pagamento]]<>\"\",\"Pago\",IF(AND(tb_pagamentos[[#This Row],[Data_Pagamento]]=\"\",tb_pagamentos[[#This Row],[Data_Vencimento]]<TODAY()),\"Em Atraso\",\"A vencer\")))","v":""}]
[null,null,"",{"$f":"IFERROR(INDEX(CALC_BASE!$N$3:$N$52,MATCH(ROW()-7,CALC_BASE!$M$3:$M$52,0)),\"\")","v":""},{"$f":"IFERROR(INDEX(CALC_BASE!$O$3:$O$52,MATCH(ROW()-7,CALC_BASE!$M$3:$M$52,0)),\"\")","v":""},{"$f":"IFERROR(INDEX(CALC_BASE!$P$3:$P$52,MATCH(ROW()-7,CALC_BASE!$M$3:$M$52,0)),\"\")","v":""},{"$f":"IFERROR(IF(D845=\"\",\"\",INDEX(tb_vendas[Preço de Venda],MATCH(D845,tb_vendas[N° Pedido/Empresa],0))/F845),\"\")","v":""},{"$f":"IFERROR(IF(D845=\"\",\"\",INDEX(tb_vendas[Data Fechamento],MATCH(D845,tb_vendas[N° Pedido/Empresa],0))+E845*INDEX(tb_formas_pagamento[Dias_Intervalo],MATCH(INDEX(tb_vendas[Forma_Pagamento],MATCH(D845,tb_vendas[N° Pedido/Empresa],0)),tb_formas_pagamento[Nome_Forma],0))),\"\")","v":""},null,{"$f":"IF(OR(tb_pagamentos[[#This Row],[Data_Vencimento]]=\"\",tb_pagamentos[[#This Row],[Valor_Parcela]]=\"\",tb_pagamentos[[#This Row],[Qtd_Total_Parcelas]]=\"\",tb_pagamentos[[#This Row],[Nr_Pedido]]=\"\"),\"\",IF(tb_pagamentos[[#This Row],[Data_Pagamento]]<>\"\",\"Pago\",IF(AND(tb_pagamentos[[#This Row],[Data_Pagamento]]=\"\",tb_pagamentos[[#This Row],[Data_Vencimento]]<TODAY()),\"Em Atraso\",\"A vencer\")))","v":""}]
[null,null,"",{"$f":"IFERROR(INDEX(CALC_BASE!$N$3:$N$52,MATCH(ROW()-7,CALC_BASE!$M$3:$M$52,0)),\"\")","v":""},{"$f":"IFERROR(INDEX(CALC_BASE!$O$3:$O$52,MATCH(ROW()-7,CALC_BASE!$M$3:$M$52,0)),\"\")","v":""},{"$f":"IFERROR(INDEX(CALC_BASE!$P$3:$P$52,MATCH(ROW()-7,CALC_BASE!$M$3:$M$52,0)),\"\")","v":""},{"$f":"IFERROR(IF(D846=\"\",\"\",INDEX(tb_vendas[Preço de Venda],MATCH(D846,tb_vendas[N° Pedido/Empresa],0))/F846),\"\")","v":""},{"$f":"IFERROR(IF(D846=\"\",\"\",INDEX(tb_vendas[Data Fechamento],MATCH(D846,tb_vendas[N° Pedido/Empresa],0))+E846*INDEX(tb_formas_pagamento[Dias_Intervalo],MATCH(INDEX(tb_vendas[Forma_Pagamento],MATCH(D846,tb_vendas[N° Pedido/Empresa],0)),tb_formas_pagamento[Nome_Forma],0))),\"\")","v":""},null,{"$f":"IF(OR(tb_pagamentos[[#This Row],[Data_Vencimento]]=\"\",tb_pagamentos[[#This Row],[Valor_Parcela]]=\"\",tb_pagamentos[[#This Row],[Qtd_Total_Parcelas]]=\"\",tb_pagamentos[[#This Row],[Nr_Pedido]]=\"\"),\"\",IF(tb_pagamentos[[#This Row],[Data_Pagamento]]<>\"\",\"Pago\",IF(AND(tb_pagamentos[[#This Row],[Data_Pagamento]]=\"\",tb_pagamentos[[#This Row],[Data_Vencimento]]<TODAY()),\"Em Atraso\",\"A vencer\")))","v":""}]
[null,null,{"$f":"IF(OR(D847=\"\",E847=\"\"),\"\",D847&\"-\"&E847)","v":""},{"$f":"IFERROR(INDEX(CALC_BASE!$N$3:$N$52,MATCH(ROW()-7,CALC_BASE!$M$3:$M$52,0)),\"\")","v":""},{"$f":"IFERROR(INDEX(CALC_BASE!$O$3:$O$52,MATCH(ROW()-7,CALC_BASE!$M$3:$M$52,0)),\"\")","v":""},{"$f":"IFERROR(INDEX(CALC_BASE!$P$3:$P$52,MATCH(ROW()-7,CALC_BASE!$M$3:$M$52,0)),\"\")","v":""},{"$f":"IFERROR(IF(D847=\"\",\"\",INDEX(tb_vendas[Preço de Venda],MATCH(D847,tb_vendas[N° Pedido/Empresa],0))/F847),\"\")","v":""},{"$f":"IFERROR(IF(D847=\"\",\"\",INDEX(tb_vendas[Data Fechamento],MATCH(D847,tb_vendas[N° Pedido/Empresa],0))+E847*INDEX(tb_formas_pagamento[Dias_Intervalo],MATCH(INDEX(tb_vendas[Forma_Pagamento],MATCH(D847,tb_vendas[N° Pedido/Empresa],0)),tb_formas_pagamento[Nome_Forma],0))),\"\")","v":""},null,{"$f":"IF(OR(tb_pagamentos[[#This Row],[Data_Vencimento]]=\"\",tb_pagamentos[[#This Row],[Valor_Parcela]]=\"\",tb_pagamentos[[#This Row],[Qtd_Total_Parcelas]]=\"\",tb_pagamentos[[#This Row],[Nr_Pedido]]=\"\"),\"\",IF(tb_pagamentos[[#This Row],[Data_Pagamento]]<>\"\",\"Pago\",IF(AND(tb_pagamentos[[#This Row],[Data_Pagamento]]=\"\",tb_pagamentos[[#This Row],[Data_Vencimento]]<TODAY()),\"Em Atraso\",\"A vencer\")))","v":""}]
[null,null,"",{"$f":"IFERROR(INDEX(CALC_BASE!$N$3:$N$52,MATCH(ROW()-7,CALC_BASE!$M$3:$M$52,0)),\"\")","v":""},{"$f":"IFERROR(INDEX(CALC_BASE!$O$3:$O$52,MATCH(ROW()-7,CALC_BASE!$M$3:$M$52,0)),\"\")","v":""},{"$f":"IFERROR(INDEX(CALC_BASE!$P$3:$P$52,MATCH(ROW()-7,CALC_BASE!$M$3:$M$52,0)),\"\")","v":""},{"$f":"IFERROR(IF(D848=\"\",\"\",INDEX(tb_vendas[Preço de Venda],MATCH(D848,tb_vendas[N° Pedido/Empresa],0))/F848),\"\")","v":""},{"$f":"IFERROR(IF(D848=\"\",\"\",INDEX(tb_vendas[Data Fechamento],MATCH(D848,tb_vendas[N° Pedido/Empresa],0))+E848*INDEX(tb_formas_pagamento[Dias_Intervalo],MATCH(INDEX(tb_vendas[Forma_Pagamento],MATCH(D848,tb_vendas[N° Pedido/Empresa],0)),tb_formas_pagamento[Nome_Forma],0))),\"\")","v":""},null,{"$f":"IF(OR(tb_pagamentos[[#This Row],[Data_Vencimento]]=\"\",tb_pagamentos[[#This Row],[Valor_Parcela]]=\"\",tb_pagamentos[[#This Row],[Qtd_Total_Parcelas]]=\"\",tb_pagamentos[[#This Row],[Nr_Pedido]]=\"\"),\"\",IF(tb_pagamentos[[#This Row],[Data_Pagamento]]<>\"\",\"Pago\",IF(AND(tb_pagamentos[[#This Row],[Data_Pagamento]]=\"\",tb_pagamentos[[#This Row],[Data_Vencimento]]<TODAY()),\"Em Atraso\",\"A vencer\")))","v":""}]
[null,null,"",{"$f":"IFERROR(INDEX(CALC_BASE!$N$3:$N$52,MATCH(ROW()-7,CALC_BASE!$M$3:$M$52,0)),\"\")","v":""},{"$f":"IFERROR(INDEX(CALC_BASE!$O$3:$O$52,MATCH(ROW()-7,CALC_BASE!$M$3:$M$52,0)),\"\")","v":""},{"$f":"IFERROR(INDEX(CALC_BASE!$P$3:$P$52,MATCH(ROW()-7,CALC_BASE!$M$3:$M$52,0)),\"\")","v":""},{"$f":"IFERROR(IF(D849=\"\",\"\",INDEX(tb_vendas[Preço de Venda],MATCH(D849,tb_vendas[N° Pedido/Empresa],0))/F849),\"\")","v":""},{"$f":"IFERROR(IF(D849=\"\",\"\",INDEX(tb_vendas[Data Fechamento],MATCH(D849,tb_vendas[N° Pedido/Empresa],0))+E849*INDEX(tb_formas_pagamento[Dias_Intervalo],MATCH(INDEX(tb_vendas[Forma_Pagamento],MATCH(D849,tb_vendas[N° Pedido/Empresa],0)),tb_formas_pagamento[Nome_Forma],0))),\"\")","v":""},null,{"$f":"IF(OR(tb_pagamentos[[#This Row],[Data_Vencimento]]=\"\",tb_pagamentos[[#This Row],[Valor_Parcela]]=\"\",tb_pagamentos[[#This Row],[Qtd_Total_Parcelas]]=\"\",tb_pagamentos[[#This Row],[Nr_Pedido]]=\"\"),\"\",IF(tb_pagamentos[[#This Row],[Data_Pagamento]]<>\"\",\"Pago\",IF(AND(tb_pagamentos[[#This Row],[Data_Pagamento]]=\"\",tb_pagamentos[[#This Row],[Data_Vencimento]]<TODAY()),\"Em Atraso\",\"A vencer\")))","v":""}]
[null,null,"",{"$f":"IFERROR(INDEX(CALC_BASE!$N$3:$N$52,MATCH(ROW()-7,CALC_BASE!$M$3:$M$52,0)),\"\")","v":""},{"$f":"IFERROR(INDEX(CALC_BASE!$O$3:$O$52,MATCH(ROW()-7,CALC_BASE!$M$3:$M$52,0)),\"\")","v":""},{"$f":"IFERROR(INDEX(CALC_BASE!$P$3:$P$52,MATCH(ROW()-7,CALC_BASE!$M$3:$M$52,0)),\"\")","v":""},{"$f":"IFERROR(IF(D850=\"\",\"\",INDEX(tb_vendas[Preço de Venda],MATCH(D850,tb_vendas[N° Pedido/Empresa],0))/F850),\"\")","v":""},{"$f":"IFERROR(IF(D850=\"\",\"\",INDEX(tb_vendas[Data Fechamento],MATCH(D850,tb_vendas[N° Pedido/Empresa],0))+E850*INDEX(tb_formas_pagamento[Dias_Intervalo],MATCH(INDEX(tb_vendas[Forma_Pagamento],MATCH(D850,tb_vendas[N° Pedido/Empresa],0)),tb_formas_pagamento[Nome_Forma],0))),\"\")","v":""},null,{"$f":"IF(OR(tb_pagamentos[[#This Row],[Data_Vencimento]]=\"\",tb_pagamentos[[#This Row],[Valor_Parcela]]=\"\",tb_pagamentos[[#This Row],[Qtd_Total_Parcelas]]=\"\",tb_pagamentos[[#This Row],[Nr_Pedido]]=\"\"),\"\",IF(tb_pagamentos[[#This Row],[Data_Pagamento]]<>\"\",\"Pago\",IF(AND(tb_pagamentos[[#This Row],[Data_Pagamento]]=\"\",tb_pagamentos[[#This Row],[Data_Vencimento]]<TODAY()),\"Em Atraso\",\"A vencer\")))","v":""}]
[null,null,"",{"$f":"IFERROR(INDEX(CALC_BASE!$N$3:$N$52,MATCH(ROW()-7,CALC_BASE!$M$3:$M$52,0)),\"\")","v":""},{"$f":"IFERROR(INDEX(CALC_BASE!$O$3:$O$52,MATCH(ROW()-7,CALC_BASE!$M$3:$M$52,0)),\"\")","v":""},{"$f":"IFERROR(INDEX(CALC_BASE!$P$3:$P$52,MATCH(ROW()-7,CALC_BASE!$M$3:$M$52,0)),\"\")","v":""},{"$f":"IFERROR(IF(D851=\"\",\"\",INDEX(tb_vendas[Preço de Venda],MATCH(D851,tb_vendas[N° Pedido/Empresa],0))/F851),\"\")","v":""},{"$f":"IFERROR(IF(D851=\"\",\"\",INDEX(tb_vendas[Data Fechamento],MATCH(D851,tb_vendas[N° Pedido/Empresa],0))+E851*INDEX(tb_formas_pagamento[Dias_Intervalo],MATCH(INDEX(tb_vendas[Forma_Pagamento],MATCH(D851,tb_vendas[N° Pedido/Empresa],0)),tb_formas_pagamento[Nome_Forma],0))),\"\")","v":""},null,{"$f":"IF(OR(tb_pagamentos[[#This Row],[Data_Vencimento]]=\"\",tb_pagamentos[[#This Row],[Valor_Parcela]]=\"\",tb_pagamentos[[#This Row],[Qtd_Total_Parcelas]]=\"\",tb_pagamentos[[#This Row],[Nr_Pedido]]=\"\"),\"\",IF(tb_pagamentos[[#This Row],[Data_Pagamento]]<>\"\",\"Pago\",IF(AND(tb_pagamentos[[#This Row],[Data_Pagamento]]=\"\",tb_pagamentos[[#This Row],[Data_Vencimento]]<TODAY()),\"Em Atraso\",\"A vencer\")))","v":""}]
[null,null,"",{"$f":"IFERROR(INDEX(CALC_BASE!$N$3:$N$52,MATCH(ROW()-7,CALC_BASE!$M$3:$M$52,0)),\"\")","v":""},{"$f":"IFERROR(INDEX(CALC_BASE!$O$3:$O$52,MATCH(ROW()-7,CALC_BASE!$M$3:$M$52,0)),\"\")","v":""},{"$f":"IFERROR(INDEX(CALC_BASE!$P$3:$P$52,MATCH(ROW()-7,CALC_BASE!$M$3:$M$52,0)),\"\")","v":""},{"$f":"IFERROR(IF(D852=\"\",\"\",INDEX(tb_vendas[Preço de Venda],MATCH(D852,tb_vendas[N° Pedido/Empresa],0))/F852),\"\")","v":""},{"$f":"IFERROR(IF(D852=\"\",\"\",INDEX(tb_vendas[Data Fechamento],MATCH(D852,tb_vendas[N° Pedido/Empresa],0))+E852*INDEX(tb_formas_pagamento[Dias_Intervalo],MATCH(INDEX(tb_vendas[Forma_Pagamento],MATCH(D852,tb_vendas[N° Pedido/Empresa],0)),tb_formas_pagamento[Nome_Forma],0))),\"\")","v":""},null,{"$f":"IF(OR(tb_pagamentos[[#This Row],[Data_Vencimento]]=\"\",tb_pagamentos[[#This Row],[Valor_Parcela]]=\"\",tb_pagamentos[[#This Row],[Qtd_Total_Parcelas]]=\"\",tb_pagamentos[[#This Row],[Nr_Pedido]]=\"\"),\"\",IF(tb_pagamentos[[#This Row],[Data_Pagamento]]<>\"\",\"Pago\",IF(AND(tb_pagamentos[[#This Row],[Data_Pagamento]]=\"\",tb_pagamentos[[#This Row],[Data_Vencimento]]<TODAY()),\"Em Atraso\",\"A vencer\")))","v":""}]
[null,null,"",{"$f":"IFERROR(INDEX(CALC_BASE!$N$3:$N$52,MATCH(ROW()-7,CALC_BASE!$M$3:$M$52,0)),\"\")","v":""},{"$f":"IFERROR(INDEX(CALC_BASE!$O$3:$O$52,MATCH(ROW()-7,CALC_BASE!$M$3:$M$52,0)),\"\")","v":""},{"$f":"IFERROR(INDEX(CALC_BASE!$P$3:$P$52,MATCH(ROW()-7,CALC_BASE!$M$3:$M$52,0)),\"\")","v":""},{"$f":"IFERROR(IF(D853=\"\",\"\",INDEX(tb_vendas[Preço de Venda],MATCH(D853,tb_vendas[N° Pedido/Empresa],0))/F853),\"\")","v":""},{"$f":"IFERROR(IF(D853=\"\",\"\",INDEX(tb_vendas[Data Fechamento],MATCH(D853,tb_vendas[N° Pedido/Empresa],0))+E853*INDEX(tb_formas_pagamento[Dias_Intervalo],MATCH(INDEX(tb_vendas[Forma_Pagamento],MATCH(D853,tb_vendas[N° Pedido/Empresa],0)),tb_formas_pagamento[Nome_Forma],0))),\"\")","v":""},null,{"$f":"IF(OR(tb_pagamentos[[#This Row],[Data_Vencimento]]=\"\",tb_pagamentos[[#This Row],[Valor_Parcela]]=\"\",tb_pagamentos[[#This Row],[Qtd_Total_Parcelas]]=\"\",tb_pagamentos[[#This Row],[Nr_Pedido]]=\"\"),\"\",IF(tb_pagamentos[[#This Row],[Data_Pagamento]]<>\"\",\"Pago\",IF(AND(tb_pagamentos[[#This Row],[Data_Pagamento]]=\"\",tb_pagamentos[[#This Row],[Data_Vencimento]]<TODAY()),\"Em Atraso\",\"A vencer\")))","v":""}]
[null,null,"",{"$f":"IFERROR(INDEX(CALC_BASE!$N$3:$N$52,MATCH(ROW()-7,CALC_BASE!$M$3:$M$52,0)),\"\")","v":""},{"$f":"IFERROR(INDEX(CALC_BASE!$O$3:$O$52,MATCH(ROW()-7,CALC_BASE!$M$3:$M$52,0)),\"\")","v":""},{"$f":"IFERROR(INDEX(CALC_BASE!$P$3:$P$52,MATCH(ROW()-7,CALC_BASE!$M$3:$M$52,0)),\"\")","v":""},{"$f":"IFERROR(IF(D854=\"\",\"\",INDEX(tb_vendas[Preço de Venda],MATCH(D854,tb_vendas[N° Pedido/Empresa],0))/F854),\"\")","v":""},{"$f":"IFERROR(IF(D854=\"\",\"\",INDEX(tb_vendas[Data Fechamento],MATCH(D854,tb_vendas[N° Pedido/Empresa],0))+E854*INDEX(tb_formas_pagamento[Dias_Intervalo],MATCH(INDEX(tb_vendas[Forma_Pagamento],MATCH(D854,tb_vendas[N° Pedido/Empresa],0)),tb_formas_pagamento[Nome_Forma],0))),\"\")","v":""},null,{"$f":"IF(OR(tb_pagamentos[[#This Row],[Data_Vencimento]]=\"\",tb_pagamentos[[#This Row],[Valor_Parcela]]=\"\",tb_pagamentos[[#This Row],[Qtd_Total_Parcelas]]=\"\",tb_pagamentos[[#This Row],[Nr_Pedido]]=\"\"),\"\",IF(tb_pagamentos[[#This Row],[Data_Pagamento]]<>\"\",\"Pago\",IF(AND(tb_pagamentos[[#This Row],[Data_Pagamento]]=\"\",tb_pagamentos[[#This Row],[Data_Vencimento]]<TODAY()),\"Em Atraso\",\"A vencer\")))","v":""}]
[null,null,"",{"$f":"IFERROR(INDEX(CALC_BASE!$N$3:$N$52,MATCH(ROW()-7,CALC_BASE!$M$3:$M$52,0)),\"\")","v":""},{"$f":"IFERROR(INDEX(CALC_BASE!$O$3:$O$52,MATCH(ROW()-7,CALC_BASE!$M$3:$M$52,0)),\"\")","v":""},{"$f":"IFERROR(INDEX(CALC_BASE!$P$3:$P$52,MATCH(ROW()-7,CALC_BASE!$M$3:$M$52,0)),\"\")","v":""},{"$f":"IFERROR(IF(D855=\"\",\"\",INDEX(tb_vendas[Preço de Venda],MATCH(D855,tb_vendas[N° Pedido/Empresa],0))/F855),\"\")","v":""},{"$f":"IFERROR(IF(D855=\"\",\"\",INDEX(tb_vendas[Data Fechamento],MATCH(D855,tb_vendas[N° Pedido/Empresa],0))+E855*INDEX(tb_formas_pagamento[Dias_Intervalo],MATCH(INDEX(tb_vendas[Forma_Pagamento],MATCH(D855,tb_vendas[N° Pedido/Empresa],0)),tb_formas_pagamento[Nome_Forma],0))),\"\")","v":""},null,{"$f":"IF(OR(tb_pagamentos[[#This Row],[Data_Vencimento]]=\"\",tb_pagamentos[[#This Row],[Valor_Parcela]]=\"\",tb_pagamentos[[#This Row],[Qtd_Total_Parcelas]]=\"\",tb_pagamentos[[#This Row],[Nr_Pedido]]=\"\"),\"\",IF(tb_pagamentos[[#This Row],[Data_Pagamento]]<>\"\",\"Pago\",IF(AND(tb_pagamentos[[#This Row],[Data_Pagamento]]=\"\",tb_pagamentos[[#This Row],[Data_Vencimento]]<TODAY()),\"Em Atraso\",\"A vencer\")))","v":""}]
[null,null,"",{"$f":"IFERROR(INDEX(CALC_BASE!$N$3:$N$52,MATCH(ROW()-7,CALC_BASE!$M$3:$M$52,0)),\"\")","v":""},{"$f":"IFERROR(INDEX(CALC_BASE!$O$3:$O$52,MATCH(ROW()-7,CALC_BASE!$M$3:$M$52,0)),\"\")","v":""},{"$f":"IFERROR(INDEX(CALC_BASE!$P$3:$P$52,MATCH(ROW()-7,CALC_BASE!$M$3:$M$52,0)),\"\")","v":""},{"$f":"IFERROR(IF(D856=\"\",\"\",INDEX(tb_vendas[Preço de Venda],MATCH(D856,tb_vendas[N° Pedido/Empresa],0))/F856),\"\")","v":""},{"$f":"IFERROR(IF(D856=\"\",\"\",INDEX(tb_vendas[Data Fechamento],MATCH(D856,tb_vendas[N° Pedido/Empresa],0))+E856*INDEX(tb_formas_pagamento[Dias_Intervalo],MATCH(INDEX(tb_vendas[Forma_Pagamento],MATCH(D856,tb_vendas[N° Pedido/Empresa],0)),tb_formas_pagamento[Nome_Forma],0))),\"\")","v":""},null,{"$f":"IF(OR(tb_pagamentos[[#This Row],[Data_Vencimento]]=\"\",tb_pagamentos[[#This Row],[Valor_Parcela]]=\"\",tb_pagamentos[[#This Row],[Qtd_Total_Parcelas]]=\"\",tb_pagamentos[[#This Row],[Nr_Pedido]]=\"\"),\"\",IF(tb_pagamentos[[#This Row],[Data_Pagamento]]<>\"\",\"Pago\",IF(AND(tb_pagamentos[[#This Row],[Data_Pagamento]]=\"\",tb_pagamentos[[#This Row],[Data_Vencimento]]<TODAY()),\"Em Atraso\",\"A vencer\")))","v":""}]
[null,null,"",{"$f":"IFERROR(INDEX(CALC_BASE!$N$3:$N$52,MATCH(ROW()-7,CALC_BASE!$M$3:$M$52,0)),\"\")","v":""},{"$f":"IFERROR(INDEX(CALC_BASE!$O$3:$O$52,MATCH(ROW()-7,CALC_BASE!$M$3:$M$52,0)),\"\")","v":""},{"$f":"IFERROR(INDEX(CALC_BASE!$P$3:$P$52,MATCH(ROW()-7,CALC_BASE!$M$3:$M$52,0)),\"\")","v":""},{"$f":"IFERROR(IF(D857=\"\",\"\",INDEX(tb_vendas[Preço de Venda],MATCH(D857,tb_vendas[N° Pedido/Empresa],0))/F857),\"\")","v":""},{"$f":"IFERROR(IF(D857=\"\",\"\",INDEX(tb_vendas[Data Fechamento],MATCH(D857,tb_vendas[N° Pedido/Empresa],0))+E857*INDEX(tb_formas_pagamento[Dias_Intervalo],MATCH(INDEX(tb_vendas[Forma_Pagamento],MATCH(D857,tb_vendas[N° Pedido/Empresa],0)),tb_formas_pagamento[Nome_Forma],0))),\"\")","v":""},null,{"$f":"IF(OR(tb_pagamentos[[#This Row],[Data_Vencimento]]=\"\",tb_pagamentos[[#This Row],[Valor_Parcela]]=\"\",tb_pagamentos[[#This Row],[Qtd_Total_Parcelas]]=\"\",tb_pagamentos[[#This Row],[Nr_Pedido]]=\"\"),\"\",IF(tb_pagamentos[[#This Row],[Data_Pagamento]]<>\"\",\"Pago\",IF(AND(tb_pagamentos[[#This Row],[Data_Pagamento]]=\"\",tb_pagamentos[[#This Row],[Data_Vencimento]]<TODAY()),\"Em Atraso\",\"A vencer\")))","v":""}]
[null,null,"",{"$f":"IFERROR(INDEX(CALC_BASE!$N$3:$N$52,MATCH(ROW()-7,CALC_BASE!$M$3:$M$52,0)),\"\")","v":""},{"$f":"IFERROR(INDEX(CALC_BASE!$O$3:$O$52,MATCH(ROW()-7,CALC_BASE!$M$3:$M$52,0)),\"\")","v":""},{"$f":"IFERROR(INDEX(CALC_BASE!$P$3:$P$52,MATCH(ROW()-7,CALC_BASE!$M$3:$M$52,0)),\"\")","v":""},{"$f":"IFERROR(IF(D858=\"\",\"\",INDEX(tb_vendas[Preço de Venda],MATCH(D858,tb_vendas[N° Pedido/Empresa],0))/F858),\"\")","v":""},{"$f":"IFERROR(IF(D858=\"\",\"\",INDEX(tb_vendas[Data Fechamento],MATCH(D858,tb_vendas[N° Pedido/Empresa],0))+E858*INDEX(tb_formas_pagamento[Dias_Intervalo],MATCH(INDEX(tb_vendas[Forma_Pagamento],MATCH(D858,tb_vendas[N° Pedido/Empresa],0)),tb_formas_pagamento[Nome_Forma],0))),\"\")","v":""},null,{"$f":"IF(OR(tb_pagamentos[[#This Row],[Data_Vencimento]]=\"\",tb_pagamentos[[#This Row],[Valor_Parcela]]=\"\",tb_pagamentos[[#This Row],[Qtd_Total_Parcelas]]=\"\",tb_pagamentos[[#This Row],[Nr_Pedido]]=\"\"),\"\",IF(tb_pagamentos[[#This Row],[Data_Pagamento]]<>\"\",\"Pago\",IF(AND(tb_pagamentos[[#This Row],[Data_Pagamento]]=\"\",tb_pagamentos[[#This Row],[Data_Vencimento]]<TODAY()),\"Em Atraso\",\"A vencer\")))","v":""}]
[null,null,"",{"$f":"IFERROR(INDEX(CALC_BASE!$N$3:$N$52,MATCH(ROW()-7,CALC_BASE!$M$3:$M$52,0)),\"\")","v":""},{"$f":"IFERROR(INDEX(CALC_BASE!$O$3:$O$52,MATCH(ROW()-7,CALC_BASE!$M$3:$M$52,0)),\"\")","v":""},{"$f":"IFERROR(INDEX(CALC_BASE!$P$3:$P$52,MATCH(ROW()-7,CALC_BASE!$M$3:$M$52,0)),\"\")","v":""},{"$f":"IFERROR(IF(D859=\"\",\"\",INDEX(tb_vendas[Preço de Venda],MATCH(D859,tb_vendas[N° Pedido/Empresa],0))/F859),\"\")","v":""},{"$f":"IFERROR(IF(D859=\"\",\"\",INDEX(tb_vendas[Data Fechamento],MATCH(D859,tb_vendas[N° Pedido/Empresa],0))+E859*INDEX(tb_formas_pagamento[Dias_Intervalo],MATCH(INDEX(tb_vendas[Forma_Pagamento],MATCH(D859,tb_vendas[N° Pedido/Empresa],0)),tb_formas_pagamento[Nome_Forma],0))),\"\")","v":""},null,{"$f":"IF(OR(tb_pagamentos[[#This Row],[Data_Vencimento]]=\"\",tb_pagamentos[[#This Row],[Valor_Parcela]]=\"\",tb_pagamentos[[#This Row],[Qtd_Total_Parcelas]]=\"\",tb_pagamentos[[#This Row],[Nr_Pedido]]=\"\"),\"\",IF(tb_pagamentos[[#This Row],[Data_Pagamento]]<>\"\",\"Pago\",IF(AND(tb_pagamentos[[#This Row],[Data_Pagamento]]=\"\",tb_pagamentos[[#This Row],[Data_Vencimento]]<TODAY()),\"Em Atraso\",\"A vencer\")))","v":""}]
[null,null,"",{"$f":"IFERROR(INDEX(CALC_BASE!$N$3:$N$52,MATCH(ROW()-7,CALC_BASE!$M$3:$M$52,0)),\"\")","v":""},{"$f":"IFERROR(INDEX(CALC_BASE!$O$3:$O$52,MATCH(ROW()-7,CALC_BASE!$M$3:$M$52,0)),\"\")","v":""},{"$f":"IFERROR(INDEX(CALC_BASE!$P$3:$P$52,MATCH(ROW()-7,CALC_BASE!$M$3:$M$52,0)),\"\")","v":""},{"$f":"IFERROR(IF(D860=\"\",\"\",INDEX(tb_vendas[Preço de Venda],MATCH(D860,tb_vendas[N° Pedido/Empresa],0))/F860),\"\")","v":""},{"$f":"IFERROR(IF(D860=\"\",\"\",INDEX(tb_vendas[Data Fechamento],MATCH(D860,tb_vendas[N° Pedido/Empresa],0))+E860*INDEX(tb_formas_pagamento[Dias_Intervalo],MATCH(INDEX(tb_vendas[Forma_Pagamento],MATCH(D860,tb_vendas[N° Pedido/Empresa],0)),tb_formas_pagamento[Nome_Forma],0))),\"\")","v":""},null,{"$f":"IF(OR(tb_pagamentos[[#This Row],[Data_Vencimento]]=\"\",tb_pagamentos[[#This Row],[Valor_Parcela]]=\"\",tb_pagamentos[[#This Row],[Qtd_Total_Parcelas]]=\"\",tb_pagamentos[[#This Row],[Nr_Pedido]]=\"\"),\"\",IF(tb_pagamentos[[#This Row],[Data_Pagamento]]<>\"\",\"Pago\",IF(AND(tb_pagamentos[[#This Row],[Data_Pagamento]]=\"\",tb_pagamentos[[#This Row],[Data_Vencimento]]<TODAY()),\"Em Atraso\",\"A vencer\")))","v":""}]
[null,null,"",{"$f":"IFERROR(INDEX(CALC_BASE!$N$3:$N$52,MATCH(ROW()-7,CALC_BASE!$M$3:$M$52,0)),\"\")","v":""},{"$f":"IFERROR(INDEX(CALC_BASE!$O$3:$O$52,MATCH(ROW()-7,CALC_BASE!$M$3:$M$52,0)),\"\")","v":""},{"$f":"IFERROR(INDEX(CALC_BASE!$P$3:$P$52,MATCH(ROW()-7,CALC_BASE!$M$3:$M$52,0)),\"\")","v":""},{"$f":"IFERROR(IF(D861=\"\",\"\",INDEX(tb_vendas[Preço de Venda],MATCH(D861,tb_vendas[N° Pedido/Empresa],0))/F861),\"\")","v":""},{"$f":"IFERROR(IF(D861=\"\",\"\",INDEX(tb_vendas[Data Fechamento],MATCH(D861,tb_vendas[N° Pedido/Empresa],0))+E861*INDEX(tb_formas_pagamento[Dias_Intervalo],MATCH(INDEX(tb_vendas[Forma_Pagamento],MATCH(D861,tb_vendas[N° Pedido/Empresa],0)),tb_formas_pagamento[Nome_Forma],0))),\"\")","v":""},null,{"$f":"IF(OR(tb_pagamentos[[#This Row],[Data_Vencimento]]=\"\",tb_pagamentos[[#This Row],[Valor_Parcela]]=\"\",tb_pagamentos[[#This Row],[Qtd_Total_Parcelas]]=\"\",tb_pagamentos[[#This Row],[Nr_Pedido]]=\"\"),\"\",IF(tb_pagamentos[[#This Row],[Data_Pagamento]]<>\"\",\"Pago\",IF(AND(tb_pagamentos[[#This Row],[Data_Pagamento]]=\"\",tb_pagamentos[[#This Row],[Data_Vencimento]]<TODAY()),\"Em Atraso\",\"A vencer\")))","v":""}]
[null,null,"",{"$f":"IFERROR(INDEX(CALC_BASE!$N$3:$N$52,MATCH(ROW()-7,CALC_BASE!$M$3:$M$52,0)),\"\")","v":""},{"$f":"IFERROR(INDEX(CALC_BASE!$O$3:$O$52,MATCH(ROW()-7,CALC_BASE!$M$3:$M$52,0)),\"\")","v":""},{"$f":"IFERROR(INDEX(CALC_BASE!$P$3:$P$52,MATCH(ROW()-7,CALC_BASE!$M$3:$M$52,0)),\"\")","v":""},{"$f":"IFERROR(IF(D862=\"\",\"\",INDEX(tb_vendas[Preço de Venda],MATCH(D862,tb_vendas[N° Pedido/Empresa],0))/F862),\"\")","v":""},{"$f":"IFERROR(IF(D862=\"\",\"\",INDEX(tb_vendas[Data Fechamento],MATCH(D862,tb_vendas[N° Pedido/Empresa],0))+E862*INDEX(tb_formas_pagamento[Dias_Intervalo],MATCH(INDEX(tb_vendas[Forma_Pagamento],MATCH(D862,tb_vendas[N° Pedido/Empresa],0)),tb_formas_pagamento[Nome_Forma],0))),\"\")","v":""},null,{"$f":"IF(OR(tb_pagamentos[[#This Row],[Data_Vencimento]]=\"\",tb_pagamentos[[#This Row],[Valor_Parcela]]=\"\",tb_pagamentos[[#This Row],[Qtd_Total_Parcelas]]=\"\",tb_pagamentos[[#This Row],[Nr_Pedido]]=\"\"),\"\",IF(tb_pagamentos[[#This Row],[Data_Pagamento]]<>\"\",\"Pago\",IF(AND(tb_pagamentos[[#This Row],[Data_Pagamento]]=\"\",tb_pagamentos[[#This Row],[Data_Vencimento]]<TODAY()),\"Em Atraso\",\"A vencer\")))","v":""}]
[null,null,"",{"$f":"IFERROR(INDEX(CALC_BASE!$N$3:$N$52,MATCH(ROW()-7,CALC_BASE!$M$3:$M$52,0)),\"\")","v":""},{"$f":"IFERROR(INDEX(CALC_BASE!$O$3:$O$52,MATCH(ROW()-7,CALC_BASE!$M$3:$M$52,0)),\"\")","v":""},{"$f":"IFERROR(INDEX(CALC_BASE!$P$3:$P$52,MATCH(ROW()-7,CALC_BASE!$M$3:$M$52,0)),\"\")","v":""},{"$f":"IFERROR(IF(D863=\"\",\"\",INDEX(tb_vendas[Preço de Venda],MATCH(D863,tb_vendas[N° Pedido/Empresa],0))/F863),\"\")","v":""},{"$f":"IFERROR(IF(D863=\"\",\"\",INDEX(tb_vendas[Data Fechamento],MATCH(D863,tb_vendas[N° Pedido/Empresa],0))+E863*INDEX(tb_formas_pagamento[Dias_Intervalo],MATCH(INDEX(tb_vendas[Forma_Pagamento],MATCH(D863,tb_vendas[N° Pedido/Empresa],0)),tb_formas_pagamento[Nome_Forma],0))),\"\")","v":""},null,{"$f":"IF(OR(tb_pagamentos[[#This Row],[Data_Vencimento]]=\"\",tb_pagamentos[[#This Row],[Valor_Parcela]]=\"\",tb_pagamentos[[#This Row],[Qtd_Total_Parcelas]]=\"\",tb_pagamentos[[#This Row],[Nr_Pedido]]=\"\"),\"\",IF(tb_pagamentos[[#This Row],[Data_Pagamento]]<>\"\",\"Pago\",IF(AND(tb_pagamentos[[#This Row],[Data_Pagamento]]=\"\",tb_pagamentos[[#This Row],[Data_Vencimento]]<TODAY()),\"Em Atraso\",\"A vencer\")))","v":""}]
[null,null,"",{"$f":"IFERROR(INDEX(CALC_BASE!$N$3:$N$52,MATCH(ROW()-7,CALC_BASE!$M$3:$M$52,0)),\"\")","v":""},{"$f":"IFERROR(INDEX(CALC_BASE!$O$3:$O$52,MATCH(ROW()-7,CALC_BASE!$M$3:$M$52,0)),\"\")","v":""},{"$f":"IFERROR(INDEX(CALC_BASE!$P$3:$P$52,MATCH(ROW()-7,CALC_BASE!$M$3:$M$52,0)),\"\")","v":""},{"$f":"IFERROR(IF(D864=\"\",\"\",INDEX(tb_vendas[Preço de Venda],MATCH(D864,tb_vendas[N° Pedido/Empresa],0))/F864),\"\")","v":""},{"$f":"IFERROR(IF(D864=\"\",\"\",INDEX(tb_vendas[Data Fechamento],MATCH(D864,tb_vendas[N° Pedido/Empresa],0))+E864*INDEX(tb_formas_pagamento[Dias_Intervalo],MATCH(INDEX(tb_vendas[Forma_Pagamento],MATCH(D864,tb_vendas[N° Pedido/Empresa],0)),tb_formas_pagamento[Nome_Forma],0))),\"\")","v":""},null,{"$f":"IF(OR(tb_pagamentos[[#This Row],[Data_Vencimento]]=\"\",tb_pagamentos[[#This Row],[Valor_Parcela]]=\"\",tb_pagamentos[[#This Row],[Qtd_Total_Parcelas]]=\"\",tb_pagamentos[[#This Row],[Nr_Pedido]]=\"\"),\"\",IF(tb_pagamentos[[#This Row],[Data_Pagamento]]<>\"\",\"Pago\",IF(AND(tb_pagamentos[[#This Row],[Data_Pagamento]]=\"\",tb_pagamentos[[#This Row],[Data_Vencimento]]<TODAY()),\"Em Atraso\",\"A vencer\")))","v":""}]
[null,null,"",{"$f":"IFERROR(INDEX(CALC_BASE!$N$3:$N$52,MATCH(ROW()-7,CALC_BASE!$M$3:$M$52,0)),\"\")","v":""},{"$f":"IFERROR(INDEX(CALC_BASE!$O$3:$O$52,MATCH(ROW()-7,CALC_BASE!$M$3:$M$52,0)),\"\")","v":""},{"$f":"IFERROR(INDEX(CALC_BASE!$P$3:$P$52,MATCH(ROW()-7,CALC_BASE!$M$3:$M$52,0)),\"\")","v":""},{"$f":"IFERROR(IF(D865=\"\",\"\",INDEX(tb_vendas[Preço de Venda],MATCH(D865,tb_vendas[N° Pedido/Empresa],0))/F865),\"\")","v":""},{"$f":"IFERROR(IF(D865=\"\",\"\",INDEX(tb_vendas[Data Fechamento],MATCH(D865,tb_vendas[N° Pedido/Empresa],0))+E865*INDEX(tb_formas_pagamento[Dias_Intervalo],MATCH(INDEX(tb_vendas[Forma_Pagamento],MATCH(D865,tb_vendas[N° Pedido/Empresa],0)),tb_formas_pagamento[Nome_Forma],0))),\"\")","v":""},null,{"$f":"IF(OR(tb_pagamentos[[#This Row],[Data_Vencimento]]=\"\",tb_pagamentos[[#This Row],[Valor_Parcela]]=\"\",tb_pagamentos[[#This Row],[Qtd_Total_Parcelas]]=\"\",tb_pagamentos[[#This Row],[Nr_Pedido]]=\"\"),\"\",IF(tb_pagamentos[[#This Row],[Data_Pagamento]]<>\"\",\"Pago\",IF(AND(tb_pagamentos[[#This Row],[Data_Pagamento]]=\"\",tb_pagamentos[[#This Row],[Data_Vencimento]]<TODAY()),\"Em Atraso\",\"A vencer\")))","v":""}]
[null,null,"",{"$f":"IFERROR(INDEX(CALC_BASE!$N$3:$N$52,MATCH(ROW()-7,CALC_BASE!$M$3:$M$52,0)),\"\")","v":""},{"$f":"IFERROR(INDEX(CALC_BASE!$O$3:$O$52,MATCH(ROW()-7,CALC_BASE!$M$3:$M$52,0)),\"\")","v":""},{"$f":"IFERROR(INDEX(CALC_BASE!$P$3:$P$52,MATCH(ROW()-7,CALC_BASE!$M$3:$M$52,0)),\"\")","v":""},{"$f":"IFERROR(IF(D866=\"\",\"\",INDEX(tb_vendas[Preço de Venda],MATCH(D866,tb_vendas[N° Pedido/Empresa],0))/F866),\"\")","v":""},{"$f":"IFERROR(IF(D866=\"\",\"\",INDEX(tb_vendas[Data Fechamento],MATCH(D866,tb_vendas[N° Pedido/Empresa],0))+E866*INDEX(tb_formas_pagamento[Dias_Intervalo],MATCH(INDEX(tb_vendas[Forma_Pagamento],MATCH(D866,tb_vendas[N° Pedido/Empresa],0)),tb_formas_pagamento[Nome_Forma],0))),\"\")","v":""},null,{"$f":"IF(OR(tb_pagamentos[[#This Row],[Data_Vencimento]]=\"\",tb_pagamentos[[#This Row],[Valor_Parcela]]=\"\",tb_pagamentos[[#This Row],[Qtd_Total_Parcelas]]=\"\",tb_pagamentos[[#This Row],[Nr_Pedido]]=\"\"),\"\",IF(tb_pagamentos[[#This Row],[Data_Pagamento]]<>\"\",\"Pago\",IF(AND(tb_pagamentos[[#This Row],[Data_Pagamento]]=\"\",tb_pagamentos[[#This Row],[Data_Vencimento]]<TODAY()),\"Em Atraso\",\"A vencer\")))","v":""}]
[null,null,"",{"$f":"IFERROR(INDEX(CALC_BASE!$N$3:$N$52,MATCH(ROW()-7,CALC_BASE!$M$3:$M$52,0)),\"\")","v":""},{"$f":"IFERROR(INDEX(CALC_BASE!$O$3:$O$52,MATCH(ROW()-7,CALC_BASE!$M$3:$M$52,0)),\"\")","v":""},{"$f":"IFERROR(INDEX(CALC_BASE!$P$3:$P$52,MATCH(ROW()-7,CALC_BASE!$M$3:$M$52,0)),\"\")","v":""},{"$f":"IFERROR(IF(D867=\"\",\"\",INDEX(tb_vendas[Preço de Venda],MATCH(D867,tb_vendas[N° Pedido/Empresa],0))/F867),\"\")","v":""},{"$f":"IFERROR(IF(D867=\"\",\"\",INDEX(tb_vendas[Data Fechamento],MATCH(D867,tb_vendas[N° Pedido/Empresa],0))+E867*INDEX(tb_formas_pagamento[Dias_Intervalo],MATCH(INDEX(tb_vendas[Forma_Pagamento],MATCH(D867,tb_vendas[N° Pedido/Empresa],0)),tb_formas_pagamento[Nome_Forma],0))),\"\")","v":""},null,{"$f":"IF(OR(tb_pagamentos[[#This Row],[Data_Vencimento]]=\"\",tb_pagamentos[[#This Row],[Valor_Parcela]]=\"\",tb_pagamentos[[#This Row],[Qtd_Total_Parcelas]]=\"\",tb_pagamentos[[#This Row],[Nr_Pedido]]=\"\"),\"\",IF(tb_pagamentos[[#This Row],[Data_Pagamento]]<>\"\",\"Pago\",IF(AND(tb_pagamentos[[#This Row],[Data_Pagamento]]=\"\",tb_pagamentos[[#This Row],[Data_Vencimento]]<TODAY()),\"Em Atraso\",\"A vencer\")))","v":""}]
[null,null,"",{"$f":"IFERROR(INDEX(CALC_BASE!$N$3:$N$52,MATCH(ROW()-7,CALC_BASE!$M$3:$M$52,0)),\"\")","v":""},{"$f":"IFERROR(INDEX(CALC_BASE!$O$3:$O$52,MATCH(ROW()-7,CALC_BASE!$M$3:$M$52,0)),\"\")","v":""},{"$f":"IFERROR(INDEX(CALC_BASE!$P$3:$P$52,MATCH(ROW()-7,CALC_BASE!$M$3:$M$52,0)),\"\")","v":""},{"$f":"IFERROR(IF(D868=\"\",\"\",INDEX(tb_vendas[Preço de Venda],MATCH(D868,tb_vendas[N° Pedido/Empresa],0))/F868),\"\")","v":""},{"$f":"IFERROR(IF(D868=\"\",\"\",INDEX(tb_vendas[Data Fechamento],MATCH(D868,tb_vendas[N° Pedido/Empresa],0))+E868*INDEX(tb_formas_pagamento[Dias_Intervalo],MATCH(INDEX(tb_vendas[Forma_Pagamento],MATCH(D868,tb_vendas[N° Pedido/Empresa],0)),tb_formas_pagamento[Nome_Forma],0))),\"\")","v":""},null,{"$f":"IF(OR(tb_pagamentos[[#This Row],[Data_Vencimento]]=\"\",tb_pagamentos[[#This Row],[Valor_Parcela]]=\"\",tb_pagamentos[[#This Row],[Qtd_Total_Parcelas]]=\"\",tb_pagamentos[[#This Row],[Nr_Pedido]]=\"\"),\"\",IF(tb_pagamentos[[#This Row],[Data_Pagamento]]<>\"\",\"Pago\",IF(AND(tb_pagamentos[[#This Row],[Data_Pagamento]]=\"\",tb_pagamentos[[#This Row],[Data_Vencimento]]<TODAY()),\"Em Atraso\",\"A vencer\")))","v":""}]
[null,null,"",{"$f":"IFERROR(INDEX(CALC_BASE!$N$3:$N$52,MATCH(ROW()-7,CALC_BASE!$M$3:$M$52,0)),\"\")","v":""},{"$f":"IFERROR(INDEX(CALC_BASE!$O$3:$O$52,MATCH(ROW()-7,CALC_BASE!$M$3:$M$52,0)),\"\")","v":""},{"$f":"IFERROR(INDEX(CALC_BASE!$P$3:$P$52,MATCH(ROW()-7,CALC_BASE!$M$3:$M$52,0)),\"\")","v":""},{"$f":"IFERROR(IF(D869=\"\",\"\",INDEX(tb_vendas[Preço de Venda],MATCH(D869,tb_vendas[N° Pedido/Empresa],0))/F869),\"\")","v":""},{"$f":"IFERROR(IF(D869=\"\",\"\",INDEX(tb_vendas[Data Fechamento],MATCH(D869,tb_vendas[N° Pedido/Empresa],0))+E869*INDEX(tb_formas_pagamento[Dias_Intervalo],MATCH(INDEX(tb_vendas[Forma_Pagamento],MATCH(D869,tb_vendas[N° Pedido/Empresa],0)),tb_formas_pagamento[Nome_Forma],0))),\"\")","v":""},null,{"$f":"IF(OR(tb_pagamentos[[#This Row],[Data_Vencimento]]=\"\",tb_pagamentos[[#This Row],[Valor_Parcela]]=\"\",tb_pagamentos[[#This Row],[Qtd_Total_Parcelas]]=\"\",tb_pagamentos[[#This Row],[Nr_Pedido]]=\"\"),\"\",IF(tb_pagamentos[[#This Row],[Data_Pagamento]]<>\"\",\"Pago\",IF(AND(tb_pagamentos[[#This Row],[Data_Pagamento]]=\"\",tb_pagamentos[[#This Row],[Data_Vencimento]]<TODAY()),\"Em Atraso\",\"A vencer\")))","v":""}]
[null,null,"",{"$f":"IFERROR(INDEX(CALC_BASE!$N$3:$N$52,MATCH(ROW()-7,CALC_BASE!$M$3:$M$52,0)),\"\")","v":""},{"$f":"IFERROR(INDEX(CALC_BASE!$O$3:$O$52,MATCH(ROW()-7,CALC_BASE!$M$3:$M$52,0)),\"\")","v":""},{"$f":"IFERROR(INDEX(CALC_BASE!$P$3:$P$52,MATCH(ROW()-7,CALC_BASE!$M$3:$M$52,0)),\"\")","v":""},{"$f":"IFERROR(IF(D870=\"\",\"\",INDEX(tb_vendas[Preço de Venda],MATCH(D870,tb_vendas[N° Pedido/Empresa],0))/F870),\"\")","v":""},{"$f":"IFERROR(IF(D870=\"\",\"\",INDEX(tb_vendas[Data Fechamento],MATCH(D870,tb_vendas[N° Pedido/Empresa],0))+E870*INDEX(tb_formas_pagamento[Dias_Intervalo],MATCH(INDEX(tb_vendas[Forma_Pagamento],MATCH(D870,tb_vendas[N° Pedido/Empresa],0)),tb_formas_pagamento[Nome_Forma],0))),\"\")","v":""},null,{"$f":"IF(OR(tb_pagamentos[[#This Row],[Data_Vencimento]]=\"\",tb_pagamentos[[#This Row],[Valor_Parcela]]=\"\",tb_pagamentos[[#This Row],[Qtd_Total_Parcelas]]=\"\",tb_pagamentos[[#This Row],[Nr_Pedido]]=\"\"),\"\",IF(tb_pagamentos[[#This Row],[Data_Pagamento]]<>\"\",\"Pago\",IF(AND(tb_pagamentos[[#This Row],[Data_Pagamento]]=\"\",tb_pagamentos[[#This Row],[Data_Vencimento]]<TODAY()),\"Em Atraso\",\"A vencer\")))","v":""}]
[null,null,"",{"$f":"IFERROR(INDEX(CALC_BASE!$N$3:$N$52,MATCH(ROW()-7,CALC_BASE!$M$3:$M$52,0)),\"\")","v":""},{"$f":"IFERROR(INDEX(CALC_BASE!$O$3:$O$52,MATCH(ROW()-7,CALC_BASE!$M$3:$M$52,0)),\"\")","v":""},{"$f":"IFERROR(INDEX(CALC_BASE!$P$3:$P$52,MATCH(ROW()-7,CALC_BASE!$M$3:$M$52,0)),\"\")","v":""},{"$f":"IFERROR(IF(D871=\"\",\"\",INDEX(tb_vendas[Preço de Venda],MATCH(D871,tb_vendas[N° Pedido/Empresa],0))/F871),\"\")","v":""},{"$f":"IFERROR(IF(D871=\"\",\"\",INDEX(tb_vendas[Data Fechamento],MATCH(D871,tb_vendas[N° Pedido/Empresa],0))+E871*INDEX(tb_formas_pagamento[Dias_Intervalo],MATCH(INDEX(tb_vendas[Forma_Pagamento],MATCH(D871,tb_vendas[N° Pedido/Empresa],0)),tb_formas_pagamento[Nome_Forma],0))),\"\")","v":""},null,{"$f":"IF(OR(tb_pagamentos[[#This Row],[Data_Vencimento]]=\"\",tb_pagamentos[[#This Row],[Valor_Parcela]]=\"\",tb_pagamentos[[#This Row],[Qtd_Total_Parcelas]]=\"\",tb_pagamentos[[#This Row],[Nr_Pedido]]=\"\"),\"\",IF(tb_pagamentos[[#This Row],[Data_Pagamento]]<>\"\",\"Pago\",IF(AND(tb_pagamentos[[#This Row],[Data_Pagamento]]=\"\",tb_pagamentos[[#This Row],[Data_Vencimento]]<TODAY()),\"Em Atraso\",\"A vencer\")))","v":""}]
[null,null,"",{"$f":"IFERROR(INDEX(CALC_BASE!$N$3:$N$52,MATCH(ROW()-7,CALC_BASE!$M$3:$M$52,0)),\"\")","v":""},{"$f":"IFERROR(INDEX(CALC_BASE!$O$3:$O$52,MATCH(ROW()-7,CALC_BASE!$M$3:$M$52,0)),\"\")","v":""},{"$f":"IFERROR(INDEX(CALC_BASE!$P$3:$P$52,MATCH(ROW()-7,CALC_BASE!$M$3:$M$52,0)),\"\")","v":""},{"$f":"IFERROR(IF(D872=\"\",\"\",INDEX(tb_vendas[Preço de Venda],MATCH(D872,tb_vendas[N° Pedido/Empresa],0))/F872),\"\")","v":""},{"$f":"IFERROR(IF(D872=\"\",\"\",INDEX(tb_vendas[Data Fechamento],MATCH(D872,tb_vendas[N° Pedido/Empresa],0))+E872*INDEX(tb_formas_pagamento[Dias_Intervalo],MATCH(INDEX(tb_vendas[Forma_Pagamento],MATCH(D872,tb_vendas[N° Pedido/Empresa],0)),tb_formas_pagamento[Nome_Forma],0))),\"\")","v":""},null,{"$f":"IF(OR(tb_pagamentos[[#This Row],[Data_Vencimento]]=\"\",tb_pagamentos[[#This Row],[Valor_Parcela]]=\"\",tb_pagamentos[[#This Row],[Qtd_Total_Parcelas]]=\"\",tb_pagamentos[[#This Row],[Nr_Pedido]]=\"\"),\"\",IF(tb_pagamentos[[#This Row],[Data_Pagamento]]<>\"\",\"Pago\",IF(AND(tb_pagamentos[[#This Row],[Data_Pagamento]]=\"\",tb_pagamentos[[#This Row],[Data_Vencimento]]<TODAY()),\"Em Atraso\",\"A vencer\")))","v":""}]
[null,null,"",{"$f":"IFERROR(INDEX(CALC_BASE!$N$3:$N$52,MATCH(ROW()-7,CALC_BASE!$M$3:$M$52,0)),\"\")","v":""},{"$f":"IFERROR(INDEX(CALC_BASE!$O$3:$O$52,MATCH(ROW()-7,CALC_BASE!$M$3:$M$52,0)),\"\")","v":""},{"$f":"IFERROR(INDEX(CALC_BASE!$P$3:$P$52,MATCH(ROW()-7,CALC_BASE!$M$3:$M$52,0)),\"\")","v":""},{"$f":"IFERROR(IF(D873=\"\",\"\",INDEX(tb_vendas[Preço de Venda],MATCH(D873,tb_vendas[N° Pedido/Empresa],0))/F873),\"\")","v":""},{"$f":"IFERROR(IF(D873=\"\",\"\",INDEX(tb_vendas[Data Fechamento],MATCH(D873,tb_vendas[N° Pedido/Empresa],0))+E873*INDEX(tb_formas_pagamento[Dias_Intervalo],MATCH(INDEX(tb_vendas[Forma_Pagamento],MATCH(D873,tb_vendas[N° Pedido/Empresa],0)),tb_formas_pagamento[Nome_Forma],0))),\"\")","v":""},null,{"$f":"IF(OR(tb_pagamentos[[#This Row],[Data_Vencimento]]=\"\",tb_pagamentos[[#This Row],[Valor_Parcela]]=\"\",tb_pagamentos[[#This Row],[Qtd_Total_Parcelas]]=\"\",tb_pagamentos[[#This Row],[Nr_Pedido]]=\"\"),\"\",IF(tb_pagamentos[[#This Row],[Data_Pagamento]]<>\"\",\"Pago\",IF(AND(tb_pagamentos[[#This Row],[Data_Pagamento]]=\"\",tb_pagamentos[[#This Row],[Data_Vencimento]]<TODAY()),\"Em Atraso\",\"A vencer\")))","v":""}]
[null,null,"",{"$f":"IFERROR(INDEX(CALC_BASE!$N$3:$N$52,MATCH(ROW()-7,CALC_BASE!$M$3:$M$52,0)),\"\")","v":""},{"$f":"IFERROR(INDEX(CALC_BASE!$O$3:$O$52,MATCH(ROW()-7,CALC_BASE!$M$3:$M$52,0)),\"\")","v":""},{"$f":"IFERROR(INDEX(CALC_BASE!$P$3:$P$52,MATCH(ROW()-7,CALC_BASE!$M$3:$M$52,0)),\"\")","v":""},{"$f":"IFERROR(IF(D874=\"\",\"\",INDEX(tb_vendas[Preço de Venda],MATCH(D874,tb_vendas[N° Pedido/Empresa],0))/F874),\"\")","v":""},{"$f":"IFERROR(IF(D874=\"\",\"\",INDEX(tb_vendas[Data Fechamento],MATCH(D874,tb_vendas[N° Pedido/Empresa],0))+E874*INDEX(tb_formas_pagamento[Dias_Intervalo],MATCH(INDEX(tb_vendas[Forma_Pagamento],MATCH(D874,tb_vendas[N° Pedido/Empresa],0)),tb_formas_pagamento[Nome_Forma],0))),\"\")","v":""},null,{"$f":"IF(OR(tb_pagamentos[[#This Row],[Data_Vencimento]]=\"\",tb_pagamentos[[#This Row],[Valor_Parcela]]=\"\",tb_pagamentos[[#This Row],[Qtd_Total_Parcelas]]=\"\",tb_pagamentos[[#This Row],[Nr_Pedido]]=\"\"),\"\",IF(tb_pagamentos[[#This Row],[Data_Pagamento]]<>\"\",\"Pago\",IF(AND(tb_pagamentos[[#This Row],[Data_Pagamento]]=\"\",tb_pagamentos[[#This Row],[Data_Vencimento]]<TODAY()),\"Em Atraso\",\"A vencer\")))","v":""}]
[null,null,"",{"$f":"IFERROR(INDEX(CALC_BASE!$N$3:$N$52,MATCH(ROW()-7,CALC_BASE!$M$3:$M$52,0)),\"\")","v":""},{"$f":"IFERROR(INDEX(CALC_BASE!$O$3:$O$52,MATCH(ROW()-7,CALC_BASE!$M$3:$M$52,0)),\"\")","v":""},{"$f":"IFERROR(INDEX(CALC_BASE!$P$3:$P$52,MATCH(ROW()-7,CALC_BASE!$M$3:$M$52,0)),\"\")","v":""},{"$f":"IFERROR(IF(D875=\"\",\"\",INDEX(tb_vendas[Preço de Venda],MATCH(D875,tb_vendas[N° Pedido/Empresa],0))/F875),\"\")","v":""},{"$f":"IFERROR(IF(D875=\"\",\"\",INDEX(tb_vendas[Data Fechamento],MATCH(D875,tb_vendas[N° Pedido/Empresa],0))+E875*INDEX(tb_formas_pagamento[Dias_Intervalo],MATCH(INDEX(tb_vendas[Forma_Pagamento],MATCH(D875,tb_vendas[N° Pedido/Empresa],0)),tb_formas_pagamento[Nome_Forma],0))),\"\")","v":""},null,{"$f":"IF(OR(tb_pagamentos[[#This Row],[Data_Vencimento]]=\"\",tb_pagamentos[[#This Row],[Valor_Parcela]]=\"\",tb_pagamentos[[#This Row],[Qtd_Total_Parcelas]]=\"\",tb_pagamentos[[#This Row],[Nr_Pedido]]=\"\"),\"\",IF(tb_pagamentos[[#This Row],[Data_Pagamento]]<>\"\",\"Pago\",IF(AND(tb_pagamentos[[#This Row],[Data_Pagamento]]=\"\",tb_pagamentos[[#This Row],[Data_Vencimento]]<TODAY()),\"Em Atraso\",\"A vencer\")))","v":""}]
[null,null,"",{"$f":"IFERROR(INDEX(CALC_BASE!$N$3:$N$52,MATCH(ROW()-7,CALC_BASE!$M$3:$M$52,0)),\"\")","v":""},{"$f":"IFERROR(INDEX(CALC_BASE!$O$3:$O$52,MATCH(ROW()-7,CALC_BASE!$M$3:$M$52,0)),\"\")","v":""},{"$f":"IFERROR(INDEX(CALC_BASE!$P$3:$P$52,MATCH(ROW()-7,CALC_BASE!$M$3:$M$52,0)),\"\")","v":""},{"$f":"IFERROR(IF(D876=\"\",\"\",INDEX(tb_vendas[Preço de Venda],MATCH(D876,tb_vendas[N° Pedido/Empresa],0))/F876),\"\")","v":""},{"$f":"IFERROR(IF(D876=\"\",\"\",INDEX(tb_vendas[Data Fechamento],MATCH(D876,tb_vendas[N° Pedido/Empresa],0))+E876*INDEX(tb_formas_pagamento[Dias_Intervalo],MATCH(INDEX(tb_vendas[Forma_Pagamento],MATCH(D876,tb_vendas[N° Pedido/Empresa],0)),tb_formas_pagamento[Nome_Forma],0))),\"\")","v":""},null,{"$f":"IF(OR(tb_pagamentos[[#This Row],[Data_Vencimento]]=\"\",tb_pagamentos[[#This Row],[Valor_Parcela]]=\"\",tb_pagamentos[[#This Row],[Qtd_Total_Parcelas]]=\"\",tb_pagamentos[[#This Row],[Nr_Pedido]]=\"\"),\"\",IF(tb_pagamentos[[#This Row],[Data_Pagamento]]<>\"\",\"Pago\",IF(AND(tb_pagamentos[[#This Row],[Data_Pagamento]]=\"\",tb_pagamentos[[#This Row],[Data_Vencimento]]<TODAY()),\"Em Atraso\",\"A vencer\")))","v":""}]
[null,null,"",{"$f":"IFERROR(INDEX(CALC_BASE!$N$3:$N$52,MATCH(ROW()-7,CALC_BASE!$M$3:$M$52,0)),\"\")","v":""},{"$f":"IFERROR(INDEX(CALC_BASE!$O$3:$O$52,MATCH(ROW()-7,CALC_BASE!$M$3:$M$52,0)),\"\")","v":""},{"$f":"IFERROR(INDEX(CALC_BASE!$P$3:$P$52,MATCH(ROW()-7,CALC_BASE!$M$3:$M$52,0)),\"\")","v":""},{"$f":"IFERROR(IF(D877=\"\",\"\",INDEX(tb_vendas[Preço de Venda],MATCH(D877,tb_vendas[N° Pedido/Empresa],0))/F877),\"\")","v":""},{"$f":"IFERROR(IF(D877=\"\",\"\",INDEX(tb_vendas[Data Fechamento],MATCH(D877,tb_vendas[N° Pedido/Empresa],0))+E877*INDEX(tb_formas_pagamento[Dias_Intervalo],MATCH(INDEX(tb_vendas[Forma_Pagamento],MATCH(D877,tb_vendas[N° Pedido/Empresa],0)),tb_formas_pagamento[Nome_Forma],0))),\"\")","v":""},null,{"$f":"IF(OR(tb_pagamentos[[#This Row],[Data_Vencimento]]=\"\",tb_pagamentos[[#This Row],[Valor_Parcela]]=\"\",tb_pagamentos[[#This Row],[Qtd_Total_Parcelas]]=\"\",tb_pagamentos[[#This Row],[Nr_Pedido]]=\"\"),\"\",IF(tb_pagamentos[[#This Row],[Data_Pagamento]]<>\"\",\"Pago\",IF(AND(tb_pagamentos[[#This Row],[Data_Pagamento]]=\"\",tb_pagamentos[[#This Row],[Data_Vencimento]]<TODAY()),\"Em Atraso\",\"A vencer\")))","v":""}]
[null,null,"",{"$f":"IFERROR(INDEX(CALC_BASE!$N$3:$N$52,MATCH(ROW()-7,CALC_BASE!$M$3:$M$52,0)),\"\")","v":""},{"$f":"IFERROR(INDEX(CALC_BASE!$O$3:$O$52,MATCH(ROW()-7,CALC_BASE!$M$3:$M$52,0)),\"\")","v":""},{"$f":"IFERROR(INDEX(CALC_BASE!$P$3:$P$52,MATCH(ROW()-7,CALC_BASE!$M$3:$M$52,0)),\"\")","v":""},{"$f":"IFERROR(IF(D878=\"\",\"\",INDEX(tb_vendas[Preço de Venda],MATCH(D878,tb_vendas[N° Pedido/Empresa],0))/F878),\"\")","v":""},{"$f":"IFERROR(IF(D878=\"\",\"\",INDEX(tb_vendas[Data Fechamento],MATCH(D878,tb_vendas[N° Pedido/Empresa],0))+E878*INDEX(tb_formas_pagamento[Dias_Intervalo],MATCH(INDEX(tb_vendas[Forma_Pagamento],MATCH(D878,tb_vendas[N° Pedido/Empresa],0)),tb_formas_pagamento[Nome_Forma],0))),\"\")","v":""},null,{"$f":"IF(OR(tb_pagamentos[[#This Row],[Data_Vencimento]]=\"\",tb_pagamentos[[#This Row],[Valor_Parcela]]=\"\",tb_pagamentos[[#This Row],[Qtd_Total_Parcelas]]=\"\",tb_pagamentos[[#This Row],[Nr_Pedido]]=\"\"),\"\",IF(tb_pagamentos[[#This Row],[Data_Pagamento]]<>\"\",\"Pago\",IF(AND(tb_pagamentos[[#This Row],[Data_Pagamento]]=\"\",tb_pagamentos[[#This Row],[Data_Vencimento]]<TODAY()),\"Em Atraso\",\"A vencer\")))","v":""}]
[null,null,"",{"$f":"IFERROR(INDEX(CALC_BASE!$N$3:$N$52,MATCH(ROW()-7,CALC_BASE!$M$3:$M$52,0)),\"\")","v":""},{"$f":"IFERROR(INDEX(CALC_BASE!$O$3:$O$52,MATCH(ROW()-7,CALC_BASE!$M$3:$M$52,0)),\"\")","v":""},{"$f":"IFERROR(INDEX(CALC_BASE!$P$3:$P$52,MATCH(ROW()-7,CALC_BASE!$M$3:$M$52,0)),\"\")","v":""},{"$f":"IFERROR(IF(D879=\"\",\"\",INDEX(tb_vendas[Preço de Venda],MATCH(D879,tb_vendas[N° Pedido/Empresa],0))/F879),\"\")","v":""},{"$f":"IFERROR(IF(D879=\"\",\"\",INDEX(tb_vendas[Data Fechamento],MATCH(D879,tb_vendas[N° Pedido/Empresa],0))+E879*INDEX(tb_formas_pagamento[Dias_Intervalo],MATCH(INDEX(tb_vendas[Forma_Pagamento],MATCH(D879,tb_vendas[N° Pedido/Empresa],0)),tb_formas_pagamento[Nome_Forma],0))),\"\")","v":""},null,{"$f":"IF(OR(tb_pagamentos[[#This Row],[Data_Vencimento]]=\"\",tb_pagamentos[[#This Row],[Valor_Parcela]]=\"\",tb_pagamentos[[#This Row],[Qtd_Total_Parcelas]]=\"\",tb_pagamentos[[#This Row],[Nr_Pedido]]=\"\"),\"\",IF(tb_pagamentos[[#This Row],[Data_Pagamento]]<>\"\",\"Pago\",IF(AND(tb_pagamentos[[#This Row],[Data_Pagamento]]=\"\",tb_pagamentos[[#This Row],[Data_Vencimento]]<TODAY()),\"Em Atraso\",\"A vencer\")))","v":""}]
[null,null,"",{"$f":"IFERROR(INDEX(CALC_BASE!$N$3:$N$52,MATCH(ROW()-7,CALC_BASE!$M$3:$M$52,0)),\"\")","v":""},{"$f":"IFERROR(INDEX(CALC_BASE!$O$3:$O$52,MATCH(ROW()-7,CALC_BASE!$M$3:$M$52,0)),\"\")","v":""},{"$f":"IFERROR(INDEX(CALC_BASE!$P$3:$P$52,MATCH(ROW()-7,CALC_BASE!$M$3:$M$52,0)),\"\")","v":""},{"$f":"IFERROR(IF(D880=\"\",\"\",INDEX(tb_vendas[Preço de Venda],MATCH(D880,tb_vendas[N° Pedido/Empresa],0))/F880),\"\")","v":""},{"$f":"IFERROR(IF(D880=\"\",\"\",INDEX(tb_vendas[Data Fechamento],MATCH(D880,tb_vendas[N° Pedido/Empresa],0))+E880*INDEX(tb_formas_pagamento[Dias_Intervalo],MATCH(INDEX(tb_vendas[Forma_Pagamento],MATCH(D880,tb_vendas[N° Pedido/Empresa],0)),tb_formas_pagamento[Nome_Forma],0))),\"\")","v":""},null,{"$f":"IF(OR(tb_pagamentos[[#This Row],[Data_Vencimento]]=\"\",tb_pagamentos[[#This Row],[Valor_Parcela]]=\"\",tb_pagamentos[[#This Row],[Qtd_Total_Parcelas]]=\"\",tb_pagamentos[[#This Row],[Nr_Pedido]]=\"\"),\"\",IF(tb_pagamentos[[#This Row],[Data_Pagamento]]<>\"\",\"Pago\",IF(AND(tb_pagamentos[[#This Row],[Data_Pagamento]]=\"\",tb_pagamentos[[#This Row],[Data_Vencimento]]<TODAY()),\"Em Atraso\",\"A vencer\")))","v":""}]
[null,null,"",{"$f":"IFERROR(INDEX(CALC_BASE!$N$3:$N$52,MATCH(ROW()-7,CALC_BASE!$M$3:$M$52,0)),\"\")","v":""},{"$f":"IFERROR(INDEX(CALC_BASE!$O$3:$O$52,MATCH(ROW()-7,CALC_BASE!$M$3:$M$52,0)),\"\")","v":""},{"$f":"IFERROR(INDEX(CALC_BASE!$P$3:$P$52,MATCH(ROW()-7,CALC_BASE!$M$3:$M$52,0)),\"\")","v":""},{"$f":"IFERROR(IF(D881=\"\",\"\",INDEX(tb_vendas[Preço de Venda],MATCH(D881,tb_vendas[N° Pedido/Empresa],0))/F881),\"\")","v":""},{"$f":"IFERROR(IF(D881=\"\",\"\",INDEX(tb_vendas[Data Fechamento],MATCH(D881,tb_vendas[N° Pedido/Empresa],0))+E881*INDEX(tb_formas_pagamento[Dias_Intervalo],MATCH(INDEX(tb_vendas[Forma_Pagamento],MATCH(D881,tb_vendas[N° Pedido/Empresa],0)),tb_formas_pagamento[Nome_Forma],0))),\"\")","v":""},null,{"$f":"IF(OR(tb_pagamentos[[#This Row],[Data_Vencimento]]=\"\",tb_pagamentos[[#This Row],[Valor_Parcela]]=\"\",tb_pagamentos[[#This Row],[Qtd_Total_Parcelas]]=\"\",tb_pagamentos[[#This Row],[Nr_Pedido]]=\"\"),\"\",IF(tb_pagamentos[[#This Row],[Data_Pagamento]]<>\"\",\"Pago\",IF(AND(tb_pagamentos[[#This Row],[Data_Pagamento]]=\"\",tb_pagamentos[[#This Row],[Data_Vencimento]]<TODAY()),\"Em Atraso\",\"A vencer\")))","v":""}]
[null,null,"",{"$f":"IFERROR(INDEX(CALC_BASE!$N$3:$N$52,MATCH(ROW()-7,CALC_BASE!$M$3:$M$52,0)),\"\")","v":""},{"$f":"IFERROR(INDEX(CALC_BASE!$O$3:$O$52,MATCH(ROW()-7,CALC_BASE!$M$3:$M$52,0)),\"\")","v":""},{"$f":"IFERROR(INDEX(CALC_BASE!$P$3:$P$52,MATCH(ROW()-7,CALC_BASE!$M$3:$M$52,0)),\"\")","v":""},{"$f":"IFERROR(IF(D882=\"\",\"\",INDEX(tb_vendas[Preço de Venda],MATCH(D882,tb_vendas[N° Pedido/Empresa],0))/F882),\"\")","v":""},{"$f":"IFERROR(IF(D882=\"\",\"\",INDEX(tb_vendas[Data Fechamento],MATCH(D882,tb_vendas[N° Pedido/Empresa],0))+E882*INDEX(tb_formas_pagamento[Dias_Intervalo],MATCH(INDEX(tb_vendas[Forma_Pagamento],MATCH(D882,tb_vendas[N° Pedido/Empresa],0)),tb_formas_pagamento[Nome_Forma],0))),\"\")","v":""},null,{"$f":"IF(OR(tb_pagamentos[[#This Row],[Data_Vencimento]]=\"\",tb_pagamentos[[#This Row],[Valor_Parcela]]=\"\",tb_pagamentos[[#This Row],[Qtd_Total_Parcelas]]=\"\",tb_pagamentos[[#This Row],[Nr_Pedido]]=\"\"),\"\",IF(tb_pagamentos[[#This Row],[Data_Pagamento]]<>\"\",\"Pago\",IF(AND(tb_pagamentos[[#This Row],[Data_Pagamento]]=\"\",tb_pagamentos[[#This Row],[Data_Vencimento]]<TODAY()),\"Em Atraso\",\"A vencer\")))","v":""}]
[null,null,"",{"$f":"IFERROR(INDEX(CALC_BASE!$N$3:$N$52,MATCH(ROW()-7,CALC_BASE!$M$3:$M$52,0)),\"\")","v":""},{"$f":"IFERROR(INDEX(CALC_BASE!$O$3:$O$52,MATCH(ROW()-7,CALC_BASE!$M$3:$M$52,0)),\"\")","v":""},{"$f":"IFERROR(INDEX(CALC_BASE!$P$3:$P$52,MATCH(ROW()-7,CALC_BASE!$M$3:$M$52,0)),\"\")","v":""},{"$f":"IFERROR(IF(D883=\"\",\"\",INDEX(tb_vendas[Preço de Venda],MATCH(D883,tb_vendas[N° Pedido/Empresa],0))/F883),\"\")","v":""},{"$f":"IFERROR(IF(D883=\"\",\"\",INDEX(tb_vendas[Data Fechamento],MATCH(D883,tb_vendas[N° Pedido/Empresa],0))+E883*INDEX(tb_formas_pagamento[Dias_Intervalo],MATCH(INDEX(tb_vendas[Forma_Pagamento],MATCH(D883,tb_vendas[N° Pedido/Empresa],0)),tb_formas_pagamento[Nome_Forma],0))),\"\")","v":""},null,{"$f":"IF(OR(tb_pagamentos[[#This Row],[Data_Vencimento]]=\"\",tb_pagamentos[[#This Row],[Valor_Parcela]]=\"\",tb_pagamentos[[#This Row],[Qtd_Total_Parcelas]]=\"\",tb_pagamentos[[#This Row],[Nr_Pedido]]=\"\"),\"\",IF(tb_pagamentos[[#This Row],[Data_Pagamento]]<>\"\",\"Pago\",IF(AND(tb_pagamentos[[#This Row],[Data_Pagamento]]=\"\",tb_pagamentos[[#This Row],[Data_Vencimento]]<TODAY()),\"Em Atraso\",\"A vencer\")))","v":""}]
[null,null,"",{"$f":"IFERROR(INDEX(CALC_BASE!$N$3:$N$52,MATCH(ROW()-7,CALC_BASE!$M$3:$M$52,0)),\"\")","v":""},{"$f":"IFERROR(INDEX(CALC_BASE!$O$3:$O$52,MATCH(ROW()-7,CALC_BASE!$M$3:$M$52,0)),\"\")","v":""},{"$f":"IFERROR(INDEX(CALC_BASE!$P$3:$P$52,MATCH(ROW()-7,CALC_BASE!$M$3:$M$52,0)),\"\")","v":""},{"$f":"IFERROR(IF(D884=\"\",\"\",INDEX(tb_vendas[Preço de Venda],MATCH(D884,tb_vendas[N° Pedido/Empresa],0))/F884),\"\")","v":""},{"$f":"IFERROR(IF(D884=\"\",\"\",INDEX(tb_vendas[Data Fechamento],MATCH(D884,tb_vendas[N° Pedido/Empresa],0))+E884*INDEX(tb_formas_pagamento[Dias_Intervalo],MATCH(INDEX(tb_vendas[Forma_Pagamento],MATCH(D884,tb_vendas[N° Pedido/Empresa],0)),tb_formas_pagamento[Nome_Forma],0))),\"\")","v":""},null,{"$f":"IF(OR(tb_pagamentos[[#This Row],[Data_Vencimento]]=\"\",tb_pagamentos[[#This Row],[Valor_Parcela]]=\"\",tb_pagamentos[[#This Row],[Qtd_Total_Parcelas]]=\"\",tb_pagamentos[[#This Row],[Nr_Pedido]]=\"\"),\"\",IF(tb_pagamentos[[#This Row],[Data_Pagamento]]<>\"\",\"Pago\",IF(AND(tb_pagamentos[[#This Row],[Data_Pagamento]]=\"\",tb_pagamentos[[#This Row],[Data_Vencimento]]<TODAY()),\"Em Atraso\",\"A vencer\")))","v":""}]
[null,null,"",{"$f":"IFERROR(INDEX(CALC_BASE!$N$3:$N$52,MATCH(ROW()-7,CALC_BASE!$M$3:$M$52,0)),\"\")","v":""},{"$f":"IFERROR(INDEX(CALC_BASE!$O$3:$O$52,MATCH(ROW()-7,CALC_BASE!$M$3:$M$52,0)),\"\")","v":""},{"$f":"IFERROR(INDEX(CALC_BASE!$P$3:$P$52,MATCH(ROW()-7,CALC_BASE!$M$3:$M$52,0)),\"\")","v":""},{"$f":"IFERROR(IF(D885=\"\",\"\",INDEX(tb_vendas[Preço de Venda],MATCH(D885,tb_vendas[N° Pedido/Empresa],0))/F885),\"\")","v":""},{"$f":"IFERROR(IF(D885=\"\",\"\",INDEX(tb_vendas[Data Fechamento],MATCH(D885,tb_vendas[N° Pedido/Empresa],0))+E885*INDEX(tb_formas_pagamento[Dias_Intervalo],MATCH(INDEX(tb_vendas[Forma_Pagamento],MATCH(D885,tb_vendas[N° Pedido/Empresa],0)),tb_formas_pagamento[Nome_Forma],0))),\"\")","v":""},null,{"$f":"IF(OR(tb_pagamentos[[#This Row],[Data_Vencimento]]=\"\",tb_pagamentos[[#This Row],[Valor_Parcela]]=\"\",tb_pagamentos[[#This Row],[Qtd_Total_Parcelas]]=\"\",tb_pagamentos[[#This Row],[Nr_Pedido]]=\"\"),\"\",IF(tb_pagamentos[[#This Row],[Data_Pagamento]]<>\"\",\"Pago\",IF(AND(tb_pagamentos[[#This Row],[Data_Pagamento]]=\"\",tb_pagamentos[[#This Row],[Data_Vencimento]]<TODAY()),\"Em Atraso\",\"A vencer\")))","v":""}]
[null,null,"",{"$f":"IFERROR(INDEX(CALC_BASE!$N$3:$N$52,MATCH(ROW()-7,CALC_BASE!$M$3:$M$52,0)),\"\")","v":""},{"$f":"IFERROR(INDEX(CALC_BASE!$O$3:$O$52,MATCH(ROW()-7,CALC_BASE!$M$3:$M$52,0)),\"\")","v":""},{"$f":"IFERROR(INDEX(CALC_BASE!$P$3:$P$52,MATCH(ROW()-7,CALC_BASE!$M$3:$M$52,0)),\"\")","v":""},{"$f":"IFERROR(IF(D886=\"\",\"\",INDEX(tb_vendas[Preço de Venda],MATCH(D886,tb_vendas[N° Pedido/Empresa],0))/F886),\"\")","v":""},{"$f":"IFERROR(IF(D886=\"\",\"\",INDEX(tb_vendas[Data Fechamento],MATCH(D886,tb_vendas[N° Pedido/Empresa],0))+E886*INDEX(tb_formas_pagamento[Dias_Intervalo],MATCH(INDEX(tb_vendas[Forma_Pagamento],MATCH(D886,tb_vendas[N° Pedido/Empresa],0)),tb_formas_pagamento[Nome_Forma],0))),\"\")","v":""},null,{"$f":"IF(OR(tb_pagamentos[[#This Row],[Data_Vencimento]]=\"\",tb_pagamentos[[#This Row],[Valor_Parcela]]=\"\",tb_pagamentos[[#This Row],[Qtd_Total_Parcelas]]=\"\",tb_pagamentos[[#This Row],[Nr_Pedido]]=\"\"),\"\",IF(tb_pagamentos[[#This Row],[Data_Pagamento]]<>\"\",\"Pago\",IF(AND(tb_pagamentos[[#This Row],[Data_Pagamento]]=\"\",tb_pagamentos[[#This Row],[Data_Vencimento]]<TODAY()),\"Em Atraso\",\"A vencer\")))","v":""}]
[null,null,"",{"$f":"IFERROR(INDEX(CALC_BASE!$N$3:$N$52,MATCH(ROW()-7,CALC_BASE!$M$3:$M$52,0)),\"\")","v":""},{"$f":"IFERROR(INDEX(CALC_BASE!$O$3:$O$52,MATCH(ROW()-7,CALC_BASE!$M$3:$M$52,0)),\"\")","v":""},{"$f":"IFERROR(INDEX(CALC_BASE!$P$3:$P$52,MATCH(ROW()-7,CALC_BASE!$M$3:$M$52,0)),\"\")","v":""},{"$f":"IFERROR(IF(D887=\"\",\"\",INDEX(tb_vendas[Preço de Venda],MATCH(D887,tb_vendas[N° Pedido/Empresa],0))/F887),\"\")","v":""},{"$f":"IFERROR(IF(D887=\"\",\"\",INDEX(tb_vendas[Data Fechamento],MATCH(D887,tb_vendas[N° Pedido/Empresa],0))+E887*INDEX(tb_formas_pagamento[Dias_Intervalo],MATCH(INDEX(tb_vendas[Forma_Pagamento],MATCH(D887,tb_vendas[N° Pedido/Empresa],0)),tb_formas_pagamento[Nome_Forma],0))),\"\")","v":""},null,{"$f":"IF(OR(tb_pagamentos[[#This Row],[Data_Vencimento]]=\"\",tb_pagamentos[[#This Row],[Valor_Parcela]]=\"\",tb_pagamentos[[#This Row],[Qtd_Total_Parcelas]]=\"\",tb_pagamentos[[#This Row],[Nr_Pedido]]=\"\"),\"\",IF(tb_pagamentos[[#This Row],[Data_Pagamento]]<>\"\",\"Pago\",IF(AND(tb_pagamentos[[#This Row],[Data_Pagamento]]=\"\",tb_pagamentos[[#This Row],[Data_Vencimento]]<TODAY()),\"Em Atraso\",\"A vencer\")))","v":""}]
[null,null,"",{"$f":"IFERROR(INDEX(CALC_BASE!$N$3:$N$52,MATCH(ROW()-7,CALC_BASE!$M$3:$M$52,0)),\"\")","v":""},{"$f":"IFERROR(INDEX(CALC_BASE!$O$3:$O$52,MATCH(ROW()-7,CALC_BASE!$M$3:$M$52,0)),\"\")","v":""},{"$f":"IFERROR(INDEX(CALC_BASE!$P$3:$P$52,MATCH(ROW()-7,CALC_BASE!$M$3:$M$52,0)),\"\")","v":""},{"$f":"IFERROR(IF(D888=\"\",\"\",INDEX(tb_vendas[Preço de Venda],MATCH(D888,tb_vendas[N° Pedido/Empresa],0))/F888),\"\")","v":""},{"$f":"IFERROR(IF(D888=\"\",\"\",INDEX(tb_vendas[Data Fechamento],MATCH(D888,tb_vendas[N° Pedido/Empresa],0))+E888*INDEX(tb_formas_pagamento[Dias_Intervalo],MATCH(INDEX(tb_vendas[Forma_Pagamento],MATCH(D888,tb_vendas[N° Pedido/Empresa],0)),tb_formas_pagamento[Nome_Forma],0))),\"\")","v":""},null,{"$f":"IF(OR(tb_pagamentos[[#This Row],[Data_Vencimento]]=\"\",tb_pagamentos[[#This Row],[Valor_Parcela]]=\"\",tb_pagamentos[[#This Row],[Qtd_Total_Parcelas]]=\"\",tb_pagamentos[[#This Row],[Nr_Pedido]]=\"\"),\"\",IF(tb_pagamentos[[#This Row],[Data_Pagamento]]<>\"\",\"Pago\",IF(AND(tb_pagamentos[[#This Row],[Data_Pagamento]]=\"\",tb_pagamentos[[#This Row],[Data_Vencimento]]<TODAY()),\"Em Atraso\",\"A vencer\")))","v":""}]
[null,null,"",{"$f":"IFERROR(INDEX(CALC_BASE!$N$3:$N$52,MATCH(ROW()-7,CALC_BASE!$M$3:$M$52,0)),\"\")","v":""},{"$f":"IFERROR(INDEX(CALC_BASE!$O$3:$O$52,MATCH(ROW()-7,CALC_BASE!$M$3:$M$52,0)),\"\")","v":""},{"$f":"IFERROR(INDEX(CALC_BASE!$P$3:$P$52,MATCH(ROW()-7,CALC_BASE!$M$3:$M$52,0)),\"\")","v":""},{"$f":"IFERROR(IF(D889=\"\",\"\",INDEX(tb_vendas[Preço de Venda],MATCH(D889,tb_vendas[N° Pedido/Empresa],0))/F889),\"\")","v":""},{"$f":"IFERROR(IF(D889=\"\",\"\",INDEX(tb_vendas[Data Fechamento],MATCH(D889,tb_vendas[N° Pedido/Empresa],0))+E889*INDEX(tb_formas_pagamento[Dias_Intervalo],MATCH(INDEX(tb_vendas[Forma_Pagamento],MATCH(D889,tb_vendas[N° Pedido/Empresa],0)),tb_formas_pagamento[Nome_Forma],0))),\"\")","v":""},null,{"$f":"IF(OR(tb_pagamentos[[#This Row],[Data_Vencimento]]=\"\",tb_pagamentos[[#This Row],[Valor_Parcela]]=\"\",tb_pagamentos[[#This Row],[Qtd_Total_Parcelas]]=\"\",tb_pagamentos[[#This Row],[Nr_Pedido]]=\"\"),\"\",IF(tb_pagamentos[[#This Row],[Data_Pagamento]]<>\"\",\"Pago\",IF(AND(tb_pagamentos[[#This Row],[Data_Pagamento]]=\"\",tb_pagamentos[[#This Row],[Data_Vencimento]]<TODAY()),\"Em Atraso\",\"A vencer\")))","v":""}]
[null,null,"",{"$f":"IFERROR(INDEX(CALC_BASE!$N$3:$N$52,MATCH(ROW()-7,CALC_BASE!$M$3:$M$52,0)),\"\")","v":""},{"$f":"IFERROR(INDEX(CALC_BASE!$O$3:$O$52,MATCH(ROW()-7,CALC_BASE!$M$3:$M$52,0)),\"\")","v":""},{"$f":"IFERROR(INDEX(CALC_BASE!$P$3:$P$52,MATCH(ROW()-7,CALC_BASE!$M$3:$M$52,0)),\"\")","v":""},{"$f":"IFERROR(IF(D890=\"\",\"\",INDEX(tb_vendas[Preço de Venda],MATCH(D890,tb_vendas[N° Pedido/Empresa],0))/F890),\"\")","v":""},{"$f":"IFERROR(IF(D890=\"\",\"\",INDEX(tb_vendas[Data Fechamento],MATCH(D890,tb_vendas[N° Pedido/Empresa],0))+E890*INDEX(tb_formas_pagamento[Dias_Intervalo],MATCH(INDEX(tb_vendas[Forma_Pagamento],MATCH(D890,tb_vendas[N° Pedido/Empresa],0)),tb_formas_pagamento[Nome_Forma],0))),\"\")","v":""},null,{"$f":"IF(OR(tb_pagamentos[[#This Row],[Data_Vencimento]]=\"\",tb_pagamentos[[#This Row],[Valor_Parcela]]=\"\",tb_pagamentos[[#This Row],[Qtd_Total_Parcelas]]=\"\",tb_pagamentos[[#This Row],[Nr_Pedido]]=\"\"),\"\",IF(tb_pagamentos[[#This Row],[Data_Pagamento]]<>\"\",\"Pago\",IF(AND(tb_pagamentos[[#This Row],[Data_Pagamento]]=\"\",tb_pagamentos[[#This Row],[Data_Vencimento]]<TODAY()),\"Em Atraso\",\"A vencer\")))","v":""}]
[null,null,"",{"$f":"IFERROR(INDEX(CALC_BASE!$N$3:$N$52,MATCH(ROW()-7,CALC_BASE!$M$3:$M$52,0)),\"\")","v":""},{"$f":"IFERROR(INDEX(CALC_BASE!$O$3:$O$52,MATCH(ROW()-7,CALC_BASE!$M$3:$M$52,0)),\"\")","v":""},{"$f":"IFERROR(INDEX(CALC_BASE!$P$3:$P$52,MATCH(ROW()-7,CALC_BASE!$M$3:$M$52,0)),\"\")","v":""},{"$f":"IFERROR(IF(D891=\"\",\"\",INDEX(tb_vendas[Preço de Venda],MATCH(D891,tb_vendas[N° Pedido/Empresa],0))/F891),\"\")","v":""},{"$f":"IFERROR(IF(D891=\"\",\"\",INDEX(tb_vendas[Data Fechamento],MATCH(D891,tb_vendas[N° Pedido/Empresa],0))+E891*INDEX(tb_formas_pagamento[Dias_Intervalo],MATCH(INDEX(tb_vendas[Forma_Pagamento],MATCH(D891,tb_vendas[N° Pedido/Empresa],0)),tb_formas_pagamento[Nome_Forma],0))),\"\")","v":""},null,{"$f":"IF(OR(tb_pagamentos[[#This Row],[Data_Vencimento]]=\"\",tb_pagamentos[[#This Row],[Valor_Parcela]]=\"\",tb_pagamentos[[#This Row],[Qtd_Total_Parcelas]]=\"\",tb_pagamentos[[#This Row],[Nr_Pedido]]=\"\"),\"\",IF(tb_pagamentos[[#This Row],[Data_Pagamento]]<>\"\",\"Pago\",IF(AND(tb_pagamentos[[#This Row],[Data_Pagamento]]=\"\",tb_pagamentos[[#This Row],[Data_Vencimento]]<TODAY()),\"Em Atraso\",\"A vencer\")))","v":""}]
[null,null,"",{"$f":"IFERROR(INDEX(CALC_BASE!$N$3:$N$52,MATCH(ROW()-7,CALC_BASE!$M$3:$M$52,0)),\"\")","v":""},{"$f":"IFERROR(INDEX(CALC_BASE!$O$3:$O$52,MATCH(ROW()-7,CALC_BASE!$M$3:$M$52,0)),\"\")","v":""},{"$f":"IFERROR(INDEX(CALC_BASE!$P$3:$P$52,MATCH(ROW()-7,CALC_BASE!$M$3:$M$52,0)),\"\")","v":""},{"$f":"IFERROR(IF(D892=\"\",\"\",INDEX(tb_vendas[Preço de Venda],MATCH(D892,tb_vendas[N° Pedido/Empresa],0))/F892),\"\")","v":""},{"$f":"IFERROR(IF(D892=\"\",\"\",INDEX(tb_vendas[Data Fechamento],MATCH(D892,tb_vendas[N° Pedido/Empresa],0))+E892*INDEX(tb_formas_pagamento[Dias_Intervalo],MATCH(INDEX(tb_vendas[Forma_Pagamento],MATCH(D892,tb_vendas[N° Pedido/Empresa],0)),tb_formas_pagamento[Nome_Forma],0))),\"\")","v":""},null,{"$f":"IF(OR(tb_pagamentos[[#This Row],[Data_Vencimento]]=\"\",tb_pagamentos[[#This Row],[Valor_Parcela]]=\"\",tb_pagamentos[[#This Row],[Qtd_Total_Parcelas]]=\"\",tb_pagamentos[[#This Row],[Nr_Pedido]]=\"\"),\"\",IF(tb_pagamentos[[#This Row],[Data_Pagamento]]<>\"\",\"Pago\",IF(AND(tb_pagamentos[[#This Row],[Data_Pagamento]]=\"\",tb_pagamentos[[#This Row],[Data_Vencimento]]<TODAY()),\"Em Atraso\",\"A vencer\")))","v":""}]
[null,null,"",{"$f":"IFERROR(INDEX(CALC_BASE!$N$3:$N$52,MATCH(ROW()-7,CALC_BASE!$M$3:$M$52,0)),\"\")","v":""},{"$f":"IFERROR(INDEX(CALC_BASE!$O$3:$O$52,MATCH(ROW()-7,CALC_BASE!$M$3:$M$52,0)),\"\")","v":""},{"$f":"IFERROR(INDEX(CALC_BASE!$P$3:$P$52,MATCH(ROW()-7,CALC_BASE!$M$3:$M$52,0)),\"\")","v":""},{"$f":"IFERROR(IF(D893=\"\",\"\",INDEX(tb_vendas[Preço de Venda],MATCH(D893,tb_vendas[N° Pedido/Empresa],0))/F893),\"\")","v":""},{"$f":"IFERROR(IF(D893=\"\",\"\",INDEX(tb_vendas[Data Fechamento],MATCH(D893,tb_vendas[N° Pedido/Empresa],0))+E893*INDEX(tb_formas_pagamento[Dias_Intervalo],MATCH(INDEX(tb_vendas[Forma_Pagamento],MATCH(D893,tb_vendas[N° Pedido/Empresa],0)),tb_formas_pagamento[Nome_Forma],0))),\"\")","v":""},null,{"$f":"IF(OR(tb_pagamentos[[#This Row],[Data_Vencimento]]=\"\",tb_pagamentos[[#This Row],[Valor_Parcela]]=\"\",tb_pagamentos[[#This Row],[Qtd_Total_Parcelas]]=\"\",tb_pagamentos[[#This Row],[Nr_Pedido]]=\"\"),\"\",IF(tb_pagamentos[[#This Row],[Data_Pagamento]]<>\"\",\"Pago\",IF(AND(tb_pagamentos[[#This Row],[Data_Pagamento]]=\"\",tb_pagamentos[[#This Row],[Data_Vencimento]]<TODAY()),\"Em Atraso\",\"A vencer\")))","v":""}]
[null,null,"",{"$f":"IFERROR(INDEX(CALC_BASE!$N$3:$N$52,MATCH(ROW()-7,CALC_BASE!$M$3:$M$52,0)),\"\")","v":""},{"$f":"IFERROR(INDEX(CALC_BASE!$O$3:$O$52,MATCH(ROW()-7,CALC_BASE!$M$3:$M$52,0)),\"\")","v":""},{"$f":"IFERROR(INDEX(CALC_BASE!$P$3:$P$52,MATCH(ROW()-7,CALC_BASE!$M$3:$M$52,0)),\"\")","v":""},{"$f":"IFERROR(IF(D894=\"\",\"\",INDEX(tb_vendas[Preço de Venda],MATCH(D894,tb_vendas[N° Pedido/Empresa],0))/F894),\"\")","v":""},{"$f":"IFERROR(IF(D894=\"\",\"\",INDEX(tb_vendas[Data Fechamento],MATCH(D894,tb_vendas[N° Pedido/Empresa],0))+E894*INDEX(tb_formas_pagamento[Dias_Intervalo],MATCH(INDEX(tb_vendas[Forma_Pagamento],MATCH(D894,tb_vendas[N° Pedido/Empresa],0)),tb_formas_pagamento[Nome_Forma],0))),\"\")","v":""},null,{"$f":"IF(OR(tb_pagamentos[[#This Row],[Data_Vencimento]]=\"\",tb_pagamentos[[#This Row],[Valor_Parcela]]=\"\",tb_pagamentos[[#This Row],[Qtd_Total_Parcelas]]=\"\",tb_pagamentos[[#This Row],[Nr_Pedido]]=\"\"),\"\",IF(tb_pagamentos[[#This Row],[Data_Pagamento]]<>\"\",\"Pago\",IF(AND(tb_pagamentos[[#This Row],[Data_Pagamento]]=\"\",tb_pagamentos[[#This Row],[Data_Vencimento]]<TODAY()),\"Em Atraso\",\"A vencer\")))","v":""}]
[null,null,"",{"$f":"IFERROR(INDEX(CALC_BASE!$N$3:$N$52,MATCH(ROW()-7,CALC_BASE!$M$3:$M$52,0)),\"\")","v":""},{"$f":"IFERROR(INDEX(CALC_BASE!$O$3:$O$52,MATCH(ROW()-7,CALC_BASE!$M$3:$M$52,0)),\"\")","v":""},{"$f":"IFERROR(INDEX(CALC_BASE!$P$3:$P$52,MATCH(ROW()-7,CALC_BASE!$M$3:$M$52,0)),\"\")","v":""},{"$f":"IFERROR(IF(D895=\"\",\"\",INDEX(tb_vendas[Preço de Venda],MATCH(D895,tb_vendas[N° Pedido/Empresa],0))/F895),\"\")","v":""},{"$f":"IFERROR(IF(D895=\"\",\"\",INDEX(tb_vendas[Data Fechamento],MATCH(D895,tb_vendas[N° Pedido/Empresa],0))+E895*INDEX(tb_formas_pagamento[Dias_Intervalo],MATCH(INDEX(tb_vendas[Forma_Pagamento],MATCH(D895,tb_vendas[N° Pedido/Empresa],0)),tb_formas_pagamento[Nome_Forma],0))),\"\")","v":""},null,{"$f":"IF(OR(tb_pagamentos[[#This Row],[Data_Vencimento]]=\"\",tb_pagamentos[[#This Row],[Valor_Parcela]]=\"\",tb_pagamentos[[#This Row],[Qtd_Total_Parcelas]]=\"\",tb_pagamentos[[#This Row],[Nr_Pedido]]=\"\"),\"\",IF(tb_pagamentos[[#This Row],[Data_Pagamento]]<>\"\",\"Pago\",IF(AND(tb_pagamentos[[#This Row],[Data_Pagamento]]=\"\",tb_pagamentos[[#This Row],[Data_Vencimento]]<TODAY()),\"Em Atraso\",\"A vencer\")))","v":""}]
[null,null,"",{"$f":"IFERROR(INDEX(CALC_BASE!$N$3:$N$52,MATCH(ROW()-7,CALC_BASE!$M$3:$M$52,0)),\"\")","v":""},{"$f":"IFERROR(INDEX(CALC_BASE!$O$3:$O$52,MATCH(ROW()-7,CALC_BASE!$M$3:$M$52,0)),\"\")","v":""},{"$f":"IFERROR(INDEX(CALC_BASE!$P$3:$P$52,MATCH(ROW()-7,CALC_BASE!$M$3:$M$52,0)),\"\")","v":""},{"$f":"IFERROR(IF(D896=\"\",\"\",INDEX(tb_vendas[Preço de Venda],MATCH(D896,tb_vendas[N° Pedido/Empresa],0))/F896),\"\")","v":""},{"$f":"IFERROR(IF(D896=\"\",\"\",INDEX(tb_vendas[Data Fechamento],MATCH(D896,tb_vendas[N° Pedido/Empresa],0))+E896*INDEX(tb_formas_pagamento[Dias_Intervalo],MATCH(INDEX(tb_vendas[Forma_Pagamento],MATCH(D896,tb_vendas[N° Pedido/Empresa],0)),tb_formas_pagamento[Nome_Forma],0))),\"\")","v":""},null,{"$f":"IF(OR(tb_pagamentos[[#This Row],[Data_Vencimento]]=\"\",tb_pagamentos[[#This Row],[Valor_Parcela]]=\"\",tb_pagamentos[[#This Row],[Qtd_Total_Parcelas]]=\"\",tb_pagamentos[[#This Row],[Nr_Pedido]]=\"\"),\"\",IF(tb_pagamentos[[#This Row],[Data_Pagamento]]<>\"\",\"Pago\",IF(AND(tb_pagamentos[[#This Row],[Data_Pagamento]]=\"\",tb_pagamentos[[#This Row],[Data_Vencimento]]<TODAY()),\"Em Atraso\",\"A vencer\")))","v":""}]
[null,null,"",{"$f":"IFERROR(INDEX(CALC_BASE!$N$3:$N$52,MATCH(ROW()-7,CALC_BASE!$M$3:$M$52,0)),\"\")","v":""},{"$f":"IFERROR(INDEX(CALC_BASE!$O$3:$O$52,MATCH(ROW()-7,CALC_BASE!$M$3:$M$52,0)),\"\")","v":""},{"$f":"IFERROR(INDEX(CALC_BASE!$P$3:$P$52,MATCH(ROW()-7,CALC_BASE!$M$3:$M$52,0)),\"\")","v":""},{"$f":"IFERROR(IF(D897=\"\",\"\",INDEX(tb_vendas[Preço de Venda],MATCH(D897,tb_vendas[N° Pedido/Empresa],0))/F897),\"\")","v":""},{"$f":"IFERROR(IF(D897=\"\",\"\",INDEX(tb_vendas[Data Fechamento],MATCH(D897,tb_vendas[N° Pedido/Empresa],0))+E897*INDEX(tb_formas_pagamento[Dias_Intervalo],MATCH(INDEX(tb_vendas[Forma_Pagamento],MATCH(D897,tb_vendas[N° Pedido/Empresa],0)),tb_formas_pagamento[Nome_Forma],0))),\"\")","v":""},null,{"$f":"IF(OR(tb_pagamentos[[#This Row],[Data_Vencimento]]=\"\",tb_pagamentos[[#This Row],[Valor_Parcela]]=\"\",tb_pagamentos[[#This Row],[Qtd_Total_Parcelas]]=\"\",tb_pagamentos[[#This Row],[Nr_Pedido]]=\"\"),\"\",IF(tb_pagamentos[[#This Row],[Data_Pagamento]]<>\"\",\"Pago\",IF(AND(tb_pagamentos[[#This Row],[Data_Pagamento]]=\"\",tb_pagamentos[[#This Row],[Data_Vencimento]]<TODAY()),\"Em Atraso\",\"A vencer\")))","v":""}]
[null,null,"",{"$f":"IFERROR(INDEX(CALC_BASE!$N$3:$N$52,MATCH(ROW()-7,CALC_BASE!$M$3:$M$52,0)),\"\")","v":""},{"$f":"IFERROR(INDEX(CALC_BASE!$O$3:$O$52,MATCH(ROW()-7,CALC_BASE!$M$3:$M$52,0)),\"\")","v":""},{"$f":"IFERROR(INDEX(CALC_BASE!$P$3:$P$52,MATCH(ROW()-7,CALC_BASE!$M$3:$M$52,0)),\"\")","v":""},{"$f":"IFERROR(IF(D898=\"\",\"\",INDEX(tb_vendas[Preço de Venda],MATCH(D898,tb_vendas[N° Pedido/Empresa],0))/F898),\"\")","v":""},{"$f":"IFERROR(IF(D898=\"\",\"\",INDEX(tb_vendas[Data Fechamento],MATCH(D898,tb_vendas[N° Pedido/Empresa],0))+E898*INDEX(tb_formas_pagamento[Dias_Intervalo],MATCH(INDEX(tb_vendas[Forma_Pagamento],MATCH(D898,tb_vendas[N° Pedido/Empresa],0)),tb_formas_pagamento[Nome_Forma],0))),\"\")","v":""},null,{"$f":"IF(OR(tb_pagamentos[[#This Row],[Data_Vencimento]]=\"\",tb_pagamentos[[#This Row],[Valor_Parcela]]=\"\",tb_pagamentos[[#This Row],[Qtd_Total_Parcelas]]=\"\",tb_pagamentos[[#This Row],[Nr_Pedido]]=\"\"),\"\",IF(tb_pagamentos[[#This Row],[Data_Pagamento]]<>\"\",\"Pago\",IF(AND(tb_pagamentos[[#This Row],[Data_Pagamento]]=\"\",tb_pagamentos[[#This Row],[Data_Vencimento]]<TODAY()),\"Em Atraso\",\"A vencer\")))","v":""}]
[null,null,"",{"$f":"IFERROR(INDEX(CALC_BASE!$N$3:$N$52,MATCH(ROW()-7,CALC_BASE!$M$3:$M$52,0)),\"\")","v":""},{"$f":"IFERROR(INDEX(CALC_BASE!$O$3:$O$52,MATCH(ROW()-7,CALC_BASE!$M$3:$M$52,0)),\"\")","v":""},{"$f":"IFERROR(INDEX(CALC_BASE!$P$3:$P$52,MATCH(ROW()-7,CALC_BASE!$M$3:$M$52,0)),\"\")","v":""},{"$f":"IFERROR(IF(D899=\"\",\"\",INDEX(tb_vendas[Preço de Venda],MATCH(D899,tb_vendas[N° Pedido/Empresa],0))/F899),\"\")","v":""},{"$f":"IFERROR(IF(D899=\"\",\"\",INDEX(tb_vendas[Data Fechamento],MATCH(D899,tb_vendas[N° Pedido/Empresa],0))+E899*INDEX(tb_formas_pagamento[Dias_Intervalo],MATCH(INDEX(tb_vendas[Forma_Pagamento],MATCH(D899,tb_vendas[N° Pedido/Empresa],0)),tb_formas_pagamento[Nome_Forma],0))),\"\")","v":""},null,{"$f":"IF(OR(tb_pagamentos[[#This Row],[Data_Vencimento]]=\"\",tb_pagamentos[[#This Row],[Valor_Parcela]]=\"\",tb_pagamentos[[#This Row],[Qtd_Total_Parcelas]]=\"\",tb_pagamentos[[#This Row],[Nr_Pedido]]=\"\"),\"\",IF(tb_pagamentos[[#This Row],[Data_Pagamento]]<>\"\",\"Pago\",IF(AND(tb_pagamentos[[#This Row],[Data_Pagamento]]=\"\",tb_pagamentos[[#This Row],[Data_Vencimento]]<TODAY()),\"Em Atraso\",\"A vencer\")))","v":""}]
[null,null,"",{"$f":"IFERROR(INDEX(CALC_BASE!$N$3:$N$52,MATCH(ROW()-7,CALC_BASE!$M$3:$M$52,0)),\"\")","v":""},{"$f":"IFERROR(INDEX(CALC_BASE!$O$3:$O$52,MATCH(ROW()-7,CALC_BASE!$M$3:$M$52,0)),\"\")","v":""},{"$f":"IFERROR(INDEX(CALC_BASE!$P$3:$P$52,MATCH(ROW()-7,CALC_BASE!$M$3:$M$52,0)),\"\")","v":""},{"$f":"IFERROR(IF(D900=\"\",\"\",INDEX(tb_vendas[Preço de Venda],MATCH(D900,tb_vendas[N° Pedido/Empresa],0))/F900),\"\")","v":""},{"$f":"IFERROR(IF(D900=\"\",\"\",INDEX(tb_vendas[Data Fechamento],MATCH(D900,tb_vendas[N° Pedido/Empresa],0))+E900*INDEX(tb_formas_pagamento[Dias_Intervalo],MATCH(INDEX(tb_vendas[Forma_Pagamento],MATCH(D900,tb_vendas[N° Pedido/Empresa],0)),tb_formas_pagamento[Nome_Forma],0))),\"\")","v":""},null,{"$f":"IF(OR(tb_pagamentos[[#This Row],[Data_Vencimento]]=\"\",tb_pagamentos[[#This Row],[Valor_Parcela]]=\"\",tb_pagamentos[[#This Row],[Qtd_Total_Parcelas]]=\"\",tb_pagamentos[[#This Row],[Nr_Pedido]]=\"\"),\"\",IF(tb_pagamentos[[#This Row],[Data_Pagamento]]<>\"\",\"Pago\",IF(AND(tb_pagamentos[[#This Row],[Data_Pagamento]]=\"\",tb_pagamentos[[#This Row],[Data_Vencimento]]<TODAY()),\"Em Atraso\",\"A vencer\")))","v":""}]
[null,null,"",{"$f":"IFERROR(INDEX(CALC_BASE!$N$3:$N$52,MATCH(ROW()-7,CALC_BASE!$M$3:$M$52,0)),\"\")","v":""},{"$f":"IFERROR(INDEX(CALC_BASE!$O$3:$O$52,MATCH(ROW()-7,CALC_BASE!$M$3:$M$52,0)),\"\")","v":""},{"$f":"IFERROR(INDEX(CALC_BASE!$P$3:$P$52,MATCH(ROW()-7,CALC_BASE!$M$3:$M$52,0)),\"\")","v":""},{"$f":"IFERROR(IF(D901=\"\",\"\",INDEX(tb_vendas[Preço de Venda],MATCH(D901,tb_vendas[N° Pedido/Empresa],0))/F901),\"\")","v":""},{"$f":"IFERROR(IF(D901=\"\",\"\",INDEX(tb_vendas[Data Fechamento],MATCH(D901,tb_vendas[N° Pedido/Empresa],0))+E901*INDEX(tb_formas_pagamento[Dias_Intervalo],MATCH(INDEX(tb_vendas[Forma_Pagamento],MATCH(D901,tb_vendas[N° Pedido/Empresa],0)),tb_formas_pagamento[Nome_Forma],0))),\"\")","v":""},null,{"$f":"IF(OR(tb_pagamentos[[#This Row],[Data_Vencimento]]=\"\",tb_pagamentos[[#This Row],[Valor_Parcela]]=\"\",tb_pagamentos[[#This Row],[Qtd_Total_Parcelas]]=\"\",tb_pagamentos[[#This Row],[Nr_Pedido]]=\"\"),\"\",IF(tb_pagamentos[[#This Row],[Data_Pagamento]]<>\"\",\"Pago\",IF(AND(tb_pagamentos[[#This Row],[Data_Pagamento]]=\"\",tb_pagamentos[[#This Row],[Data_Vencimento]]<TODAY()),\"Em Atraso\",\"A vencer\")))","v":""}]
[null,null,"",{"$f":"IFERROR(INDEX(CALC_BASE!$N$3:$N$52,MATCH(ROW()-7,CALC_BASE!$M$3:$M$52,0)),\"\")","v":""},{"$f":"IFERROR(INDEX(CALC_BASE!$O$3:$O$52,MATCH(ROW()-7,CALC_BASE!$M$3:$M$52,0)),\"\")","v":""},{"$f":"IFERROR(INDEX(CALC_BASE!$P$3:$P$52,MATCH(ROW()-7,CALC_BASE!$M$3:$M$52,0)),\"\")","v":""},{"$f":"IFERROR(IF(D902=\"\",\"\",INDEX(tb_vendas[Preço de Venda],MATCH(D902,tb_vendas[N° Pedido/Empresa],0))/F902),\"\")","v":""},{"$f":"IFERROR(IF(D902=\"\",\"\",INDEX(tb_vendas[Data Fechamento],MATCH(D902,tb_vendas[N° Pedido/Empresa],0))+E902*INDEX(tb_formas_pagamento[Dias_Intervalo],MATCH(INDEX(tb_vendas[Forma_Pagamento],MATCH(D902,tb_vendas[N° Pedido/Empresa],0)),tb_formas_pagamento[Nome_Forma],0))),\"\")","v":""},null,{"$f":"IF(OR(tb_pagamentos[[#This Row],[Data_Vencimento]]=\"\",tb_pagamentos[[#This Row],[Valor_Parcela]]=\"\",tb_pagamentos[[#This Row],[Qtd_Total_Parcelas]]=\"\",tb_pagamentos[[#This Row],[Nr_Pedido]]=\"\"),\"\",IF(tb_pagamentos[[#This Row],[Data_Pagamento]]<>\"\",\"Pago\",IF(AND(tb_pagamentos[[#This Row],[Data_Pagamento]]=\"\",tb_pagamentos[[#This Row],[Data_Vencimento]]<TODAY()),\"Em Atraso\",\"A vencer\")))","v":""}]
[null,null,"",{"$f":"IFERROR(INDEX(CALC_BASE!$N$3:$N$52,MATCH(ROW()-7,CALC_BASE!$M$3:$M$52,0)),\"\")","v":""},{"$f":"IFERROR(INDEX(CALC_BASE!$O$3:$O$52,MATCH(ROW()-7,CALC_BASE!$M$3:$M$52,0)),\"\")","v":""},{"$f":"IFERROR(INDEX(CALC_BASE!$P$3:$P$52,MATCH(ROW()-7,CALC_BASE!$M$3:$M$52,0)),\"\")","v":""},{"$f":"IFERROR(IF(D903=\"\",\"\",INDEX(tb_vendas[Preço de Venda],MATCH(D903,tb_vendas[N° Pedido/Empresa],0))/F903),\"\")","v":""},{"$f":"IFERROR(IF(D903=\"\",\"\",INDEX(tb_vendas[Data Fechamento],MATCH(D903,tb_vendas[N° Pedido/Empresa],0))+E903*INDEX(tb_formas_pagamento[Dias_Intervalo],MATCH(INDEX(tb_vendas[Forma_Pagamento],MATCH(D903,tb_vendas[N° Pedido/Empresa],0)),tb_formas_pagamento[Nome_Forma],0))),\"\")","v":""},null,{"$f":"IF(OR(tb_pagamentos[[#This Row],[Data_Vencimento]]=\"\",tb_pagamentos[[#This Row],[Valor_Parcela]]=\"\",tb_pagamentos[[#This Row],[Qtd_Total_Parcelas]]=\"\",tb_pagamentos[[#This Row],[Nr_Pedido]]=\"\"),\"\",IF(tb_pagamentos[[#This Row],[Data_Pagamento]]<>\"\",\"Pago\",IF(AND(tb_pagamentos[[#This Row],[Data_Pagamento]]=\"\",tb_pagamentos[[#This Row],[Data_Vencimento]]<TODAY()),\"Em Atraso\",\"A vencer\")))","v":""}]
[null,null,"",{"$f":"IFERROR(INDEX(CALC_BASE!$N$3:$N$52,MATCH(ROW()-7,CALC_BASE!$M$3:$M$52,0)),\"\")","v":""},{"$f":"IFERROR(INDEX(CALC_BASE!$O$3:$O$52,MATCH(ROW()-7,CALC_BASE!$M$3:$M$52,0)),\"\")","v":""},{"$f":"IFERROR(INDEX(CALC_BASE!$P$3:$P$52,MATCH(ROW()-7,CALC_BASE!$M$3:$M$52,0)),\"\")","v":""},{"$f":"IFERROR(IF(D904=\"\",\"\",INDEX(tb_vendas[Preço de Venda],MATCH(D904,tb_vendas[N° Pedido/Empresa],0))/F904),\"\")","v":""},{"$f":"IFERROR(IF(D904=\"\",\"\",INDEX(tb_vendas[Data Fechamento],MATCH(D904,tb_vendas[N° Pedido/Empresa],0))+E904*INDEX(tb_formas_pagamento[Dias_Intervalo],MATCH(INDEX(tb_vendas[Forma_Pagamento],MATCH(D904,tb_vendas[N° Pedido/Empresa],0)),tb_formas_pagamento[Nome_Forma],0))),\"\")","v":""},null,{"$f":"IF(OR(tb_pagamentos[[#This Row],[Data_Vencimento]]=\"\",tb_pagamentos[[#This Row],[Valor_Parcela]]=\"\",tb_pagamentos[[#This Row],[Qtd_Total_Parcelas]]=\"\",tb_pagamentos[[#This Row],[Nr_Pedido]]=\"\"),\"\",IF(tb_pagamentos[[#This Row],[Data_Pagamento]]<>\"\",\"Pago\",IF(AND(tb_pagamentos[[#This Row],[Data_Pagamento]]=\"\",tb_pagamentos[[#This Row],[Data_Vencimento]]<TODAY()),\"Em Atraso\",\"A vencer\")))","v":""}]
[null,null,"",{"$f":"IFERROR(INDEX(CALC_BASE!$N$3:$N$52,MATCH(ROW()-7,CALC_BASE!$M$3:$M$52,0)),\"\")","v":""},{"$f":"IFERROR(INDEX(CALC_BASE!$O$3:$O$52,MATCH(ROW()-7,CALC_BASE!$M$3:$M$52,0)),\"\")","v":""},{"$f":"IFERROR(INDEX(CALC_BASE!$P$3:$P$52,MATCH(ROW()-7,CALC_BASE!$M$3:$M$52,0)),\"\")","v":""},{"$f":"IFERROR(IF(D905=\"\",\"\",INDEX(tb_vendas[Preço de Venda],MATCH(D905,tb_vendas[N° Pedido/Empresa],0))/F905),\"\")","v":""},{"$f":"IFERROR(IF(D905=\"\",\"\",INDEX(tb_vendas[Data Fechamento],MATCH(D905,tb_vendas[N° Pedido/Empresa],0))+E905*INDEX(tb_formas_pagamento[Dias_Intervalo],MATCH(INDEX(tb_vendas[Forma_Pagamento],MATCH(D905,tb_vendas[N° Pedido/Empresa],0)),tb_formas_pagamento[Nome_Forma],0))),\"\")","v":""},null,{"$f":"IF(OR(tb_pagamentos[[#This Row],[Data_Vencimento]]=\"\",tb_pagamentos[[#This Row],[Valor_Parcela]]=\"\",tb_pagamentos[[#This Row],[Qtd_Total_Parcelas]]=\"\",tb_pagamentos[[#This Row],[Nr_Pedido]]=\"\"),\"\",IF(tb_pagamentos[[#This Row],[Data_Pagamento]]<>\"\",\"Pago\",IF(AND(tb_pagamentos[[#This Row],[Data_Pagamento]]=\"\",tb_pagamentos[[#This Row],[Data_Vencimento]]<TODAY()),\"Em Atraso\",\"A vencer\")))","v":""}]
[null,null,"",{"$f":"IFERROR(INDEX(CALC_BASE!$N$3:$N$52,MATCH(ROW()-7,CALC_BASE!$M$3:$M$52,0)),\"\")","v":""},{"$f":"IFERROR(INDEX(CALC_BASE!$O$3:$O$52,MATCH(ROW()-7,CALC_BASE!$M$3:$M$52,0)),\"\")","v":""},{"$f":"IFERROR(INDEX(CALC_BASE!$P$3:$P$52,MATCH(ROW()-7,CALC_BASE!$M$3:$M$52,0)),\"\")","v":""},{"$f":"IFERROR(IF(D906=\"\",\"\",INDEX(tb_vendas[Preço de Venda],MATCH(D906,tb_vendas[N° Pedido/Empresa],0))/F906),\"\")","v":""},{"$f":"IFERROR(IF(D906=\"\",\"\",INDEX(tb_vendas[Data Fechamento],MATCH(D906,tb_vendas[N° Pedido/Empresa],0))+E906*INDEX(tb_formas_pagamento[Dias_Intervalo],MATCH(INDEX(tb_vendas[Forma_Pagamento],MATCH(D906,tb_vendas[N° Pedido/Empresa],0)),tb_formas_pagamento[Nome_Forma],0))),\"\")","v":""},null,{"$f":"IF(OR(tb_pagamentos[[#This Row],[Data_Vencimento]]=\"\",tb_pagamentos[[#This Row],[Valor_Parcela]]=\"\",tb_pagamentos[[#This Row],[Qtd_Total_Parcelas]]=\"\",tb_pagamentos[[#This Row],[Nr_Pedido]]=\"\"),\"\",IF(tb_pagamentos[[#This Row],[Data_Pagamento]]<>\"\",\"Pago\",IF(AND(tb_pagamentos[[#This Row],[Data_Pagamento]]=\"\",tb_pagamentos[[#This Row],[Data_Vencimento]]<TODAY()),\"Em Atraso\",\"A vencer\")))","v":""}]
[null,null,"",{"$f":"IFERROR(INDEX(CALC_BASE!$N$3:$N$52,MATCH(ROW()-7,CALC_BASE!$M$3:$M$52,0)),\"\")","v":""},{"$f":"IFERROR(INDEX(CALC_BASE!$O$3:$O$52,MATCH(ROW()-7,CALC_BASE!$M$3:$M$52,0)),\"\")","v":""},{"$f":"IFERROR(INDEX(CALC_BASE!$P$3:$P$52,MATCH(ROW()-7,CALC_BASE!$M$3:$M$52,0)),\"\")","v":""},{"$f":"IFERROR(IF(D907=\"\",\"\",INDEX(tb_vendas[Preço de Venda],MATCH(D907,tb_vendas[N° Pedido/Empresa],0))/F907),\"\")","v":""},{"$f":"IFERROR(IF(D907=\"\",\"\",INDEX(tb_vendas[Data Fechamento],MATCH(D907,tb_vendas[N° Pedido/Empresa],0))+E907*INDEX(tb_formas_pagamento[Dias_Intervalo],MATCH(INDEX(tb_vendas[Forma_Pagamento],MATCH(D907,tb_vendas[N° Pedido/Empresa],0)),tb_formas_pagamento[Nome_Forma],0))),\"\")","v":""},null,{"$f":"IF(OR(tb_pagamentos[[#This Row],[Data_Vencimento]]=\"\",tb_pagamentos[[#This Row],[Valor_Parcela]]=\"\",tb_pagamentos[[#This Row],[Qtd_Total_Parcelas]]=\"\",tb_pagamentos[[#This Row],[Nr_Pedido]]=\"\"),\"\",IF(tb_pagamentos[[#This Row],[Data_Pagamento]]<>\"\",\"Pago\",IF(AND(tb_pagamentos[[#This Row],[Data_Pagamento]]=\"\",tb_pagamentos[[#This Row],[Data_Vencimento]]<TODAY()),\"Em Atraso\",\"A vencer\")))","v":""}]
[null,null,"",{"$f":"IFERROR(INDEX(CALC_BASE!$N$3:$N$52,MATCH(ROW()-7,CALC_BASE!$M$3:$M$52,0)),\"\")","v":""},{"$f":"IFERROR(INDEX(CALC_BASE!$O$3:$O$52,MATCH(ROW()-7,CALC_BASE!$M$3:$M$52,0)),\"\")","v":""},{"$f":"IFERROR(INDEX(CALC_BASE!$P$3:$P$52,MATCH(ROW()-7,CALC_BASE!$M$3:$M$52,0)),\"\")","v":""},{"$f":"IFERROR(IF(D908=\"\",\"\",INDEX(tb_vendas[Preço de Venda],MATCH(D908,tb_vendas[N° Pedido/Empresa],0))/F908),\"\")","v":""},{"$f":"IFERROR(IF(D908=\"\",\"\",INDEX(tb_vendas[Data Fechamento],MATCH(D908,tb_vendas[N° Pedido/Empresa],0))+E908*INDEX(tb_formas_pagamento[Dias_Intervalo],MATCH(INDEX(tb_vendas[Forma_Pagamento],MATCH(D908,tb_vendas[N° Pedido/Empresa],0)),tb_formas_pagamento[Nome_Forma],0))),\"\")","v":""},null,{"$f":"IF(OR(tb_pagamentos[[#This Row],[Data_Vencimento]]=\"\",tb_pagamentos[[#This Row],[Valor_Parcela]]=\"\",tb_pagamentos[[#This Row],[Qtd_Total_Parcelas]]=\"\",tb_pagamentos[[#This Row],[Nr_Pedido]]=\"\"),\"\",IF(tb_pagamentos[[#This Row],[Data_Pagamento]]<>\"\",\"Pago\",IF(AND(tb_pagamentos[[#This Row],[Data_Pagamento]]=\"\",tb_pagamentos[[#This Row],[Data_Vencimento]]<TODAY()),\"Em Atraso\",\"A vencer\")))","v":""}]
[null,null,"",{"$f":"IFERROR(INDEX(CALC_BASE!$N$3:$N$52,MATCH(ROW()-7,CALC_BASE!$M$3:$M$52,0)),\"\")","v":""},{"$f":"IFERROR(INDEX(CALC_BASE!$O$3:$O$52,MATCH(ROW()-7,CALC_BASE!$M$3:$M$52,0)),\"\")","v":""},{"$f":"IFERROR(INDEX(CALC_BASE!$P$3:$P$52,MATCH(ROW()-7,CALC_BASE!$M$3:$M$52,0)),\"\")","v":""},{"$f":"IFERROR(IF(D909=\"\",\"\",INDEX(tb_vendas[Preço de Venda],MATCH(D909,tb_vendas[N° Pedido/Empresa],0))/F909),\"\")","v":""},{"$f":"IFERROR(IF(D909=\"\",\"\",INDEX(tb_vendas[Data Fechamento],MATCH(D909,tb_vendas[N° Pedido/Empresa],0))+E909*INDEX(tb_formas_pagamento[Dias_Intervalo],MATCH(INDEX(tb_vendas[Forma_Pagamento],MATCH(D909,tb_vendas[N° Pedido/Empresa],0)),tb_formas_pagamento[Nome_Forma],0))),\"\")","v":""},null,{"$f":"IF(OR(tb_pagamentos[[#This Row],[Data_Vencimento]]=\"\",tb_pagamentos[[#This Row],[Valor_Parcela]]=\"\",tb_pagamentos[[#This Row],[Qtd_Total_Parcelas]]=\"\",tb_pagamentos[[#This Row],[Nr_Pedido]]=\"\"),\"\",IF(tb_pagamentos[[#This Row],[Data_Pagamento]]<>\"\",\"Pago\",IF(AND(tb_pagamentos[[#This Row],[Data_Pagamento]]=\"\",tb_pagamentos[[#This Row],[Data_Vencimento]]<TODAY()),\"Em Atraso\",\"A vencer\")))","v":""}]
[null,null,"",{"$f":"IFERROR(INDEX(CALC_BASE!$N$3:$N$52,MATCH(ROW()-7,CALC_BASE!$M$3:$M$52,0)),\"\")","v":""},{"$f":"IFERROR(INDEX(CALC_BASE!$O$3:$O$52,MATCH(ROW()-7,CALC_BASE!$M$3:$M$52,0)),\"\")","v":""},{"$f":"IFERROR(INDEX(CALC_BASE!$P$3:$P$52,MATCH(ROW()-7,CALC_BASE!$M$3:$M$52,0)),\"\")","v":""},{"$f":"IFERROR(IF(D910=\"\",\"\",INDEX(tb_vendas[Preço de Venda],MATCH(D910,tb_vendas[N° Pedido/Empresa],0))/F910),\"\")","v":""},{"$f":"IFERROR(IF(D910=\"\",\"\",INDEX(tb_vendas[Data Fechamento],MATCH(D910,tb_vendas[N° Pedido/Empresa],0))+E910*INDEX(tb_formas_pagamento[Dias_Intervalo],MATCH(INDEX(tb_vendas[Forma_Pagamento],MATCH(D910,tb_vendas[N° Pedido/Empresa],0)),tb_formas_pagamento[Nome_Forma],0))),\"\")","v":""},null,{"$f":"IF(OR(tb_pagamentos[[#This Row],[Data_Vencimento]]=\"\",tb_pagamentos[[#This Row],[Valor_Parcela]]=\"\",tb_pagamentos[[#This Row],[Qtd_Total_Parcelas]]=\"\",tb_pagamentos[[#This Row],[Nr_Pedido]]=\"\"),\"\",IF(tb_pagamentos[[#This Row],[Data_Pagamento]]<>\"\",\"Pago\",IF(AND(tb_pagamentos[[#This Row],[Data_Pagamento]]=\"\",tb_pagamentos[[#This Row],[Data_Vencimento]]<TODAY()),\"Em Atraso\",\"A vencer\")))","v":""}]
[null,null,{"$f":"IF(OR(D911=\"\",E911=\"\"),\"\",D911&\"-\"&E911)","v":""},{"$f":"IFERROR(INDEX(CALC_BASE!$N$3:$N$52,MATCH(ROW()-7,CALC_BASE!$M$3:$M$52,0)),\"\")","v":""},{"$f":"IFERROR(INDEX(CALC_BASE!$O$3:$O$52,MATCH(ROW()-7,CALC_BASE!$M$3:$M$52,0)),\"\")","v":""},{"$f":"IFERROR(INDEX(CALC_BASE!$P$3:$P$52,MATCH(ROW()-7,CALC_BASE!$M$3:$M$52,0)),\"\")","v":""},{"$f":"IFERROR(IF(D911=\"\",\"\",INDEX(tb_vendas[Preço de Venda],MATCH(D911,tb_vendas[N° Pedido/Empresa],0))/F911),\"\")","v":""},{"$f":"IFERROR(IF(D911=\"\",\"\",INDEX(tb_vendas[Data Fechamento],MATCH(D911,tb_vendas[N° Pedido/Empresa],0))+E911*INDEX(tb_formas_pagamento[Dias_Intervalo],MATCH(INDEX(tb_vendas[Forma_Pagamento],MATCH(D911,tb_vendas[N° Pedido/Empresa],0)),tb_formas_pagamento[Nome_Forma],0))),\"\")","v":""},null,{"$f":"IF(OR(tb_pagamentos[[#This Row],[Data_Vencimento]]=\"\",tb_pagamentos[[#This Row],[Valor_Parcela]]=\"\",tb_pagamentos[[#This Row],[Qtd_Total_Parcelas]]=\"\",tb_pagamentos[[#This Row],[Nr_Pedido]]=\"\"),\"\",IF(tb_pagamentos[[#This Row],[Data_Pagamento]]<>\"\",\"Pago\",IF(AND(tb_pagamentos[[#This Row],[Data_Pagamento]]=\"\",tb_pagamentos[[#This Row],[Data_Vencimento]]<TODAY()),\"Em Atraso\",\"A vencer\")))","v":""}]
[null,null,"",{"$f":"IFERROR(INDEX(CALC_BASE!$N$3:$N$52,MATCH(ROW()-7,CALC_BASE!$M$3:$M$52,0)),\"\")","v":""},{"$f":"IFERROR(INDEX(CALC_BASE!$O$3:$O$52,MATCH(ROW()-7,CALC_BASE!$M$3:$M$52,0)),\"\")","v":""},{"$f":"IFERROR(INDEX(CALC_BASE!$P$3:$P$52,MATCH(ROW()-7,CALC_BASE!$M$3:$M$52,0)),\"\")","v":""},{"$f":"IFERROR(IF(D912=\"\",\"\",INDEX(tb_vendas[Preço de Venda],MATCH(D912,tb_vendas[N° Pedido/Empresa],0))/F912),\"\")","v":""},{"$f":"IFERROR(IF(D912=\"\",\"\",INDEX(tb_vendas[Data Fechamento],MATCH(D912,tb_vendas[N° Pedido/Empresa],0))+E912*INDEX(tb_formas_pagamento[Dias_Intervalo],MATCH(INDEX(tb_vendas[Forma_Pagamento],MATCH(D912,tb_vendas[N° Pedido/Empresa],0)),tb_formas_pagamento[Nome_Forma],0))),\"\")","v":""},null,{"$f":"IF(OR(tb_pagamentos[[#This Row],[Data_Vencimento]]=\"\",tb_pagamentos[[#This Row],[Valor_Parcela]]=\"\",tb_pagamentos[[#This Row],[Qtd_Total_Parcelas]]=\"\",tb_pagamentos[[#This Row],[Nr_Pedido]]=\"\"),\"\",IF(tb_pagamentos[[#This Row],[Data_Pagamento]]<>\"\",\"Pago\",IF(AND(tb_pagamentos[[#This Row],[Data_Pagamento]]=\"\",tb_pagamentos[[#This Row],[Data_Vencimento]]<TODAY()),\"Em Atraso\",\"A vencer\")))","v":""}]
[null,null,"",{"$f":"IFERROR(INDEX(CALC_BASE!$N$3:$N$52,MATCH(ROW()-7,CALC_BASE!$M$3:$M$52,0)),\"\")","v":""},{"$f":"IFERROR(INDEX(CALC_BASE!$O$3:$O$52,MATCH(ROW()-7,CALC_BASE!$M$3:$M$52,0)),\"\")","v":""},{"$f":"IFERROR(INDEX(CALC_BASE!$P$3:$P$52,MATCH(ROW()-7,CALC_BASE!$M$3:$M$52,0)),\"\")","v":""},{"$f":"IFERROR(IF(D913=\"\",\"\",INDEX(tb_vendas[Preço de Venda],MATCH(D913,tb_vendas[N° Pedido/Empresa],0))/F913),\"\")","v":""},{"$f":"IFERROR(IF(D913=\"\",\"\",INDEX(tb_vendas[Data Fechamento],MATCH(D913,tb_vendas[N° Pedido/Empresa],0))+E913*INDEX(tb_formas_pagamento[Dias_Intervalo],MATCH(INDEX(tb_vendas[Forma_Pagamento],MATCH(D913,tb_vendas[N° Pedido/Empresa],0)),tb_formas_pagamento[Nome_Forma],0))),\"\")","v":""},null,{"$f":"IF(OR(tb_pagamentos[[#This Row],[Data_Vencimento]]=\"\",tb_pagamentos[[#This Row],[Valor_Parcela]]=\"\",tb_pagamentos[[#This Row],[Qtd_Total_Parcelas]]=\"\",tb_pagamentos[[#This Row],[Nr_Pedido]]=\"\"),\"\",IF(tb_pagamentos[[#This Row],[Data_Pagamento]]<>\"\",\"Pago\",IF(AND(tb_pagamentos[[#This Row],[Data_Pagamento]]=\"\",tb_pagamentos[[#This Row],[Data_Vencimento]]<TODAY()),\"Em Atraso\",\"A vencer\")))","v":""}]
[null,null,"",{"$f":"IFERROR(INDEX(CALC_BASE!$N$3:$N$52,MATCH(ROW()-7,CALC_BASE!$M$3:$M$52,0)),\"\")","v":""},{"$f":"IFERROR(INDEX(CALC_BASE!$O$3:$O$52,MATCH(ROW()-7,CALC_BASE!$M$3:$M$52,0)),\"\")","v":""},{"$f":"IFERROR(INDEX(CALC_BASE!$P$3:$P$52,MATCH(ROW()-7,CALC_BASE!$M$3:$M$52,0)),\"\")","v":""},{"$f":"IFERROR(IF(D914=\"\",\"\",INDEX(tb_vendas[Preço de Venda],MATCH(D914,tb_vendas[N° Pedido/Empresa],0))/F914),\"\")","v":""},{"$f":"IFERROR(IF(D914=\"\",\"\",INDEX(tb_vendas[Data Fechamento],MATCH(D914,tb_vendas[N° Pedido/Empresa],0))+E914*INDEX(tb_formas_pagamento[Dias_Intervalo],MATCH(INDEX(tb_vendas[Forma_Pagamento],MATCH(D914,tb_vendas[N° Pedido/Empresa],0)),tb_formas_pagamento[Nome_Forma],0))),\"\")","v":""},null,{"$f":"IF(OR(tb_pagamentos[[#This Row],[Data_Vencimento]]=\"\",tb_pagamentos[[#This Row],[Valor_Parcela]]=\"\",tb_pagamentos[[#This Row],[Qtd_Total_Parcelas]]=\"\",tb_pagamentos[[#This Row],[Nr_Pedido]]=\"\"),\"\",IF(tb_pagamentos[[#This Row],[Data_Pagamento]]<>\"\",\"Pago\",IF(AND(tb_pagamentos[[#This Row],[Data_Pagamento]]=\"\",tb_pagamentos[[#This Row],[Data_Vencimento]]<TODAY()),\"Em Atraso\",\"A vencer\")))","v":""}]
[null,null,"",{"$f":"IFERROR(INDEX(CALC_BASE!$N$3:$N$52,MATCH(ROW()-7,CALC_BASE!$M$3:$M$52,0)),\"\")","v":""},{"$f":"IFERROR(INDEX(CALC_BASE!$O$3:$O$52,MATCH(ROW()-7,CALC_BASE!$M$3:$M$52,0)),\"\")","v":""},{"$f":"IFERROR(INDEX(CALC_BASE!$P$3:$P$52,MATCH(ROW()-7,CALC_BASE!$M$3:$M$52,0)),\"\")","v":""},{"$f":"IFERROR(IF(D915=\"\",\"\",INDEX(tb_vendas[Preço de Venda],MATCH(D915,tb_vendas[N° Pedido/Empresa],0))/F915),\"\")","v":""},{"$f":"IFERROR(IF(D915=\"\",\"\",INDEX(tb_vendas[Data Fechamento],MATCH(D915,tb_vendas[N° Pedido/Empresa],0))+E915*INDEX(tb_formas_pagamento[Dias_Intervalo],MATCH(INDEX(tb_vendas[Forma_Pagamento],MATCH(D915,tb_vendas[N° Pedido/Empresa],0)),tb_formas_pagamento[Nome_Forma],0))),\"\")","v":""},null,{"$f":"IF(OR(tb_pagamentos[[#This Row],[Data_Vencimento]]=\"\",tb_pagamentos[[#This Row],[Valor_Parcela]]=\"\",tb_pagamentos[[#This Row],[Qtd_Total_Parcelas]]=\"\",tb_pagamentos[[#This Row],[Nr_Pedido]]=\"\"),\"\",IF(tb_pagamentos[[#This Row],[Data_Pagamento]]<>\"\",\"Pago\",IF(AND(tb_pagamentos[[#This Row],[Data_Pagamento]]=\"\",tb_pagamentos[[#This Row],[Data_Vencimento]]<TODAY()),\"Em Atraso\",\"A vencer\")))","v":""}]
[null,null,"",{"$f":"IFERROR(INDEX(CALC_BASE!$N$3:$N$52,MATCH(ROW()-7,CALC_BASE!$M$3:$M$52,0)),\"\")","v":""},{"$f":"IFERROR(INDEX(CALC_BASE!$O$3:$O$52,MATCH(ROW()-7,CALC_BASE!$M$3:$M$52,0)),\"\")","v":""},{"$f":"IFERROR(INDEX(CALC_BASE!$P$3:$P$52,MATCH(ROW()-7,CALC_BASE!$M$3:$M$52,0)),\"\")","v":""},{"$f":"IFERROR(IF(D916=\"\",\"\",INDEX(tb_vendas[Preço de Venda],MATCH(D916,tb_vendas[N° Pedido/Empresa],0))/F916),\"\")","v":""},{"$f":"IFERROR(IF(D916=\"\",\"\",INDEX(tb_vendas[Data Fechamento],MATCH(D916,tb_vendas[N° Pedido/Empresa],0))+E916*INDEX(tb_formas_pagamento[Dias_Intervalo],MATCH(INDEX(tb_vendas[Forma_Pagamento],MATCH(D916,tb_vendas[N° Pedido/Empresa],0)),tb_formas_pagamento[Nome_Forma],0))),\"\")","v":""},null,{"$f":"IF(OR(tb_pagamentos[[#This Row],[Data_Vencimento]]=\"\",tb_pagamentos[[#This Row],[Valor_Parcela]]=\"\",tb_pagamentos[[#This Row],[Qtd_Total_Parcelas]]=\"\",tb_pagamentos[[#This Row],[Nr_Pedido]]=\"\"),\"\",IF(tb_pagamentos[[#This Row],[Data_Pagamento]]<>\"\",\"Pago\",IF(AND(tb_pagamentos[[#This Row],[Data_Pagamento]]=\"\",tb_pagamentos[[#This Row],[Data_Vencimento]]<TODAY()),\"Em Atraso\",\"A vencer\")))","v":""}]
[null,null,"",{"$f":"IFERROR(INDEX(CALC_BASE!$N$3:$N$52,MATCH(ROW()-7,CALC_BASE!$M$3:$M$52,0)),\"\")","v":""},{"$f":"IFERROR(INDEX(CALC_BASE!$O$3:$O$52,MATCH(ROW()-7,CALC_BASE!$M$3:$M$52,0)),\"\")","v":""},{"$f":"IFERROR(INDEX(CALC_BASE!$P$3:$P$52,MATCH(ROW()-7,CALC_BASE!$M$3:$M$52,0)),\"\")","v":""},{"$f":"IFERROR(IF(D917=\"\",\"\",INDEX(tb_vendas[Preço de Venda],MATCH(D917,tb_vendas[N° Pedido/Empresa],0))/F917),\"\")","v":""},{"$f":"IFERROR(IF(D917=\"\",\"\",INDEX(tb_vendas[Data Fechamento],MATCH(D917,tb_vendas[N° Pedido/Empresa],0))+E917*INDEX(tb_formas_pagamento[Dias_Intervalo],MATCH(INDEX(tb_vendas[Forma_Pagamento],MATCH(D917,tb_vendas[N° Pedido/Empresa],0)),tb_formas_pagamento[Nome_Forma],0))),\"\")","v":""},null,{"$f":"IF(OR(tb_pagamentos[[#This Row],[Data_Vencimento]]=\"\",tb_pagamentos[[#This Row],[Valor_Parcela]]=\"\",tb_pagamentos[[#This Row],[Qtd_Total_Parcelas]]=\"\",tb_pagamentos[[#This Row],[Nr_Pedido]]=\"\"),\"\",IF(tb_pagamentos[[#This Row],[Data_Pagamento]]<>\"\",\"Pago\",IF(AND(tb_pagamentos[[#This Row],[Data_Pagamento]]=\"\",tb_pagamentos[[#This Row],[Data_Vencimento]]<TODAY()),\"Em Atraso\",\"A vencer\")))","v":""}]
[null,null,"",{"$f":"IFERROR(INDEX(CALC_BASE!$N$3:$N$52,MATCH(ROW()-7,CALC_BASE!$M$3:$M$52,0)),\"\")","v":""},{"$f":"IFERROR(INDEX(CALC_BASE!$O$3:$O$52,MATCH(ROW()-7,CALC_BASE!$M$3:$M$52,0)),\"\")","v":""},{"$f":"IFERROR(INDEX(CALC_BASE!$P$3:$P$52,MATCH(ROW()-7,CALC_BASE!$M$3:$M$52,0)),\"\")","v":""},{"$f":"IFERROR(IF(D918=\"\",\"\",INDEX(tb_vendas[Preço de Venda],MATCH(D918,tb_vendas[N° Pedido/Empresa],0))/F918),\"\")","v":""},{"$f":"IFERROR(IF(D918=\"\",\"\",INDEX(tb_vendas[Data Fechamento],MATCH(D918,tb_vendas[N° Pedido/Empresa],0))+E918*INDEX(tb_formas_pagamento[Dias_Intervalo],MATCH(INDEX(tb_vendas[Forma_Pagamento],MATCH(D918,tb_vendas[N° Pedido/Empresa],0)),tb_formas_pagamento[Nome_Forma],0))),\"\")","v":""},null,{"$f":"IF(OR(tb_pagamentos[[#This Row],[Data_Vencimento]]=\"\",tb_pagamentos[[#This Row],[Valor_Parcela]]=\"\",tb_pagamentos[[#This Row],[Qtd_Total_Parcelas]]=\"\",tb_pagamentos[[#This Row],[Nr_Pedido]]=\"\"),\"\",IF(tb_pagamentos[[#This Row],[Data_Pagamento]]<>\"\",\"Pago\",IF(AND(tb_pagamentos[[#This Row],[Data_Pagamento]]=\"\",tb_pagamentos[[#This Row],[Data_Vencimento]]<TODAY()),\"Em Atraso\",\"A vencer\")))","v":""}]
[null,null,"",{"$f":"IFERROR(INDEX(CALC_BASE!$N$3:$N$52,MATCH(ROW()-7,CALC_BASE!$M$3:$M$52,0)),\"\")","v":""},{"$f":"IFERROR(INDEX(CALC_BASE!$O$3:$O$52,MATCH(ROW()-7,CALC_BASE!$M$3:$M$52,0)),\"\")","v":""},{"$f":"IFERROR(INDEX(CALC_BASE!$P$3:$P$52,MATCH(ROW()-7,CALC_BASE!$M$3:$M$52,0)),\"\")","v":""},{"$f":"IFERROR(IF(D919=\"\",\"\",INDEX(tb_vendas[Preço de Venda],MATCH(D919,tb_vendas[N° Pedido/Empresa],0))/F919),\"\")","v":""},{"$f":"IFERROR(IF(D919=\"\",\"\",INDEX(tb_vendas[Data Fechamento],MATCH(D919,tb_vendas[N° Pedido/Empresa],0))+E919*INDEX(tb_formas_pagamento[Dias_Intervalo],MATCH(INDEX(tb_vendas[Forma_Pagamento],MATCH(D919,tb_vendas[N° Pedido/Empresa],0)),tb_formas_pagamento[Nome_Forma],0))),\"\")","v":""},null,{"$f":"IF(OR(tb_pagamentos[[#This Row],[Data_Vencimento]]=\"\",tb_pagamentos[[#This Row],[Valor_Parcela]]=\"\",tb_pagamentos[[#This Row],[Qtd_Total_Parcelas]]=\"\",tb_pagamentos[[#This Row],[Nr_Pedido]]=\"\"),\"\",IF(tb_pagamentos[[#This Row],[Data_Pagamento]]<>\"\",\"Pago\",IF(AND(tb_pagamentos[[#This Row],[Data_Pagamento]]=\"\",tb_pagamentos[[#This Row],[Data_Vencimento]]<TODAY()),\"Em Atraso\",\"A vencer\")))","v":""}]
[null,null,"",{"$f":"IFERROR(INDEX(CALC_BASE!$N$3:$N$52,MATCH(ROW()-7,CALC_BASE!$M$3:$M$52,0)),\"\")","v":""},{"$f":"IFERROR(INDEX(CALC_BASE!$O$3:$O$52,MATCH(ROW()-7,CALC_BASE!$M$3:$M$52,0)),\"\")","v":""},{"$f":"IFERROR(INDEX(CALC_BASE!$P$3:$P$52,MATCH(ROW()-7,CALC_BASE!$M$3:$M$52,0)),\"\")","v":""},{"$f":"IFERROR(IF(D920=\"\",\"\",INDEX(tb_vendas[Preço de Venda],MATCH(D920,tb_vendas[N° Pedido/Empresa],0))/F920),\"\")","v":""},{"$f":"IFERROR(IF(D920=\"\",\"\",INDEX(tb_vendas[Data Fechamento],MATCH(D920,tb_vendas[N° Pedido/Empresa],0))+E920*INDEX(tb_formas_pagamento[Dias_Intervalo],MATCH(INDEX(tb_vendas[Forma_Pagamento],MATCH(D920,tb_vendas[N° Pedido/Empresa],0)),tb_formas_pagamento[Nome_Forma],0))),\"\")","v":""},null,{"$f":"IF(OR(tb_pagamentos[[#This Row],[Data_Vencimento]]=\"\",tb_pagamentos[[#This Row],[Valor_Parcela]]=\"\",tb_pagamentos[[#This Row],[Qtd_Total_Parcelas]]=\"\",tb_pagamentos[[#This Row],[Nr_Pedido]]=\"\"),\"\",IF(tb_pagamentos[[#This Row],[Data_Pagamento]]<>\"\",\"Pago\",IF(AND(tb_pagamentos[[#This Row],[Data_Pagamento]]=\"\",tb_pagamentos[[#This Row],[Data_Vencimento]]<TODAY()),\"Em Atraso\",\"A vencer\")))","v":""}]
[null,null,"",{"$f":"IFERROR(INDEX(CALC_BASE!$N$3:$N$52,MATCH(ROW()-7,CALC_BASE!$M$3:$M$52,0)),\"\")","v":""},{"$f":"IFERROR(INDEX(CALC_BASE!$O$3:$O$52,MATCH(ROW()-7,CALC_BASE!$M$3:$M$52,0)),\"\")","v":""},{"$f":"IFERROR(INDEX(CALC_BASE!$P$3:$P$52,MATCH(ROW()-7,CALC_BASE!$M$3:$M$52,0)),\"\")","v":""},{"$f":"IFERROR(IF(D921=\"\",\"\",INDEX(tb_vendas[Preço de Venda],MATCH(D921,tb_vendas[N° Pedido/Empresa],0))/F921),\"\")","v":""},{"$f":"IFERROR(IF(D921=\"\",\"\",INDEX(tb_vendas[Data Fechamento],MATCH(D921,tb_vendas[N° Pedido/Empresa],0))+E921*INDEX(tb_formas_pagamento[Dias_Intervalo],MATCH(INDEX(tb_vendas[Forma_Pagamento],MATCH(D921,tb_vendas[N° Pedido/Empresa],0)),tb_formas_pagamento[Nome_Forma],0))),\"\")","v":""},null,{"$f":"IF(OR(tb_pagamentos[[#This Row],[Data_Vencimento]]=\"\",tb_pagamentos[[#This Row],[Valor_Parcela]]=\"\",tb_pagamentos[[#This Row],[Qtd_Total_Parcelas]]=\"\",tb_pagamentos[[#This Row],[Nr_Pedido]]=\"\"),\"\",IF(tb_pagamentos[[#This Row],[Data_Pagamento]]<>\"\",\"Pago\",IF(AND(tb_pagamentos[[#This Row],[Data_Pagamento]]=\"\",tb_pagamentos[[#This Row],[Data_Vencimento]]<TODAY()),\"Em Atraso\",\"A vencer\")))","v":""}]
[null,null,"",{"$f":"IFERROR(INDEX(CALC_BASE!$N$3:$N$52,MATCH(ROW()-7,CALC_BASE!$M$3:$M$52,0)),\"\")","v":""},{"$f":"IFERROR(INDEX(CALC_BASE!$O$3:$O$52,MATCH(ROW()-7,CALC_BASE!$M$3:$M$52,0)),\"\")","v":""},{"$f":"IFERROR(INDEX(CALC_BASE!$P$3:$P$52,MATCH(ROW()-7,CALC_BASE!$M$3:$M$52,0)),\"\")","v":""},{"$f":"IFERROR(IF(D922=\"\",\"\",INDEX(tb_vendas[Preço de Venda],MATCH(D922,tb_vendas[N° Pedido/Empresa],0))/F922),\"\")","v":""},{"$f":"IFERROR(IF(D922=\"\",\"\",INDEX(tb_vendas[Data Fechamento],MATCH(D922,tb_vendas[N° Pedido/Empresa],0))+E922*INDEX(tb_formas_pagamento[Dias_Intervalo],MATCH(INDEX(tb_vendas[Forma_Pagamento],MATCH(D922,tb_vendas[N° Pedido/Empresa],0)),tb_formas_pagamento[Nome_Forma],0))),\"\")","v":""},null,{"$f":"IF(OR(tb_pagamentos[[#This Row],[Data_Vencimento]]=\"\",tb_pagamentos[[#This Row],[Valor_Parcela]]=\"\",tb_pagamentos[[#This Row],[Qtd_Total_Parcelas]]=\"\",tb_pagamentos[[#This Row],[Nr_Pedido]]=\"\"),\"\",IF(tb_pagamentos[[#This Row],[Data_Pagamento]]<>\"\",\"Pago\",IF(AND(tb_pagamentos[[#This Row],[Data_Pagamento]]=\"\",tb_pagamentos[[#This Row],[Data_Vencimento]]<TODAY()),\"Em Atraso\",\"A vencer\")))","v":""}]
[null,null,"",{"$f":"IFERROR(INDEX(CALC_BASE!$N$3:$N$52,MATCH(ROW()-7,CALC_BASE!$M$3:$M$52,0)),\"\")","v":""},{"$f":"IFERROR(INDEX(CALC_BASE!$O$3:$O$52,MATCH(ROW()-7,CALC_BASE!$M$3:$M$52,0)),\"\")","v":""},{"$f":"IFERROR(INDEX(CALC_BASE!$P$3:$P$52,MATCH(ROW()-7,CALC_BASE!$M$3:$M$52,0)),\"\")","v":""},{"$f":"IFERROR(IF(D923=\"\",\"\",INDEX(tb_vendas[Preço de Venda],MATCH(D923,tb_vendas[N° Pedido/Empresa],0))/F923),\"\")","v":""},{"$f":"IFERROR(IF(D923=\"\",\"\",INDEX(tb_vendas[Data Fechamento],MATCH(D923,tb_vendas[N° Pedido/Empresa],0))+E923*INDEX(tb_formas_pagamento[Dias_Intervalo],MATCH(INDEX(tb_vendas[Forma_Pagamento],MATCH(D923,tb_vendas[N° Pedido/Empresa],0)),tb_formas_pagamento[Nome_Forma],0))),\"\")","v":""},null,{"$f":"IF(OR(tb_pagamentos[[#This Row],[Data_Vencimento]]=\"\",tb_pagamentos[[#This Row],[Valor_Parcela]]=\"\",tb_pagamentos[[#This Row],[Qtd_Total_Parcelas]]=\"\",tb_pagamentos[[#This Row],[Nr_Pedido]]=\"\"),\"\",IF(tb_pagamentos[[#This Row],[Data_Pagamento]]<>\"\",\"Pago\",IF(AND(tb_pagamentos[[#This Row],[Data_Pagamento]]=\"\",tb_pagamentos[[#This Row],[Data_Vencimento]]<TODAY()),\"Em Atraso\",\"A vencer\")))","v":""}]
[null,null,"",{"$f":"IFERROR(INDEX(CALC_BASE!$N$3:$N$52,MATCH(ROW()-7,CALC_BASE!$M$3:$M$52,0)),\"\")","v":""},{"$f":"IFERROR(INDEX(CALC_BASE!$O$3:$O$52,MATCH(ROW()-7,CALC_BASE!$M$3:$M$52,0)),\"\")","v":""},{"$f":"IFERROR(INDEX(CALC_BASE!$P$3:$P$52,MATCH(ROW()-7,CALC_BASE!$M$3:$M$52,0)),\"\")","v":""},{"$f":"IFERROR(IF(D924=\"\",\"\",INDEX(tb_vendas[Preço de Venda],MATCH(D924,tb_vendas[N° Pedido/Empresa],0))/F924),\"\")","v":""},{"$f":"IFERROR(IF(D924=\"\",\"\",INDEX(tb_vendas[Data Fechamento],MATCH(D924,tb_vendas[N° Pedido/Empresa],0))+E924*INDEX(tb_formas_pagamento[Dias_Intervalo],MATCH(INDEX(tb_vendas[Forma_Pagamento],MATCH(D924,tb_vendas[N° Pedido/Empresa],0)),tb_formas_pagamento[Nome_Forma],0))),\"\")","v":""},null,{"$f":"IF(OR(tb_pagamentos[[#This Row],[Data_Vencimento]]=\"\",tb_pagamentos[[#This Row],[Valor_Parcela]]=\"\",tb_pagamentos[[#This Row],[Qtd_Total_Parcelas]]=\"\",tb_pagamentos[[#This Row],[Nr_Pedido]]=\"\"),\"\",IF(tb_pagamentos[[#This Row],[Data_Pagamento]]<>\"\",\"Pago\",IF(AND(tb_pagamentos[[#This Row],[Data_Pagamento]]=\"\",tb_pagamentos[[#This Row],[Data_Vencimento]]<TODAY()),\"Em Atraso\",\"A vencer\")))","v":""}]
[null,null,"",{"$f":"IFERROR(INDEX(CALC_BASE!$N$3:$N$52,MATCH(ROW()-7,CALC_BASE!$M$3:$M$52,0)),\"\")","v":""},{"$f":"IFERROR(INDEX(CALC_BASE!$O$3:$O$52,MATCH(ROW()-7,CALC_BASE!$M$3:$M$52,0)),\"\")","v":""},{"$f":"IFERROR(INDEX(CALC_BASE!$P$3:$P$52,MATCH(ROW()-7,CALC_BASE!$M$3:$M$52,0)),\"\")","v":""},{"$f":"IFERROR(IF(D925=\"\",\"\",INDEX(tb_vendas[Preço de Venda],MATCH(D925,tb_vendas[N° Pedido/Empresa],0))/F925),\"\")","v":""},{"$f":"IFERROR(IF(D925=\"\",\"\",INDEX(tb_vendas[Data Fechamento],MATCH(D925,tb_vendas[N° Pedido/Empresa],0))+E925*INDEX(tb_formas_pagamento[Dias_Intervalo],MATCH(INDEX(tb_vendas[Forma_Pagamento],MATCH(D925,tb_vendas[N° Pedido/Empresa],0)),tb_formas_pagamento[Nome_Forma],0))),\"\")","v":""},null,{"$f":"IF(OR(tb_pagamentos[[#This Row],[Data_Vencimento]]=\"\",tb_pagamentos[[#This Row],[Valor_Parcela]]=\"\",tb_pagamentos[[#This Row],[Qtd_Total_Parcelas]]=\"\",tb_pagamentos[[#This Row],[Nr_Pedido]]=\"\"),\"\",IF(tb_pagamentos[[#This Row],[Data_Pagamento]]<>\"\",\"Pago\",IF(AND(tb_pagamentos[[#This Row],[Data_Pagamento]]=\"\",tb_pagamentos[[#This Row],[Data_Vencimento]]<TODAY()),\"Em Atraso\",\"A vencer\")))","v":""}]
[null,null,"",{"$f":"IFERROR(INDEX(CALC_BASE!$N$3:$N$52,MATCH(ROW()-7,CALC_BASE!$M$3:$M$52,0)),\"\")","v":""},{"$f":"IFERROR(INDEX(CALC_BASE!$O$3:$O$52,MATCH(ROW()-7,CALC_BASE!$M$3:$M$52,0)),\"\")","v":""},{"$f":"IFERROR(INDEX(CALC_BASE!$P$3:$P$52,MATCH(ROW()-7,CALC_BASE!$M$3:$M$52,0)),\"\")","v":""},{"$f":"IFERROR(IF(D926=\"\",\"\",INDEX(tb_vendas[Preço de Venda],MATCH(D926,tb_vendas[N° Pedido/Empresa],0))/F926),\"\")","v":""},{"$f":"IFERROR(IF(D926=\"\",\"\",INDEX(tb_vendas[Data Fechamento],MATCH(D926,tb_vendas[N° Pedido/Empresa],0))+E926*INDEX(tb_formas_pagamento[Dias_Intervalo],MATCH(INDEX(tb_vendas[Forma_Pagamento],MATCH(D926,tb_vendas[N° Pedido/Empresa],0)),tb_formas_pagamento[Nome_Forma],0))),\"\")","v":""},null,{"$f":"IF(OR(tb_pagamentos[[#This Row],[Data_Vencimento]]=\"\",tb_pagamentos[[#This Row],[Valor_Parcela]]=\"\",tb_pagamentos[[#This Row],[Qtd_Total_Parcelas]]=\"\",tb_pagamentos[[#This Row],[Nr_Pedido]]=\"\"),\"\",IF(tb_pagamentos[[#This Row],[Data_Pagamento]]<>\"\",\"Pago\",IF(AND(tb_pagamentos[[#This Row],[Data_Pagamento]]=\"\",tb_pagamentos[[#This Row],[Data_Vencimento]]<TODAY()),\"Em Atraso\",\"A vencer\")))","v":""}]
[null,null,"",{"$f":"IFERROR(INDEX(CALC_BASE!$N$3:$N$52,MATCH(ROW()-7,CALC_BASE!$M$3:$M$52,0)),\"\")","v":""},{"$f":"IFERROR(INDEX(CALC_BASE!$O$3:$O$52,MATCH(ROW()-7,CALC_BASE!$M$3:$M$52,0)),\"\")","v":""},{"$f":"IFERROR(INDEX(CALC_BASE!$P$3:$P$52,MATCH(ROW()-7,CALC_BASE!$M$3:$M$52,0)),\"\")","v":""},{"$f":"IFERROR(IF(D927=\"\",\"\",INDEX(tb_vendas[Preço de Venda],MATCH(D927,tb_vendas[N° Pedido/Empresa],0))/F927),\"\")","v":""},{"$f":"IFERROR(IF(D927=\"\",\"\",INDEX(tb_vendas[Data Fechamento],MATCH(D927,tb_vendas[N° Pedido/Empresa],0))+E927*INDEX(tb_formas_pagamento[Dias_Intervalo],MATCH(INDEX(tb_vendas[Forma_Pagamento],MATCH(D927,tb_vendas[N° Pedido/Empresa],0)),tb_formas_pagamento[Nome_Forma],0))),\"\")","v":""},null,{"$f":"IF(OR(tb_pagamentos[[#This Row],[Data_Vencimento]]=\"\",tb_pagamentos[[#This Row],[Valor_Parcela]]=\"\",tb_pagamentos[[#This Row],[Qtd_Total_Parcelas]]=\"\",tb_pagamentos[[#This Row],[Nr_Pedido]]=\"\"),\"\",IF(tb_pagamentos[[#This Row],[Data_Pagamento]]<>\"\",\"Pago\",IF(AND(tb_pagamentos[[#This Row],[Data_Pagamento]]=\"\",tb_pagamentos[[#This Row],[Data_Vencimento]]<TODAY()),\"Em Atraso\",\"A vencer\")))","v":""}]
[null,null,"",{"$f":"IFERROR(INDEX(CALC_BASE!$N$3:$N$52,MATCH(ROW()-7,CALC_BASE!$M$3:$M$52,0)),\"\")","v":""},{"$f":"IFERROR(INDEX(CALC_BASE!$O$3:$O$52,MATCH(ROW()-7,CALC_BASE!$M$3:$M$52,0)),\"\")","v":""},{"$f":"IFERROR(INDEX(CALC_BASE!$P$3:$P$52,MATCH(ROW()-7,CALC_BASE!$M$3:$M$52,0)),\"\")","v":""},{"$f":"IFERROR(IF(D928=\"\",\"\",INDEX(tb_vendas[Preço de Venda],MATCH(D928,tb_vendas[N° Pedido/Empresa],0))/F928),\"\")","v":""},{"$f":"IFERROR(IF(D928=\"\",\"\",INDEX(tb_vendas[Data Fechamento],MATCH(D928,tb_vendas[N° Pedido/Empresa],0))+E928*INDEX(tb_formas_pagamento[Dias_Intervalo],MATCH(INDEX(tb_vendas[Forma_Pagamento],MATCH(D928,tb_vendas[N° Pedido/Empresa],0)),tb_formas_pagamento[Nome_Forma],0))),\"\")","v":""},null,{"$f":"IF(OR(tb_pagamentos[[#This Row],[Data_Vencimento]]=\"\",tb_pagamentos[[#This Row],[Valor_Parcela]]=\"\",tb_pagamentos[[#This Row],[Qtd_Total_Parcelas]]=\"\",tb_pagamentos[[#This Row],[Nr_Pedido]]=\"\"),\"\",IF(tb_pagamentos[[#This Row],[Data_Pagamento]]<>\"\",\"Pago\",IF(AND(tb_pagamentos[[#This Row],[Data_Pagamento]]=\"\",tb_pagamentos[[#This Row],[Data_Vencimento]]<TODAY()),\"Em Atraso\",\"A vencer\")))","v":""}]
[null,null,"",{"$f":"IFERROR(INDEX(CALC_BASE!$N$3:$N$52,MATCH(ROW()-7,CALC_BASE!$M$3:$M$52,0)),\"\")","v":""},{"$f":"IFERROR(INDEX(CALC_BASE!$O$3:$O$52,MATCH(ROW()-7,CALC_BASE!$M$3:$M$52,0)),\"\")","v":""},{"$f":"IFERROR(INDEX(CALC_BASE!$P$3:$P$52,MATCH(ROW()-7,CALC_BASE!$M$3:$M$52,0)),\"\")","v":""},{"$f":"IFERROR(IF(D929=\"\",\"\",INDEX(tb_vendas[Preço de Venda],MATCH(D929,tb_vendas[N° Pedido/Empresa],0))/F929),\"\")","v":""},{"$f":"IFERROR(IF(D929=\"\",\"\",INDEX(tb_vendas[Data Fechamento],MATCH(D929,tb_vendas[N° Pedido/Empresa],0))+E929*INDEX(tb_formas_pagamento[Dias_Intervalo],MATCH(INDEX(tb_vendas[Forma_Pagamento],MATCH(D929,tb_vendas[N° Pedido/Empresa],0)),tb_formas_pagamento[Nome_Forma],0))),\"\")","v":""},null,{"$f":"IF(OR(tb_pagamentos[[#This Row],[Data_Vencimento]]=\"\",tb_pagamentos[[#This Row],[Valor_Parcela]]=\"\",tb_pagamentos[[#This Row],[Qtd_Total_Parcelas]]=\"\",tb_pagamentos[[#This Row],[Nr_Pedido]]=\"\"),\"\",IF(tb_pagamentos[[#This Row],[Data_Pagamento]]<>\"\",\"Pago\",IF(AND(tb_pagamentos[[#This Row],[Data_Pagamento]]=\"\",tb_pagamentos[[#This Row],[Data_Vencimento]]<TODAY()),\"Em Atraso\",\"A vencer\")))","v":""}]
[null,null,"",{"$f":"IFERROR(INDEX(CALC_BASE!$N$3:$N$52,MATCH(ROW()-7,CALC_BASE!$M$3:$M$52,0)),\"\")","v":""},{"$f":"IFERROR(INDEX(CALC_BASE!$O$3:$O$52,MATCH(ROW()-7,CALC_BASE!$M$3:$M$52,0)),\"\")","v":""},{"$f":"IFERROR(INDEX(CALC_BASE!$P$3:$P$52,MATCH(ROW()-7,CALC_BASE!$M$3:$M$52,0)),\"\")","v":""},{"$f":"IFERROR(IF(D930=\"\",\"\",INDEX(tb_vendas[Preço de Venda],MATCH(D930,tb_vendas[N° Pedido/Empresa],0))/F930),\"\")","v":""},{"$f":"IFERROR(IF(D930=\"\",\"\",INDEX(tb_vendas[Data Fechamento],MATCH(D930,tb_vendas[N° Pedido/Empresa],0))+E930*INDEX(tb_formas_pagamento[Dias_Intervalo],MATCH(INDEX(tb_vendas[Forma_Pagamento],MATCH(D930,tb_vendas[N° Pedido/Empresa],0)),tb_formas_pagamento[Nome_Forma],0))),\"\")","v":""},null,{"$f":"IF(OR(tb_pagamentos[[#This Row],[Data_Vencimento]]=\"\",tb_pagamentos[[#This Row],[Valor_Parcela]]=\"\",tb_pagamentos[[#This Row],[Qtd_Total_Parcelas]]=\"\",tb_pagamentos[[#This Row],[Nr_Pedido]]=\"\"),\"\",IF(tb_pagamentos[[#This Row],[Data_Pagamento]]<>\"\",\"Pago\",IF(AND(tb_pagamentos[[#This Row],[Data_Pagamento]]=\"\",tb_pagamentos[[#This Row],[Data_Vencimento]]<TODAY()),\"Em Atraso\",\"A vencer\")))","v":""}]
[null,null,"",{"$f":"IFERROR(INDEX(CALC_BASE!$N$3:$N$52,MATCH(ROW()-7,CALC_BASE!$M$3:$M$52,0)),\"\")","v":""},{"$f":"IFERROR(INDEX(CALC_BASE!$O$3:$O$52,MATCH(ROW()-7,CALC_BASE!$M$3:$M$52,0)),\"\")","v":""},{"$f":"IFERROR(INDEX(CALC_BASE!$P$3:$P$52,MATCH(ROW()-7,CALC_BASE!$M$3:$M$52,0)),\"\")","v":""},{"$f":"IFERROR(IF(D931=\"\",\"\",INDEX(tb_vendas[Preço de Venda],MATCH(D931,tb_vendas[N° Pedido/Empresa],0))/F931),\"\")","v":""},{"$f":"IFERROR(IF(D931=\"\",\"\",INDEX(tb_vendas[Data Fechamento],MATCH(D931,tb_vendas[N° Pedido/Empresa],0))+E931*INDEX(tb_formas_pagamento[Dias_Intervalo],MATCH(INDEX(tb_vendas[Forma_Pagamento],MATCH(D931,tb_vendas[N° Pedido/Empresa],0)),tb_formas_pagamento[Nome_Forma],0))),\"\")","v":""},null,{"$f":"IF(OR(tb_pagamentos[[#This Row],[Data_Vencimento]]=\"\",tb_pagamentos[[#This Row],[Valor_Parcela]]=\"\",tb_pagamentos[[#This Row],[Qtd_Total_Parcelas]]=\"\",tb_pagamentos[[#This Row],[Nr_Pedido]]=\"\"),\"\",IF(tb_pagamentos[[#This Row],[Data_Pagamento]]<>\"\",\"Pago\",IF(AND(tb_pagamentos[[#This Row],[Data_Pagamento]]=\"\",tb_pagamentos[[#This Row],[Data_Vencimento]]<TODAY()),\"Em Atraso\",\"A vencer\")))","v":""}]
[null,null,"",{"$f":"IFERROR(INDEX(CALC_BASE!$N$3:$N$52,MATCH(ROW()-7,CALC_BASE!$M$3:$M$52,0)),\"\")","v":""},{"$f":"IFERROR(INDEX(CALC_BASE!$O$3:$O$52,MATCH(ROW()-7,CALC_BASE!$M$3:$M$52,0)),\"\")","v":""},{"$f":"IFERROR(INDEX(CALC_BASE!$P$3:$P$52,MATCH(ROW()-7,CALC_BASE!$M$3:$M$52,0)),\"\")","v":""},{"$f":"IFERROR(IF(D932=\"\",\"\",INDEX(tb_vendas[Preço de Venda],MATCH(D932,tb_vendas[N° Pedido/Empresa],0))/F932),\"\")","v":""},{"$f":"IFERROR(IF(D932=\"\",\"\",INDEX(tb_vendas[Data Fechamento],MATCH(D932,tb_vendas[N° Pedido/Empresa],0))+E932*INDEX(tb_formas_pagamento[Dias_Intervalo],MATCH(INDEX(tb_vendas[Forma_Pagamento],MATCH(D932,tb_vendas[N° Pedido/Empresa],0)),tb_formas_pagamento[Nome_Forma],0))),\"\")","v":""},null,{"$f":"IF(OR(tb_pagamentos[[#This Row],[Data_Vencimento]]=\"\",tb_pagamentos[[#This Row],[Valor_Parcela]]=\"\",tb_pagamentos[[#This Row],[Qtd_Total_Parcelas]]=\"\",tb_pagamentos[[#This Row],[Nr_Pedido]]=\"\"),\"\",IF(tb_pagamentos[[#This Row],[Data_Pagamento]]<>\"\",\"Pago\",IF(AND(tb_pagamentos[[#This Row],[Data_Pagamento]]=\"\",tb_pagamentos[[#This Row],[Data_Vencimento]]<TODAY()),\"Em Atraso\",\"A vencer\")))","v":""}]
[null,null,"",{"$f":"IFERROR(INDEX(CALC_BASE!$N$3:$N$52,MATCH(ROW()-7,CALC_BASE!$M$3:$M$52,0)),\"\")","v":""},{"$f":"IFERROR(INDEX(CALC_BASE!$O$3:$O$52,MATCH(ROW()-7,CALC_BASE!$M$3:$M$52,0)),\"\")","v":""},{"$f":"IFERROR(INDEX(CALC_BASE!$P$3:$P$52,MATCH(ROW()-7,CALC_BASE!$M$3:$M$52,0)),\"\")","v":""},{"$f":"IFERROR(IF(D933=\"\",\"\",INDEX(tb_vendas[Preço de Venda],MATCH(D933,tb_vendas[N° Pedido/Empresa],0))/F933),\"\")","v":""},{"$f":"IFERROR(IF(D933=\"\",\"\",INDEX(tb_vendas[Data Fechamento],MATCH(D933,tb_vendas[N° Pedido/Empresa],0))+E933*INDEX(tb_formas_pagamento[Dias_Intervalo],MATCH(INDEX(tb_vendas[Forma_Pagamento],MATCH(D933,tb_vendas[N° Pedido/Empresa],0)),tb_formas_pagamento[Nome_Forma],0))),\"\")","v":""},null,{"$f":"IF(OR(tb_pagamentos[[#This Row],[Data_Vencimento]]=\"\",tb_pagamentos[[#This Row],[Valor_Parcela]]=\"\",tb_pagamentos[[#This Row],[Qtd_Total_Parcelas]]=\"\",tb_pagamentos[[#This Row],[Nr_Pedido]]=\"\"),\"\",IF(tb_pagamentos[[#This Row],[Data_Pagamento]]<>\"\",\"Pago\",IF(AND(tb_pagamentos[[#This Row],[Data_Pagamento]]=\"\",tb_pagamentos[[#This Row],[Data_Vencimento]]<TODAY()),\"Em Atraso\",\"A vencer\")))","v":""}]
[null,null,"",{"$f":"IFERROR(INDEX(CALC_BASE!$N$3:$N$52,MATCH(ROW()-7,CALC_BASE!$M$3:$M$52,0)),\"\")","v":""},{"$f":"IFERROR(INDEX(CALC_BASE!$O$3:$O$52,MATCH(ROW()-7,CALC_BASE!$M$3:$M$52,0)),\"\")","v":""},{"$f":"IFERROR(INDEX(CALC_BASE!$P$3:$P$52,MATCH(ROW()-7,CALC_BASE!$M$3:$M$52,0)),\"\")","v":""},{"$f":"IFERROR(IF(D934=\"\",\"\",INDEX(tb_vendas[Preço de Venda],MATCH(D934,tb_vendas[N° Pedido/Empresa],0))/F934),\"\")","v":""},{"$f":"IFERROR(IF(D934=\"\",\"\",INDEX(tb_vendas[Data Fechamento],MATCH(D934,tb_vendas[N° Pedido/Empresa],0))+E934*INDEX(tb_formas_pagamento[Dias_Intervalo],MATCH(INDEX(tb_vendas[Forma_Pagamento],MATCH(D934,tb_vendas[N° Pedido/Empresa],0)),tb_formas_pagamento[Nome_Forma],0))),\"\")","v":""},null,{"$f":"IF(OR(tb_pagamentos[[#This Row],[Data_Vencimento]]=\"\",tb_pagamentos[[#This Row],[Valor_Parcela]]=\"\",tb_pagamentos[[#This Row],[Qtd_Total_Parcelas]]=\"\",tb_pagamentos[[#This Row],[Nr_Pedido]]=\"\"),\"\",IF(tb_pagamentos[[#This Row],[Data_Pagamento]]<>\"\",\"Pago\",IF(AND(tb_pagamentos[[#This Row],[Data_Pagamento]]=\"\",tb_pagamentos[[#This Row],[Data_Vencimento]]<TODAY()),\"Em Atraso\",\"A vencer\")))","v":""}]
[null,null,"",{"$f":"IFERROR(INDEX(CALC_BASE!$N$3:$N$52,MATCH(ROW()-7,CALC_BASE!$M$3:$M$52,0)),\"\")","v":""},{"$f":"IFERROR(INDEX(CALC_BASE!$O$3:$O$52,MATCH(ROW()-7,CALC_BASE!$M$3:$M$52,0)),\"\")","v":""},{"$f":"IFERROR(INDEX(CALC_BASE!$P$3:$P$52,MATCH(ROW()-7,CALC_BASE!$M$3:$M$52,0)),\"\")","v":""},{"$f":"IFERROR(IF(D935=\"\",\"\",INDEX(tb_vendas[Preço de Venda],MATCH(D935,tb_vendas[N° Pedido/Empresa],0))/F935),\"\")","v":""},{"$f":"IFERROR(IF(D935=\"\",\"\",INDEX(tb_vendas[Data Fechamento],MATCH(D935,tb_vendas[N° Pedido/Empresa],0))+E935*INDEX(tb_formas_pagamento[Dias_Intervalo],MATCH(INDEX(tb_vendas[Forma_Pagamento],MATCH(D935,tb_vendas[N° Pedido/Empresa],0)),tb_formas_pagamento[Nome_Forma],0))),\"\")","v":""},null,{"$f":"IF(OR(tb_pagamentos[[#This Row],[Data_Vencimento]]=\"\",tb_pagamentos[[#This Row],[Valor_Parcela]]=\"\",tb_pagamentos[[#This Row],[Qtd_Total_Parcelas]]=\"\",tb_pagamentos[[#This Row],[Nr_Pedido]]=\"\"),\"\",IF(tb_pagamentos[[#This Row],[Data_Pagamento]]<>\"\",\"Pago\",IF(AND(tb_pagamentos[[#This Row],[Data_Pagamento]]=\"\",tb_pagamentos[[#This Row],[Data_Vencimento]]<TODAY()),\"Em Atraso\",\"A vencer\")))","v":""}]
[null,null,"",{"$f":"IFERROR(INDEX(CALC_BASE!$N$3:$N$52,MATCH(ROW()-7,CALC_BASE!$M$3:$M$52,0)),\"\")","v":""},{"$f":"IFERROR(INDEX(CALC_BASE!$O$3:$O$52,MATCH(ROW()-7,CALC_BASE!$M$3:$M$52,0)),\"\")","v":""},{"$f":"IFERROR(INDEX(CALC_BASE!$P$3:$P$52,MATCH(ROW()-7,CALC_BASE!$M$3:$M$52,0)),\"\")","v":""},{"$f":"IFERROR(IF(D936=\"\",\"\",INDEX(tb_vendas[Preço de Venda],MATCH(D936,tb_vendas[N° Pedido/Empresa],0))/F936),\"\")","v":""},{"$f":"IFERROR(IF(D936=\"\",\"\",INDEX(tb_vendas[Data Fechamento],MATCH(D936,tb_vendas[N° Pedido/Empresa],0))+E936*INDEX(tb_formas_pagamento[Dias_Intervalo],MATCH(INDEX(tb_vendas[Forma_Pagamento],MATCH(D936,tb_vendas[N° Pedido/Empresa],0)),tb_formas_pagamento[Nome_Forma],0))),\"\")","v":""},null,{"$f":"IF(OR(tb_pagamentos[[#This Row],[Data_Vencimento]]=\"\",tb_pagamentos[[#This Row],[Valor_Parcela]]=\"\",tb_pagamentos[[#This Row],[Qtd_Total_Parcelas]]=\"\",tb_pagamentos[[#This Row],[Nr_Pedido]]=\"\"),\"\",IF(tb_pagamentos[[#This Row],[Data_Pagamento]]<>\"\",\"Pago\",IF(AND(tb_pagamentos[[#This Row],[Data_Pagamento]]=\"\",tb_pagamentos[[#This Row],[Data_Vencimento]]<TODAY()),\"Em Atraso\",\"A vencer\")))","v":""}]
[null,null,"",{"$f":"IFERROR(INDEX(CALC_BASE!$N$3:$N$52,MATCH(ROW()-7,CALC_BASE!$M$3:$M$52,0)),\"\")","v":""},{"$f":"IFERROR(INDEX(CALC_BASE!$O$3:$O$52,MATCH(ROW()-7,CALC_BASE!$M$3:$M$52,0)),\"\")","v":""},{"$f":"IFERROR(INDEX(CALC_BASE!$P$3:$P$52,MATCH(ROW()-7,CALC_BASE!$M$3:$M$52,0)),\"\")","v":""},{"$f":"IFERROR(IF(D937=\"\",\"\",INDEX(tb_vendas[Preço de Venda],MATCH(D937,tb_vendas[N° Pedido/Empresa],0))/F937),\"\")","v":""},{"$f":"IFERROR(IF(D937=\"\",\"\",INDEX(tb_vendas[Data Fechamento],MATCH(D937,tb_vendas[N° Pedido/Empresa],0))+E937*INDEX(tb_formas_pagamento[Dias_Intervalo],MATCH(INDEX(tb_vendas[Forma_Pagamento],MATCH(D937,tb_vendas[N° Pedido/Empresa],0)),tb_formas_pagamento[Nome_Forma],0))),\"\")","v":""},null,{"$f":"IF(OR(tb_pagamentos[[#This Row],[Data_Vencimento]]=\"\",tb_pagamentos[[#This Row],[Valor_Parcela]]=\"\",tb_pagamentos[[#This Row],[Qtd_Total_Parcelas]]=\"\",tb_pagamentos[[#This Row],[Nr_Pedido]]=\"\"),\"\",IF(tb_pagamentos[[#This Row],[Data_Pagamento]]<>\"\",\"Pago\",IF(AND(tb_pagamentos[[#This Row],[Data_Pagamento]]=\"\",tb_pagamentos[[#This Row],[Data_Vencimento]]<TODAY()),\"Em Atraso\",\"A vencer\")))","v":""}]
[null,null,"",{"$f":"IFERROR(INDEX(CALC_BASE!$N$3:$N$52,MATCH(ROW()-7,CALC_BASE!$M$3:$M$52,0)),\"\")","v":""},{"$f":"IFERROR(INDEX(CALC_BASE!$O$3:$O$52,MATCH(ROW()-7,CALC_BASE!$M$3:$M$52,0)),\"\")","v":""},{"$f":"IFERROR(INDEX(CALC_BASE!$P$3:$P$52,MATCH(ROW()-7,CALC_BASE!$M$3:$M$52,0)),\"\")","v":""},{"$f":"IFERROR(IF(D938=\"\",\"\",INDEX(tb_vendas[Preço de Venda],MATCH(D938,tb_vendas[N° Pedido/Empresa],0))/F938),\"\")","v":""},{"$f":"IFERROR(IF(D938=\"\",\"\",INDEX(tb_vendas[Data Fechamento],MATCH(D938,tb_vendas[N° Pedido/Empresa],0))+E938*INDEX(tb_formas_pagamento[Dias_Intervalo],MATCH(INDEX(tb_vendas[Forma_Pagamento],MATCH(D938,tb_vendas[N° Pedido/Empresa],0)),tb_formas_pagamento[Nome_Forma],0))),\"\")","v":""},null,{"$f":"IF(OR(tb_pagamentos[[#This Row],[Data_Vencimento]]=\"\",tb_pagamentos[[#This Row],[Valor_Parcela]]=\"\",tb_pagamentos[[#This Row],[Qtd_Total_Parcelas]]=\"\",tb_pagamentos[[#This Row],[Nr_Pedido]]=\"\"),\"\",IF(tb_pagamentos[[#This Row],[Data_Pagamento]]<>\"\",\"Pago\",IF(AND(tb_pagamentos[[#This Row],[Data_Pagamento]]=\"\",tb_pagamentos[[#This Row],[Data_Vencimento]]<TODAY()),\"Em Atraso\",\"A vencer\")))","v":""}]
[null,null,"",{"$f":"IFERROR(INDEX(CALC_BASE!$N$3:$N$52,MATCH(ROW()-7,CALC_BASE!$M$3:$M$52,0)),\"\")","v":""},{"$f":"IFERROR(INDEX(CALC_BASE!$O$3:$O$52,MATCH(ROW()-7,CALC_BASE!$M$3:$M$52,0)),\"\")","v":""},{"$f":"IFERROR(INDEX(CALC_BASE!$P$3:$P$52,MATCH(ROW()-7,CALC_BASE!$M$3:$M$52,0)),\"\")","v":""},{"$f":"IFERROR(IF(D939=\"\",\"\",INDEX(tb_vendas[Preço de Venda],MATCH(D939,tb_vendas[N° Pedido/Empresa],0))/F939),\"\")","v":""},{"$f":"IFERROR(IF(D939=\"\",\"\",INDEX(tb_vendas[Data Fechamento],MATCH(D939,tb_vendas[N° Pedido/Empresa],0))+E939*INDEX(tb_formas_pagamento[Dias_Intervalo],MATCH(INDEX(tb_vendas[Forma_Pagamento],MATCH(D939,tb_vendas[N° Pedido/Empresa],0)),tb_formas_pagamento[Nome_Forma],0))),\"\")","v":""},null,{"$f":"IF(OR(tb_pagamentos[[#This Row],[Data_Vencimento]]=\"\",tb_pagamentos[[#This Row],[Valor_Parcela]]=\"\",tb_pagamentos[[#This Row],[Qtd_Total_Parcelas]]=\"\",tb_pagamentos[[#This Row],[Nr_Pedido]]=\"\"),\"\",IF(tb_pagamentos[[#This Row],[Data_Pagamento]]<>\"\",\"Pago\",IF(AND(tb_pagamentos[[#This Row],[Data_Pagamento]]=\"\",tb_pagamentos[[#This Row],[Data_Vencimento]]<TODAY()),\"Em Atraso\",\"A vencer\")))","v":""}]
[null,null,"",{"$f":"IFERROR(INDEX(CALC_BASE!$N$3:$N$52,MATCH(ROW()-7,CALC_BASE!$M$3:$M$52,0)),\"\")","v":""},{"$f":"IFERROR(INDEX(CALC_BASE!$O$3:$O$52,MATCH(ROW()-7,CALC_BASE!$M$3:$M$52,0)),\"\")","v":""},{"$f":"IFERROR(INDEX(CALC_BASE!$P$3:$P$52,MATCH(ROW()-7,CALC_BASE!$M$3:$M$52,0)),\"\")","v":""},{"$f":"IFERROR(IF(D940=\"\",\"\",INDEX(tb_vendas[Preço de Venda],MATCH(D940,tb_vendas[N° Pedido/Empresa],0))/F940),\"\")","v":""},{"$f":"IFERROR(IF(D940=\"\",\"\",INDEX(tb_vendas[Data Fechamento],MATCH(D940,tb_vendas[N° Pedido/Empresa],0))+E940*INDEX(tb_formas_pagamento[Dias_Intervalo],MATCH(INDEX(tb_vendas[Forma_Pagamento],MATCH(D940,tb_vendas[N° Pedido/Empresa],0)),tb_formas_pagamento[Nome_Forma],0))),\"\")","v":""},null,{"$f":"IF(OR(tb_pagamentos[[#This Row],[Data_Vencimento]]=\"\",tb_pagamentos[[#This Row],[Valor_Parcela]]=\"\",tb_pagamentos[[#This Row],[Qtd_Total_Parcelas]]=\"\",tb_pagamentos[[#This Row],[Nr_Pedido]]=\"\"),\"\",IF(tb_pagamentos[[#This Row],[Data_Pagamento]]<>\"\",\"Pago\",IF(AND(tb_pagamentos[[#This Row],[Data_Pagamento]]=\"\",tb_pagamentos[[#This Row],[Data_Vencimento]]<TODAY()),\"Em Atraso\",\"A vencer\")))","v":""}]
[null,null,"",{"$f":"IFERROR(INDEX(CALC_BASE!$N$3:$N$52,MATCH(ROW()-7,CALC_BASE!$M$3:$M$52,0)),\"\")","v":""},{"$f":"IFERROR(INDEX(CALC_BASE!$O$3:$O$52,MATCH(ROW()-7,CALC_BASE!$M$3:$M$52,0)),\"\")","v":""},{"$f":"IFERROR(INDEX(CALC_BASE!$P$3:$P$52,MATCH(ROW()-7,CALC_BASE!$M$3:$M$52,0)),\"\")","v":""},{"$f":"IFERROR(IF(D941=\"\",\"\",INDEX(tb_vendas[Preço de Venda],MATCH(D941,tb_vendas[N° Pedido/Empresa],0))/F941),\"\")","v":""},{"$f":"IFERROR(IF(D941=\"\",\"\",INDEX(tb_vendas[Data Fechamento],MATCH(D941,tb_vendas[N° Pedido/Empresa],0))+E941*INDEX(tb_formas_pagamento[Dias_Intervalo],MATCH(INDEX(tb_vendas[Forma_Pagamento],MATCH(D941,tb_vendas[N° Pedido/Empresa],0)),tb_formas_pagamento[Nome_Forma],0))),\"\")","v":""},null,{"$f":"IF(OR(tb_pagamentos[[#This Row],[Data_Vencimento]]=\"\",tb_pagamentos[[#This Row],[Valor_Parcela]]=\"\",tb_pagamentos[[#This Row],[Qtd_Total_Parcelas]]=\"\",tb_pagamentos[[#This Row],[Nr_Pedido]]=\"\"),\"\",IF(tb_pagamentos[[#This Row],[Data_Pagamento]]<>\"\",\"Pago\",IF(AND(tb_pagamentos[[#This Row],[Data_Pagamento]]=\"\",tb_pagamentos[[#This Row],[Data_Vencimento]]<TODAY()),\"Em Atraso\",\"A vencer\")))","v":""}]
[null,null,"",{"$f":"IFERROR(INDEX(CALC_BASE!$N$3:$N$52,MATCH(ROW()-7,CALC_BASE!$M$3:$M$52,0)),\"\")","v":""},{"$f":"IFERROR(INDEX(CALC_BASE!$O$3:$O$52,MATCH(ROW()-7,CALC_BASE!$M$3:$M$52,0)),\"\")","v":""},{"$f":"IFERROR(INDEX(CALC_BASE!$P$3:$P$52,MATCH(ROW()-7,CALC_BASE!$M$3:$M$52,0)),\"\")","v":""},{"$f":"IFERROR(IF(D942=\"\",\"\",INDEX(tb_vendas[Preço de Venda],MATCH(D942,tb_vendas[N° Pedido/Empresa],0))/F942),\"\")","v":""},{"$f":"IFERROR(IF(D942=\"\",\"\",INDEX(tb_vendas[Data Fechamento],MATCH(D942,tb_vendas[N° Pedido/Empresa],0))+E942*INDEX(tb_formas_pagamento[Dias_Intervalo],MATCH(INDEX(tb_vendas[Forma_Pagamento],MATCH(D942,tb_vendas[N° Pedido/Empresa],0)),tb_formas_pagamento[Nome_Forma],0))),\"\")","v":""},null,{"$f":"IF(OR(tb_pagamentos[[#This Row],[Data_Vencimento]]=\"\",tb_pagamentos[[#This Row],[Valor_Parcela]]=\"\",tb_pagamentos[[#This Row],[Qtd_Total_Parcelas]]=\"\",tb_pagamentos[[#This Row],[Nr_Pedido]]=\"\"),\"\",IF(tb_pagamentos[[#This Row],[Data_Pagamento]]<>\"\",\"Pago\",IF(AND(tb_pagamentos[[#This Row],[Data_Pagamento]]=\"\",tb_pagamentos[[#This Row],[Data_Vencimento]]<TODAY()),\"Em Atraso\",\"A vencer\")))","v":""}]
[null,null,"",{"$f":"IFERROR(INDEX(CALC_BASE!$N$3:$N$52,MATCH(ROW()-7,CALC_BASE!$M$3:$M$52,0)),\"\")","v":""},{"$f":"IFERROR(INDEX(CALC_BASE!$O$3:$O$52,MATCH(ROW()-7,CALC_BASE!$M$3:$M$52,0)),\"\")","v":""},{"$f":"IFERROR(INDEX(CALC_BASE!$P$3:$P$52,MATCH(ROW()-7,CALC_BASE!$M$3:$M$52,0)),\"\")","v":""},{"$f":"IFERROR(IF(D943=\"\",\"\",INDEX(tb_vendas[Preço de Venda],MATCH(D943,tb_vendas[N° Pedido/Empresa],0))/F943),\"\")","v":""},{"$f":"IFERROR(IF(D943=\"\",\"\",INDEX(tb_vendas[Data Fechamento],MATCH(D943,tb_vendas[N° Pedido/Empresa],0))+E943*INDEX(tb_formas_pagamento[Dias_Intervalo],MATCH(INDEX(tb_vendas[Forma_Pagamento],MATCH(D943,tb_vendas[N° Pedido/Empresa],0)),tb_formas_pagamento[Nome_Forma],0))),\"\")","v":""},null,{"$f":"IF(OR(tb_pagamentos[[#This Row],[Data_Vencimento]]=\"\",tb_pagamentos[[#This Row],[Valor_Parcela]]=\"\",tb_pagamentos[[#This Row],[Qtd_Total_Parcelas]]=\"\",tb_pagamentos[[#This Row],[Nr_Pedido]]=\"\"),\"\",IF(tb_pagamentos[[#This Row],[Data_Pagamento]]<>\"\",\"Pago\",IF(AND(tb_pagamentos[[#This Row],[Data_Pagamento]]=\"\",tb_pagamentos[[#This Row],[Data_Vencimento]]<TODAY()),\"Em Atraso\",\"A vencer\")))","v":""}]
[null,null,"",{"$f":"IFERROR(INDEX(CALC_BASE!$N$3:$N$52,MATCH(ROW()-7,CALC_BASE!$M$3:$M$52,0)),\"\")","v":""},{"$f":"IFERROR(INDEX(CALC_BASE!$O$3:$O$52,MATCH(ROW()-7,CALC_BASE!$M$3:$M$52,0)),\"\")","v":""},{"$f":"IFERROR(INDEX(CALC_BASE!$P$3:$P$52,MATCH(ROW()-7,CALC_BASE!$M$3:$M$52,0)),\"\")","v":""},{"$f":"IFERROR(IF(D944=\"\",\"\",INDEX(tb_vendas[Preço de Venda],MATCH(D944,tb_vendas[N° Pedido/Empresa],0))/F944),\"\")","v":""},{"$f":"IFERROR(IF(D944=\"\",\"\",INDEX(tb_vendas[Data Fechamento],MATCH(D944,tb_vendas[N° Pedido/Empresa],0))+E944*INDEX(tb_formas_pagamento[Dias_Intervalo],MATCH(INDEX(tb_vendas[Forma_Pagamento],MATCH(D944,tb_vendas[N° Pedido/Empresa],0)),tb_formas_pagamento[Nome_Forma],0))),\"\")","v":""},null,{"$f":"IF(OR(tb_pagamentos[[#This Row],[Data_Vencimento]]=\"\",tb_pagamentos[[#This Row],[Valor_Parcela]]=\"\",tb_pagamentos[[#This Row],[Qtd_Total_Parcelas]]=\"\",tb_pagamentos[[#This Row],[Nr_Pedido]]=\"\"),\"\",IF(tb_pagamentos[[#This Row],[Data_Pagamento]]<>\"\",\"Pago\",IF(AND(tb_pagamentos[[#This Row],[Data_Pagamento]]=\"\",tb_pagamentos[[#This Row],[Data_Vencimento]]<TODAY()),\"Em Atraso\",\"A vencer\")))","v":""}]
[null,null,"",{"$f":"IFERROR(INDEX(CALC_BASE!$N$3:$N$52,MATCH(ROW()-7,CALC_BASE!$M$3:$M$52,0)),\"\")","v":""},{"$f":"IFERROR(INDEX(CALC_BASE!$O$3:$O$52,MATCH(ROW()-7,CALC_BASE!$M$3:$M$52,0)),\"\")","v":""},{"$f":"IFERROR(INDEX(CALC_BASE!$P$3:$P$52,MATCH(ROW()-7,CALC_BASE!$M$3:$M$52,0)),\"\")","v":""},{"$f":"IFERROR(IF(D945=\"\",\"\",INDEX(tb_vendas[Preço de Venda],MATCH(D945,tb_vendas[N° Pedido/Empresa],0))/F945),\"\")","v":""},{"$f":"IFERROR(IF(D945=\"\",\"\",INDEX(tb_vendas[Data Fechamento],MATCH(D945,tb_vendas[N° Pedido/Empresa],0))+E945*INDEX(tb_formas_pagamento[Dias_Intervalo],MATCH(INDEX(tb_vendas[Forma_Pagamento],MATCH(D945,tb_vendas[N° Pedido/Empresa],0)),tb_formas_pagamento[Nome_Forma],0))),\"\")","v":""},null,{"$f":"IF(OR(tb_pagamentos[[#This Row],[Data_Vencimento]]=\"\",tb_pagamentos[[#This Row],[Valor_Parcela]]=\"\",tb_pagamentos[[#This Row],[Qtd_Total_Parcelas]]=\"\",tb_pagamentos[[#This Row],[Nr_Pedido]]=\"\"),\"\",IF(tb_pagamentos[[#This Row],[Data_Pagamento]]<>\"\",\"Pago\",IF(AND(tb_pagamentos[[#This Row],[Data_Pagamento]]=\"\",tb_pagamentos[[#This Row],[Data_Vencimento]]<TODAY()),\"Em Atraso\",\"A vencer\")))","v":""}]
[null,null,"",{"$f":"IFERROR(INDEX(CALC_BASE!$N$3:$N$52,MATCH(ROW()-7,CALC_BASE!$M$3:$M$52,0)),\"\")","v":""},{"$f":"IFERROR(INDEX(CALC_BASE!$O$3:$O$52,MATCH(ROW()-7,CALC_BASE!$M$3:$M$52,0)),\"\")","v":""},{"$f":"IFERROR(INDEX(CALC_BASE!$P$3:$P$52,MATCH(ROW()-7,CALC_BASE!$M$3:$M$52,0)),\"\")","v":""},{"$f":"IFERROR(IF(D946=\"\",\"\",INDEX(tb_vendas[Preço de Venda],MATCH(D946,tb_vendas[N° Pedido/Empresa],0))/F946),\"\")","v":""},{"$f":"IFERROR(IF(D946=\"\",\"\",INDEX(tb_vendas[Data Fechamento],MATCH(D946,tb_vendas[N° Pedido/Empresa],0))+E946*INDEX(tb_formas_pagamento[Dias_Intervalo],MATCH(INDEX(tb_vendas[Forma_Pagamento],MATCH(D946,tb_vendas[N° Pedido/Empresa],0)),tb_formas_pagamento[Nome_Forma],0))),\"\")","v":""},null,{"$f":"IF(OR(tb_pagamentos[[#This Row],[Data_Vencimento]]=\"\",tb_pagamentos[[#This Row],[Valor_Parcela]]=\"\",tb_pagamentos[[#This Row],[Qtd_Total_Parcelas]]=\"\",tb_pagamentos[[#This Row],[Nr_Pedido]]=\"\"),\"\",IF(tb_pagamentos[[#This Row],[Data_Pagamento]]<>\"\",\"Pago\",IF(AND(tb_pagamentos[[#This Row],[Data_Pagamento]]=\"\",tb_pagamentos[[#This Row],[Data_Vencimento]]<TODAY()),\"Em Atraso\",\"A vencer\")))","v":""}]
[null,null,"",{"$f":"IFERROR(INDEX(CALC_BASE!$N$3:$N$52,MATCH(ROW()-7,CALC_BASE!$M$3:$M$52,0)),\"\")","v":""},{"$f":"IFERROR(INDEX(CALC_BASE!$O$3:$O$52,MATCH(ROW()-7,CALC_BASE!$M$3:$M$52,0)),\"\")","v":""},{"$f":"IFERROR(INDEX(CALC_BASE!$P$3:$P$52,MATCH(ROW()-7,CALC_BASE!$M$3:$M$52,0)),\"\")","v":""},{"$f":"IFERROR(IF(D947=\"\",\"\",INDEX(tb_vendas[Preço de Venda],MATCH(D947,tb_vendas[N° Pedido/Empresa],0))/F947),\"\")","v":""},{"$f":"IFERROR(IF(D947=\"\",\"\",INDEX(tb_vendas[Data Fechamento],MATCH(D947,tb_vendas[N° Pedido/Empresa],0))+E947*INDEX(tb_formas_pagamento[Dias_Intervalo],MATCH(INDEX(tb_vendas[Forma_Pagamento],MATCH(D947,tb_vendas[N° Pedido/Empresa],0)),tb_formas_pagamento[Nome_Forma],0))),\"\")","v":""},null,{"$f":"IF(OR(tb_pagamentos[[#This Row],[Data_Vencimento]]=\"\",tb_pagamentos[[#This Row],[Valor_Parcela]]=\"\",tb_pagamentos[[#This Row],[Qtd_Total_Parcelas]]=\"\",tb_pagamentos[[#This Row],[Nr_Pedido]]=\"\"),\"\",IF(tb_pagamentos[[#This Row],[Data_Pagamento]]<>\"\",\"Pago\",IF(AND(tb_pagamentos[[#This Row],[Data_Pagamento]]=\"\",tb_pagamentos[[#This Row],[Data_Vencimento]]<TODAY()),\"Em Atraso\",\"A vencer\")))","v":""}]
[null,null,"",{"$f":"IFERROR(INDEX(CALC_BASE!$N$3:$N$52,MATCH(ROW()-7,CALC_BASE!$M$3:$M$52,0)),\"\")","v":""},{"$f":"IFERROR(INDEX(CALC_BASE!$O$3:$O$52,MATCH(ROW()-7,CALC_BASE!$M$3:$M$52,0)),\"\")","v":""},{"$f":"IFERROR(INDEX(CALC_BASE!$P$3:$P$52,MATCH(ROW()-7,CALC_BASE!$M$3:$M$52,0)),\"\")","v":""},{"$f":"IFERROR(IF(D948=\"\",\"\",INDEX(tb_vendas[Preço de Venda],MATCH(D948,tb_vendas[N° Pedido/Empresa],0))/F948),\"\")","v":""},{"$f":"IFERROR(IF(D948=\"\",\"\",INDEX(tb_vendas[Data Fechamento],MATCH(D948,tb_vendas[N° Pedido/Empresa],0))+E948*INDEX(tb_formas_pagamento[Dias_Intervalo],MATCH(INDEX(tb_vendas[Forma_Pagamento],MATCH(D948,tb_vendas[N° Pedido/Empresa],0)),tb_formas_pagamento[Nome_Forma],0))),\"\")","v":""},null,{"$f":"IF(OR(tb_pagamentos[[#This Row],[Data_Vencimento]]=\"\",tb_pagamentos[[#This Row],[Valor_Parcela]]=\"\",tb_pagamentos[[#This Row],[Qtd_Total_Parcelas]]=\"\",tb_pagamentos[[#This Row],[Nr_Pedido]]=\"\"),\"\",IF(tb_pagamentos[[#This Row],[Data_Pagamento]]<>\"\",\"Pago\",IF(AND(tb_pagamentos[[#This Row],[Data_Pagamento]]=\"\",tb_pagamentos[[#This Row],[Data_Vencimento]]<TODAY()),\"Em Atraso\",\"A vencer\")))","v":""}]
[null,null,"",{"$f":"IFERROR(INDEX(CALC_BASE!$N$3:$N$52,MATCH(ROW()-7,CALC_BASE!$M$3:$M$52,0)),\"\")","v":""},{"$f":"IFERROR(INDEX(CALC_BASE!$O$3:$O$52,MATCH(ROW()-7,CALC_BASE!$M$3:$M$52,0)),\"\")","v":""},{"$f":"IFERROR(INDEX(CALC_BASE!$P$3:$P$52,MATCH(ROW()-7,CALC_BASE!$M$3:$M$52,0)),\"\")","v":""},{"$f":"IFERROR(IF(D949=\"\",\"\",INDEX(tb_vendas[Preço de Venda],MATCH(D949,tb_vendas[N° Pedido/Empresa],0))/F949),\"\")","v":""},{"$f":"IFERROR(IF(D949=\"\",\"\",INDEX(tb_vendas[Data Fechamento],MATCH(D949,tb_vendas[N° Pedido/Empresa],0))+E949*INDEX(tb_formas_pagamento[Dias_Intervalo],MATCH(INDEX(tb_vendas[Forma_Pagamento],MATCH(D949,tb_vendas[N° Pedido/Empresa],0)),tb_formas_pagamento[Nome_Forma],0))),\"\")","v":""},null,{"$f":"IF(OR(tb_pagamentos[[#This Row],[Data_Vencimento]]=\"\",tb_pagamentos[[#This Row],[Valor_Parcela]]=\"\",tb_pagamentos[[#This Row],[Qtd_Total_Parcelas]]=\"\",tb_pagamentos[[#This Row],[Nr_Pedido]]=\"\"),\"\",IF(tb_pagamentos[[#This Row],[Data_Pagamento]]<>\"\",\"Pago\",IF(AND(tb_pagamentos[[#This Row],[Data_Pagamento]]=\"\",tb_pagamentos[[#This Row],[Data_Vencimento]]<TODAY()),\"Em Atraso\",\"A vencer\")))","v":""}]
[null,null,"",{"$f":"IFERROR(INDEX(CALC_BASE!$N$3:$N$52,MATCH(ROW()-7,CALC_BASE!$M$3:$M$52,0)),\"\")","v":""},{"$f":"IFERROR(INDEX(CALC_BASE!$O$3:$O$52,MATCH(ROW()-7,CALC_BASE!$M$3:$M$52,0)),\"\")","v":""},{"$f":"IFERROR(INDEX(CALC_BASE!$P$3:$P$52,MATCH(ROW()-7,CALC_BASE!$M$3:$M$52,0)),\"\")","v":""},{"$f":"IFERROR(IF(D950=\"\",\"\",INDEX(tb_vendas[Preço de Venda],MATCH(D950,tb_vendas[N° Pedido/Empresa],0))/F950),\"\")","v":""},{"$f":"IFERROR(IF(D950=\"\",\"\",INDEX(tb_vendas[Data Fechamento],MATCH(D950,tb_vendas[N° Pedido/Empresa],0))+E950*INDEX(tb_formas_pagamento[Dias_Intervalo],MATCH(INDEX(tb_vendas[Forma_Pagamento],MATCH(D950,tb_vendas[N° Pedido/Empresa],0)),tb_formas_pagamento[Nome_Forma],0))),\"\")","v":""},null,{"$f":"IF(OR(tb_pagamentos[[#This Row],[Data_Vencimento]]=\"\",tb_pagamentos[[#This Row],[Valor_Parcela]]=\"\",tb_pagamentos[[#This Row],[Qtd_Total_Parcelas]]=\"\",tb_pagamentos[[#This Row],[Nr_Pedido]]=\"\"),\"\",IF(tb_pagamentos[[#This Row],[Data_Pagamento]]<>\"\",\"Pago\",IF(AND(tb_pagamentos[[#This Row],[Data_Pagamento]]=\"\",tb_pagamentos[[#This Row],[Data_Vencimento]]<TODAY()),\"Em Atraso\",\"A vencer\")))","v":""}]
[null,null,"",{"$f":"IFERROR(INDEX(CALC_BASE!$N$3:$N$52,MATCH(ROW()-7,CALC_BASE!$M$3:$M$52,0)),\"\")","v":""},{"$f":"IFERROR(INDEX(CALC_BASE!$O$3:$O$52,MATCH(ROW()-7,CALC_BASE!$M$3:$M$52,0)),\"\")","v":""},{"$f":"IFERROR(INDEX(CALC_BASE!$P$3:$P$52,MATCH(ROW()-7,CALC_BASE!$M$3:$M$52,0)),\"\")","v":""},{"$f":"IFERROR(IF(D951=\"\",\"\",INDEX(tb_vendas[Preço de Venda],MATCH(D951,tb_vendas[N° Pedido/Empresa],0))/F951),\"\")","v":""},{"$f":"IFERROR(IF(D951=\"\",\"\",INDEX(tb_vendas[Data Fechamento],MATCH(D951,tb_vendas[N° Pedido/Empresa],0))+E951*INDEX(tb_formas_pagamento[Dias_Intervalo],MATCH(INDEX(tb_vendas[Forma_Pagamento],MATCH(D951,tb_vendas[N° Pedido/Empresa],0)),tb_formas_pagamento[Nome_Forma],0))),\"\")","v":""},null,{"$f":"IF(OR(tb_pagamentos[[#This Row],[Data_Vencimento]]=\"\",tb_pagamentos[[#This Row],[Valor_Parcela]]=\"\",tb_pagamentos[[#This Row],[Qtd_Total_Parcelas]]=\"\",tb_pagamentos[[#This Row],[Nr_Pedido]]=\"\"),\"\",IF(tb_pagamentos[[#This Row],[Data_Pagamento]]<>\"\",\"Pago\",IF(AND(tb_pagamentos[[#This Row],[Data_Pagamento]]=\"\",tb_pagamentos[[#This Row],[Data_Vencimento]]<TODAY()),\"Em Atraso\",\"A vencer\")))","v":""}]
[null,null,"",{"$f":"IFERROR(INDEX(CALC_BASE!$N$3:$N$52,MATCH(ROW()-7,CALC_BASE!$M$3:$M$52,0)),\"\")","v":""},{"$f":"IFERROR(INDEX(CALC_BASE!$O$3:$O$52,MATCH(ROW()-7,CALC_BASE!$M$3:$M$52,0)),\"\")","v":""},{"$f":"IFERROR(INDEX(CALC_BASE!$P$3:$P$52,MATCH(ROW()-7,CALC_BASE!$M$3:$M$52,0)),\"\")","v":""},{"$f":"IFERROR(IF(D952=\"\",\"\",INDEX(tb_vendas[Preço de Venda],MATCH(D952,tb_vendas[N° Pedido/Empresa],0))/F952),\"\")","v":""},{"$f":"IFERROR(IF(D952=\"\",\"\",INDEX(tb_vendas[Data Fechamento],MATCH(D952,tb_vendas[N° Pedido/Empresa],0))+E952*INDEX(tb_formas_pagamento[Dias_Intervalo],MATCH(INDEX(tb_vendas[Forma_Pagamento],MATCH(D952,tb_vendas[N° Pedido/Empresa],0)),tb_formas_pagamento[Nome_Forma],0))),\"\")","v":""},null,{"$f":"IF(OR(tb_pagamentos[[#This Row],[Data_Vencimento]]=\"\",tb_pagamentos[[#This Row],[Valor_Parcela]]=\"\",tb_pagamentos[[#This Row],[Qtd_Total_Parcelas]]=\"\",tb_pagamentos[[#This Row],[Nr_Pedido]]=\"\"),\"\",IF(tb_pagamentos[[#This Row],[Data_Pagamento]]<>\"\",\"Pago\",IF(AND(tb_pagamentos[[#This Row],[Data_Pagamento]]=\"\",tb_pagamentos[[#This Row],[Data_Vencimento]]<TODAY()),\"Em Atraso\",\"A vencer\")))","v":""}]
[null,null,"",{"$f":"IFERROR(INDEX(CALC_BASE!$N$3:$N$52,MATCH(ROW()-7,CALC_BASE!$M$3:$M$52,0)),\"\")","v":""},{"$f":"IFERROR(INDEX(CALC_BASE!$O$3:$O$52,MATCH(ROW()-7,CALC_BASE!$M$3:$M$52,0)),\"\")","v":""},{"$f":"IFERROR(INDEX(CALC_BASE!$P$3:$P$52,MATCH(ROW()-7,CALC_BASE!$M$3:$M$52,0)),\"\")","v":""},{"$f":"IFERROR(IF(D953=\"\",\"\",INDEX(tb_vendas[Preço de Venda],MATCH(D953,tb_vendas[N° Pedido/Empresa],0))/F953),\"\")","v":""},{"$f":"IFERROR(IF(D953=\"\",\"\",INDEX(tb_vendas[Data Fechamento],MATCH(D953,tb_vendas[N° Pedido/Empresa],0))+E953*INDEX(tb_formas_pagamento[Dias_Intervalo],MATCH(INDEX(tb_vendas[Forma_Pagamento],MATCH(D953,tb_vendas[N° Pedido/Empresa],0)),tb_formas_pagamento[Nome_Forma],0))),\"\")","v":""},null,{"$f":"IF(OR(tb_pagamentos[[#This Row],[Data_Vencimento]]=\"\",tb_pagamentos[[#This Row],[Valor_Parcela]]=\"\",tb_pagamentos[[#This Row],[Qtd_Total_Parcelas]]=\"\",tb_pagamentos[[#This Row],[Nr_Pedido]]=\"\"),\"\",IF(tb_pagamentos[[#This Row],[Data_Pagamento]]<>\"\",\"Pago\",IF(AND(tb_pagamentos[[#This Row],[Data_Pagamento]]=\"\",tb_pagamentos[[#This Row],[Data_Vencimento]]<TODAY()),\"Em Atraso\",\"A vencer\")))","v":""}]
[null,null,"",{"$f":"IFERROR(INDEX(CALC_BASE!$N$3:$N$52,MATCH(ROW()-7,CALC_BASE!$M$3:$M$52,0)),\"\")","v":""},{"$f":"IFERROR(INDEX(CALC_BASE!$O$3:$O$52,MATCH(ROW()-7,CALC_BASE!$M$3:$M$52,0)),\"\")","v":""},{"$f":"IFERROR(INDEX(CALC_BASE!$P$3:$P$52,MATCH(ROW()-7,CALC_BASE!$M$3:$M$52,0)),\"\")","v":""},{"$f":"IFERROR(IF(D954=\"\",\"\",INDEX(tb_vendas[Preço de Venda],MATCH(D954,tb_vendas[N° Pedido/Empresa],0))/F954),\"\")","v":""},{"$f":"IFERROR(IF(D954=\"\",\"\",INDEX(tb_vendas[Data Fechamento],MATCH(D954,tb_vendas[N° Pedido/Empresa],0))+E954*INDEX(tb_formas_pagamento[Dias_Intervalo],MATCH(INDEX(tb_vendas[Forma_Pagamento],MATCH(D954,tb_vendas[N° Pedido/Empresa],0)),tb_formas_pagamento[Nome_Forma],0))),\"\")","v":""},null,{"$f":"IF(OR(tb_pagamentos[[#This Row],[Data_Vencimento]]=\"\",tb_pagamentos[[#This Row],[Valor_Parcela]]=\"\",tb_pagamentos[[#This Row],[Qtd_Total_Parcelas]]=\"\",tb_pagamentos[[#This Row],[Nr_Pedido]]=\"\"),\"\",IF(tb_pagamentos[[#This Row],[Data_Pagamento]]<>\"\",\"Pago\",IF(AND(tb_pagamentos[[#This Row],[Data_Pagamento]]=\"\",tb_pagamentos[[#This Row],[Data_Vencimento]]<TODAY()),\"Em Atraso\",\"A vencer\")))","v":""}]
[null,null,"",{"$f":"IFERROR(INDEX(CALC_BASE!$N$3:$N$52,MATCH(ROW()-7,CALC_BASE!$M$3:$M$52,0)),\"\")","v":""},{"$f":"IFERROR(INDEX(CALC_BASE!$O$3:$O$52,MATCH(ROW()-7,CALC_BASE!$M$3:$M$52,0)),\"\")","v":""},{"$f":"IFERROR(INDEX(CALC_BASE!$P$3:$P$52,MATCH(ROW()-7,CALC_BASE!$M$3:$M$52,0)),\"\")","v":""},{"$f":"IFERROR(IF(D955=\"\",\"\",INDEX(tb_vendas[Preço de Venda],MATCH(D955,tb_vendas[N° Pedido/Empresa],0))/F955),\"\")","v":""},{"$f":"IFERROR(IF(D955=\"\",\"\",INDEX(tb_vendas[Data Fechamento],MATCH(D955,tb_vendas[N° Pedido/Empresa],0))+E955*INDEX(tb_formas_pagamento[Dias_Intervalo],MATCH(INDEX(tb_vendas[Forma_Pagamento],MATCH(D955,tb_vendas[N° Pedido/Empresa],0)),tb_formas_pagamento[Nome_Forma],0))),\"\")","v":""},null,{"$f":"IF(OR(tb_pagamentos[[#This Row],[Data_Vencimento]]=\"\",tb_pagamentos[[#This Row],[Valor_Parcela]]=\"\",tb_pagamentos[[#This Row],[Qtd_Total_Parcelas]]=\"\",tb_pagamentos[[#This Row],[Nr_Pedido]]=\"\"),\"\",IF(tb_pagamentos[[#This Row],[Data_Pagamento]]<>\"\",\"Pago\",IF(AND(tb_pagamentos[[#This Row],[Data_Pagamento]]=\"\",tb_pagamentos[[#This Row],[Data_Vencimento]]<TODAY()),\"Em Atraso\",\"A vencer\")))","v":""}]
[null,null,"",{"$f":"IFERROR(INDEX(CALC_BASE!$N$3:$N$52,MATCH(ROW()-7,CALC_BASE!$M$3:$M$52,0)),\"\")","v":""},{"$f":"IFERROR(INDEX(CALC_BASE!$O$3:$O$52,MATCH(ROW()-7,CALC_BASE!$M$3:$M$52,0)),\"\")","v":""},{"$f":"IFERROR(INDEX(CALC_BASE!$P$3:$P$52,MATCH(ROW()-7,CALC_BASE!$M$3:$M$52,0)),\"\")","v":""},{"$f":"IFERROR(IF(D956=\"\",\"\",INDEX(tb_vendas[Preço de Venda],MATCH(D956,tb_vendas[N° Pedido/Empresa],0))/F956),\"\")","v":""},{"$f":"IFERROR(IF(D956=\"\",\"\",INDEX(tb_vendas[Data Fechamento],MATCH(D956,tb_vendas[N° Pedido/Empresa],0))+E956*INDEX(tb_formas_pagamento[Dias_Intervalo],MATCH(INDEX(tb_vendas[Forma_Pagamento],MATCH(D956,tb_vendas[N° Pedido/Empresa],0)),tb_formas_pagamento[Nome_Forma],0))),\"\")","v":""},null,{"$f":"IF(OR(tb_pagamentos[[#This Row],[Data_Vencimento]]=\"\",tb_pagamentos[[#This Row],[Valor_Parcela]]=\"\",tb_pagamentos[[#This Row],[Qtd_Total_Parcelas]]=\"\",tb_pagamentos[[#This Row],[Nr_Pedido]]=\"\"),\"\",IF(tb_pagamentos[[#This Row],[Data_Pagamento]]<>\"\",\"Pago\",IF(AND(tb_pagamentos[[#This Row],[Data_Pagamento]]=\"\",tb_pagamentos[[#This Row],[Data_Vencimento]]<TODAY()),\"Em Atraso\",\"A vencer\")))","v":""}]
[null,null,"",{"$f":"IFERROR(INDEX(CALC_BASE!$N$3:$N$52,MATCH(ROW()-7,CALC_BASE!$M$3:$M$52,0)),\"\")","v":""},{"$f":"IFERROR(INDEX(CALC_BASE!$O$3:$O$52,MATCH(ROW()-7,CALC_BASE!$M$3:$M$52,0)),\"\")","v":""},{"$f":"IFERROR(INDEX(CALC_BASE!$P$3:$P$52,MATCH(ROW()-7,CALC_BASE!$M$3:$M$52,0)),\"\")","v":""},{"$f":"IFERROR(IF(D957=\"\",\"\",INDEX(tb_vendas[Preço de Venda],MATCH(D957,tb_vendas[N° Pedido/Empresa],0))/F957),\"\")","v":""},{"$f":"IFERROR(IF(D957=\"\",\"\",INDEX(tb_vendas[Data Fechamento],MATCH(D957,tb_vendas[N° Pedido/Empresa],0))+E957*INDEX(tb_formas_pagamento[Dias_Intervalo],MATCH(INDEX(tb_vendas[Forma_Pagamento],MATCH(D957,tb_vendas[N° Pedido/Empresa],0)),tb_formas_pagamento[Nome_Forma],0))),\"\")","v":""},null,{"$f":"IF(OR(tb_pagamentos[[#This Row],[Data_Vencimento]]=\"\",tb_pagamentos[[#This Row],[Valor_Parcela]]=\"\",tb_pagamentos[[#This Row],[Qtd_Total_Parcelas]]=\"\",tb_pagamentos[[#This Row],[Nr_Pedido]]=\"\"),\"\",IF(tb_pagamentos[[#This Row],[Data_Pagamento]]<>\"\",\"Pago\",IF(AND(tb_pagamentos[[#This Row],[Data_Pagamento]]=\"\",tb_pagamentos[[#This Row],[Data_Vencimento]]<TODAY()),\"Em Atraso\",\"A vencer\")))","v":""}]
[null,null,"",{"$f":"IFERROR(INDEX(CALC_BASE!$N$3:$N$52,MATCH(ROW()-7,CALC_BASE!$M$3:$M$52,0)),\"\")","v":""},{"$f":"IFERROR(INDEX(CALC_BASE!$O$3:$O$52,MATCH(ROW()-7,CALC_BASE!$M$3:$M$52,0)),\"\")","v":""},{"$f":"IFERROR(INDEX(CALC_BASE!$P$3:$P$52,MATCH(ROW()-7,CALC_BASE!$M$3:$M$52,0)),\"\")","v":""},{"$f":"IFERROR(IF(D958=\"\",\"\",INDEX(tb_vendas[Preço de Venda],MATCH(D958,tb_vendas[N° Pedido/Empresa],0))/F958),\"\")","v":""},{"$f":"IFERROR(IF(D958=\"\",\"\",INDEX(tb_vendas[Data Fechamento],MATCH(D958,tb_vendas[N° Pedido/Empresa],0))+E958*INDEX(tb_formas_pagamento[Dias_Intervalo],MATCH(INDEX(tb_vendas[Forma_Pagamento],MATCH(D958,tb_vendas[N° Pedido/Empresa],0)),tb_formas_pagamento[Nome_Forma],0))),\"\")","v":""},null,{"$f":"IF(OR(tb_pagamentos[[#This Row],[Data_Vencimento]]=\"\",tb_pagamentos[[#This Row],[Valor_Parcela]]=\"\",tb_pagamentos[[#This Row],[Qtd_Total_Parcelas]]=\"\",tb_pagamentos[[#This Row],[Nr_Pedido]]=\"\"),\"\",IF(tb_pagamentos[[#This Row],[Data_Pagamento]]<>\"\",\"Pago\",IF(AND(tb_pagamentos[[#This Row],[Data_Pagamento]]=\"\",tb_pagamentos[[#This Row],[Data_Vencimento]]<TODAY()),\"Em Atraso\",\"A vencer\")))","v":""}]
[null,null,"",{"$f":"IFERROR(INDEX(CALC_BASE!$N$3:$N$52,MATCH(ROW()-7,CALC_BASE!$M$3:$M$52,0)),\"\")","v":""},{"$f":"IFERROR(INDEX(CALC_BASE!$O$3:$O$52,MATCH(ROW()-7,CALC_BASE!$M$3:$M$52,0)),\"\")","v":""},{"$f":"IFERROR(INDEX(CALC_BASE!$P$3:$P$52,MATCH(ROW()-7,CALC_BASE!$M$3:$M$52,0)),\"\")","v":""},{"$f":"IFERROR(IF(D959=\"\",\"\",INDEX(tb_vendas[Preço de Venda],MATCH(D959,tb_vendas[N° Pedido/Empresa],0))/F959),\"\")","v":""},{"$f":"IFERROR(IF(D959=\"\",\"\",INDEX(tb_vendas[Data Fechamento],MATCH(D959,tb_vendas[N° Pedido/Empresa],0))+E959*INDEX(tb_formas_pagamento[Dias_Intervalo],MATCH(INDEX(tb_vendas[Forma_Pagamento],MATCH(D959,tb_vendas[N° Pedido/Empresa],0)),tb_formas_pagamento[Nome_Forma],0))),\"\")","v":""},null,{"$f":"IF(OR(tb_pagamentos[[#This Row],[Data_Vencimento]]=\"\",tb_pagamentos[[#This Row],[Valor_Parcela]]=\"\",tb_pagamentos[[#This Row],[Qtd_Total_Parcelas]]=\"\",tb_pagamentos[[#This Row],[Nr_Pedido]]=\"\"),\"\",IF(tb_pagamentos[[#This Row],[Data_Pagamento]]<>\"\",\"Pago\",IF(AND(tb_pagamentos[[#This Row],[Data_Pagamento]]=\"\",tb_pagamentos[[#This Row],[Data_Vencimento]]<TODAY()),\"Em Atraso\",\"A vencer\")))","v":""}]
[null,null,"",{"$f":"IFERROR(INDEX(CALC_BASE!$N$3:$N$52,MATCH(ROW()-7,CALC_BASE!$M$3:$M$52,0)),\"\")","v":""},{"$f":"IFERROR(INDEX(CALC_BASE!$O$3:$O$52,MATCH(ROW()-7,CALC_BASE!$M$3:$M$52,0)),\"\")","v":""},{"$f":"IFERROR(INDEX(CALC_BASE!$P$3:$P$52,MATCH(ROW()-7,CALC_BASE!$M$3:$M$52,0)),\"\")","v":""},{"$f":"IFERROR(IF(D960=\"\",\"\",INDEX(tb_vendas[Preço de Venda],MATCH(D960,tb_vendas[N° Pedido/Empresa],0))/F960),\"\")","v":""},{"$f":"IFERROR(IF(D960=\"\",\"\",INDEX(tb_vendas[Data Fechamento],MATCH(D960,tb_vendas[N° Pedido/Empresa],0))+E960*INDEX(tb_formas_pagamento[Dias_Intervalo],MATCH(INDEX(tb_vendas[Forma_Pagamento],MATCH(D960,tb_vendas[N° Pedido/Empresa],0)),tb_formas_pagamento[Nome_Forma],0))),\"\")","v":""},null,{"$f":"IF(OR(tb_pagamentos[[#This Row],[Data_Vencimento]]=\"\",tb_pagamentos[[#This Row],[Valor_Parcela]]=\"\",tb_pagamentos[[#This Row],[Qtd_Total_Parcelas]]=\"\",tb_pagamentos[[#This Row],[Nr_Pedido]]=\"\"),\"\",IF(tb_pagamentos[[#This Row],[Data_Pagamento]]<>\"\",\"Pago\",IF(AND(tb_pagamentos[[#This Row],[Data_Pagamento]]=\"\",tb_pagamentos[[#This Row],[Data_Vencimento]]<TODAY()),\"Em Atraso\",\"A vencer\")))","v":""}]
[null,null,"",{"$f":"IFERROR(INDEX(CALC_BASE!$N$3:$N$52,MATCH(ROW()-7,CALC_BASE!$M$3:$M$52,0)),\"\")","v":""},{"$f":"IFERROR(INDEX(CALC_BASE!$O$3:$O$52,MATCH(ROW()-7,CALC_BASE!$M$3:$M$52,0)),\"\")","v":""},{"$f":"IFERROR(INDEX(CALC_BASE!$P$3:$P$52,MATCH(ROW()-7,CALC_BASE!$M$3:$M$52,0)),\"\")","v":""},{"$f":"IFERROR(IF(D961=\"\",\"\",INDEX(tb_vendas[Preço de Venda],MATCH(D961,tb_vendas[N° Pedido/Empresa],0))/F961),\"\")","v":""},{"$f":"IFERROR(IF(D961=\"\",\"\",INDEX(tb_vendas[Data Fechamento],MATCH(D961,tb_vendas[N° Pedido/Empresa],0))+E961*INDEX(tb_formas_pagamento[Dias_Intervalo],MATCH(INDEX(tb_vendas[Forma_Pagamento],MATCH(D961,tb_vendas[N° Pedido/Empresa],0)),tb_formas_pagamento[Nome_Forma],0))),\"\")","v":""},null,{"$f":"IF(OR(tb_pagamentos[[#This Row],[Data_Vencimento]]=\"\",tb_pagamentos[[#This Row],[Valor_Parcela]]=\"\",tb_pagamentos[[#This Row],[Qtd_Total_Parcelas]]=\"\",tb_pagamentos[[#This Row],[Nr_Pedido]]=\"\"),\"\",IF(tb_pagamentos[[#This Row],[Data_Pagamento]]<>\"\",\"Pago\",IF(AND(tb_pagamentos[[#This Row],[Data_Pagamento]]=\"\",tb_pagamentos[[#This Row],[Data_Vencimento]]<TODAY()),\"Em Atraso\",\"A vencer\")))","v":""}]
[null,null,"",{"$f":"IFERROR(INDEX(CALC_BASE!$N$3:$N$52,MATCH(ROW()-7,CALC_BASE!$M$3:$M$52,0)),\"\")","v":""},{"$f":"IFERROR(INDEX(CALC_BASE!$O$3:$O$52,MATCH(ROW()-7,CALC_BASE!$M$3:$M$52,0)),\"\")","v":""},{"$f":"IFERROR(INDEX(CALC_BASE!$P$3:$P$52,MATCH(ROW()-7,CALC_BASE!$M$3:$M$52,0)),\"\")","v":""},{"$f":"IFERROR(IF(D962=\"\",\"\",INDEX(tb_vendas[Preço de Venda],MATCH(D962,tb_vendas[N° Pedido/Empresa],0))/F962),\"\")","v":""},{"$f":"IFERROR(IF(D962=\"\",\"\",INDEX(tb_vendas[Data Fechamento],MATCH(D962,tb_vendas[N° Pedido/Empresa],0))+E962*INDEX(tb_formas_pagamento[Dias_Intervalo],MATCH(INDEX(tb_vendas[Forma_Pagamento],MATCH(D962,tb_vendas[N° Pedido/Empresa],0)),tb_formas_pagamento[Nome_Forma],0))),\"\")","v":""},null,{"$f":"IF(OR(tb_pagamentos[[#This Row],[Data_Vencimento]]=\"\",tb_pagamentos[[#This Row],[Valor_Parcela]]=\"\",tb_pagamentos[[#This Row],[Qtd_Total_Parcelas]]=\"\",tb_pagamentos[[#This Row],[Nr_Pedido]]=\"\"),\"\",IF(tb_pagamentos[[#This Row],[Data_Pagamento]]<>\"\",\"Pago\",IF(AND(tb_pagamentos[[#This Row],[Data_Pagamento]]=\"\",tb_pagamentos[[#This Row],[Data_Vencimento]]<TODAY()),\"Em Atraso\",\"A vencer\")))","v":""}]
[null,null,"",{"$f":"IFERROR(INDEX(CALC_BASE!$N$3:$N$52,MATCH(ROW()-7,CALC_BASE!$M$3:$M$52,0)),\"\")","v":""},{"$f":"IFERROR(INDEX(CALC_BASE!$O$3:$O$52,MATCH(ROW()-7,CALC_BASE!$M$3:$M$52,0)),\"\")","v":""},{"$f":"IFERROR(INDEX(CALC_BASE!$P$3:$P$52,MATCH(ROW()-7,CALC_BASE!$M$3:$M$52,0)),\"\")","v":""},{"$f":"IFERROR(IF(D963=\"\",\"\",INDEX(tb_vendas[Preço de Venda],MATCH(D963,tb_vendas[N° Pedido/Empresa],0))/F963),\"\")","v":""},{"$f":"IFERROR(IF(D963=\"\",\"\",INDEX(tb_vendas[Data Fechamento],MATCH(D963,tb_vendas[N° Pedido/Empresa],0))+E963*INDEX(tb_formas_pagamento[Dias_Intervalo],MATCH(INDEX(tb_vendas[Forma_Pagamento],MATCH(D963,tb_vendas[N° Pedido/Empresa],0)),tb_formas_pagamento[Nome_Forma],0))),\"\")","v":""},null,{"$f":"IF(OR(tb_pagamentos[[#This Row],[Data_Vencimento]]=\"\",tb_pagamentos[[#This Row],[Valor_Parcela]]=\"\",tb_pagamentos[[#This Row],[Qtd_Total_Parcelas]]=\"\",tb_pagamentos[[#This Row],[Nr_Pedido]]=\"\"),\"\",IF(tb_pagamentos[[#This Row],[Data_Pagamento]]<>\"\",\"Pago\",IF(AND(tb_pagamentos[[#This Row],[Data_Pagamento]]=\"\",tb_pagamentos[[#This Row],[Data_Vencimento]]<TODAY()),\"Em Atraso\",\"A vencer\")))","v":""}]
[null,null,"",{"$f":"IFERROR(INDEX(CALC_BASE!$N$3:$N$52,MATCH(ROW()-7,CALC_BASE!$M$3:$M$52,0)),\"\")","v":""},{"$f":"IFERROR(INDEX(CALC_BASE!$O$3:$O$52,MATCH(ROW()-7,CALC_BASE!$M$3:$M$52,0)),\"\")","v":""},{"$f":"IFERROR(INDEX(CALC_BASE!$P$3:$P$52,MATCH(ROW()-7,CALC_BASE!$M$3:$M$52,0)),\"\")","v":""},{"$f":"IFERROR(IF(D964=\"\",\"\",INDEX(tb_vendas[Preço de Venda],MATCH(D964,tb_vendas[N° Pedido/Empresa],0))/F964),\"\")","v":""},{"$f":"IFERROR(IF(D964=\"\",\"\",INDEX(tb_vendas[Data Fechamento],MATCH(D964,tb_vendas[N° Pedido/Empresa],0))+E964*INDEX(tb_formas_pagamento[Dias_Intervalo],MATCH(INDEX(tb_vendas[Forma_Pagamento],MATCH(D964,tb_vendas[N° Pedido/Empresa],0)),tb_formas_pagamento[Nome_Forma],0))),\"\")","v":""},null,{"$f":"IF(OR(tb_pagamentos[[#This Row],[Data_Vencimento]]=\"\",tb_pagamentos[[#This Row],[Valor_Parcela]]=\"\",tb_pagamentos[[#This Row],[Qtd_Total_Parcelas]]=\"\",tb_pagamentos[[#This Row],[Nr_Pedido]]=\"\"),\"\",IF(tb_pagamentos[[#This Row],[Data_Pagamento]]<>\"\",\"Pago\",IF(AND(tb_pagamentos[[#This Row],[Data_Pagamento]]=\"\",tb_pagamentos[[#This Row],[Data_Vencimento]]<TODAY()),\"Em Atraso\",\"A vencer\")))","v":""}]
[null,null,"",{"$f":"IFERROR(INDEX(CALC_BASE!$N$3:$N$52,MATCH(ROW()-7,CALC_BASE!$M$3:$M$52,0)),\"\")","v":""},{"$f":"IFERROR(INDEX(CALC_BASE!$O$3:$O$52,MATCH(ROW()-7,CALC_BASE!$M$3:$M$52,0)),\"\")","v":""},{"$f":"IFERROR(INDEX(CALC_BASE!$P$3:$P$52,MATCH(ROW()-7,CALC_BASE!$M$3:$M$52,0)),\"\")","v":""},{"$f":"IFERROR(IF(D965=\"\",\"\",INDEX(tb_vendas[Preço de Venda],MATCH(D965,tb_vendas[N° Pedido/Empresa],0))/F965),\"\")","v":""},{"$f":"IFERROR(IF(D965=\"\",\"\",INDEX(tb_vendas[Data Fechamento],MATCH(D965,tb_vendas[N° Pedido/Empresa],0))+E965*INDEX(tb_formas_pagamento[Dias_Intervalo],MATCH(INDEX(tb_vendas[Forma_Pagamento],MATCH(D965,tb_vendas[N° Pedido/Empresa],0)),tb_formas_pagamento[Nome_Forma],0))),\"\")","v":""},null,{"$f":"IF(OR(tb_pagamentos[[#This Row],[Data_Vencimento]]=\"\",tb_pagamentos[[#This Row],[Valor_Parcela]]=\"\",tb_pagamentos[[#This Row],[Qtd_Total_Parcelas]]=\"\",tb_pagamentos[[#This Row],[Nr_Pedido]]=\"\"),\"\",IF(tb_pagamentos[[#This Row],[Data_Pagamento]]<>\"\",\"Pago\",IF(AND(tb_pagamentos[[#This Row],[Data_Pagamento]]=\"\",tb_pagamentos[[#This Row],[Data_Vencimento]]<TODAY()),\"Em Atraso\",\"A vencer\")))","v":""}]
[null,null,"",{"$f":"IFERROR(INDEX(CALC_BASE!$N$3:$N$52,MATCH(ROW()-7,CALC_BASE!$M$3:$M$52,0)),\"\")","v":""},{"$f":"IFERROR(INDEX(CALC_BASE!$O$3:$O$52,MATCH(ROW()-7,CALC_BASE!$M$3:$M$52,0)),\"\")","v":""},{"$f":"IFERROR(INDEX(CALC_BASE!$P$3:$P$52,MATCH(ROW()-7,CALC_BASE!$M$3:$M$52,0)),\"\")","v":""},{"$f":"IFERROR(IF(D966=\"\",\"\",INDEX(tb_vendas[Preço de Venda],MATCH(D966,tb_vendas[N° Pedido/Empresa],0))/F966),\"\")","v":""},{"$f":"IFERROR(IF(D966=\"\",\"\",INDEX(tb_vendas[Data Fechamento],MATCH(D966,tb_vendas[N° Pedido/Empresa],0))+E966*INDEX(tb_formas_pagamento[Dias_Intervalo],MATCH(INDEX(tb_vendas[Forma_Pagamento],MATCH(D966,tb_vendas[N° Pedido/Empresa],0)),tb_formas_pagamento[Nome_Forma],0))),\"\")","v":""},null,{"$f":"IF(OR(tb_pagamentos[[#This Row],[Data_Vencimento]]=\"\",tb_pagamentos[[#This Row],[Valor_Parcela]]=\"\",tb_pagamentos[[#This Row],[Qtd_Total_Parcelas]]=\"\",tb_pagamentos[[#This Row],[Nr_Pedido]]=\"\"),\"\",IF(tb_pagamentos[[#This Row],[Data_Pagamento]]<>\"\",\"Pago\",IF(AND(tb_pagamentos[[#This Row],[Data_Pagamento]]=\"\",tb_pagamentos[[#This Row],[Data_Vencimento]]<TODAY()),\"Em Atraso\",\"A vencer\")))","v":""}]
[null,null,"",{"$f":"IFERROR(INDEX(CALC_BASE!$N$3:$N$52,MATCH(ROW()-7,CALC_BASE!$M$3:$M$52,0)),\"\")","v":""},{"$f":"IFERROR(INDEX(CALC_BASE!$O$3:$O$52,MATCH(ROW()-7,CALC_BASE!$M$3:$M$52,0)),\"\")","v":""},{"$f":"IFERROR(INDEX(CALC_BASE!$P$3:$P$52,MATCH(ROW()-7,CALC_BASE!$M$3:$M$52,0)),\"\")","v":""},{"$f":"IFERROR(IF(D967=\"\",\"\",INDEX(tb_vendas[Preço de Venda],MATCH(D967,tb_vendas[N° Pedido/Empresa],0))/F967),\"\")","v":""},{"$f":"IFERROR(IF(D967=\"\",\"\",INDEX(tb_vendas[Data Fechamento],MATCH(D967,tb_vendas[N° Pedido/Empresa],0))+E967*INDEX(tb_formas_pagamento[Dias_Intervalo],MATCH(INDEX(tb_vendas[Forma_Pagamento],MATCH(D967,tb_vendas[N° Pedido/Empresa],0)),tb_formas_pagamento[Nome_Forma],0))),\"\")","v":""},null,{"$f":"IF(OR(tb_pagamentos[[#This Row],[Data_Vencimento]]=\"\",tb_pagamentos[[#This Row],[Valor_Parcela]]=\"\",tb_pagamentos[[#This Row],[Qtd_Total_Parcelas]]=\"\",tb_pagamentos[[#This Row],[Nr_Pedido]]=\"\"),\"\",IF(tb_pagamentos[[#This Row],[Data_Pagamento]]<>\"\",\"Pago\",IF(AND(tb_pagamentos[[#This Row],[Data_Pagamento]]=\"\",tb_pagamentos[[#This Row],[Data_Vencimento]]<TODAY()),\"Em Atraso\",\"A vencer\")))","v":""}]
[null,null,"",{"$f":"IFERROR(INDEX(CALC_BASE!$N$3:$N$52,MATCH(ROW()-7,CALC_BASE!$M$3:$M$52,0)),\"\")","v":""},{"$f":"IFERROR(INDEX(CALC_BASE!$O$3:$O$52,MATCH(ROW()-7,CALC_BASE!$M$3:$M$52,0)),\"\")","v":""},{"$f":"IFERROR(INDEX(CALC_BASE!$P$3:$P$52,MATCH(ROW()-7,CALC_BASE!$M$3:$M$52,0)),\"\")","v":""},{"$f":"IFERROR(IF(D968=\"\",\"\",INDEX(tb_vendas[Preço de Venda],MATCH(D968,tb_vendas[N° Pedido/Empresa],0))/F968),\"\")","v":""},{"$f":"IFERROR(IF(D968=\"\",\"\",INDEX(tb_vendas[Data Fechamento],MATCH(D968,tb_vendas[N° Pedido/Empresa],0))+E968*INDEX(tb_formas_pagamento[Dias_Intervalo],MATCH(INDEX(tb_vendas[Forma_Pagamento],MATCH(D968,tb_vendas[N° Pedido/Empresa],0)),tb_formas_pagamento[Nome_Forma],0))),\"\")","v":""},null,{"$f":"IF(OR(tb_pagamentos[[#This Row],[Data_Vencimento]]=\"\",tb_pagamentos[[#This Row],[Valor_Parcela]]=\"\",tb_pagamentos[[#This Row],[Qtd_Total_Parcelas]]=\"\",tb_pagamentos[[#This Row],[Nr_Pedido]]=\"\"),\"\",IF(tb_pagamentos[[#This Row],[Data_Pagamento]]<>\"\",\"Pago\",IF(AND(tb_pagamentos[[#This Row],[Data_Pagamento]]=\"\",tb_pagamentos[[#This Row],[Data_Vencimento]]<TODAY()),\"Em Atraso\",\"A vencer\")))","v":""}]
[null,null,"",{"$f":"IFERROR(INDEX(CALC_BASE!$N$3:$N$52,MATCH(ROW()-7,CALC_BASE!$M$3:$M$52,0)),\"\")","v":""},{"$f":"IFERROR(INDEX(CALC_BASE!$O$3:$O$52,MATCH(ROW()-7,CALC_BASE!$M$3:$M$52,0)),\"\")","v":""},{"$f":"IFERROR(INDEX(CALC_BASE!$P$3:$P$52,MATCH(ROW()-7,CALC_BASE!$M$3:$M$52,0)),\"\")","v":""},{"$f":"IFERROR(IF(D969=\"\",\"\",INDEX(tb_vendas[Preço de Venda],MATCH(D969,tb_vendas[N° Pedido/Empresa],0))/F969),\"\")","v":""},{"$f":"IFERROR(IF(D969=\"\",\"\",INDEX(tb_vendas[Data Fechamento],MATCH(D969,tb_vendas[N° Pedido/Empresa],0))+E969*INDEX(tb_formas_pagamento[Dias_Intervalo],MATCH(INDEX(tb_vendas[Forma_Pagamento],MATCH(D969,tb_vendas[N° Pedido/Empresa],0)),tb_formas_pagamento[Nome_Forma],0))),\"\")","v":""},null,{"$f":"IF(OR(tb_pagamentos[[#This Row],[Data_Vencimento]]=\"\",tb_pagamentos[[#This Row],[Valor_Parcela]]=\"\",tb_pagamentos[[#This Row],[Qtd_Total_Parcelas]]=\"\",tb_pagamentos[[#This Row],[Nr_Pedido]]=\"\"),\"\",IF(tb_pagamentos[[#This Row],[Data_Pagamento]]<>\"\",\"Pago\",IF(AND(tb_pagamentos[[#This Row],[Data_Pagamento]]=\"\",tb_pagamentos[[#This Row],[Data_Vencimento]]<TODAY()),\"Em Atraso\",\"A vencer\")))","v":""}]
[null,null,"",{"$f":"IFERROR(INDEX(CALC_BASE!$N$3:$N$52,MATCH(ROW()-7,CALC_BASE!$M$3:$M$52,0)),\"\")","v":""},{"$f":"IFERROR(INDEX(CALC_BASE!$O$3:$O$52,MATCH(ROW()-7,CALC_BASE!$M$3:$M$52,0)),\"\")","v":""},{"$f":"IFERROR(INDEX(CALC_BASE!$P$3:$P$52,MATCH(ROW()-7,CALC_BASE!$M$3:$M$52,0)),\"\")","v":""},{"$f":"IFERROR(IF(D970=\"\",\"\",INDEX(tb_vendas[Preço de Venda],MATCH(D970,tb_vendas[N° Pedido/Empresa],0))/F970),\"\")","v":""},{"$f":"IFERROR(IF(D970=\"\",\"\",INDEX(tb_vendas[Data Fechamento],MATCH(D970,tb_vendas[N° Pedido/Empresa],0))+E970*INDEX(tb_formas_pagamento[Dias_Intervalo],MATCH(INDEX(tb_vendas[Forma_Pagamento],MATCH(D970,tb_vendas[N° Pedido/Empresa],0)),tb_formas_pagamento[Nome_Forma],0))),\"\")","v":""},null,{"$f":"IF(OR(tb_pagamentos[[#This Row],[Data_Vencimento]]=\"\",tb_pagamentos[[#This Row],[Valor_Parcela]]=\"\",tb_pagamentos[[#This Row],[Qtd_Total_Parcelas]]=\"\",tb_pagamentos[[#This Row],[Nr_Pedido]]=\"\"),\"\",IF(tb_pagamentos[[#This Row],[Data_Pagamento]]<>\"\",\"Pago\",IF(AND(tb_pagamentos[[#This Row],[Data_Pagamento]]=\"\",tb_pagamentos[[#This Row],[Data_Vencimento]]<TODAY()),\"Em Atraso\",\"A vencer\")))","v":""}]
[null,null,"",{"$f":"IFERROR(INDEX(CALC_BASE!$N$3:$N$52,MATCH(ROW()-7,CALC_BASE!$M$3:$M$52,0)),\"\")","v":""},{"$f":"IFERROR(INDEX(CALC_BASE!$O$3:$O$52,MATCH(ROW()-7,CALC_BASE!$M$3:$M$52,0)),\"\")","v":""},{"$f":"IFERROR(INDEX(CALC_BASE!$P$3:$P$52,MATCH(ROW()-7,CALC_BASE!$M$3:$M$52,0)),\"\")","v":""},{"$f":"IFERROR(IF(D971=\"\",\"\",INDEX(tb_vendas[Preço de Venda],MATCH(D971,tb_vendas[N° Pedido/Empresa],0))/F971),\"\")","v":""},{"$f":"IFERROR(IF(D971=\"\",\"\",INDEX(tb_vendas[Data Fechamento],MATCH(D971,tb_vendas[N° Pedido/Empresa],0))+E971*INDEX(tb_formas_pagamento[Dias_Intervalo],MATCH(INDEX(tb_vendas[Forma_Pagamento],MATCH(D971,tb_vendas[N° Pedido/Empresa],0)),tb_formas_pagamento[Nome_Forma],0))),\"\")","v":""},null,{"$f":"IF(OR(tb_pagamentos[[#This Row],[Data_Vencimento]]=\"\",tb_pagamentos[[#This Row],[Valor_Parcela]]=\"\",tb_pagamentos[[#This Row],[Qtd_Total_Parcelas]]=\"\",tb_pagamentos[[#This Row],[Nr_Pedido]]=\"\"),\"\",IF(tb_pagamentos[[#This Row],[Data_Pagamento]]<>\"\",\"Pago\",IF(AND(tb_pagamentos[[#This Row],[Data_Pagamento]]=\"\",tb_pagamentos[[#This Row],[Data_Vencimento]]<TODAY()),\"Em Atraso\",\"A vencer\")))","v":""}]
[null,null,"",{"$f":"IFERROR(INDEX(CALC_BASE!$N$3:$N$52,MATCH(ROW()-7,CALC_BASE!$M$3:$M$52,0)),\"\")","v":""},{"$f":"IFERROR(INDEX(CALC_BASE!$O$3:$O$52,MATCH(ROW()-7,CALC_BASE!$M$3:$M$52,0)),\"\")","v":""},{"$f":"IFERROR(INDEX(CALC_BASE!$P$3:$P$52,MATCH(ROW()-7,CALC_BASE!$M$3:$M$52,0)),\"\")","v":""},{"$f":"IFERROR(IF(D972=\"\",\"\",INDEX(tb_vendas[Preço de Venda],MATCH(D972,tb_vendas[N° Pedido/Empresa],0))/F972),\"\")","v":""},{"$f":"IFERROR(IF(D972=\"\",\"\",INDEX(tb_vendas[Data Fechamento],MATCH(D972,tb_vendas[N° Pedido/Empresa],0))+E972*INDEX(tb_formas_pagamento[Dias_Intervalo],MATCH(INDEX(tb_vendas[Forma_Pagamento],MATCH(D972,tb_vendas[N° Pedido/Empresa],0)),tb_formas_pagamento[Nome_Forma],0))),\"\")","v":""},null,{"$f":"IF(OR(tb_pagamentos[[#This Row],[Data_Vencimento]]=\"\",tb_pagamentos[[#This Row],[Valor_Parcela]]=\"\",tb_pagamentos[[#This Row],[Qtd_Total_Parcelas]]=\"\",tb_pagamentos[[#This Row],[Nr_Pedido]]=\"\"),\"\",IF(tb_pagamentos[[#This Row],[Data_Pagamento]]<>\"\",\"Pago\",IF(AND(tb_pagamentos[[#This Row],[Data_Pagamento]]=\"\",tb_pagamentos[[#This Row],[Data_Vencimento]]<TODAY()),\"Em Atraso\",\"A vencer\")))","v":""}]
[null,null,"",{"$f":"IFERROR(INDEX(CALC_BASE!$N$3:$N$52,MATCH(ROW()-7,CALC_BASE!$M$3:$M$52,0)),\"\")","v":""},{"$f":"IFERROR(INDEX(CALC_BASE!$O$3:$O$52,MATCH(ROW()-7,CALC_BASE!$M$3:$M$52,0)),\"\")","v":""},{"$f":"IFERROR(INDEX(CALC_BASE!$P$3:$P$52,MATCH(ROW()-7,CALC_BASE!$M$3:$M$52,0)),\"\")","v":""},{"$f":"IFERROR(IF(D973=\"\",\"\",INDEX(tb_vendas[Preço de Venda],MATCH(D973,tb_vendas[N° Pedido/Empresa],0))/F973),\"\")","v":""},{"$f":"IFERROR(IF(D973=\"\",\"\",INDEX(tb_vendas[Data Fechamento],MATCH(D973,tb_vendas[N° Pedido/Empresa],0))+E973*INDEX(tb_formas_pagamento[Dias_Intervalo],MATCH(INDEX(tb_vendas[Forma_Pagamento],MATCH(D973,tb_vendas[N° Pedido/Empresa],0)),tb_formas_pagamento[Nome_Forma],0))),\"\")","v":""},null,{"$f":"IF(OR(tb_pagamentos[[#This Row],[Data_Vencimento]]=\"\",tb_pagamentos[[#This Row],[Valor_Parcela]]=\"\",tb_pagamentos[[#This Row],[Qtd_Total_Parcelas]]=\"\",tb_pagamentos[[#This Row],[Nr_Pedido]]=\"\"),\"\",IF(tb_pagamentos[[#This Row],[Data_Pagamento]]<>\"\",\"Pago\",IF(AND(tb_pagamentos[[#This Row],[Data_Pagamento]]=\"\",tb_pagamentos[[#This Row],[Data_Vencimento]]<TODAY()),\"Em Atraso\",\"A vencer\")))","v":""}]
[null,null,"",{"$f":"IFERROR(INDEX(CALC_BASE!$N$3:$N$52,MATCH(ROW()-7,CALC_BASE!$M$3:$M$52,0)),\"\")","v":""},{"$f":"IFERROR(INDEX(CALC_BASE!$O$3:$O$52,MATCH(ROW()-7,CALC_BASE!$M$3:$M$52,0)),\"\")","v":""},{"$f":"IFERROR(INDEX(CALC_BASE!$P$3:$P$52,MATCH(ROW()-7,CALC_BASE!$M$3:$M$52,0)),\"\")","v":""},{"$f":"IFERROR(IF(D974=\"\",\"\",INDEX(tb_vendas[Preço de Venda],MATCH(D974,tb_vendas[N° Pedido/Empresa],0))/F974),\"\")","v":""},{"$f":"IFERROR(IF(D974=\"\",\"\",INDEX(tb_vendas[Data Fechamento],MATCH(D974,tb_vendas[N° Pedido/Empresa],0))+E974*INDEX(tb_formas_pagamento[Dias_Intervalo],MATCH(INDEX(tb_vendas[Forma_Pagamento],MATCH(D974,tb_vendas[N° Pedido/Empresa],0)),tb_formas_pagamento[Nome_Forma],0))),\"\")","v":""},null,{"$f":"IF(OR(tb_pagamentos[[#This Row],[Data_Vencimento]]=\"\",tb_pagamentos[[#This Row],[Valor_Parcela]]=\"\",tb_pagamentos[[#This Row],[Qtd_Total_Parcelas]]=\"\",tb_pagamentos[[#This Row],[Nr_Pedido]]=\"\"),\"\",IF(tb_pagamentos[[#This Row],[Data_Pagamento]]<>\"\",\"Pago\",IF(AND(tb_pagamentos[[#This Row],[Data_Pagamento]]=\"\",tb_pagamentos[[#This Row],[Data_Vencimento]]<TODAY()),\"Em Atraso\",\"A vencer\")))","v":""}]
[null,null,{"$f":"IF(OR(D975=\"\",E975=\"\"),\"\",D975&\"-\"&E975)","v":""},{"$f":"IFERROR(INDEX(CALC_BASE!$N$3:$N$52,MATCH(ROW()-7,CALC_BASE!$M$3:$M$52,0)),\"\")","v":""},{"$f":"IFERROR(INDEX(CALC_BASE!$O$3:$O$52,MATCH(ROW()-7,CALC_BASE!$M$3:$M$52,0)),\"\")","v":""},{"$f":"IFERROR(INDEX(CALC_BASE!$P$3:$P$52,MATCH(ROW()-7,CALC_BASE!$M$3:$M$52,0)),\"\")","v":""},{"$f":"IFERROR(IF(D975=\"\",\"\",INDEX(tb_vendas[Preço de Venda],MATCH(D975,tb_vendas[N° Pedido/Empresa],0))/F975),\"\")","v":""},{"$f":"IFERROR(IF(D975=\"\",\"\",INDEX(tb_vendas[Data Fechamento],MATCH(D975,tb_vendas[N° Pedido/Empresa],0))+E975*INDEX(tb_formas_pagamento[Dias_Intervalo],MATCH(INDEX(tb_vendas[Forma_Pagamento],MATCH(D975,tb_vendas[N° Pedido/Empresa],0)),tb_formas_pagamento[Nome_Forma],0))),\"\")","v":""},null,{"$f":"IF(OR(tb_pagamentos[[#This Row],[Data_Vencimento]]=\"\",tb_pagamentos[[#This Row],[Valor_Parcela]]=\"\",tb_pagamentos[[#This Row],[Qtd_Total_Parcelas]]=\"\",tb_pagamentos[[#This Row],[Nr_Pedido]]=\"\"),\"\",IF(tb_pagamentos[[#This Row],[Data_Pagamento]]<>\"\",\"Pago\",IF(AND(tb_pagamentos[[#This Row],[Data_Pagamento]]=\"\",tb_pagamentos[[#This Row],[Data_Vencimento]]<TODAY()),\"Em Atraso\",\"A vencer\")))","v":""}]
[null,null,"",{"$f":"IFERROR(INDEX(CALC_BASE!$N$3:$N$52,MATCH(ROW()-7,CALC_BASE!$M$3:$M$52,0)),\"\")","v":""},{"$f":"IFERROR(INDEX(CALC_BASE!$O$3:$O$52,MATCH(ROW()-7,CALC_BASE!$M$3:$M$52,0)),\"\")","v":""},{"$f":"IFERROR(INDEX(CALC_BASE!$P$3:$P$52,MATCH(ROW()-7,CALC_BASE!$M$3:$M$52,0)),\"\")","v":""},{"$f":"IFERROR(IF(D976=\"\",\"\",INDEX(tb_vendas[Preço de Venda],MATCH(D976,tb_vendas[N° Pedido/Empresa],0))/F976),\"\")","v":""},{"$f":"IFERROR(IF(D976=\"\",\"\",INDEX(tb_vendas[Data Fechamento],MATCH(D976,tb_vendas[N° Pedido/Empresa],0))+E976*INDEX(tb_formas_pagamento[Dias_Intervalo],MATCH(INDEX(tb_vendas[Forma_Pagamento],MATCH(D976,tb_vendas[N° Pedido/Empresa],0)),tb_formas_pagamento[Nome_Forma],0))),\"\")","v":""},null,{"$f":"IF(OR(tb_pagamentos[[#This Row],[Data_Vencimento]]=\"\",tb_pagamentos[[#This Row],[Valor_Parcela]]=\"\",tb_pagamentos[[#This Row],[Qtd_Total_Parcelas]]=\"\",tb_pagamentos[[#This Row],[Nr_Pedido]]=\"\"),\"\",IF(tb_pagamentos[[#This Row],[Data_Pagamento]]<>\"\",\"Pago\",IF(AND(tb_pagamentos[[#This Row],[Data_Pagamento]]=\"\",tb_pagamentos[[#This Row],[Data_Vencimento]]<TODAY()),\"Em Atraso\",\"A vencer\")))","v":""}]
[null,null,"",{"$f":"IFERROR(INDEX(CALC_BASE!$N$3:$N$52,MATCH(ROW()-7,CALC_BASE!$M$3:$M$52,0)),\"\")","v":""},{"$f":"IFERROR(INDEX(CALC_BASE!$O$3:$O$52,MATCH(ROW()-7,CALC_BASE!$M$3:$M$52,0)),\"\")","v":""},{"$f":"IFERROR(INDEX(CALC_BASE!$P$3:$P$52,MATCH(ROW()-7,CALC_BASE!$M$3:$M$52,0)),\"\")","v":""},{"$f":"IFERROR(IF(D977=\"\",\"\",INDEX(tb_vendas[Preço de Venda],MATCH(D977,tb_vendas[N° Pedido/Empresa],0))/F977),\"\")","v":""},{"$f":"IFERROR(IF(D977=\"\",\"\",INDEX(tb_vendas[Data Fechamento],MATCH(D977,tb_vendas[N° Pedido/Empresa],0))+E977*INDEX(tb_formas_pagamento[Dias_Intervalo],MATCH(INDEX(tb_vendas[Forma_Pagamento],MATCH(D977,tb_vendas[N° Pedido/Empresa],0)),tb_formas_pagamento[Nome_Forma],0))),\"\")","v":""},null,{"$f":"IF(OR(tb_pagamentos[[#This Row],[Data_Vencimento]]=\"\",tb_pagamentos[[#This Row],[Valor_Parcela]]=\"\",tb_pagamentos[[#This Row],[Qtd_Total_Parcelas]]=\"\",tb_pagamentos[[#This Row],[Nr_Pedido]]=\"\"),\"\",IF(tb_pagamentos[[#This Row],[Data_Pagamento]]<>\"\",\"Pago\",IF(AND(tb_pagamentos[[#This Row],[Data_Pagamento]]=\"\",tb_pagamentos[[#This Row],[Data_Vencimento]]<TODAY()),\"Em Atraso\",\"A vencer\")))","v":""}]
[null,null,"",{"$f":"IFERROR(INDEX(CALC_BASE!$N$3:$N$52,MATCH(ROW()-7,CALC_BASE!$M$3:$M$52,0)),\"\")","v":""},{"$f":"IFERROR(INDEX(CALC_BASE!$O$3:$O$52,MATCH(ROW()-7,CALC_BASE!$M$3:$M$52,0)),\"\")","v":""},{"$f":"IFERROR(INDEX(CALC_BASE!$P$3:$P$52,MATCH(ROW()-7,CALC_BASE!$M$3:$M$52,0)),\"\")","v":""},{"$f":"IFERROR(IF(D978=\"\",\"\",INDEX(tb_vendas[Preço de Venda],MATCH(D978,tb_vendas[N° Pedido/Empresa],0))/F978),\"\")","v":""},{"$f":"IFERROR(IF(D978=\"\",\"\",INDEX(tb_vendas[Data Fechamento],MATCH(D978,tb_vendas[N° Pedido/Empresa],0))+E978*INDEX(tb_formas_pagamento[Dias_Intervalo],MATCH(INDEX(tb_vendas[Forma_Pagamento],MATCH(D978,tb_vendas[N° Pedido/Empresa],0)),tb_formas_pagamento[Nome_Forma],0))),\"\")","v":""},null,{"$f":"IF(OR(tb_pagamentos[[#This Row],[Data_Vencimento]]=\"\",tb_pagamentos[[#This Row],[Valor_Parcela]]=\"\",tb_pagamentos[[#This Row],[Qtd_Total_Parcelas]]=\"\",tb_pagamentos[[#This Row],[Nr_Pedido]]=\"\"),\"\",IF(tb_pagamentos[[#This Row],[Data_Pagamento]]<>\"\",\"Pago\",IF(AND(tb_pagamentos[[#This Row],[Data_Pagamento]]=\"\",tb_pagamentos[[#This Row],[Data_Vencimento]]<TODAY()),\"Em Atraso\",\"A vencer\")))","v":""}]
[null,null,"",{"$f":"IFERROR(INDEX(CALC_BASE!$N$3:$N$52,MATCH(ROW()-7,CALC_BASE!$M$3:$M$52,0)),\"\")","v":""},{"$f":"IFERROR(INDEX(CALC_BASE!$O$3:$O$52,MATCH(ROW()-7,CALC_BASE!$M$3:$M$52,0)),\"\")","v":""},{"$f":"IFERROR(INDEX(CALC_BASE!$P$3:$P$52,MATCH(ROW()-7,CALC_BASE!$M$3:$M$52,0)),\"\")","v":""},{"$f":"IFERROR(IF(D979=\"\",\"\",INDEX(tb_vendas[Preço de Venda],MATCH(D979,tb_vendas[N° Pedido/Empresa],0))/F979),\"\")","v":""},{"$f":"IFERROR(IF(D979=\"\",\"\",INDEX(tb_vendas[Data Fechamento],MATCH(D979,tb_vendas[N° Pedido/Empresa],0))+E979*INDEX(tb_formas_pagamento[Dias_Intervalo],MATCH(INDEX(tb_vendas[Forma_Pagamento],MATCH(D979,tb_vendas[N° Pedido/Empresa],0)),tb_formas_pagamento[Nome_Forma],0))),\"\")","v":""},null,{"$f":"IF(OR(tb_pagamentos[[#This Row],[Data_Vencimento]]=\"\",tb_pagamentos[[#This Row],[Valor_Parcela]]=\"\",tb_pagamentos[[#This Row],[Qtd_Total_Parcelas]]=\"\",tb_pagamentos[[#This Row],[Nr_Pedido]]=\"\"),\"\",IF(tb_pagamentos[[#This Row],[Data_Pagamento]]<>\"\",\"Pago\",IF(AND(tb_pagamentos[[#This Row],[Data_Pagamento]]=\"\",tb_pagamentos[[#This Row],[Data_Vencimento]]<TODAY()),\"Em Atraso\",\"A vencer\")))","v":""}]
[null,null,"",{"$f":"IFERROR(INDEX(CALC_BASE!$N$3:$N$52,MATCH(ROW()-7,CALC_BASE!$M$3:$M$52,0)),\"\")","v":""},{"$f":"IFERROR(INDEX(CALC_BASE!$O$3:$O$52,MATCH(ROW()-7,CALC_BASE!$M$3:$M$52,0)),\"\")","v":""},{"$f":"IFERROR(INDEX(CALC_BASE!$P$3:$P$52,MATCH(ROW()-7,CALC_BASE!$M$3:$M$52,0)),\"\")","v":""},{"$f":"IFERROR(IF(D980=\"\",\"\",INDEX(tb_vendas[Preço de Venda],MATCH(D980,tb_vendas[N° Pedido/Empresa],0))/F980),\"\")","v":""},{"$f":"IFERROR(IF(D980=\"\",\"\",INDEX(tb_vendas[Data Fechamento],MATCH(D980,tb_vendas[N° Pedido/Empresa],0))+E980*INDEX(tb_formas_pagamento[Dias_Intervalo],MATCH(INDEX(tb_vendas[Forma_Pagamento],MATCH(D980,tb_vendas[N° Pedido/Empresa],0)),tb_formas_pagamento[Nome_Forma],0))),\"\")","v":""},null,{"$f":"IF(OR(tb_pagamentos[[#This Row],[Data_Vencimento]]=\"\",tb_pagamentos[[#This Row],[Valor_Parcela]]=\"\",tb_pagamentos[[#This Row],[Qtd_Total_Parcelas]]=\"\",tb_pagamentos[[#This Row],[Nr_Pedido]]=\"\"),\"\",IF(tb_pagamentos[[#This Row],[Data_Pagamento]]<>\"\",\"Pago\",IF(AND(tb_pagamentos[[#This Row],[Data_Pagamento]]=\"\",tb_pagamentos[[#This Row],[Data_Vencimento]]<TODAY()),\"Em Atraso\",\"A vencer\")))","v":""}]
[null,null,"",{"$f":"IFERROR(INDEX(CALC_BASE!$N$3:$N$52,MATCH(ROW()-7,CALC_BASE!$M$3:$M$52,0)),\"\")","v":""},{"$f":"IFERROR(INDEX(CALC_BASE!$O$3:$O$52,MATCH(ROW()-7,CALC_BASE!$M$3:$M$52,0)),\"\")","v":""},{"$f":"IFERROR(INDEX(CALC_BASE!$P$3:$P$52,MATCH(ROW()-7,CALC_BASE!$M$3:$M$52,0)),\"\")","v":""},{"$f":"IFERROR(IF(D981=\"\",\"\",INDEX(tb_vendas[Preço de Venda],MATCH(D981,tb_vendas[N° Pedido/Empresa],0))/F981),\"\")","v":""},{"$f":"IFERROR(IF(D981=\"\",\"\",INDEX(tb_vendas[Data Fechamento],MATCH(D981,tb_vendas[N° Pedido/Empresa],0))+E981*INDEX(tb_formas_pagamento[Dias_Intervalo],MATCH(INDEX(tb_vendas[Forma_Pagamento],MATCH(D981,tb_vendas[N° Pedido/Empresa],0)),tb_formas_pagamento[Nome_Forma],0))),\"\")","v":""},null,{"$f":"IF(OR(tb_pagamentos[[#This Row],[Data_Vencimento]]=\"\",tb_pagamentos[[#This Row],[Valor_Parcela]]=\"\",tb_pagamentos[[#This Row],[Qtd_Total_Parcelas]]=\"\",tb_pagamentos[[#This Row],[Nr_Pedido]]=\"\"),\"\",IF(tb_pagamentos[[#This Row],[Data_Pagamento]]<>\"\",\"Pago\",IF(AND(tb_pagamentos[[#This Row],[Data_Pagamento]]=\"\",tb_pagamentos[[#This Row],[Data_Vencimento]]<TODAY()),\"Em Atraso\",\"A vencer\")))","v":""}]
[null,null,"",{"$f":"IFERROR(INDEX(CALC_BASE!$N$3:$N$52,MATCH(ROW()-7,CALC_BASE!$M$3:$M$52,0)),\"\")","v":""},{"$f":"IFERROR(INDEX(CALC_BASE!$O$3:$O$52,MATCH(ROW()-7,CALC_BASE!$M$3:$M$52,0)),\"\")","v":""},{"$f":"IFERROR(INDEX(CALC_BASE!$P$3:$P$52,MATCH(ROW()-7,CALC_BASE!$M$3:$M$52,0)),\"\")","v":""},{"$f":"IFERROR(IF(D982=\"\",\"\",INDEX(tb_vendas[Preço de Venda],MATCH(D982,tb_vendas[N° Pedido/Empresa],0))/F982),\"\")","v":""},{"$f":"IFERROR(IF(D982=\"\",\"\",INDEX(tb_vendas[Data Fechamento],MATCH(D982,tb_vendas[N° Pedido/Empresa],0))+E982*INDEX(tb_formas_pagamento[Dias_Intervalo],MATCH(INDEX(tb_vendas[Forma_Pagamento],MATCH(D982,tb_vendas[N° Pedido/Empresa],0)),tb_formas_pagamento[Nome_Forma],0))),\"\")","v":""},null,{"$f":"IF(OR(tb_pagamentos[[#This Row],[Data_Vencimento]]=\"\",tb_pagamentos[[#This Row],[Valor_Parcela]]=\"\",tb_pagamentos[[#This Row],[Qtd_Total_Parcelas]]=\"\",tb_pagamentos[[#This Row],[Nr_Pedido]]=\"\"),\"\",IF(tb_pagamentos[[#This Row],[Data_Pagamento]]<>\"\",\"Pago\",IF(AND(tb_pagamentos[[#This Row],[Data_Pagamento]]=\"\",tb_pagamentos[[#This Row],[Data_Vencimento]]<TODAY()),\"Em Atraso\",\"A vencer\")))","v":""}]
[null,null,"",{"$f":"IFERROR(INDEX(CALC_BASE!$N$3:$N$52,MATCH(ROW()-7,CALC_BASE!$M$3:$M$52,0)),\"\")","v":""},{"$f":"IFERROR(INDEX(CALC_BASE!$O$3:$O$52,MATCH(ROW()-7,CALC_BASE!$M$3:$M$52,0)),\"\")","v":""},{"$f":"IFERROR(INDEX(CALC_BASE!$P$3:$P$52,MATCH(ROW()-7,CALC_BASE!$M$3:$M$52,0)),\"\")","v":""},{"$f":"IFERROR(IF(D983=\"\",\"\",INDEX(tb_vendas[Preço de Venda],MATCH(D983,tb_vendas[N° Pedido/Empresa],0))/F983),\"\")","v":""},{"$f":"IFERROR(IF(D983=\"\",\"\",INDEX(tb_vendas[Data Fechamento],MATCH(D983,tb_vendas[N° Pedido/Empresa],0))+E983*INDEX(tb_formas_pagamento[Dias_Intervalo],MATCH(INDEX(tb_vendas[Forma_Pagamento],MATCH(D983,tb_vendas[N° Pedido/Empresa],0)),tb_formas_pagamento[Nome_Forma],0))),\"\")","v":""},null,{"$f":"IF(OR(tb_pagamentos[[#This Row],[Data_Vencimento]]=\"\",tb_pagamentos[[#This Row],[Valor_Parcela]]=\"\",tb_pagamentos[[#This Row],[Qtd_Total_Parcelas]]=\"\",tb_pagamentos[[#This Row],[Nr_Pedido]]=\"\"),\"\",IF(tb_pagamentos[[#This Row],[Data_Pagamento]]<>\"\",\"Pago\",IF(AND(tb_pagamentos[[#This Row],[Data_Pagamento]]=\"\",tb_pagamentos[[#This Row],[Data_Vencimento]]<TODAY()),\"Em Atraso\",\"A vencer\")))","v":""}]
[null,null,"",{"$f":"IFERROR(INDEX(CALC_BASE!$N$3:$N$52,MATCH(ROW()-7,CALC_BASE!$M$3:$M$52,0)),\"\")","v":""},{"$f":"IFERROR(INDEX(CALC_BASE!$O$3:$O$52,MATCH(ROW()-7,CALC_BASE!$M$3:$M$52,0)),\"\")","v":""},{"$f":"IFERROR(INDEX(CALC_BASE!$P$3:$P$52,MATCH(ROW()-7,CALC_BASE!$M$3:$M$52,0)),\"\")","v":""},{"$f":"IFERROR(IF(D984=\"\",\"\",INDEX(tb_vendas[Preço de Venda],MATCH(D984,tb_vendas[N° Pedido/Empresa],0))/F984),\"\")","v":""},{"$f":"IFERROR(IF(D984=\"\",\"\",INDEX(tb_vendas[Data Fechamento],MATCH(D984,tb_vendas[N° Pedido/Empresa],0))+E984*INDEX(tb_formas_pagamento[Dias_Intervalo],MATCH(INDEX(tb_vendas[Forma_Pagamento],MATCH(D984,tb_vendas[N° Pedido/Empresa],0)),tb_formas_pagamento[Nome_Forma],0))),\"\")","v":""},null,{"$f":"IF(OR(tb_pagamentos[[#This Row],[Data_Vencimento]]=\"\",tb_pagamentos[[#This Row],[Valor_Parcela]]=\"\",tb_pagamentos[[#This Row],[Qtd_Total_Parcelas]]=\"\",tb_pagamentos[[#This Row],[Nr_Pedido]]=\"\"),\"\",IF(tb_pagamentos[[#This Row],[Data_Pagamento]]<>\"\",\"Pago\",IF(AND(tb_pagamentos[[#This Row],[Data_Pagamento]]=\"\",tb_pagamentos[[#This Row],[Data_Vencimento]]<TODAY()),\"Em Atraso\",\"A vencer\")))","v":""}]
[null,null,"",{"$f":"IFERROR(INDEX(CALC_BASE!$N$3:$N$52,MATCH(ROW()-7,CALC_BASE!$M$3:$M$52,0)),\"\")","v":""},{"$f":"IFERROR(INDEX(CALC_BASE!$O$3:$O$52,MATCH(ROW()-7,CALC_BASE!$M$3:$M$52,0)),\"\")","v":""},{"$f":"IFERROR(INDEX(CALC_BASE!$P$3:$P$52,MATCH(ROW()-7,CALC_BASE!$M$3:$M$52,0)),\"\")","v":""},{"$f":"IFERROR(IF(D985=\"\",\"\",INDEX(tb_vendas[Preço de Venda],MATCH(D985,tb_vendas[N° Pedido/Empresa],0))/F985),\"\")","v":""},{"$f":"IFERROR(IF(D985=\"\",\"\",INDEX(tb_vendas[Data Fechamento],MATCH(D985,tb_vendas[N° Pedido/Empresa],0))+E985*INDEX(tb_formas_pagamento[Dias_Intervalo],MATCH(INDEX(tb_vendas[Forma_Pagamento],MATCH(D985,tb_vendas[N° Pedido/Empresa],0)),tb_formas_pagamento[Nome_Forma],0))),\"\")","v":""},null,{"$f":"IF(OR(tb_pagamentos[[#This Row],[Data_Vencimento]]=\"\",tb_pagamentos[[#This Row],[Valor_Parcela]]=\"\",tb_pagamentos[[#This Row],[Qtd_Total_Parcelas]]=\"\",tb_pagamentos[[#This Row],[Nr_Pedido]]=\"\"),\"\",IF(tb_pagamentos[[#This Row],[Data_Pagamento]]<>\"\",\"Pago\",IF(AND(tb_pagamentos[[#This Row],[Data_Pagamento]]=\"\",tb_pagamentos[[#This Row],[Data_Vencimento]]<TODAY()),\"Em Atraso\",\"A vencer\")))","v":""}]
[null,null,"",{"$f":"IFERROR(INDEX(CALC_BASE!$N$3:$N$52,MATCH(ROW()-7,CALC_BASE!$M$3:$M$52,0)),\"\")","v":""},{"$f":"IFERROR(INDEX(CALC_BASE!$O$3:$O$52,MATCH(ROW()-7,CALC_BASE!$M$3:$M$52,0)),\"\")","v":""},{"$f":"IFERROR(INDEX(CALC_BASE!$P$3:$P$52,MATCH(ROW()-7,CALC_BASE!$M$3:$M$52,0)),\"\")","v":""},{"$f":"IFERROR(IF(D986=\"\",\"\",INDEX(tb_vendas[Preço de Venda],MATCH(D986,tb_vendas[N° Pedido/Empresa],0))/F986),\"\")","v":""},{"$f":"IFERROR(IF(D986=\"\",\"\",INDEX(tb_vendas[Data Fechamento],MATCH(D986,tb_vendas[N° Pedido/Empresa],0))+E986*INDEX(tb_formas_pagamento[Dias_Intervalo],MATCH(INDEX(tb_vendas[Forma_Pagamento],MATCH(D986,tb_vendas[N° Pedido/Empresa],0)),tb_formas_pagamento[Nome_Forma],0))),\"\")","v":""},null,{"$f":"IF(OR(tb_pagamentos[[#This Row],[Data_Vencimento]]=\"\",tb_pagamentos[[#This Row],[Valor_Parcela]]=\"\",tb_pagamentos[[#This Row],[Qtd_Total_Parcelas]]=\"\",tb_pagamentos[[#This Row],[Nr_Pedido]]=\"\"),\"\",IF(tb_pagamentos[[#This Row],[Data_Pagamento]]<>\"\",\"Pago\",IF(AND(tb_pagamentos[[#This Row],[Data_Pagamento]]=\"\",tb_pagamentos[[#This Row],[Data_Vencimento]]<TODAY()),\"Em Atraso\",\"A vencer\")))","v":""}]
[null,null,"",{"$f":"IFERROR(INDEX(CALC_BASE!$N$3:$N$52,MATCH(ROW()-7,CALC_BASE!$M$3:$M$52,0)),\"\")","v":""},{"$f":"IFERROR(INDEX(CALC_BASE!$O$3:$O$52,MATCH(ROW()-7,CALC_BASE!$M$3:$M$52,0)),\"\")","v":""},{"$f":"IFERROR(INDEX(CALC_BASE!$P$3:$P$52,MATCH(ROW()-7,CALC_BASE!$M$3:$M$52,0)),\"\")","v":""},{"$f":"IFERROR(IF(D987=\"\",\"\",INDEX(tb_vendas[Preço de Venda],MATCH(D987,tb_vendas[N° Pedido/Empresa],0))/F987),\"\")","v":""},{"$f":"IFERROR(IF(D987=\"\",\"\",INDEX(tb_vendas[Data Fechamento],MATCH(D987,tb_vendas[N° Pedido/Empresa],0))+E987*INDEX(tb_formas_pagamento[Dias_Intervalo],MATCH(INDEX(tb_vendas[Forma_Pagamento],MATCH(D987,tb_vendas[N° Pedido/Empresa],0)),tb_formas_pagamento[Nome_Forma],0))),\"\")","v":""},null,{"$f":"IF(OR(tb_pagamentos[[#This Row],[Data_Vencimento]]=\"\",tb_pagamentos[[#This Row],[Valor_Parcela]]=\"\",tb_pagamentos[[#This Row],[Qtd_Total_Parcelas]]=\"\",tb_pagamentos[[#This Row],[Nr_Pedido]]=\"\"),\"\",IF(tb_pagamentos[[#This Row],[Data_Pagamento]]<>\"\",\"Pago\",IF(AND(tb_pagamentos[[#This Row],[Data_Pagamento]]=\"\",tb_pagamentos[[#This Row],[Data_Vencimento]]<TODAY()),\"Em Atraso\",\"A vencer\")))","v":""}]
[null,null,"",{"$f":"IFERROR(INDEX(CALC_BASE!$N$3:$N$52,MATCH(ROW()-7,CALC_BASE!$M$3:$M$52,0)),\"\")","v":""},{"$f":"IFERROR(INDEX(CALC_BASE!$O$3:$O$52,MATCH(ROW()-7,CALC_BASE!$M$3:$M$52,0)),\"\")","v":""},{"$f":"IFERROR(INDEX(CALC_BASE!$P$3:$P$52,MATCH(ROW()-7,CALC_BASE!$M$3:$M$52,0)),\"\")","v":""},{"$f":"IFERROR(IF(D988=\"\",\"\",INDEX(tb_vendas[Preço de Venda],MATCH(D988,tb_vendas[N° Pedido/Empresa],0))/F988),\"\")","v":""},{"$f":"IFERROR(IF(D988=\"\",\"\",INDEX(tb_vendas[Data Fechamento],MATCH(D988,tb_vendas[N° Pedido/Empresa],0))+E988*INDEX(tb_formas_pagamento[Dias_Intervalo],MATCH(INDEX(tb_vendas[Forma_Pagamento],MATCH(D988,tb_vendas[N° Pedido/Empresa],0)),tb_formas_pagamento[Nome_Forma],0))),\"\")","v":""},null,{"$f":"IF(OR(tb_pagamentos[[#This Row],[Data_Vencimento]]=\"\",tb_pagamentos[[#This Row],[Valor_Parcela]]=\"\",tb_pagamentos[[#This Row],[Qtd_Total_Parcelas]]=\"\",tb_pagamentos[[#This Row],[Nr_Pedido]]=\"\"),\"\",IF(tb_pagamentos[[#This Row],[Data_Pagamento]]<>\"\",\"Pago\",IF(AND(tb_pagamentos[[#This Row],[Data_Pagamento]]=\"\",tb_pagamentos[[#This Row],[Data_Vencimento]]<TODAY()),\"Em Atraso\",\"A vencer\")))","v":""}]
[null,null,"",{"$f":"IFERROR(INDEX(CALC_BASE!$N$3:$N$52,MATCH(ROW()-7,CALC_BASE!$M$3:$M$52,0)),\"\")","v":""},{"$f":"IFERROR(INDEX(CALC_BASE!$O$3:$O$52,MATCH(ROW()-7,CALC_BASE!$M$3:$M$52,0)),\"\")","v":""},{"$f":"IFERROR(INDEX(CALC_BASE!$P$3:$P$52,MATCH(ROW()-7,CALC_BASE!$M$3:$M$52,0)),\"\")","v":""},{"$f":"IFERROR(IF(D989=\"\",\"\",INDEX(tb_vendas[Preço de Venda],MATCH(D989,tb_vendas[N° Pedido/Empresa],0))/F989),\"\")","v":""},{"$f":"IFERROR(IF(D989=\"\",\"\",INDEX(tb_vendas[Data Fechamento],MATCH(D989,tb_vendas[N° Pedido/Empresa],0))+E989*INDEX(tb_formas_pagamento[Dias_Intervalo],MATCH(INDEX(tb_vendas[Forma_Pagamento],MATCH(D989,tb_vendas[N° Pedido/Empresa],0)),tb_formas_pagamento[Nome_Forma],0))),\"\")","v":""},null,{"$f":"IF(OR(tb_pagamentos[[#This Row],[Data_Vencimento]]=\"\",tb_pagamentos[[#This Row],[Valor_Parcela]]=\"\",tb_pagamentos[[#This Row],[Qtd_Total_Parcelas]]=\"\",tb_pagamentos[[#This Row],[Nr_Pedido]]=\"\"),\"\",IF(tb_pagamentos[[#This Row],[Data_Pagamento]]<>\"\",\"Pago\",IF(AND(tb_pagamentos[[#This Row],[Data_Pagamento]]=\"\",tb_pagamentos[[#This Row],[Data_Vencimento]]<TODAY()),\"Em Atraso\",\"A vencer\")))","v":""}]
[null,null,"",{"$f":"IFERROR(INDEX(CALC_BASE!$N$3:$N$52,MATCH(ROW()-7,CALC_BASE!$M$3:$M$52,0)),\"\")","v":""},{"$f":"IFERROR(INDEX(CALC_BASE!$O$3:$O$52,MATCH(ROW()-7,CALC_BASE!$M$3:$M$52,0)),\"\")","v":""},{"$f":"IFERROR(INDEX(CALC_BASE!$P$3:$P$52,MATCH(ROW()-7,CALC_BASE!$M$3:$M$52,0)),\"\")","v":""},{"$f":"IFERROR(IF(D990=\"\",\"\",INDEX(tb_vendas[Preço de Venda],MATCH(D990,tb_vendas[N° Pedido/Empresa],0))/F990),\"\")","v":""},{"$f":"IFERROR(IF(D990=\"\",\"\",INDEX(tb_vendas[Data Fechamento],MATCH(D990,tb_vendas[N° Pedido/Empresa],0))+E990*INDEX(tb_formas_pagamento[Dias_Intervalo],MATCH(INDEX(tb_vendas[Forma_Pagamento],MATCH(D990,tb_vendas[N° Pedido/Empresa],0)),tb_formas_pagamento[Nome_Forma],0))),\"\")","v":""},null,{"$f":"IF(OR(tb_pagamentos[[#This Row],[Data_Vencimento]]=\"\",tb_pagamentos[[#This Row],[Valor_Parcela]]=\"\",tb_pagamentos[[#This Row],[Qtd_Total_Parcelas]]=\"\",tb_pagamentos[[#This Row],[Nr_Pedido]]=\"\"),\"\",IF(tb_pagamentos[[#This Row],[Data_Pagamento]]<>\"\",\"Pago\",IF(AND(tb_pagamentos[[#This Row],[Data_Pagamento]]=\"\",tb_pagamentos[[#This Row],[Data_Vencimento]]<TODAY()),\"Em Atraso\",\"A vencer\")))","v":""}]
[null,null,"",{"$f":"IFERROR(INDEX(CALC_BASE!$N$3:$N$52,MATCH(ROW()-7,CALC_BASE!$M$3:$M$52,0)),\"\")","v":""},{"$f":"IFERROR(INDEX(CALC_BASE!$O$3:$O$52,MATCH(ROW()-7,CALC_BASE!$M$3:$M$52,0)),\"\")","v":""},{"$f":"IFERROR(INDEX(CALC_BASE!$P$3:$P$52,MATCH(ROW()-7,CALC_BASE!$M$3:$M$52,0)),\"\")","v":""},{"$f":"IFERROR(IF(D991=\"\",\"\",INDEX(tb_vendas[Preço de Venda],MATCH(D991,tb_vendas[N° Pedido/Empresa],0))/F991),\"\")","v":""},{"$f":"IFERROR(IF(D991=\"\",\"\",INDEX(tb_vendas[Data Fechamento],MATCH(D991,tb_vendas[N° Pedido/Empresa],0))+E991*INDEX(tb_formas_pagamento[Dias_Intervalo],MATCH(INDEX(tb_vendas[Forma_Pagamento],MATCH(D991,tb_vendas[N° Pedido/Empresa],0)),tb_formas_pagamento[Nome_Forma],0))),\"\")","v":""},null,{"$f":"IF(OR(tb_pagamentos[[#This Row],[Data_Vencimento]]=\"\",tb_pagamentos[[#This Row],[Valor_Parcela]]=\"\",tb_pagamentos[[#This Row],[Qtd_Total_Parcelas]]=\"\",tb_pagamentos[[#This Row],[Nr_Pedido]]=\"\"),\"\",IF(tb_pagamentos[[#This Row],[Data_Pagamento]]<>\"\",\"Pago\",IF(AND(tb_pagamentos[[#This Row],[Data_Pagamento]]=\"\",tb_pagamentos[[#This Row],[Data_Vencimento]]<TODAY()),\"Em Atraso\",\"A vencer\")))","v":""}]
[null,null,"",{"$f":"IFERROR(INDEX(CALC_BASE!$N$3:$N$52,MATCH(ROW()-7,CALC_BASE!$M$3:$M$52,0)),\"\")","v":""},{"$f":"IFERROR(INDEX(CALC_BASE!$O$3:$O$52,MATCH(ROW()-7,CALC_BASE!$M$3:$M$52,0)),\"\")","v":""},{"$f":"IFERROR(INDEX(CALC_BASE!$P$3:$P$52,MATCH(ROW()-7,CALC_BASE!$M$3:$M$52,0)),\"\")","v":""},{"$f":"IFERROR(IF(D992=\"\",\"\",INDEX(tb_vendas[Preço de Venda],MATCH(D992,tb_vendas[N° Pedido/Empresa],0))/F992),\"\")","v":""},{"$f":"IFERROR(IF(D992=\"\",\"\",INDEX(tb_vendas[Data Fechamento],MATCH(D992,tb_vendas[N° Pedido/Empresa],0))+E992*INDEX(tb_formas_pagamento[Dias_Intervalo],MATCH(INDEX(tb_vendas[Forma_Pagamento],MATCH(D992,tb_vendas[N° Pedido/Empresa],0)),tb_formas_pagamento[Nome_Forma],0))),\"\")","v":""},null,{"$f":"IF(OR(tb_pagamentos[[#This Row],[Data_Vencimento]]=\"\",tb_pagamentos[[#This Row],[Valor_Parcela]]=\"\",tb_pagamentos[[#This Row],[Qtd_Total_Parcelas]]=\"\",tb_pagamentos[[#This Row],[Nr_Pedido]]=\"\"),\"\",IF(tb_pagamentos[[#This Row],[Data_Pagamento]]<>\"\",\"Pago\",IF(AND(tb_pagamentos[[#This Row],[Data_Pagamento]]=\"\",tb_pagamentos[[#This Row],[Data_Vencimento]]<TODAY()),\"Em Atraso\",\"A vencer\")))","v":""}]
[null,null,"",{"$f":"IFERROR(INDEX(CALC_BASE!$N$3:$N$52,MATCH(ROW()-7,CALC_BASE!$M$3:$M$52,0)),\"\")","v":""},{"$f":"IFERROR(INDEX(CALC_BASE!$O$3:$O$52,MATCH(ROW()-7,CALC_BASE!$M$3:$M$52,0)),\"\")","v":""},{"$f":"IFERROR(INDEX(CALC_BASE!$P$3:$P$52,MATCH(ROW()-7,CALC_BASE!$M$3:$M$52,0)),\"\")","v":""},{"$f":"IFERROR(IF(D993=\"\",\"\",INDEX(tb_vendas[Preço de Venda],MATCH(D993,tb_vendas[N° Pedido/Empresa],0))/F993),\"\")","v":""},{"$f":"IFERROR(IF(D993=\"\",\"\",INDEX(tb_vendas[Data Fechamento],MATCH(D993,tb_vendas[N° Pedido/Empresa],0))+E993*INDEX(tb_formas_pagamento[Dias_Intervalo],MATCH(INDEX(tb_vendas[Forma_Pagamento],MATCH(D993,tb_vendas[N° Pedido/Empresa],0)),tb_formas_pagamento[Nome_Forma],0))),\"\")","v":""},null,{"$f":"IF(OR(tb_pagamentos[[#This Row],[Data_Vencimento]]=\"\",tb_pagamentos[[#This Row],[Valor_Parcela]]=\"\",tb_pagamentos[[#This Row],[Qtd_Total_Parcelas]]=\"\",tb_pagamentos[[#This Row],[Nr_Pedido]]=\"\"),\"\",IF(tb_pagamentos[[#This Row],[Data_Pagamento]]<>\"\",\"Pago\",IF(AND(tb_pagamentos[[#This Row],[Data_Pagamento]]=\"\",tb_pagamentos[[#This Row],[Data_Vencimento]]<TODAY()),\"Em Atraso\",\"A vencer\")))","v":""}]
[null,null,"",{"$f":"IFERROR(INDEX(CALC_BASE!$N$3:$N$52,MATCH(ROW()-7,CALC_BASE!$M$3:$M$52,0)),\"\")","v":""},{"$f":"IFERROR(INDEX(CALC_BASE!$O$3:$O$52,MATCH(ROW()-7,CALC_BASE!$M$3:$M$52,0)),\"\")","v":""},{"$f":"IFERROR(INDEX(CALC_BASE!$P$3:$P$52,MATCH(ROW()-7,CALC_BASE!$M$3:$M$52,0)),\"\")","v":""},{"$f":"IFERROR(IF(D994=\"\",\"\",INDEX(tb_vendas[Preço de Venda],MATCH(D994,tb_vendas[N° Pedido/Empresa],0))/F994),\"\")","v":""},{"$f":"IFERROR(IF(D994=\"\",\"\",INDEX(tb_vendas[Data Fechamento],MATCH(D994,tb_vendas[N° Pedido/Empresa],0))+E994*INDEX(tb_formas_pagamento[Dias_Intervalo],MATCH(INDEX(tb_vendas[Forma_Pagamento],MATCH(D994,tb_vendas[N° Pedido/Empresa],0)),tb_formas_pagamento[Nome_Forma],0))),\"\")","v":""},null,{"$f":"IF(OR(tb_pagamentos[[#This Row],[Data_Vencimento]]=\"\",tb_pagamentos[[#This Row],[Valor_Parcela]]=\"\",tb_pagamentos[[#This Row],[Qtd_Total_Parcelas]]=\"\",tb_pagamentos[[#This Row],[Nr_Pedido]]=\"\"),\"\",IF(tb_pagamentos[[#This Row],[Data_Pagamento]]<>\"\",\"Pago\",IF(AND(tb_pagamentos[[#This Row],[Data_Pagamento]]=\"\",tb_pagamentos[[#This Row],[Data_Vencimento]]<TODAY()),\"Em Atraso\",\"A vencer\")))","v":""}]
[null,null,"",{"$f":"IFERROR(INDEX(CALC_BASE!$N$3:$N$52,MATCH(ROW()-7,CALC_BASE!$M$3:$M$52,0)),\"\")","v":""},{"$f":"IFERROR(INDEX(CALC_BASE!$O$3:$O$52,MATCH(ROW()-7,CALC_BASE!$M$3:$M$52,0)),\"\")","v":""},{"$f":"IFERROR(INDEX(CALC_BASE!$P$3:$P$52,MATCH(ROW()-7,CALC_BASE!$M$3:$M$52,0)),\"\")","v":""},{"$f":"IFERROR(IF(D995=\"\",\"\",INDEX(tb_vendas[Preço de Venda],MATCH(D995,tb_vendas[N° Pedido/Empresa],0))/F995),\"\")","v":""},{"$f":"IFERROR(IF(D995=\"\",\"\",INDEX(tb_vendas[Data Fechamento],MATCH(D995,tb_vendas[N° Pedido/Empresa],0))+E995*INDEX(tb_formas_pagamento[Dias_Intervalo],MATCH(INDEX(tb_vendas[Forma_Pagamento],MATCH(D995,tb_vendas[N° Pedido/Empresa],0)),tb_formas_pagamento[Nome_Forma],0))),\"\")","v":""},null,{"$f":"IF(OR(tb_pagamentos[[#This Row],[Data_Vencimento]]=\"\",tb_pagamentos[[#This Row],[Valor_Parcela]]=\"\",tb_pagamentos[[#This Row],[Qtd_Total_Parcelas]]=\"\",tb_pagamentos[[#This Row],[Nr_Pedido]]=\"\"),\"\",IF(tb_pagamentos[[#This Row],[Data_Pagamento]]<>\"\",\"Pago\",IF(AND(tb_pagamentos[[#This Row],[Data_Pagamento]]=\"\",tb_pagamentos[[#This Row],[Data_Vencimento]]<TODAY()),\"Em Atraso\",\"A vencer\")))","v":""}]
[null,null,"",{"$f":"IFERROR(INDEX(CALC_BASE!$N$3:$N$52,MATCH(ROW()-7,CALC_BASE!$M$3:$M$52,0)),\"\")","v":""},{"$f":"IFERROR(INDEX(CALC_BASE!$O$3:$O$52,MATCH(ROW()-7,CALC_BASE!$M$3:$M$52,0)),\"\")","v":""},{"$f":"IFERROR(INDEX(CALC_BASE!$P$3:$P$52,MATCH(ROW()-7,CALC_BASE!$M$3:$M$52,0)),\"\")","v":""},{"$f":"IFERROR(IF(D996=\"\",\"\",INDEX(tb_vendas[Preço de Venda],MATCH(D996,tb_vendas[N° Pedido/Empresa],0))/F996),\"\")","v":""},{"$f":"IFERROR(IF(D996=\"\",\"\",INDEX(tb_vendas[Data Fechamento],MATCH(D996,tb_vendas[N° Pedido/Empresa],0))+E996*INDEX(tb_formas_pagamento[Dias_Intervalo],MATCH(INDEX(tb_vendas[Forma_Pagamento],MATCH(D996,tb_vendas[N° Pedido/Empresa],0)),tb_formas_pagamento[Nome_Forma],0))),\"\")","v":""},null,{"$f":"IF(OR(tb_pagamentos[[#This Row],[Data_Vencimento]]=\"\",tb_pagamentos[[#This Row],[Valor_Parcela]]=\"\",tb_pagamentos[[#This Row],[Qtd_Total_Parcelas]]=\"\",tb_pagamentos[[#This Row],[Nr_Pedido]]=\"\"),\"\",IF(tb_pagamentos[[#This Row],[Data_Pagamento]]<>\"\",\"Pago\",IF(AND(tb_pagamentos[[#This Row],[Data_Pagamento]]=\"\",tb_pagamentos[[#This Row],[Data_Vencimento]]<TODAY()),\"Em Atraso\",\"A vencer\")))","v":""}]
[null,null,"",{"$f":"IFERROR(INDEX(CALC_BASE!$N$3:$N$52,MATCH(ROW()-7,CALC_BASE!$M$3:$M$52,0)),\"\")","v":""},{"$f":"IFERROR(INDEX(CALC_BASE!$O$3:$O$52,MATCH(ROW()-7,CALC_BASE!$M$3:$M$52,0)),\"\")","v":""},{"$f":"IFERROR(INDEX(CALC_BASE!$P$3:$P$52,MATCH(ROW()-7,CALC_BASE!$M$3:$M$52,0)),\"\")","v":""},{"$f":"IFERROR(IF(D997=\"\",\"\",INDEX(tb_vendas[Preço de Venda],MATCH(D997,tb_vendas[N° Pedido/Empresa],0))/F997),\"\")","v":""},{"$f":"IFERROR(IF(D997=\"\",\"\",INDEX(tb_vendas[Data Fechamento],MATCH(D997,tb_vendas[N° Pedido/Empresa],0))+E997*INDEX(tb_formas_pagamento[Dias_Intervalo],MATCH(INDEX(tb_vendas[Forma_Pagamento],MATCH(D997,tb_vendas[N° Pedido/Empresa],0)),tb_formas_pagamento[Nome_Forma],0))),\"\")","v":""},null,{"$f":"IF(OR(tb_pagamentos[[#This Row],[Data_Vencimento]]=\"\",tb_pagamentos[[#This Row],[Valor_Parcela]]=\"\",tb_pagamentos[[#This Row],[Qtd_Total_Parcelas]]=\"\",tb_pagamentos[[#This Row],[Nr_Pedido]]=\"\"),\"\",IF(tb_pagamentos[[#This Row],[Data_Pagamento]]<>\"\",\"Pago\",IF(AND(tb_pagamentos[[#This Row],[Data_Pagamento]]=\"\",tb_pagamentos[[#This Row],[Data_Vencimento]]<TODAY()),\"Em Atraso\",\"A vencer\")))","v":""}]
[null,null,"",{"$f":"IFERROR(INDEX(CALC_BASE!$N$3:$N$52,MATCH(ROW()-7,CALC_BASE!$M$3:$M$52,0)),\"\")","v":""},{"$f":"IFERROR(INDEX(CALC_BASE!$O$3:$O$52,MATCH(ROW()-7,CALC_BASE!$M$3:$M$52,0)),\"\")","v":""},{"$f":"IFERROR(INDEX(CALC_BASE!$P$3:$P$52,MATCH(ROW()-7,CALC_BASE!$M$3:$M$52,0)),\"\")","v":""},{"$f":"IFERROR(IF(D998=\"\",\"\",INDEX(tb_vendas[Preço de Venda],MATCH(D998,tb_vendas[N° Pedido/Empresa],0))/F998),\"\")","v":""},{"$f":"IFERROR(IF(D998=\"\",\"\",INDEX(tb_vendas[Data Fechamento],MATCH(D998,tb_vendas[N° Pedido/Empresa],0))+E998*INDEX(tb_formas_pagamento[Dias_Intervalo],MATCH(INDEX(tb_vendas[Forma_Pagamento],MATCH(D998,tb_vendas[N° Pedido/Empresa],0)),tb_formas_pagamento[Nome_Forma],0))),\"\")","v":""},null,{"$f":"IF(OR(tb_pagamentos[[#This Row],[Data_Vencimento]]=\"\",tb_pagamentos[[#This Row],[Valor_Parcela]]=\"\",tb_pagamentos[[#This Row],[Qtd_Total_Parcelas]]=\"\",tb_pagamentos[[#This Row],[Nr_Pedido]]=\"\"),\"\",IF(tb_pagamentos[[#This Row],[Data_Pagamento]]<>\"\",\"Pago\",IF(AND(tb_pagamentos[[#This Row],[Data_Pagamento]]=\"\",tb_pagamentos[[#This Row],[Data_Vencimento]]<TODAY()),\"Em Atraso\",\"A vencer\")))","v":""}]
[null,null,"",{"$f":"IFERROR(INDEX(CALC_BASE!$N$3:$N$52,MATCH(ROW()-7,CALC_BASE!$M$3:$M$52,0)),\"\")","v":""},{"$f":"IFERROR(INDEX(CALC_BASE!$O$3:$O$52,MATCH(ROW()-7,CALC_BASE!$M$3:$M$52,0)),\"\")","v":""},{"$f":"IFERROR(INDEX(CALC_BASE!$P$3:$P$52,MATCH(ROW()-7,CALC_BASE!$M$3:$M$52,0)),\"\")","v":""},{"$f":"IFERROR(IF(D999=\"\",\"\",INDEX(tb_vendas[Preço de Venda],MATCH(D999,tb_vendas[N° Pedido/Empresa],0))/F999),\"\")","v":""},{"$f":"IFERROR(IF(D999=\"\",\"\",INDEX(tb_vendas[Data Fechamento],MATCH(D999,tb_vendas[N° Pedido/Empresa],0))+E999*INDEX(tb_formas_pagamento[Dias_Intervalo],MATCH(INDEX(tb_vendas[Forma_Pagamento],MATCH(D999,tb_vendas[N° Pedido/Empresa],0)),tb_formas_pagamento[Nome_Forma],0))),\"\")","v":""},null,{"$f":"IF(OR(tb_pagamentos[[#This Row],[Data_Vencimento]]=\"\",tb_pagamentos[[#This Row],[Valor_Parcela]]=\"\",tb_pagamentos[[#This Row],[Qtd_Total_Parcelas]]=\"\",tb_pagamentos[[#This Row],[Nr_Pedido]]=\"\"),\"\",IF(tb_pagamentos[[#This Row],[Data_Pagamento]]<>\"\",\"Pago\",IF(AND(tb_pagamentos[[#This Row],[Data_Pagamento]]=\"\",tb_pagamentos[[#This Row],[Data_Vencimento]]<TODAY()),\"Em Atraso\",\"A vencer\")))","v":""}]
[{"$nulls":3},{"$f":"IFERROR(INDEX(CALC_BASE!$N$3:$N$52,MATCH(ROW()-7,CALC_BASE!$M$3:$M$52,0)),\"\")","v":""},{"$f":"IFERROR(INDEX(CALC_BASE!$O$3:$O$52,MATCH(ROW()-7,CALC_BASE!$M$3:$M$52,0)),\"\")","v":""},{"$f":"IFERROR(INDEX(CALC_BASE!$P$3:$P$52,MATCH(ROW()-7,CALC_BASE!$M$3:$M$52,0)),\"\")","v":""},{"$f":"IFERROR(IF(D1000=\"\",\"\",INDEX(tb_vendas[Preço de Venda],MATCH(D1000,tb_vendas[N° Pedido/Empresa],0))/F1000),\"\")","v":""},{"$f":"IFERROR(IF(D1000=\"\",\"\",INDEX(tb_vendas[Data Fechamento],MATCH(D1000,tb_vendas[N° Pedido/Empresa],0))+E1000*INDEX(tb_formas_pagamento[Dias_Intervalo],MATCH(INDEX(tb_vendas[Forma_Pagamento],MATCH(D1000,tb_vendas[N° Pedido/Empresa],0)),tb_formas_pagamento[Nome_Forma],0))),\"\")","v":""}]
[null,null,{"$f":"D1001&\"-\"&E1001","v":"-"},{"$f":"IFERROR(INDEX(CALC_BASE!$N$3:$N$52,MATCH(ROW()-7,CALC_BASE!$M$3:$M$52,0)),\"\")","v":""},{"$f":"IFERROR(INDEX(CALC_BASE!$O$3:$O$52,MATCH(ROW()-7,CALC_BASE!$M$3:$M$52,0)),\"\")","v":""},{"$f":"IFERROR(INDEX(CALC_BASE!$P$3:$P$52,MATCH(ROW()-7,CALC_BASE!$M$3:$M$52,0)),\"\")","v":""},{"$f":"IFERROR(IF(D1001=\"\",\"\",INDEX(tb_vendas[Preço de Venda],MATCH(D1001,tb_vendas[N° Pedido/Empresa],0))/F1001),\"\")","v":""},{"$f":"IFERROR(IF(D1001=\"\",\"\",INDEX(tb_vendas[Data Fechamento],MATCH(D1001,tb_vendas[N° Pedido/Empresa],0))+E1001*INDEX(tb_formas_pagamento[Dias_Intervalo],MATCH(INDEX(tb_vendas[Forma_Pagamento],MATCH(D1001,tb_vendas[N° Pedido/Empresa],0)),tb_formas_pagamento[Nome_Forma],0))),\"\")","v":""},null,{"$f":"IF(OR(tb_pagamentos[[#This Row],[Data_Vencimento]]=\"\",tb_pagamentos[[#This Row],[Valor_Parcela]]=\"\",tb_pagamentos[[#This Row],[Qtd_Total_Parcelas]]=\"\",tb_pagamentos[[#This Row],[Nr_Pedido]]=\"\"),\"\",IF(tb_pagamentos[[#This Row],[Data_Pagamento]]<>\"\",\"Pago\",IF(AND(tb_pagamentos[[#This Row],[Data_Pagamento]]=\"\",tb_pagamentos[[#This Row],[Data_Vencimento]]<TODAY()),\"Em Atraso\",\"A vencer\")))","v":""}]
[{"$nulls":3},{"$f":"IFERROR(INDEX(CALC_BASE!$N$3:$N$52,MATCH(ROW()-7,CALC_BASE!$M$3:$M$52,0)),\"\")","v":""},{"$f":"IFERROR(INDEX(CALC_BASE!$O$3:$O$52,MATCH(ROW()-7,CALC_BASE!$M$3:$M$52,0)),\"\")","v":""},{"$f":"IFERROR(INDEX(CALC_BASE!$P$3:$P$52,MATCH(ROW()-7,CALC_BASE!$M$3:$M$52,0)),\"\")","v":""}]

{"sheet":"DESPESAS","index":3,"n_rows":38,"n_cols":6,"rows_kept":38,"hidden":true}
[]
[]
[null,null,"Total Despesas","Maior Categoria","Qtd Lançamentos"]
[null,null,{"$f":"SUM(tb_despesas[Valor])","v":{"v":38401.53,"d":"R$ 38,401.53"}},{"$f":"IFERROR(INDEX(tb_categorias_despesa[Nome_Categoria],MATCH(MAX(COUNTIF(tb_despesas[Categoria],tb_categorias_despesa[Nome_Categoria])),COUNTIF(tb_despesas[Categoria],tb_categorias_despesa[Nome_Categoria]),0)),\"-\")","v":"Material"},{"$f":"COUNTA(tb_despesas[Descrição])","v":31}]
[null,null,"💰  CONTROLE DE DESPESAS"]
[]
[null,null,"Data","Valor","Descrição","Categoria"]
[null,null,"2026-05-15",{"v":586,"d":"R$ 586.00"},"Exemplo de despesa","Outros"]
[null,null,"2025-01-31",{"v":2634.51,"d":"R$ 2,634.51"},"Pagamento de funcionário","Mão de Obra"]
[null,null,"2025-02-05",{"v":244.41,"d":"R$ 244.41"},"Frete de entrega cliente","Frete"]
[null,null,"2025-03-04",{"v":2619.36,"d":"R$ 2,619.36"},"Discos de corte","Material"]
[null,null,"2025-03-30",{"v":617.64,"d":"R$ 617.64"},"Tubos retangulares estoque","Material"]
[null,null,"2025-04-08",{"v":179.11,"d":"R$ 179.11"},"Conserto veículo","Outros"]
[null,null,"2025-04-15",{"v":1350,"d":"R$ 1,350.00"},"Manutenção dobradeira","Serviços Terceiros"]
[null,null,"2025-05-03",{"v":980,"d":"R$ 980.00"},"DAS Simples Nacional","Impostos"]
[null,null,"2025-05-21",{"v":380,"d":"R$ 380.00"},"Luvas de proteção","EPI"]
[null,null,"2025-06-02",{"v":3100,"d":"R$ 3,100.00"},"Aluguel do galpão","Fixo"]
[null,null,"2025-06-14",{"v":2100,"d":"R$ 2,100.00"},"Compra de aço carbono","Material"]
[null,null,"2025-07-02",{"v":750,"d":"R$ 750.00"},"Campanha Google Ads março","Marketing (Google ADS)"]
[null,null,"2025-07-17",{"v":480,"d":"R$ 480.00"},"Conta de energia elétrica","Fixo"]
[null,null,"2025-08-01",{"v":1620.5,"d":"R$ 1,620.50"},"Horas extras operador CNC","Mão de Obra"]
[null,null,"2025-08-19",{"v":290,"d":"R$ 290.00"},"Transporte de matéria-prima","Frete"]
[null,null,"2025-08-31",{"v":215,"d":"R$ 215.00"},"Óculos de segurança","EPI"]
[null,null,"2025-09-15",{"v":1200,"d":"R$ 1,200.00"},"FGTS mensal","Impostos"]
[null,null,"2025-09-30",{"v":870,"d":"R$ 870.00"},"Revisão torno CNC","Serviços Terceiros"]
[null,null,"2025-10-20",{"v":3250,"d":"R$ 3,250.00"},"Aluguel do galpão","Fixo"]
[null,null,"2025-11-04",{"v":545,"d":"R$ 545.00"},"Eletrodos de solda","Material"]
[null,null,"2025-11-19",{"v":920,"d":"R$ 920.00"},"Impulsionamento redes sociais","Marketing (Google ADS)"]
[null,null,"2025-12-06",{"v":2850,"d":"R$ 2,850.00"},"Pagamento de funcionário","Mão de Obra"]
[null,null,"2025-12-19",{"v":145,"d":"R$ 145.00"},"Material de escritório","Outros"]
[null,null,"2026-01-03",{"v":680,"d":"R$ 680.00"},"INSS patronal","Impostos"]
[null,null,"2026-01-18",{"v":3250,"d":"R$ 3,250.00"},"Conta de energia elétrica","Fixo"]
[null,null,"2026-02-02",{"v":1100,"d":"R$ 1,100.00"},"Calibração equipamentos","Serviços Terceiros"]
[null,null,"2026-02-17",{"v":440,"d":"R$ 440.00"},"Ponteiras em lote","Material"]
[null,null,"2026-03-04",{"v":3900,"d":"R$ 3,900.00"},"Freelancer soldagem","Mão de Obra"]
[null,null,"2026-03-17",{"v":330,"d":"R$ 330.00"},"Anúncios Google Ads abril","Marketing (Google ADS)"]
[null,null,"2026-04-03",{"v":195,"d":"R$ 195.00"},"Botas de segurança","EPI"]
[null,null,"2026-04-18",{"v":580,"d":"R$ 580.00"},"ISS sobre serviços","Impostos"]

{"sheet":"PARAMETROS","index":4,"n_rows":19,"n_cols":10,"rows_kept":19,"hidden":true}
[]
[]
[]
[]
[null,null,"⚙  PARÂMETROS DO SISTEMA"]
[null,null,"Formas de Pagamento",{"$nulls":4},"Categorias de Despesa",null,"Configurações"]
[null,null,"ID_Forma","Nome_Forma","Qtd_Parcelas","Dias_Intervalo",null,"ID_Categoria","Nome_Categoria","Taxa Padrão (%)"]
[null,null,"FP001","A VISTA",1,0,null,"CAT001","Mão de Obra",{"v":0.11,"d":"11%"}]
[null,null,"FP002","28 DIAS",1,28,null,"CAT002","Material",{"v":0.05,"d":"5%"}]
[null,null,"FP003","14/28",2,14,null,"CAT003","EPI"]
[null,null,"FP004","28/42",2,14,null,"CAT004","Marketing (Google ADS)"]
[null,null,"FP005","30/60",2,30,null,"CAT005","Fixo"]
[null,null,"FP006","28/56",2,28,null,"CAT006","Impostos"]
[null,null,"FP007","21/35/49",3,14,null,"CAT007","Frete"]
[null,null,"FP008","15/30/45",3,15,null,"CAT008","Serviços Terceiros"]
[null,null,"FP009","28/42/56",3,14,null,"CAT009","Outros"]
[null,null,"FP010","28/56/84",3,28]
[null,null,"FP011","28/42/56/70",4,14]
[null,null,"FP012","30/45/60/75",4,15]

{"sheet":"CALC_BASE","index":5,"n_rows":135,"n_cols":16,"rows_kept":135,"hidden":true}
[]
[{"$nulls":11},"Acum_Parcelas","Idx_Parcela","Nr_Pedido_Map","Nr_Parcela_Map","Qtd_Total_Map"]
[null,null,"CALC_BASE - Aba de uso interno. Nao altere manualmente.",{"$nulls":8},{"$f":"IFERROR(IF(VENDAS!$C$9=\"\",\"\",SUM(IFERROR(VENDAS!$S$9:$S$9*1,0))),\"\")","v":4},{"$f":"ROW()-2","v":1},{"$f":"IFERROR(IF((ROW()-2)<1,\"\",IF((ROW()-2)>IFERROR(INDEX(CALC_BASE!$L$3:$L$57,MATCH(TRUE,CALC_BASE!$L$3:$L$57<>\"\",0)+COUNTA(VENDAS!$C$9:$C$1058)-1),0),\"\",INDEX(VENDAS!$C$9:$C$1058,MATCH(TRUE,CALC_BASE!$L$3:$L$57>=(ROW()-2),0)))),\"\")","v":"PED-001"},{"$f":"IFERROR(IF(N3=\"\",\"\",(ROW()-2)-(IF(MATCH(TRUE,CALC_BASE!$L$3:$L$57>=(ROW()-2),0)=1,0,INDEX(CALC_BASE!$L$3:$L$57,MATCH(TRUE,CALC_BASE!$L$3:$L$57>=(ROW()-2),0)-1)))),\"\")","v":1},{"$f":"IFERROR(IF(N3=\"\",\"\",INDEX(VENDAS!$S$9:$S$1058,MATCH(TRUE,CALC_BASE!$L$3:$L$57>=(ROW()-2),0))),\"\")","v":4}]
[{"$nulls":11},{"$f":"IFERROR(IF(VENDAS!$C$10=\"\",\"\",L3+SUM(IFERROR(VENDAS!$S$10:$S$10*1,0))),\"\")","v":7},{"$f":"ROW()-2","v":2},{"$f":"IFERROR(IF((ROW()-2)<1,\"\",IF((ROW()-2)>IFERROR(INDEX(CALC_BASE!$L$3:$L$57,MATCH(TRUE,CALC_BASE!$L$3:$L$57<>\"\",0)+COUNTA(VENDAS!$C$9:$C$1058)-1),0),\"\",INDEX(VENDAS!$C$9:$C$1058,MATCH(TRUE,CALC_BASE!$L$3:$L$57>=(ROW()-2),0)))),\"\")","v":"PED-001"},{"$f":"IFERROR(IF(N4=\"\",\"\",(ROW()-2)-(IF(MATCH(TRUE,CALC_BASE!$L$3:$L$57>=(ROW()-2),0)=1,0,INDEX(CALC_BASE!$L$3:$L$57,MATCH(TRUE,CALC_BASE!$L$3:$L$57>=(ROW()-2),0)-1)))),\"\")","v":2},{"$f":"IFERROR(IF(N4=\"\",\"\",INDEX(VENDAS!$S$9:$S$1058,MATCH(TRUE,CALC_BASE!$L$3:$L$57>=(ROW()-2),0))),\"\")","v":4}]
[{"$nulls":11},{"$f":"IFERROR(IF(VENDAS!$C$11=\"\",\"\",L4+SUM(IFERROR(VENDAS!$S$11:$S$11*1,0))),\"\")","v":9},3,{"$f":"IFERROR(IF((ROW()-2)<1,\"\",IF((ROW()-2)>IFERROR(INDEX(CALC_BASE!$L$3:$L$57,MATCH(TRUE,CALC_BASE!$L$3:$L$57<>\"\",0)+COUNTA(VENDAS!$C$9:$C$1058)-1),0),\"\",INDEX(VENDAS!$C$9:$C$1058,MATCH(TRUE,CALC_BASE!$L$3:$L$57>=(ROW()-2),0)))),\"\")","v":"PED-001"},{"$f":"IFERROR(IF(N5=\"\",\"\",(ROW()-2)-(IF(MATCH(TRUE,CALC_BASE!$L$3:$L$57>=(ROW()-2),0)=1,0,INDEX(CALC_BASE!$L$3:$L$57,MATCH(TRUE,CALC_BASE!$L$3:$L$57>=(ROW()-2),0)-1)))),\"\")","v":3},{"$f":"IFERROR(IF(N5=\"\",\"\",INDEX(VENDAS!$S$9:$S$1058,MATCH(TRUE,CALC_BASE!$L$3:$L$57>=(ROW()-2),0))),\"\")","v":4}]
[{"$nulls":11},{"$f":"IFERROR(IF(VENDAS!$C$12=\"\",\"\",L5+SUM(IFERROR(VENDAS!$S$12:$S$12*1,0))),\"\")","v":10},4,{"$f":"IFERROR(IF((ROW()-2)<1,\"\",IF((ROW()-2)>IFERROR(INDEX(CALC_BASE!$L$3:$L$57,MATCH(TRUE,CALC_BASE!$L$3:$L$57<>\"\",0)+COUNTA(VENDAS!$C$9:$C$1058)-1),0),\"\",INDEX(VENDAS!$C$9:$C$1058,MATCH(TRUE,CALC_BASE!$L$3:$L$57>=(ROW()-2),0)))),\"\")","v":"PED-001"},{"$f":"IFERROR(IF(N6=\"\",\"\",(ROW()-2)-(IF(MATCH(TRUE,CALC_BASE!$L$3:$L$57>=(ROW()-2),0)=1,0,INDEX(CALC_BASE!$L$3:$L$57,MATCH(TRUE,CALC_BASE!$L$3:$L$57>=(ROW()-2),0)-1)))),\"\")","v":4},{"$f":"IFERROR(IF(N6=\"\",\"\",INDEX(VENDAS!$S$9:$S$1058,MATCH(TRUE,CALC_BASE!$L$3:$L$57>=(ROW()-2),0))),\"\")","v":4}]
[null,null,"FILTROS ATIVOS (referem ao RELATORIO_FINANCEIRO)",{"$nulls":8},{"$f":"IFERROR(IF(VENDAS!$C$13=\"\",\"\",L6+SUM(IFERROR(VENDAS!$S$13:$S$13*1,0))),\"\")","v":13},5,{"$f":"IFERROR(IF((ROW()-2)<1,\"\",IF((ROW()-2)>IFERROR(INDEX(CALC_BASE!$L$3:$L$57,MATCH(TRUE,CALC_BASE!$L$3:$L$57<>\"\",0)+COUNTA(VENDAS!$C$9:$C$1058)-1),0),\"\",INDEX(VENDAS!$C$9:$C$1058,MATCH(TRUE,CALC_BASE!$L$3:$L$57>=(ROW()-2),0)))),\"\")","v":"PED-002"},{"$f":"IFERROR(IF(N7=\"\",\"\",(ROW()-2)-(IF(MATCH(TRUE,CALC_BASE!$L$3:$L$57>=(ROW()-2),0)=1,0,INDEX(CALC_BASE!$L$3:$L$57,MATCH(TRUE,CALC_BASE!$L$3:$L$57>=(ROW()-2),0)-1)))),\"\")","v":1},{"$f":"IFERROR(IF(N7=\"\",\"\",INDEX(VENDAS!$S$9:$S$1058,MATCH(TRUE,CALC_BASE!$L$3:$L$57>=(ROW()-2),0))),\"\")","v":3}]
[null,null,"Data Inicial:",{"$f":"rng_filtro_data_ini","v":"00:00:00"},{"$nulls":7},{"$f":"IFERROR(IF(VENDAS!$C$14=\"\",\"\",L7+SUM(IFERROR(VENDAS!$S$14:$S$14*1,0))),\"\")","v":17},6,{"$f":"IFERROR(IF((ROW()-2)<1,\"\",IF((ROW()-2)>IFERROR(INDEX(CALC_BASE!$L$3:$L$57,MATCH(TRUE,CALC_BASE!$L$3:$L$57<>\"\",0)+COUNTA(VENDAS!$C$9:$C$1058)-1),0),\"\",INDEX(VENDAS!$C$9:$C$1058,MATCH(TRUE,CALC_BASE!$L$3:$L$57>=(ROW()-2),0)))),\"\")","v":"PED-002"},{"$f":"IFERROR(IF(N8=\"\",\"\",(ROW()-2)-(IF(MATCH(TRUE,CALC_BASE!$L$3:$L$57>=(ROW()-2),0)=1,0,INDEX(CALC_BASE!$L$3:$L$57,MATCH(TRUE,CALC_BASE!$L$3:$L$57>=(ROW()-2),0)-1)))),\"\")","v":2},{"$f":"IFERROR(IF(N8=\"\",\"\",INDEX(VENDAS!$S$9:$S$1058,MATCH(TRUE,CALC_BASE!$L$3:$L$57>=(ROW()-2),0))),\"\")","v":3}]
[null,null,"Data Final:",{"$f":"rng_filtro_data_fim","v":"00:00:00"},{"$nulls":7},{"$f":"IFERROR(IF(VENDAS!$C$15=\"\",\"\",L8+SUM(IFERROR(VENDAS!$S$15:$S$15*1,0))),\"\")","v":19},7,{"$f":"IFERROR(IF((ROW()-2)<1,\"\",IF((ROW()-2)>IFERROR(INDEX(CALC_BASE!$L$3:$L$57,MATCH(TRUE,CALC_BASE!$L$3:$L$57<>\"\",0)+COUNTA(VENDAS!$C$9:$C$1058)-1),0),\"\",INDEX(VENDAS!$C$9:$C$1058,MATCH(TRUE,CALC_BASE!$L$3:$L$57>=(ROW()-2),0)))),\"\")","v":"PED-002"},{"$f":"IFERROR(IF(N9=\"\",\"\",(ROW()-2)-(IF(MATCH(TRUE,CALC_BASE!$L$3:$L$57>=(ROW()-2),0)=1,0,INDEX(CALC_BASE!$L$3:$L$57,MATCH(TRUE,CALC_BASE!$L$3:$L$57>=(ROW()-2),0)-1)))),\"\")","v":3},{"$f":"IFERROR(IF(N9=\"\",\"\",INDEX(VENDAS!$S$9:$S$1058,MATCH(TRUE,CALC_BASE!$L$3:$L$57>=(ROW()-2),0))),\"\")","v":3}]
[null,null,"Status:",{"$f":"rng_filtro_status","v":"Todos"},{"$nulls":7},{"$f":"IFERROR(IF(VENDAS!$C$16=\"\",\"\",L9+SUM(IFERROR(VENDAS!$S$16:$S$16*1,0))),\"\")","v":22},8,{"$f":"IFERROR(IF((ROW()-2)<1,\"\",IF((ROW()-2)>IFERROR(INDEX(CALC_BASE!$L$3:$L$57,MATCH(TRUE,CALC_BASE!$L$3:$L$57<>\"\",0)+COUNTA(VENDAS!$C$9:$C$1058)-1),0),\"\",INDEX(VENDAS!$C$9:$C$1058,MATCH(TRUE,CALC_BASE!$L$3:$L$57>=(ROW()-2),0)))),\"\")","v":"PED-003"},{"$f":"IFERROR(IF(N10=\"\",\"\",(ROW()-2)-(IF(MATCH(TRUE,CALC_BASE!$L$3:$L$57>=(ROW()-2),0)=1,0,INDEX(CALC_BASE!$L$3:$L$57,MATCH(TRUE,CALC_BASE!$L$3:$L$57>=(ROW()-2),0)-1)))),\"\")","v":1},{"$f":"IFERROR(IF(N10=\"\",\"\",INDEX(VENDAS!$S$9:$S$1058,MATCH(TRUE,CALC_BASE!$L$3:$L$57>=(ROW()-2),0))),\"\")","v":2}]
[null,null,"Categoria:",{"$f":"rng_filtro_categoria","v":"Todas"},{"$nulls":7},{"$f":"IFERROR(IF(VENDAS!$C$17=\"\",\"\",L10+SUM(IFERROR(VENDAS!$S$17:$S$17*1,0))),\"\")","v":25},9,{"$f":"IFERROR(IF((ROW()-2)<1,\"\",IF((ROW()-2)>IFERROR(INDEX(CALC_BASE!$L$3:$L$57,MATCH(TRUE,CALC_BASE!$L$3:$L$57<>\"\",0)+COUNTA(VENDAS!$C$9:$C$1058)-1),0),\"\",INDEX(VENDAS!$C$9:$C$1058,MATCH(TRUE,CALC_BASE!$L$3:$L$57>=(ROW()-2),0)))),\"\")","v":"PED-003"},{"$f":"IFERROR(IF(N11=\"\",\"\",(ROW()-2)-(IF(MATCH(TRUE,CALC_BASE!$L$3:$L$57>=(ROW()-2),0)=1,0,INDEX(CALC_BASE!$L$3:$L$57,MATCH(TRUE,CALC_BASE!$L$3:$L$57>=(ROW()-2),0)-1)))),\"\")","v":2},{"$f":"IFERROR(IF(N11=\"\",\"\",INDEX(VENDAS!$S$9:$S$1058,MATCH(TRUE,CALC_BASE!$L$3:$L$57>=(ROW()-2),0))),\"\")","v":2}]
[{"$nulls":11},{"$f":"IFERROR(IF(VENDAS!$C$18=\"\",\"\",L11+SUM(IFERROR(VENDAS!$S$18:$S$18*1,0))),\"\")","v":26},10,{"$f":"IFERROR(IF((ROW()-2)<1,\"\",IF((ROW()-2)>IFERROR(INDEX(CALC_BASE!$L$3:$L$57,MATCH(TRUE,CALC_BASE!$L$3:$L$57<>\"\",0)+COUNTA(VENDAS!$C$9:$C$1058)-1),0),\"\",INDEX(VENDAS!$C$9:$C$1058,MATCH(TRUE,CALC_BASE!$L$3:$L$57>=(ROW()-2),0)))),\"\")","v":"PED-004"},{"$f":"IFERROR(IF(N12=\"\",\"\",(ROW()-2)-(IF(MATCH(TRUE,CALC_BASE!$L$3:$L$57>=(ROW()-2),0)=1,0,INDEX(CALC_BASE!$L$3:$L$57,MATCH(TRUE,CALC_BASE!$L$3:$L$57>=(ROW()-2),0)-1)))),\"\")","v":1},{"$f":"IFERROR(IF(N12=\"\",\"\",INDEX(VENDAS!$S$9:$S$1058,MATCH(TRUE,CALC_BASE!$L$3:$L$57>=(ROW()-2),0))),\"\")","v":1}]
[null,null,"KPIs - RECEITAS",{"$nulls":8},{"$f":"IFERROR(IF(VENDAS!$C$19=\"\",\"\",L12+SUM(IFERROR(VENDAS!$S$19:$S$19*1,0))),\"\")","v":28},11,{"$f":"IFERROR(IF((ROW()-2)<1,\"\",IF((ROW()-2)>IFERROR(INDEX(CALC_BASE!$L$3:$L$57,MATCH(TRUE,CALC_BASE!$L$3:$L$57<>\"\",0)+COUNTA(VENDAS!$C$9:$C$1058)-1),0),\"\",INDEX(VENDAS!$C$9:$C$1058,MATCH(TRUE,CALC_BASE!$L$3:$L$57>=(ROW()-2),0)))),\"\")","v":"PED-005"},{"$f":"IFERROR(IF(N13=\"\",\"\",(ROW()-2)-(IF(MATCH(TRUE,CALC_BASE!$L$3:$L$57>=(ROW()-2),0)=1,0,INDEX(CALC_BASE!$L$3:$L$57,MATCH(TRUE,CALC_BASE!$L$3:$L$57>=(ROW()-2),0)-1)))),\"\")","v":1},{"$f":"IFERROR(IF(N13=\"\",\"\",INDEX(VENDAS!$S$9:$S$1058,MATCH(TRUE,CALC_BASE!$L$3:$L$57>=(ROW()-2),0))),\"\")","v":3}]
[null,null,"Faturamento Total (Preço Venda)",{"$f":"IFERROR(SUMPRODUCT((tb_vendas[Data Fechamento]>=IF(rng_filtro_data_ini=\"\",DATE(2000,1,1),rng_filtro_data_ini))*(tb_vendas[Data Fechamento]<=IF(rng_filtro_data_fim=\"\",DATE(2099,12,31),rng_filtro_data_fim))*IF(rng_filtro_status=\"Todos\",1,IF(rng_filtro_status=\"\",1,(tb_vendas[Status]=rng_filtro_status)))*tb_vendas[Preço de Venda]),0)","v":{"v":167622.55,"d":"R$ 167,622.55"}},null,"Pago",{"$nulls":5},{"$f":"IFERROR(IF(VENDAS!$C$20=\"\",\"\",L13+SUM(IFERROR(VENDAS!$S$20:$S$20*1,0))),\"\")","v":29},12,{"$f":"IFERROR(IF((ROW()-2)<1,\"\",IF((ROW()-2)>IFERROR(INDEX(CALC_BASE!$L$3:$L$57,MATCH(TRUE,CALC_BASE!$L$3:$L$57<>\"\",0)+COUNTA(VENDAS!$C$9:$C$1058)-1),0),\"\",INDEX(VENDAS!$C$9:$C$1058,MATCH(TRUE,CALC_BASE!$L$3:$L$57>=(ROW()-2),0)))),\"\")","v":"PED-005"},{"$f":"IFERROR(IF(N14=\"\",\"\",(ROW()-2)-(IF(MATCH(TRUE,CALC_BASE!$L$3:$L$57>=(ROW()-2),0)=1,0,INDEX(CALC_BASE!$L$3:$L$57,MATCH(TRUE,CALC_BASE!$L$3:$L$57>=(ROW()-2),0)-1)))),\"\")","v":2},{"$f":"IFERROR(IF(N14=\"\",\"\",INDEX(VENDAS!$S$9:$S$1058,MATCH(TRUE,CALC_BASE!$L$3:$L$57>=(ROW()-2),0))),\"\")","v":3}]
[null,null,"Rendimento Total (Lucro Bruto)",{"$f":"IFERROR(SUMPRODUCT((tb_vendas[Data Fechamento]>=IF(rng_filtro_data_ini=\"\",DATE(2000,1,1),rng_filtro_data_ini))*(tb_vendas[Data Fechamento]<=IF(rng_filtro_data_fim=\"\",DATE(2099,12,31),rng_filtro_data_fim))*IF(rng_filtro_status=\"Todos\",1,IF(rng_filtro_status=\"\",1,(tb_vendas[Status]=rng_filtro_status)))*tb_vendas[Rendimento/Saldo final]),0)","v":{"v":78814.13,"d":"R$ 78,814.13"}},null,"Em Atraso",{"$nulls":5},{"$f":"IFERROR(IF(VENDAS!$C$21=\"\",\"\",L14+SUM(IFERROR(VENDAS!$S$21:$S$21*1,0))),\"\")","v":33},13,{"$f":"IFERROR(IF((ROW()-2)<1,\"\",IF((ROW()-2)>IFERROR(INDEX(CALC_BASE!$L$3:$L$57,MATCH(TRUE,CALC_BASE!$L$3:$L$57<>\"\",0)+COUNTA(VENDAS!$C$9:$C$1058)-1),0),\"\",INDEX(VENDAS!$C$9:$C$1058,MATCH(TRUE,CALC_BASE!$L$3:$L$57>=(ROW()-2),0)))),\"\")","v":"PED-005"},{"$f":"IFERROR(IF(N15=\"\",\"\",(ROW()-2)-(IF(MATCH(TRUE,CALC_BASE!$L$3:$L$57>=(ROW()-2),0)=1,0,INDEX(CALC_BASE!$L$3:$L$57,MATCH(TRUE,CALC_BASE!$L$3:$L$57>=(ROW()-2),0)-1)))),\"\")","v":3},{"$f":"IFERROR(IF(N15=\"\",\"\",INDEX(VENDAS!$S$9:$S$1058,MATCH(TRUE,CALC_BASE!$L$3:$L$57>=(ROW()-2),0))),\"\")","v":3}]
[null,null,"A Receber Total (R$)",{"$f":"IF(OR(D8=0,D9=0),SUMIFS(tb_pagamentos[Valor_Parcela],tb_pagamentos[Status_Parcela],\"<>\"&\"Pago\"),\nSUMIFS(tb_pagamentos[Valor_Parcela],tb_pagamentos[Data_Vencimento],\"<=\"&D9,tb_pagamentos[Data_Vencimento],\">=\"&D8,tb_pagamentos[Status_Parcela],\"<>\"&\"Pago\"))","v":{"v":60490.66999999998,"d":"R$ 60,490.67"}},null,"A vencer",{"$nulls":5},{"$f":"IFERROR(IF(VENDAS!$C$22=\"\",\"\",L15+SUM(IFERROR(VENDAS!$S$22:$S$22*1,0))),\"\")","v":34},14,{"$f":"IFERROR(IF((ROW()-2)<1,\"\",IF((ROW()-2)>IFERROR(INDEX(CALC_BASE!$L$3:$L$57,MATCH(TRUE,CALC_BASE!$L$3:$L$57<>\"\",0)+COUNTA(VENDAS!$C$9:$C$1058)-1),0),\"\",INDEX(VENDAS!$C$9:$C$1058,MATCH(TRUE,CALC_BASE!$L$3:$L$57>=(ROW()-2),0)))),\"\")","v":"PED-006"},{"$f":"IFERROR(IF(N16=\"\",\"\",(ROW()-2)-(IF(MATCH(TRUE,CALC_BASE!$L$3:$L$57>=(ROW()-2),0)=1,0,INDEX(CALC_BASE!$L$3:$L$57,MATCH(TRUE,CALC_BASE!$L$3:$L$57>=(ROW()-2),0)-1)))),\"\")","v":1},{"$f":"IFERROR(IF(N16=\"\",\"\",INDEX(VENDAS!$S$9:$S$1058,MATCH(TRUE,CALC_BASE!$L$3:$L$57>=(ROW()-2),0))),\"\")","v":4}]
[null,null,"R$ em Taxas ",{"$f":"SUM(tb_vendas[R$_Taxas])","v":{"v":14722.390000000003,"d":"R$ 14,722.39"}},{"$nulls":7},{"$f":"IFERROR(IF(VENDAS!$C$23=\"\",\"\",L16+SUM(IFERROR(VENDAS!$S$23:$S$23*1,0))),\"\")","v":37},15,{"$f":"IFERROR(IF((ROW()-2)<1,\"\",IF((ROW()-2)>IFERROR(INDEX(CALC_BASE!$L$3:$L$57,MATCH(TRUE,CALC_BASE!$L$3:$L$57<>\"\",0)+COUNTA(VENDAS!$C$9:$C$1058)-1),0),\"\",INDEX(VENDAS!$C$9:$C$1058,MATCH(TRUE,CALC_BASE!$L$3:$L$57>=(ROW()-2),0)))),\"\")","v":"PED-006"},{"$f":"IFERROR(IF(N17=\"\",\"\",(ROW()-2)-(IF(MATCH(TRUE,CALC_BASE!$L$3:$L$57>=(ROW()-2),0)=1,0,INDEX(CALC_BASE!$L$3:$L$57,MATCH(TRUE,CALC_BASE!$L$3:$L$57>=(ROW()-2),0)-1)))),\"\")","v":2},{"$f":"IFERROR(IF(N17=\"\",\"\",INDEX(VENDAS!$S$9:$S$1058,MATCH(TRUE,CALC_BASE!$L$3:$L$57>=(ROW()-2),0))),\"\")","v":4}]
[null,null,"Inadimplência (R$)",{"$f":"IF(OR(D8=0,D9=0),SUMIFS(tb_pagamentos[Valor_Parcela],tb_pagamentos[Status_Parcela],\"Em Atraso\"),SUMIFS(tb_pagamentos[Valor_Parcela],tb_pagamentos[Data_Vencimento],\"<=\"&D9,tb_pagamentos[Data_Vencimento],\">=\"&D8,tb_pagamentos[Status_Parcela],\"Em Atraso\"))","v":{"v":52119.5,"d":"R$ 52,119.50"}},{"$nulls":7},{"$f":"IFERROR(IF(VENDAS!$C$24=\"\",\"\",L17+SUM(IFERROR(VENDAS!$S$24:$S$24*1,0))),\"\")","v":39},16,{"$f":"IFERROR(IF((ROW()-2)<1,\"\",IF((ROW()-2)>IFERROR(INDEX(CALC_BASE!$L$3:$L$57,MATCH(TRUE,CALC_BASE!$L$3:$L$57<>\"\",0)+COUNTA(VENDAS!$C$9:$C$1058)-1),0),\"\",INDEX(VENDAS!$C$9:$C$1058,MATCH(TRUE,CALC_BASE!$L$3:$L$57>=(ROW()-2),0)))),\"\")","v":"PED-006"},{"$f":"IFERROR(IF(N18=\"\",\"\",(ROW()-2)-(IF(MATCH(TRUE,CALC_BASE!$L$3:$L$57>=(ROW()-2),0)=1,0,INDEX(CALC_BASE!$L$3:$L$57,MATCH(TRUE,CALC_BASE!$L$3:$L$57>=(ROW()-2),0)-1)))),\"\")","v":3},{"$f":"IFERROR(IF(N18=\"\",\"\",INDEX(VENDAS!$S$9:$S$1058,MATCH(TRUE,CALC_BASE!$L$3:$L$57>=(ROW()-2),0))),\"\")","v":4}]
[null,null,"Parcelas a Vencer (qtd)",{"$f":"IFERROR(COUNTIF(tb_pagamentos[Status_Parcela],\"A Vencer\"),0)","v":7},{"$nulls":7},{"$f":"IFERROR(IF(VENDAS!$C$25=\"\",\"\",L18+SUM(IFERROR(VENDAS!$S$25:$S$25*1,0))),\"\")","v":43},17,{"$f":"IFERROR(IF((ROW()-2)<1,\"\",IF((ROW()-2)>IFERROR(INDEX(CALC_BASE!$L$3:$L$57,MATCH(TRUE,CALC_BASE!$L$3:$L$57<>\"\",0)+COUNTA(VENDAS!$C$9:$C$1058)-1),0),\"\",INDEX(VENDAS!$C$9:$C$1058,MATCH(TRUE,CALC_BASE!$L$3:$L$57>=(ROW()-2),0)))),\"\")","v":"PED-006"},{"$f":"IFERROR(IF(N19=\"\",\"\",(ROW()-2)-(IF(MATCH(TRUE,CALC_BASE!$L$3:$L$57>=(ROW()-2),0)=1,0,INDEX(CALC_BASE!$L$3:$L$57,MATCH(TRUE,CALC_BASE!$L$3:$L$57>=(ROW()-2),0)-1)))),\"\")","v":4},{"$f":"IFERROR(IF(N19=\"\",\"\",INDEX(VENDAS!$S$9:$S$1058,MATCH(TRUE,CALC_BASE!$L$3:$L$57>=(ROW()-2),0))),\"\")","v":4}]
[null,null,"Parcelas em Atraso (qtd)",{"$f":"IFERROR(COUNTIF(tb_pagamentos[Status_Parcela],\"Em Atraso\"),0)","v":47},{"$nulls":7},{"$f":"IFERROR(IF(VENDAS!$C$26=\"\",\"\",L19+SUM(IFERROR(VENDAS!$S$26:$S$26*1,0))),\"\")","v":46},18,{"$f":"IFERROR(IF((ROW()-2)<1,\"\",IF((ROW()-2)>IFERROR(INDEX(CALC_BASE!$L$3:$L$57,MATCH(TRUE,CALC_BASE!$L$3:$L$57<>\"\",0)+COUNTA(VENDAS!$C$9:$C$1058)-1),0),\"\",INDEX(VENDAS!$C$9:$C$1058,MATCH(TRUE,CALC_BASE!$L$3:$L$57>=(ROW()-2),0)))),\"\")","v":"PED-007"},{"$f":"IFERROR(IF(N20=\"\",\"\",(ROW()-2)-(IF(MATCH(TRUE,CALC_BASE!$L$3:$L$57>=(ROW()-2),0)=1,0,INDEX(CALC_BASE!$L$3:$L$57,MATCH(TRUE,CALC_BASE!$L$3:$L$57>=(ROW()-2),0)-1)))),\"\")","v":1},{"$f":"IFERROR(IF(N20=\"\",\"\",INDEX(VENDAS!$S$9:$S$1058,MATCH(TRUE,CALC_BASE!$L$3:$L$57>=(ROW()-2),0))),\"\")","v":2}]
[{"$nulls":11},{"$f":"IFERROR(IF(VENDAS!$C$27=\"\",\"\",L20+SUM(IFERROR(VENDAS!$S$27:$S$27*1,0))),\"\")","v":48},19,{"$f":"IFERROR(IF((ROW()-2)<1,\"\",IF((ROW()-2)>IFERROR(INDEX(CALC_BASE!$L$3:$L$57,MATCH(TRUE,CALC_BASE!$L$3:$L$57<>\"\",0)+COUNTA(VENDAS!$C$9:$C$1058)-1),0),\"\",INDEX(VENDAS!$C$9:$C$1058,MATCH(TRUE,CALC_BASE!$L$3:$L$57>=(ROW()-2),0)))),\"\")","v":"PED-007"},{"$f":"IFERROR(IF(N21=\"\",\"\",(ROW()-2)-(IF(MATCH(TRUE,CALC_BASE!$L$3:$L$57>=(ROW()-2),0)=1,0,INDEX(CALC_BASE!$L$3:$L$57,MATCH(TRUE,CALC_BASE!$L$3:$L$57>=(ROW()-2),0)-1)))),\"\")","v":2},{"$f":"IFERROR(IF(N21=\"\",\"\",INDEX(VENDAS!$S$9:$S$1058,MATCH(TRUE,CALC_BASE!$L$3:$L$57>=(ROW()-2),0))),\"\")","v":2}]
[null,null,"KPIs - DESPESAS",{"$nulls":8},{"$f":"IFERROR(IF(VENDAS!$C$28=\"\",\"\",L21+SUM(IFERROR(VENDAS!$S$28:$S$28*1,0))),\"\")","v":51},20,{"$f":"IFERROR(IF((ROW()-2)<1,\"\",IF((ROW()-2)>IFERROR(INDEX(CALC_BASE!$L$3:$L$57,MATCH(TRUE,CALC_BASE!$L$3:$L$57<>\"\",0)+COUNTA(VENDAS!$C$9:$C$1058)-1),0),\"\",INDEX(VENDAS!$C$9:$C$1058,MATCH(TRUE,CALC_BASE!$L$3:$L$57>=(ROW()-2),0)))),\"\")","v":"PED-008"},{"$f":"IFERROR(IF(N22=\"\",\"\",(ROW()-2)-(IF(MATCH(TRUE,CALC_BASE!$L$3:$L$57>=(ROW()-2),0)=1,0,INDEX(CALC_BASE!$L$3:$L$57,MATCH(TRUE,CALC_BASE!$L$3:$L$57>=(ROW()-2),0)-1)))),\"\")","v":1},{"$f":"IFERROR(IF(N22=\"\",\"\",INDEX(VENDAS!$S$9:$S$1058,MATCH(TRUE,CALC_BASE!$L$3:$L$57>=(ROW()-2),0))),\"\")","v":3}]
[null,null,"Despesas Totais (R$)",{"$f":"IFERROR(SUMPRODUCT((tb_despesas[Data]>=IF(rng_filtro_data_ini=\"\",DATE(2000,1,1),rng_filtro_data_ini))*(tb_despesas[Data]<=IF(rng_filtro_data_fim=\"\",DATE(2099,12,31),rng_filtro_data_fim))*IF(OR(rng_filtro_categoria=\"Todas\",rng_filtro_categoria=\"\"),1,(tb_despesas[Categoria]=rng_filtro_categoria))*tb_despesas[Valor]),0)","v":{"v":38401.53,"d":"R$ 38,401.53"}},{"$nulls":7},{"$f":"IFERROR(IF(VENDAS!$C$29=\"\",\"\",L22+SUM(IFERROR(VENDAS!$S$29:$S$29*1,0))),\"\")","v":53},21,{"$f":"IFERROR(IF((ROW()-2)<1,\"\",IF((ROW()-2)>IFERROR(INDEX(CALC_BASE!$L$3:$L$57,MATCH(TRUE,CALC_BASE!$L$3:$L$57<>\"\",0)+COUNTA(VENDAS!$C$9:$C$1058)-1),0),\"\",INDEX(VENDAS!$C$9:$C$1058,MATCH(TRUE,CALC_BASE!$L$3:$L$57>=(ROW()-2),0)))),\"\")","v":"PED-008"},{"$f":"IFERROR(IF(N23=\"\",\"\",(ROW()-2)-(IF(MATCH(TRUE,CALC_BASE!$L$3:$L$57>=(ROW()-2),0)=1,0,INDEX(CALC_BASE!$L$3:$L$57,MATCH(TRUE,CALC_BASE!$L$3:$L$57>=(ROW()-2),0)-1)))),\"\")","v":2},{"$f":"IFERROR(IF(N23=\"\",\"\",INDEX(VENDAS!$S$9:$S$1058,MATCH(TRUE,CALC_BASE!$L$3:$L$57>=(ROW()-2),0))),\"\")","v":3}]
[null,null,"Maior Categoria de Despesa",{"$f":"IFERROR(INDEX(tb_categorias_despesa[Nome_Categoria],MATCH(MAX(COUNTIF(tb_despesas[Categoria],tb_categorias_despesa[Nome_Categoria])),COUNTIF(tb_despesas[Categoria],tb_categorias_despesa[Nome_Categoria]),0)),\"-\")","v":"Material"},{"$nulls":7},{"$f":"IFERROR(IF(VENDAS!$C$30=\"\",\"\",L23+SUM(IFERROR(VENDAS!$S$30:$S$30*1,0))),\"\")","v":54},22,{"$f":"IFERROR(IF((ROW()-2)<1,\"\",IF((ROW()-2)>IFERROR(INDEX(CALC_BASE!$L$3:$L$57,MATCH(TRUE,CALC_BASE!$L$3:$L$57<>\"\",0)+COUNTA(VENDAS!$C$9:$C$1058)-1),0),\"\",INDEX(VENDAS!$C$9:$C$1058,MATCH(TRUE,CALC_BASE!$L$3:$L$57>=(ROW()-2),0)))),\"\")","v":"PED-008"},{"$f":"IFERROR(IF(N24=\"\",\"\",(ROW()-2)-(IF(MATCH(TRUE,CALC_BASE!$L$3:$L$57>=(ROW()-2),0)=1,0,INDEX(CALC_BASE!$L$3:$L$57,MATCH(TRUE,CALC_BASE!$L$3:$L$57>=(ROW()-2),0)-1)))),\"\")","v":3},{"$f":"IFERROR(IF(N24=\"\",\"\",INDEX(VENDAS!$S$9:$S$1058,MATCH(TRUE,CALC_BASE!$L$3:$L$57>=(ROW()-2),0))),\"\")","v":3}]
[{"$nulls":11},{"$f":"IFERROR(IF(VENDAS!$C$31=\"\",\"\",L24+SUM(IFERROR(VENDAS!$S$31:$S$31*1,0))),\"\")","v":56},23,{"$f":"IFERROR(IF((ROW()-2)<1,\"\",IF((ROW()-2)>IFERROR(INDEX(CALC_BASE!$L$3:$L$57,MATCH(TRUE,CALC_BASE!$L$3:$L$57<>\"\",0)+COUNTA(VENDAS!$C$9:$C$1058)-1),0),\"\",INDEX(VENDAS!$C$9:$C$1058,MATCH(TRUE,CALC_BASE!$L$3:$L$57>=(ROW()-2),0)))),\"\")","v":"PED-009"},{"$f":"IFERROR(IF(N25=\"\",\"\",(ROW()-2)-(IF(MATCH(TRUE,CALC_BASE!$L$3:$L$57>=(ROW()-2),0)=1,0,INDEX(CALC_BASE!$L$3:$L$57,MATCH(TRUE,CALC_BASE!$L$3:$L$57>=(ROW()-2),0)-1)))),\"\")","v":1},{"$f":"IFERROR(IF(N25=\"\",\"\",INDEX(VENDAS!$S$9:$S$1058,MATCH(TRUE,CALC_BASE!$L$3:$L$57>=(ROW()-2),0))),\"\")","v":3}]
[null,null,"FATURAMENTO MES A MES (base para gráfico)",{"$nulls":8},{"$f":"IFERROR(IF(VENDAS!$C$32=\"\",\"\",L25+SUM(IFERROR(VENDAS!$S$32:$S$32*1,0))),\"\")","v":57},24,{"$f":"IFERROR(IF((ROW()-2)<1,\"\",IF((ROW()-2)>IFERROR(INDEX(CALC_BASE!$L$3:$L$57,MATCH(TRUE,CALC_BASE!$L$3:$L$57<>\"\",0)+COUNTA(VENDAS!$C$9:$C$1058)-1),0),\"\",INDEX(VENDAS!$C$9:$C$1058,MATCH(TRUE,CALC_BASE!$L$3:$L$57>=(ROW()-2),0)))),\"\")","v":"PED-009"},{"$f":"IFERROR(IF(N26=\"\",\"\",(ROW()-2)-(IF(MATCH(TRUE,CALC_BASE!$L$3:$L$57>=(ROW()-2),0)=1,0,INDEX(CALC_BASE!$L$3:$L$57,MATCH(TRUE,CALC_BASE!$L$3:$L$57>=(ROW()-2),0)-1)))),\"\")","v":2},{"$f":"IFERROR(IF(N26=\"\",\"\",INDEX(VENDAS!$S$9:$S$1058,MATCH(TRUE,CALC_BASE!$L$3:$L$57>=(ROW()-2),0))),\"\")","v":3}]
[null,null,"AnoMes","Faturamento","Rendimento",null,{"$f":"IFERROR(INDEX(tb_vendas[N° Pedido/Empresa],MATCH(H27,tb_vendas[Rendimento/Saldo final],0)),\"\")","v":"PED-052"},{"$f":"IFERROR(LARGE(IF(YEAR(tb_vendas[Data Fechamento])=RELATORIO_FINANCEIRO!$D$18,IF(rng_filtro_status=\"Todos\",1,IF(rng_filtro_status=\"\",1,(tb_vendas[Status]=rng_filtro_status)))*tb_vendas[Rendimento/Saldo final],\"\"),10),0)","v":{"v":816,"d":"R$ 816.00"}},{"$nulls":3},{"$f":"IFERROR(IF(VENDAS!$C$33=\"\",\"\",L26+SUM(IFERROR(VENDAS!$S$33:$S$33*1,0))),\"\")","v":61},25,{"$f":"IFERROR(IF((ROW()-2)<1,\"\",IF((ROW()-2)>IFERROR(INDEX(CALC_BASE!$L$3:$L$57,MATCH(TRUE,CALC_BASE!$L$3:$L$57<>\"\",0)+COUNTA(VENDAS!$C$9:$C$1058)-1),0),\"\",INDEX(VENDAS!$C$9:$C$1058,MATCH(TRUE,CALC_BASE!$L$3:$L$57>=(ROW()-2),0)))),\"\")","v":"PED-009"},{"$f":"IFERROR(IF(N27=\"\",\"\",(ROW()-2)-(IF(MATCH(TRUE,CALC_BASE!$L$3:$L$57>=(ROW()-2),0)=1,0,INDEX(CALC_BASE!$L$3:$L$57,MATCH(TRUE,CALC_BASE!$L$3:$L$57>=(ROW()-2),0)-1)))),\"\")","v":3},{"$f":"IFERROR(IF(N27=\"\",\"\",INDEX(VENDAS!$S$9:$S$1058,MATCH(TRUE,CALC_BASE!$L$3:$L$57>=(ROW()-2),0))),\"\")","v":3}]
[null,null,{"$f":"TEXT(DATE(RELATORIO_FINANCEIRO!$D$18,1,1),\"YYYY-MM\")","v":"2026-01"},{"$f":"IFERROR(SUMPRODUCT((TEXT(tb_vendas[Data Fechamento],\"YYYY-MM\")=C28)*IF(rng_filtro_status=\"Todos\",1,IF(rng_filtro_status=\"\",1,(tb_vendas[Status]=rng_filtro_status)))*tb_vendas[Preço de Venda]),0)","v":{"v":5230,"d":"R$ 5,230.00"}},{"$f":"IFERROR(SUMPRODUCT((TEXT(tb_vendas[Data Fechamento],\"YYYY-MM\")=C28)*IF(rng_filtro_status=\"Todos\",1,IF(rng_filtro_status=\"\",1,(tb_vendas[Status]=rng_filtro_status)))*tb_vendas[Rendimento/Saldo final]),0)","v":{"v":2794.7,"d":"R$ 2,794.70"}},null,{"$f":"IFERROR(INDEX(tb_vendas[N° Pedido/Empresa],MATCH(H28,tb_vendas[Rendimento/Saldo final],0)),\"\")","v":"PED-043"},{"$f":"IFERROR(LARGE(IF(YEAR(tb_vendas[Data Fechamento])=RELATORIO_FINANCEIRO!$D$18,IF(rng_filtro_status=\"Todos\",1,IF(rng_filtro_status=\"\",1,(tb_vendas[Status]=rng_filtro_status)))*tb_vendas[Rendimento/Saldo final],\"\"),9),0)","v":{"v":897.5,"d":"R$ 897.50"}},{"$nulls":3},{"$f":"IFERROR(IF(VENDAS!$C$34=\"\",\"\",L27+SUM(IFERROR(VENDAS!$S$34:$S$34*1,0))),\"\")","v":64},26,{"$f":"IFERROR(IF((ROW()-2)<1,\"\",IF((ROW()-2)>IFERROR(INDEX(CALC_BASE!$L$3:$L$57,MATCH(TRUE,CALC_BASE!$L$3:$L$57<>\"\",0)+COUNTA(VENDAS!$C$9:$C$1058)-1),0),\"\",INDEX(VENDAS!$C$9:$C$1058,MATCH(TRUE,CALC_BASE!$L$3:$L$57>=(ROW()-2),0)))),\"\")","v":"PED-010"},{"$f":"IFERROR(IF(N28=\"\",\"\",(ROW()-2)-(IF(MATCH(TRUE,CALC_BASE!$L$3:$L$57>=(ROW()-2),0)=1,0,INDEX(CALC_BASE!$L$3:$L$57,MATCH(TRUE,CALC_BASE!$L$3:$L$57>=(ROW()-2),0)-1)))),\"\")","v":1},{"$f":"IFERROR(IF(N28=\"\",\"\",INDEX(VENDAS!$S$9:$S$1058,MATCH(TRUE,CALC_BASE!$L$3:$L$57>=(ROW()-2),0))),\"\")","v":1}]
[null,null,{"$f":"TEXT(DATE(RELATORIO_FINANCEIRO!$D$18,2,1),\"YYYY-MM\")","v":"2026-02"},{"$f":"IFERROR(SUMPRODUCT((TEXT(tb_vendas[Data Fechamento],\"YYYY-MM\")=C29)*IF(rng_filtro_status=\"Todos\",1,IF(rng_filtro_status=\"\",1,(tb_vendas[Status]=rng_filtro_status)))*tb_vendas[Preço de Venda]),0)","v":{"v":5750,"d":"R$ 5,750.00"}},{"$f":"IFERROR(SUMPRODUCT((TEXT(tb_vendas[Data Fechamento],\"YYYY-MM\")=C29)*IF(rng_filtro_status=\"Todos\",1,IF(rng_filtro_status=\"\",1,(tb_vendas[Status]=rng_filtro_status)))*tb_vendas[Rendimento/Saldo final]),0)","v":{"v":2804,"d":"R$ 2,804.00"}},null,{"$f":"IFERROR(INDEX(tb_vendas[N° Pedido/Empresa],MATCH(H29,tb_vendas[Rendimento/Saldo final],0)),\"\")","v":"PED-004"},{"$f":"IFERROR(LARGE(IF(YEAR(tb_vendas[Data Fechamento])=RELATORIO_FINANCEIRO!$D$18,IF(rng_filtro_status=\"Todos\",1,IF(rng_filtro_status=\"\",1,(tb_vendas[Status]=rng_filtro_status)))*tb_vendas[Rendimento/Saldo final],\"\"),8),0)","v":{"v":905.91,"d":"R$ 905.91"}},{"$nulls":3},{"$f":"IFERROR(IF(VENDAS!$C$35=\"\",\"\",L28+SUM(IFERROR(VENDAS!$S$35:$S$35*1,0))),\"\")","v":65},27,{"$f":"IFERROR(IF((ROW()-2)<1,\"\",IF((ROW()-2)>IFERROR(INDEX(CALC_BASE!$L$3:$L$57,MATCH(TRUE,CALC_BASE!$L$3:$L$57<>\"\",0)+COUNTA(VENDAS!$C$9:$C$1058)-1),0),\"\",INDEX(VENDAS!$C$9:$C$1058,MATCH(TRUE,CALC_BASE!$L$3:$L$57>=(ROW()-2),0)))),\"\")","v":"PED-011"},{"$f":"IFERROR(IF(N29=\"\",\"\",(ROW()-2)-(IF(MATCH(TRUE,CALC_BASE!$L$3:$L$57>=(ROW()-2),0)=1,0,INDEX(CALC_BASE!$L$3:$L$57,MATCH(TRUE,CALC_BASE!$L$3:$L$57>=(ROW()-2),0)-1)))),\"\")","v":1},{"$f":"IFERROR(IF(N29=\"\",\"\",INDEX(VENDAS!$S$9:$S$1058,MATCH(TRUE,CALC_BASE!$L$3:$L$57>=(ROW()-2),0))),\"\")","v":2}]
[null,null,{"$f":"TEXT(DATE(RELATORIO_FINANCEIRO!$D$18,3,1),\"YYYY-MM\")","v":"2026-03"},{"$f":"IFERROR(SUMPRODUCT((TEXT(tb_vendas[Data Fechamento],\"YYYY-MM\")=C30)*IF(rng_filtro_status=\"Todos\",1,IF(rng_filtro_status=\"\",1,(tb_vendas[Status]=rng_filtro_status)))*tb_vendas[Preço de Venda]),0)","v":{"v":4820,"d":"R$ 4,820.00"}},{"$f":"IFERROR(SUMPRODUCT((TEXT(tb_vendas[Data Fechamento],\"YYYY-MM\")=C30)*IF(rng_filtro_status=\"Todos\",1,IF(rng_filtro_status=\"\",1,(tb_vendas[Status]=rng_filtro_status)))*tb_vendas[Rendimento/Saldo final]),0)","v":{"v":2418.8,"d":"R$ 2,418.80"}},null,{"$f":"IFERROR(INDEX(tb_vendas[N° Pedido/Empresa],MATCH(H30,tb_vendas[Rendimento/Saldo final],0)),\"\")","v":"PED-034"},{"$f":"IFERROR(LARGE(IF(YEAR(tb_vendas[Data Fechamento])=RELATORIO_FINANCEIRO!$D$18,IF(rng_filtro_status=\"Todos\",1,IF(rng_filtro_status=\"\",1,(tb_vendas[Status]=rng_filtro_status)))*tb_vendas[Rendimento/Saldo final],\"\"),7),0)","v":{"v":1041,"d":"R$ 1,041.00"}},{"$nulls":3},{"$f":"IFERROR(IF(VENDAS!$C$36=\"\",\"\",L29+SUM(IFERROR(VENDAS!$S$36:$S$36*1,0))),\"\")","v":69},28,{"$f":"IFERROR(IF((ROW()-2)<1,\"\",IF((ROW()-2)>IFERROR(INDEX(CALC_BASE!$L$3:$L$57,MATCH(TRUE,CALC_BASE!$L$3:$L$57<>\"\",0)+COUNTA(VENDAS!$C$9:$C$1058)-1),0),\"\",INDEX(VENDAS!$C$9:$C$1058,MATCH(TRUE,CALC_BASE!$L$3:$L$57>=(ROW()-2),0)))),\"\")","v":"PED-011"},{"$f":"IFERROR(IF(N30=\"\",\"\",(ROW()-2)-(IF(MATCH(TRUE,CALC_BASE!$L$3:$L$57>=(ROW()-2),0)=1,0,INDEX(CALC_BASE!$L$3:$L$57,MATCH(TRUE,CALC_BASE!$L$3:$L$57>=(ROW()-2),0)-1)))),\"\")","v":2},{"$f":"IFERROR(IF(N30=\"\",\"\",INDEX(VENDAS!$S$9:$S$1058,MATCH(TRUE,CALC_BASE!$L$3:$L$57>=(ROW()-2),0))),\"\")","v":2}]
[null,null,{"$f":"TEXT(DATE(RELATORIO_FINANCEIRO!$D$18,4,1),\"YYYY-MM\")","v":"2026-04"},{"$f":"IFERROR(SUMPRODUCT((TEXT(tb_vendas[Data Fechamento],\"YYYY-MM\")=C31)*IF(rng_filtro_status=\"Todos\",1,IF(rng_filtro_status=\"\",1,(tb_vendas[Status]=rng_filtro_status)))*tb_vendas[Preço de Venda]),0)","v":{"v":2707.25,"d":"R$ 2,707.25"}},{"$f":"IFERROR(SUMPRODUCT((TEXT(tb_vendas[Data Fechamento],\"YYYY-MM\")=C31)*IF(rng_filtro_status=\"Todos\",1,IF(rng_filtro_status=\"\",1,(tb_vendas[Status]=rng_filtro_status)))*tb_vendas[Rendimento/Saldo final]),0)","v":{"v":1327.9099999999999,"d":"R$ 1,327.91"}},null,{"$f":"IFERROR(INDEX(tb_vendas[N° Pedido/Empresa],MATCH(H31,tb_vendas[Rendimento/Saldo final],0)),\"\")","v":"PED-049"},{"$f":"IFERROR(LARGE(IF(YEAR(tb_vendas[Data Fechamento])=RELATORIO_FINANCEIRO!$D$18,IF(rng_filtro_status=\"Todos\",1,IF(rng_filtro_status=\"\",1,(tb_vendas[Status]=rng_filtro_status)))*tb_vendas[Rendimento/Saldo final],\"\"),6),0)","v":{"v":1218,"d":"R$ 1,218.00"}},{"$nulls":3},{"$f":"IFERROR(IF(VENDAS!$C$37=\"\",\"\",L30+SUM(IFERROR(VENDAS!$S$37:$S$37*1,0))),\"\")","v":71},29,{"$f":"IFERROR(IF((ROW()-2)<1,\"\",IF((ROW()-2)>IFERROR(INDEX(CALC_BASE!$L$3:$L$57,MATCH(TRUE,CALC_BASE!$L$3:$L$57<>\"\",0)+COUNTA(VENDAS!$C$9:$C$1058)-1),0),\"\",INDEX(VENDAS!$C$9:$C$1058,MATCH(TRUE,CALC_BASE!$L$3:$L$57>=(ROW()-2),0)))),\"\")","v":"PED-012"},{"$f":"IFERROR(IF(N31=\"\",\"\",(ROW()-2)-(IF(MATCH(TRUE,CALC_BASE!$L$3:$L$57>=(ROW()-2),0)=1,0,INDEX(CALC_BASE!$L$3:$L$57,MATCH(TRUE,CALC_BASE!$L$3:$L$57>=(ROW()-2),0)-1)))),\"\")","v":1},{"$f":"IFERROR(IF(N31=\"\",\"\",INDEX(VENDAS!$S$9:$S$1058,MATCH(TRUE,CALC_BASE!$L$3:$L$57>=(ROW()-2),0))),\"\")","v":1}]
[null,null,{"$f":"TEXT(DATE(RELATORIO_FINANCEIRO!$D$18,5,1),\"YYYY-MM\")","v":"2026-05"},{"$f":"IFERROR(SUMPRODUCT((TEXT(tb_vendas[Data Fechamento],\"YYYY-MM\")=C32)*IF(rng_filtro_status=\"Todos\",1,IF(rng_filtro_status=\"\",1,(tb_vendas[Status]=rng_filtro_status)))*tb_vendas[Preço de Venda]),0)","v":{"v":4780,"d":"R$ 4,780.00"}},{"$f":"IFERROR(SUMPRODUCT((TEXT(tb_vendas[Data Fechamento],\"YYYY-MM\")=C32)*IF(rng_filtro_status=\"Todos\",1,IF(rng_filtro_status=\"\",1,(tb_vendas[Status]=rng_filtro_status)))*tb_vendas[Rendimento/Saldo final]),0)","v":{"v":2303.2,"d":"R$ 2,303.20"}},null,{"$f":"IFERROR(INDEX(tb_vendas[N° Pedido/Empresa],MATCH(H32,tb_vendas[Rendimento/Saldo final],0)),\"\")","v":"PED-015"},{"$f":"IFERROR(LARGE(IF(YEAR(tb_vendas[Data Fechamento])=RELATORIO_FINANCEIRO!$D$18,IF(rng_filtro_status=\"Todos\",1,IF(rng_filtro_status=\"\",1,(tb_vendas[Status]=rng_filtro_status)))*tb_vendas[Rendimento/Saldo final],\"\"),5),0)","v":{"v":1322.5,"d":"R$ 1,322.50"}},{"$nulls":3},{"$f":"IFERROR(IF(VENDAS!$C$38=\"\",\"\",L31+SUM(IFERROR(VENDAS!$S$38:$S$38*1,0))),\"\")","v":74},30,{"$f":"IFERROR(IF((ROW()-2)<1,\"\",IF((ROW()-2)>IFERROR(INDEX(CALC_BASE!$L$3:$L$57,MATCH(TRUE,CALC_BASE!$L$3:$L$57<>\"\",0)+COUNTA(VENDAS!$C$9:$C$1058)-1),0),\"\",INDEX(VENDAS!$C$9:$C$1058,MATCH(TRUE,CALC_BASE!$L$3:$L$57>=(ROW()-2),0)))),\"\")","v":"PED-013"},{"$f":"IFERROR(IF(N32=\"\",\"\",(ROW()-2)-(IF(MATCH(TRUE,CALC_BASE!$L$3:$L$57>=(ROW()-2),0)=1,0,INDEX(CALC_BASE!$L$3:$L$57,MATCH(TRUE,CALC_BASE!$L$3:$L$57>=(ROW()-2),0)-1)))),\"\")","v":1},{"$f":"IFERROR(IF(N32=\"\",\"\",INDEX(VENDAS!$S$9:$S$1058,MATCH(TRUE,CALC_BASE!$L$3:$L$57>=(ROW()-2),0))),\"\")","v":4}]
[null,null,{"$f":"TEXT(DATE(RELATORIO_FINANCEIRO!$D$18,6,1),\"YYYY-MM\")","v":"2026-06"},{"$f":"IFERROR(SUMPRODUCT((TEXT(tb_vendas[Data Fechamento],\"YYYY-MM\")=C33)*IF(rng_filtro_status=\"Todos\",1,IF(rng_filtro_status=\"\",1,(tb_vendas[Status]=rng_filtro_status)))*tb_vendas[Preço de Venda]),0)","v":{"v":3100,"d":"R$ 3,100.00"}},{"$f":"IFERROR(SUMPRODUCT((TEXT(tb_vendas[Data Fechamento],\"YYYY-MM\")=C33)*IF(rng_filtro_status=\"Todos\",1,IF(rng_filtro_status=\"\",1,(tb_vendas[Status]=rng_filtro_status)))*tb_vendas[Rendimento/Saldo final]),0)","v":{"v":1459,"d":"R$ 1,459.00"}},null,{"$f":"IFERROR(INDEX(tb_vendas[N° Pedido/Empresa],MATCH(H33,tb_vendas[Rendimento/Saldo final],0)),\"\")","v":"PED-041"},{"$f":"IFERROR(LARGE(IF(YEAR(tb_vendas[Data Fechamento])=RELATORIO_FINANCEIRO!$D$18,IF(rng_filtro_status=\"Todos\",1,IF(rng_filtro_status=\"\",1,(tb_vendas[Status]=rng_filtro_status)))*tb_vendas[Rendimento/Saldo final],\"\"),4),0)","v":{"v":1356,"d":"R$ 1,356.00"}},{"$nulls":3},{"$f":"IFERROR(IF(VENDAS!$C$39=\"\",\"\",L32+SUM(IFERROR(VENDAS!$S$39:$S$39*1,0))),\"\")","v":77},31,{"$f":"IFERROR(IF((ROW()-2)<1,\"\",IF((ROW()-2)>IFERROR(INDEX(CALC_BASE!$L$3:$L$57,MATCH(TRUE,CALC_BASE!$L$3:$L$57<>\"\",0)+COUNTA(VENDAS!$C$9:$C$1058)-1),0),\"\",INDEX(VENDAS!$C$9:$C$1058,MATCH(TRUE,CALC_BASE!$L$3:$L$57>=(ROW()-2),0)))),\"\")","v":"PED-013"},{"$f":"IFERROR(IF(N33=\"\",\"\",(ROW()-2)-(IF(MATCH(TRUE,CALC_BASE!$L$3:$L$57>=(ROW()-2),0)=1,0,INDEX(CALC_BASE!$L$3:$L$57,MATCH(TRUE,CALC_BASE!$L$3:$L$57>=(ROW()-2),0)-1)))),\"\")","v":2},{"$f":"IFERROR(IF(N33=\"\",\"\",INDEX(VENDAS!$S$9:$S$1058,MATCH(TRUE,CALC_BASE!$L$3:$L$57>=(ROW()-2),0))),\"\")","v":4}]
[null,null,{"$f":"TEXT(DATE(RELATORIO_FINANCEIRO!$D$18,7,1),\"YYYY-MM\")","v":"2026-07"},{"$f":"IFERROR(SUMPRODUCT((TEXT(tb_vendas[Data Fechamento],\"YYYY-MM\")=C34)*IF(rng_filtro_status=\"Todos\",1,IF(rng_filtro_status=\"\",1,(tb_vendas[Status]=rng_filtro_status)))*tb_vendas[Preço de Venda]),0)","v":{"v":2900,"d":"R$ 2,900.00"}},{"$f":"IFERROR(SUMPRODUCT((TEXT(tb_vendas[Data Fechamento],\"YYYY-MM\")=C34)*IF(rng_filtro_status=\"Todos\",1,IF(rng_filtro_status=\"\",1,(tb_vendas[Status]=rng_filtro_status)))*tb_vendas[Rendimento/Saldo final]),0)","v":{"v":1356,"d":"R$ 1,356.00"}},null,{"$f":"IFERROR(INDEX(tb_vendas[N° Pedido/Empresa],MATCH(H34,tb_vendas[Rendimento/Saldo final],0)),\"\")","v":"PED-019"},{"$f":"IFERROR(LARGE(IF(YEAR(tb_vendas[Data Fechamento])=RELATORIO_FINANCEIRO!$D$18,IF(rng_filtro_status=\"Todos\",1,IF(rng_filtro_status=\"\",1,(tb_vendas[Status]=rng_filtro_status)))*tb_vendas[Rendimento/Saldo final],\"\"),3),0)","v":{"v":1459,"d":"R$ 1,459.00"}},{"$nulls":3},{"$f":"IFERROR(IF(VENDAS!$C$40=\"\",\"\",L33+SUM(IFERROR(VENDAS!$S$40:$S$40*1,0))),\"\")","v":78},32,{"$f":"IFERROR(IF((ROW()-2)<1,\"\",IF((ROW()-2)>IFERROR(INDEX(CALC_BASE!$L$3:$L$57,MATCH(TRUE,CALC_BASE!$L$3:$L$57<>\"\",0)+COUNTA(VENDAS!$C$9:$C$1058)-1),0),\"\",INDEX(VENDAS!$C$9:$C$1058,MATCH(TRUE,CALC_BASE!$L$3:$L$57>=(ROW()-2),0)))),\"\")","v":"PED-013"},{"$f":"IFERROR(IF(N34=\"\",\"\",(ROW()-2)-(IF(MATCH(TRUE,CALC_BASE!$L$3:$L$57>=(ROW()-2),0)=1,0,INDEX(CALC_BASE!$L$3:$L$57,MATCH(TRUE,CALC_BASE!$L$3:$L$57>=(ROW()-2),0)-1)))),\"\")","v":3},{"$f":"IFERROR(IF(N34=\"\",\"\",INDEX(VENDAS!$S$9:$S$1058,MATCH(TRUE,CALC_BASE!$L$3:$L$57>=(ROW()-2),0))),\"\")","v":4}]
[null,null,{"$f":"TEXT(DATE(RELATORIO_FINANCEIRO!$D$18,8,1),\"YYYY-MM\")","v":"2026-08"},{"$f":"IFERROR(SUMPRODUCT((TEXT(tb_vendas[Data Fechamento],\"YYYY-MM\")=C35)*IF(rng_filtro_status=\"Todos\",1,IF(rng_filtro_status=\"\",1,(tb_vendas[Status]=rng_filtro_status)))*tb_vendas[Preço de Venda]),0)","v":0},{"$f":"IFERROR(SUMPRODUCT((TEXT(tb_vendas[Data Fechamento],\"YYYY-MM\")=C35)*IF(rng_filtro_status=\"Todos\",1,IF(rng_filtro_status=\"\",1,(tb_vendas[Status]=rng_filtro_status)))*tb_vendas[Rendimento/Saldo final]),0)","v":0},null,{"$f":"IFERROR(INDEX(tb_vendas[N° Pedido/Empresa],MATCH(H35,tb_vendas[Rendimento/Saldo final],0)),\"\")","v":"PED-037"},{"$f":"IFERROR(LARGE(IF(YEAR(tb_vendas[Data Fechamento])=RELATORIO_FINANCEIRO!$D$18,IF(rng_filtro_status=\"Todos\",1,IF(rng_filtro_status=\"\",1,(tb_vendas[Status]=rng_filtro_status)))*tb_vendas[Rendimento/Saldo final],\"\"),2),0)","v":{"v":1762,"d":"R$ 1,762.00"}},{"$nulls":3},{"$f":"IFERROR(IF(VENDAS!$C$41=\"\",\"\",L34+SUM(IFERROR(VENDAS!$S$41:$S$41*1,0))),\"\")","v":80},33,{"$f":"IFERROR(IF((ROW()-2)<1,\"\",IF((ROW()-2)>IFERROR(INDEX(CALC_BASE!$L$3:$L$57,MATCH(TRUE,CALC_BASE!$L$3:$L$57<>\"\",0)+COUNTA(VENDAS!$C$9:$C$1058)-1),0),\"\",INDEX(VENDAS!$C$9:$C$1058,MATCH(TRUE,CALC_BASE!$L$3:$L$57>=(ROW()-2),0)))),\"\")","v":"PED-013"},{"$f":"IFERROR(IF(N35=\"\",\"\",(ROW()-2)-(IF(MATCH(TRUE,CALC_BASE!$L$3:$L$57>=(ROW()-2),0)=1,0,INDEX(CALC_BASE!$L$3:$L$57,MATCH(TRUE,CALC_BASE!$L$3:$L$57>=(ROW()-2),0)-1)))),\"\")","v":4},{"$f":"IFERROR(IF(N35=\"\",\"\",INDEX(VENDAS!$S$9:$S$1058,MATCH(TRUE,CALC_BASE!$L$3:$L$57>=(ROW()-2),0))),\"\")","v":4}]
[null,null,{"$f":"TEXT(DATE(RELATORIO_FINANCEIRO!$D$18,9,1),\"YYYY-MM\")","v":"2026-09"},{"$f":"IFERROR(SUMPRODUCT((TEXT(tb_vendas[Data Fechamento],\"YYYY-MM\")=C36)*IF(rng_filtro_status=\"Todos\",1,IF(rng_filtro_status=\"\",1,(tb_vendas[Status]=rng_filtro_status)))*tb_vendas[Preço de Venda]),0)","v":0},{"$f":"IFERROR(SUMPRODUCT((TEXT(tb_vendas[Data Fechamento],\"YYYY-MM\")=C36)*IF(rng_filtro_status=\"Todos\",1,IF(rng_filtro_status=\"\",1,(tb_vendas[Status]=rng_filtro_status)))*tb_vendas[Rendimento/Saldo final]),0)","v":0},null,{"$f":"IFERROR(INDEX(tb_vendas[N° Pedido/Empresa],MATCH(H36,tb_vendas[Rendimento/Saldo final],0)),\"\")","v":"PED-005"},{"$f":"IFERROR(LARGE(IF(YEAR(tb_vendas[Data Fechamento])=RELATORIO_FINANCEIRO!$D$18,IF(rng_filtro_status=\"Todos\",1,IF(rng_filtro_status=\"\",1,(tb_vendas[Status]=rng_filtro_status)))*tb_vendas[Rendimento/Saldo final],\"\"),1),0)","v":{"v":2029.32,"d":"R$ 2,029.32"}},{"$nulls":3},{"$f":"IFERROR(IF(VENDAS!$C$42=\"\",\"\",L35+SUM(IFERROR(VENDAS!$S$42:$S$42*1,0))),\"\")","v":81},34,{"$f":"IFERROR(IF((ROW()-2)<1,\"\",IF((ROW()-2)>IFERROR(INDEX(CALC_BASE!$L$3:$L$57,MATCH(TRUE,CALC_BASE!$L$3:$L$57<>\"\",0)+COUNTA(VENDAS!$C$9:$C$1058)-1),0),\"\",INDEX(VENDAS!$C$9:$C$1058,MATCH(TRUE,CALC_BASE!$L$3:$L$57>=(ROW()-2),0)))),\"\")","v":"PED-014"},{"$f":"IFERROR(IF(N36=\"\",\"\",(ROW()-2)-(IF(MATCH(TRUE,CALC_BASE!$L$3:$L$57>=(ROW()-2),0)=1,0,INDEX(CALC_BASE!$L$3:$L$57,MATCH(TRUE,CALC_BASE!$L$3:$L$57>=(ROW()-2),0)-1)))),\"\")","v":1},{"$f":"IFERROR(IF(N36=\"\",\"\",INDEX(VENDAS!$S$9:$S$1058,MATCH(TRUE,CALC_BASE!$L$3:$L$57>=(ROW()-2),0))),\"\")","v":1}]
[null,null,{"$f":"TEXT(DATE(RELATORIO_FINANCEIRO!$D$18,10,1),\"YYYY-MM\")","v":"2026-10"},{"$f":"IFERROR(SUMPRODUCT((TEXT(tb_vendas[Data Fechamento],\"YYYY-MM\")=C37)*IF(rng_filtro_status=\"Todos\",1,IF(rng_filtro_status=\"\",1,(tb_vendas[Status]=rng_filtro_status)))*tb_vendas[Preço de Venda]),0)","v":0},{"$f":"IFERROR(SUMPRODUCT((TEXT(tb_vendas[Data Fechamento],\"YYYY-MM\")=C37)*IF(rng_filtro_status=\"Todos\",1,IF(rng_filtro_status=\"\",1,(tb_vendas[Status]=rng_filtro_status)))*tb_vendas[Rendimento/Saldo final]),0)","v":0},null,"DESPESAS POR CATEGORIA (base para gráfico pizza)",{"$nulls":4},{"$f":"IFERROR(IF(VENDAS!$C$43=\"\",\"\",L36+SUM(IFERROR(VENDAS!$S$43:$S$43*1,0))),\"\")","v":85},35,{"$f":"IFERROR(IF((ROW()-2)<1,\"\",IF((ROW()-2)>IFERROR(INDEX(CALC_BASE!$L$3:$L$57,MATCH(TRUE,CALC_BASE!$L$3:$L$57<>\"\",0)+COUNTA(VENDAS!$C$9:$C$1058)-1),0),\"\",INDEX(VENDAS!$C$9:$C$1058,MATCH(TRUE,CALC_BASE!$L$3:$L$57>=(ROW()-2),0)))),\"\")","v":"PED-015"},{"$f":"IFERROR(IF(N37=\"\",\"\",(ROW()-2)-(IF(MATCH(TRUE,CALC_BASE!$L$3:$L$57>=(ROW()-2),0)=1,0,INDEX(CALC_BASE!$L$3:$L$57,MATCH(TRUE,CALC_BASE!$L$3:$L$57>=(ROW()-2),0)-1)))),\"\")","v":1},{"$f":"IFERROR(IF(N37=\"\",\"\",INDEX(VENDAS!$S$9:$S$1058,MATCH(TRUE,CALC_BASE!$L$3:$L$57>=(ROW()-2),0))),\"\")","v":3}]
[null,null,{"$f":"TEXT(DATE(RELATORIO_FINANCEIRO!$D$18,11,1),\"YYYY-MM\")","v":"2026-11"},{"$f":"IFERROR(SUMPRODUCT((TEXT(tb_vendas[Data Fechamento],\"YYYY-MM\")=C38)*IF(rng_filtro_status=\"Todos\",1,IF(rng_filtro_status=\"\",1,(tb_vendas[Status]=rng_filtro_status)))*tb_vendas[Preço de Venda]),0)","v":{"v":3921.17,"d":"R$ 3,921.17"}},{"$f":"IFERROR(SUMPRODUCT((TEXT(tb_vendas[Data Fechamento],\"YYYY-MM\")=C38)*IF(rng_filtro_status=\"Todos\",1,IF(rng_filtro_status=\"\",1,(tb_vendas[Status]=rng_filtro_status)))*tb_vendas[Rendimento/Saldo final]),0)","v":{"v":2029.32,"d":"R$ 2,029.32"}},null,"Categoria","Total",{"$nulls":3},{"$f":"IFERROR(IF(VENDAS!$C$44=\"\",\"\",L37+SUM(IFERROR(VENDAS!$S$44:$S$44*1,0))),\"\")","v":87},36,{"$f":"IFERROR(IF((ROW()-2)<1,\"\",IF((ROW()-2)>IFERROR(INDEX(CALC_BASE!$L$3:$L$57,MATCH(TRUE,CALC_BASE!$L$3:$L$57<>\"\",0)+COUNTA(VENDAS!$C$9:$C$1058)-1),0),\"\",INDEX(VENDAS!$C$9:$C$1058,MATCH(TRUE,CALC_BASE!$L$3:$L$57>=(ROW()-2),0)))),\"\")","v":"PED-015"},{"$f":"IFERROR(IF(N38=\"\",\"\",(ROW()-2)-(IF(MATCH(TRUE,CALC_BASE!$L$3:$L$57>=(ROW()-2),0)=1,0,INDEX(CALC_BASE!$L$3:$L$57,MATCH(TRUE,CALC_BASE!$L$3:$L$57>=(ROW()-2),0)-1)))),\"\")","v":2},{"$f":"IFERROR(IF(N38=\"\",\"\",INDEX(VENDAS!$S$9:$S$1058,MATCH(TRUE,CALC_BASE!$L$3:$L$57>=(ROW()-2),0))),\"\")","v":3}]
[null,null,{"$f":"TEXT(DATE(RELATORIO_FINANCEIRO!$D$18,12,1),\"YYYY-MM\")","v":"2026-12"},{"$f":"IFERROR(SUMPRODUCT((TEXT(tb_vendas[Data Fechamento],\"YYYY-MM\")=C39)*IF(rng_filtro_status=\"Todos\",1,IF(rng_filtro_status=\"\",1,(tb_vendas[Status]=rng_filtro_status)))*tb_vendas[Preço de Venda]),0)","v":0},{"$f":"IFERROR(SUMPRODUCT((TEXT(tb_vendas[Data Fechamento],\"YYYY-MM\")=C39)*IF(rng_filtro_status=\"Todos\",1,IF(rng_filtro_status=\"\",1,(tb_vendas[Status]=rng_filtro_status)))*tb_vendas[Rendimento/Saldo final]),0)","v":0},null,"Mão de Obra",{"$f":"IFERROR(SUMPRODUCT((tb_despesas[Categoria]=G39)*(YEAR(tb_despesas[Data])=RELATORIO_FINANCEIRO!$D$18)*tb_despesas[Valor]),0)","v":{"v":3900,"d":"R$ 3,900.00"}},{"$nulls":3},{"$f":"IFERROR(IF(VENDAS!$C$45=\"\",\"\",L38+SUM(IFERROR(VENDAS!$S$45:$S$45*1,0))),\"\")","v":90},37,{"$f":"IFERROR(IF((ROW()-2)<1,\"\",IF((ROW()-2)>IFERROR(INDEX(CALC_BASE!$L$3:$L$57,MATCH(TRUE,CALC_BASE!$L$3:$L$57<>\"\",0)+COUNTA(VENDAS!$C$9:$C$1058)-1),0),\"\",INDEX(VENDAS!$C$9:$C$1058,MATCH(TRUE,CALC_BASE!$L$3:$L$57>=(ROW()-2),0)))),\"\")","v":"PED-015"},{"$f":"IFERROR(IF(N39=\"\",\"\",(ROW()-2)-(IF(MATCH(TRUE,CALC_BASE!$L$3:$L$57>=(ROW()-2),0)=1,0,INDEX(CALC_BASE!$L$3:$L$57,MATCH(TRUE,CALC_BASE!$L$3:$L$57>=(ROW()-2),0)-1)))),\"\")","v":3},{"$f":"IFERROR(IF(N39=\"\",\"\",INDEX(VENDAS!$S$9:$S$1058,MATCH(TRUE,CALC_BASE!$L$3:$L$57>=(ROW()-2),0))),\"\")","v":3}]
[null,null,{"$f":"TEXT(DATE(RELATORIO_FINANCEIRO!$D$18,1,1),\"YYYY-MM\")","v":"2026-01"},{"$f":"IFERROR(SUMPRODUCT((TEXT(tb_despesas[Data],\"YYYY-MM\")=C40)*IF(OR(rng_filtro_categoria=\"Todas\",rng_filtro_categoria=\"\"),1,(tb_despesas[Categoria]=rng_filtro_categoria))*tb_despesas[Valor]),0)","v":{"v":3930,"d":"R$ 3,930.00"}},{"$f":"IFERROR(SUMPRODUCT((TEXT(tb_vendas[Data Fechamento],\"YYYY-MM\")=C40)*IF(rng_filtro_status=\"Todos\",1,IF(rng_filtro_status=\"\",1,(tb_vendas[Status]=rng_filtro_status)))*tb_vendas[Rendimento/Saldo final]),0)","v":{"v":2794.7,"d":"R$ 2,794.70"}},null,"Material",{"$f":"IFERROR(SUMPRODUCT((tb_despesas[Categoria]=G40)*(YEAR(tb_despesas[Data])=RELATORIO_FINANCEIRO!$D$18)*tb_despesas[Valor]),0)","v":{"v":440,"d":"R$ 440.00"}},{"$nulls":3},{"$f":"IFERROR(IF(VENDAS!$C$46=\"\",\"\",L39+SUM(IFERROR(VENDAS!$S$46:$S$46*1,0))),\"\")","v":91},38,{"$f":"IFERROR(IF((ROW()-2)<1,\"\",IF((ROW()-2)>IFERROR(INDEX(CALC_BASE!$L$3:$L$57,MATCH(TRUE,CALC_BASE!$L$3:$L$57<>\"\",0)+COUNTA(VENDAS!$C$9:$C$1058)-1),0),\"\",INDEX(VENDAS!$C$9:$C$1058,MATCH(TRUE,CALC_BASE!$L$3:$L$57>=(ROW()-2),0)))),\"\")","v":"PED-016"},{"$f":"IFERROR(IF(N40=\"\",\"\",(ROW()-2)-(IF(MATCH(TRUE,CALC_BASE!$L$3:$L$57>=(ROW()-2),0)=1,0,INDEX(CALC_BASE!$L$3:$L$57,MATCH(TRUE,CALC_BASE!$L$3:$L$57>=(ROW()-2),0)-1)))),\"\")","v":1},{"$f":"IFERROR(IF(N40=\"\",\"\",INDEX(VENDAS!$S$9:$S$1058,MATCH(TRUE,CALC_BASE!$L$3:$L$57>=(ROW()-2),0))),\"\")","v":2}]
[null,null,{"$f":"TEXT(DATE(RELATORIO_FINANCEIRO!$D$18,2,1),\"YYYY-MM\")","v":"2026-02"},{"$f":"IFERROR(SUMPRODUCT((TEXT(tb_despesas[Data],\"YYYY-MM\")=C41)*IF(OR(rng_filtro_categoria=\"Todas\",rng_filtro_categoria=\"\"),1,(tb_despesas[Categoria]=rng_filtro_categoria))*tb_despesas[Valor]),0)","v":{"v":1540,"d":"R$ 1,540.00"}},{"$f":"IFERROR(SUMPRODUCT((TEXT(tb_vendas[Data Fechamento],\"YYYY-MM\")=C41)*IF(rng_filtro_status=\"Todos\",1,IF(rng_filtro_status=\"\",1,(tb_vendas[Status]=rng_filtro_status)))*tb_vendas[Rendimento/Saldo final]),0)","v":{"v":2804,"d":"R$ 2,804.00"}},null,"EPI",{"$f":"IFERROR(SUMPRODUCT((tb_despesas[Categoria]=G41)*(YEAR(tb_despesas[Data])=RELATORIO_FINANCEIRO!$D$18)*tb_despesas[Valor]),0)","v":{"v":195,"d":"R$ 195.00"}},{"$nulls":3},{"$f":"IFERROR(IF(VENDAS!$C$47=\"\",\"\",L40+SUM(IFERROR(VENDAS!$S$47:$S$47*1,0))),\"\")","v":95},39,{"$f":"IFERROR(IF((ROW()-2)<1,\"\",IF((ROW()-2)>IFERROR(INDEX(CALC_BASE!$L$3:$L$57,MATCH(TRUE,CALC_BASE!$L$3:$L$57<>\"\",0)+COUNTA(VENDAS!$C$9:$C$1058)-1),0),\"\",INDEX(VENDAS!$C$9:$C$1058,MATCH(TRUE,CALC_BASE!$L$3:$L$57>=(ROW()-2),0)))),\"\")","v":"PED-016"},{"$f":"IFERROR(IF(N41=\"\",\"\",(ROW()-2)-(IF(MATCH(TRUE,CALC_BASE!$L$3:$L$57>=(ROW()-2),0)=1,0,INDEX(CALC_BASE!$L$3:$L$57,MATCH(TRUE,CALC_BASE!$L$3:$L$57>=(ROW()-2),0)-1)))),\"\")","v":2},{"$f":"IFERROR(IF(N41=\"\",\"\",INDEX(VENDAS!$S$9:$S$1058,MATCH(TRUE,CALC_BASE!$L$3:$L$57>=(ROW()-2),0))),\"\")","v":2}]
[null,null,{"$f":"TEXT(DATE(RELATORIO_FINANCEIRO!$D$18,3,1),\"YYYY-MM\")","v":"2026-03"},{"$f":"IFERROR(SUMPRODUCT((TEXT(tb_despesas[Data],\"YYYY-MM\")=C42)*IF(OR(rng_filtro_categoria=\"Todas\",rng_filtro_categoria=\"\"),1,(tb_despesas[Categoria]=rng_filtro_categoria))*tb_despesas[Valor]),0)","v":{"v":4230,"d":"R$ 4,230.00"}},{"$f":"IFERROR(SUMPRODUCT((TEXT(tb_vendas[Data Fechamento],\"YYYY-MM\")=C42)*IF(rng_filtro_status=\"Todos\",1,IF(rng_filtro_status=\"\",1,(tb_vendas[Status]=rng_filtro_status)))*tb_vendas[Rendimento/Saldo final]),0)","v":{"v":2418.8,"d":"R$ 2,418.80"}},null,"Marketing (Google ADS)",{"$f":"IFERROR(SUMPRODUCT((tb_despesas[Categoria]=G42)*(YEAR(tb_despesas[Data])=RELATORIO_FINANCEIRO!$D$18)*tb_despesas[Valor]),0)","v":{"v":330,"d":"R$ 330.00"}},{"$nulls":3},{"$f":"IFERROR(IF(VENDAS!$C$48=\"\",\"\",L41+SUM(IFERROR(VENDAS!$S$48:$S$48*1,0))),\"\")","v":97},40,{"$f":"IFERROR(IF((ROW()-2)<1,\"\",IF((ROW()-2)>IFERROR(INDEX(CALC_BASE!$L$3:$L$57,MATCH(TRUE,CALC_BASE!$L$3:$L$57<>\"\",0)+COUNTA(VENDAS!$C$9:$C$1058)-1),0),\"\",INDEX(VENDAS!$C$9:$C$1058,MATCH(TRUE,CALC_BASE!$L$3:$L$57>=(ROW()-2),0)))),\"\")","v":"PED-017"},{"$f":"IFERROR(IF(N42=\"\",\"\",(ROW()-2)-(IF(MATCH(TRUE,CALC_BASE!$L$3:$L$57>=(ROW()-2),0)=1,0,INDEX(CALC_BASE!$L$3:$L$57,MATCH(TRUE,CALC_BASE!$L$3:$L$57>=(ROW()-2),0)-1)))),\"\")","v":1},{"$f":"IFERROR(IF(N42=\"\",\"\",INDEX(VENDAS!$S$9:$S$1058,MATCH(TRUE,CALC_BASE!$L$3:$L$57>=(ROW()-2),0))),\"\")","v":4}]
[null,null,{"$f":"TEXT(DATE(RELATORIO_FINANCEIRO!$D$18,4,1),\"YYYY-MM\")","v":"2026-04"},{"$f":"IFERROR(SUMPRODUCT((TEXT(tb_despesas[Data],\"YYYY-MM\")=C43)*IF(OR(rng_filtro_categoria=\"Todas\",rng_filtro_categoria=\"\"),1,(tb_despesas[Categoria]=rng_filtro_categoria))*tb_despesas[Valor]),0)","v":{"v":775,"d":"R$ 775.00"}},{"$f":"IFERROR(SUMPRODUCT((TEXT(tb_vendas[Data Fechamento],\"YYYY-MM\")=C43)*IF(rng_filtro_status=\"Todos\",1,IF(rng_filtro_status=\"\",1,(tb_vendas[Status]=rng_filtro_status)))*tb_vendas[Rendimento/Saldo final]),0)","v":{"v":1327.9099999999999,"d":"R$ 1,327.91"}},null,"Fixo",{"$f":"IFERROR(SUMPRODUCT((tb_despesas[Categoria]=G43)*(YEAR(tb_despesas[Data])=RELATORIO_FINANCEIRO!$D$18)*tb_despesas[Valor]),0)","v":{"v":3250,"d":"R$ 3,250.00"}},{"$nulls":3},{"$f":"IFERROR(IF(VENDAS!$C$49=\"\",\"\",L42+SUM(IFERROR(VENDAS!$S$49:$S$49*1,0))),\"\")","v":100},41,{"$f":"IFERROR(IF((ROW()-2)<1,\"\",IF((ROW()-2)>IFERROR(INDEX(CALC_BASE!$L$3:$L$57,MATCH(TRUE,CALC_BASE!$L$3:$L$57<>\"\",0)+COUNTA(VENDAS!$C$9:$C$1058)-1),0),\"\",INDEX(VENDAS!$C$9:$C$1058,MATCH(TRUE,CALC_BASE!$L$3:$L$57>=(ROW()-2),0)))),\"\")","v":"PED-017"},{"$f":"IFERROR(IF(N43=\"\",\"\",(ROW()-2)-(IF(MATCH(TRUE,CALC_BASE!$L$3:$L$57>=(ROW()-2),0)=1,0,INDEX(CALC_BASE!$L$3:$L$57,MATCH(TRUE,CALC_BASE!$L$3:$L$57>=(ROW()-2),0)-1)))),\"\")","v":2},{"$f":"IFERROR(IF(N43=\"\",\"\",INDEX(VENDAS!$S$9:$S$1058,MATCH(TRUE,CALC_BASE!$L$3:$L$57>=(ROW()-2),0))),\"\")","v":4}]
[null,null,{"$f":"TEXT(DATE(RELATORIO_FINANCEIRO!$D$18,5,1),\"YYYY-MM\")","v":"2026-05"},{"$f":"IFERROR(SUMPRODUCT((TEXT(tb_despesas[Data],\"YYYY-MM\")=C44)*IF(OR(rng_filtro_categoria=\"Todas\",rng_filtro_categoria=\"\"),1,(tb_despesas[Categoria]=rng_filtro_categoria))*tb_despesas[Valor]),0)","v":{"v":586,"d":"R$ 586.00"}},{"$f":"IFERROR(SUMPRODUCT((TEXT(tb_vendas[Data Fechamento],\"YYYY-MM\")=C44)*IF(rng_filtro_status=\"Todos\",1,IF(rng_filtro_status=\"\",1,(tb_vendas[Status]=rng_filtro_status)))*tb_vendas[Rendimento/Saldo final]),0)","v":{"v":2303.2,"d":"R$ 2,303.20"}},null,"Impostos",{"$f":"IFERROR(SUMPRODUCT((tb_despesas[Categoria]=G44)*(YEAR(tb_despesas[Data])=RELATORIO_FINANCEIRO!$D$18)*tb_despesas[Valor]),0)","v":{"v":1260,"d":"R$ 1,260.00"}},{"$nulls":3},{"$f":"IFERROR(IF(VENDAS!$C$50=\"\",\"\",L43+SUM(IFERROR(VENDAS!$S$50:$S$50*1,0))),\"\")","v":103},42,{"$f":"IFERROR(IF((ROW()-2)<1,\"\",IF((ROW()-2)>IFERROR(INDEX(CALC_BASE!$L$3:$L$57,MATCH(TRUE,CALC_BASE!$L$3:$L$57<>\"\",0)+COUNTA(VENDAS!$C$9:$C$1058)-1),0),\"\",INDEX(VENDAS!$C$9:$C$1058,MATCH(TRUE,CALC_BASE!$L$3:$L$57>=(ROW()-2),0)))),\"\")","v":"PED-017"},{"$f":"IFERROR(IF(N44=\"\",\"\",(ROW()-2)-(IF(MATCH(TRUE,CALC_BASE!$L$3:$L$57>=(ROW()-2),0)=1,0,INDEX(CALC_BASE!$L$3:$L$57,MATCH(TRUE,CALC_BASE!$L$3:$L$57>=(ROW()-2),0)-1)))),\"\")","v":3},{"$f":"IFERROR(IF(N44=\"\",\"\",INDEX(VENDAS!$S$9:$S$1058,MATCH(TRUE,CALC_BASE!$L$3:$L$57>=(ROW()-2),0))),\"\")","v":4}]
[null,null,{"$f":"TEXT(DATE(RELATORIO_FINANCEIRO!$D$18,6,1),\"YYYY-MM\")","v":"2026-06"},{"$f":"IFERROR(SUMPRODUCT((TEXT(tb_despesas[Data],\"YYYY-MM\")=C45)*IF(OR(rng_filtro_categoria=\"Todas\",rng_filtro_categoria=\"\"),1,(tb_despesas[Categoria]=rng_filtro_categoria))*tb_despesas[Valor]),0)","v":0},{"$f":"IFERROR(SUMPRODUCT((TEXT(tb_vendas[Data Fechamento],\"YYYY-MM\")=C45)*IF(rng_filtro_status=\"Todos\",1,IF(rng_filtro_status=\"\",1,(tb_vendas[Status]=rng_filtro_status)))*tb_vendas[Rendimento/Saldo final]),0)","v":{"v":1459,"d":"R$ 1,459.00"}},null,"Frete",{"$f":"IFERROR(SUMPRODUCT((tb_despesas[Categoria]=G45)*(YEAR(tb_despesas[Data])=RELATORIO_FINANCEIRO!$D$18)*tb_despesas[Valor]),0)","v":0},{"$nulls":3},{"$f":"IFERROR(IF(VENDAS!$C$51=\"\",\"\",L44+SUM(IFERROR(VENDAS!$S$51:$S$51*1,0))),\"\")","v":104},43,{"$f":"IFERROR(IF((ROW()-2)<1,\"\",IF((ROW()-2)>IFERROR(INDEX(CALC_BASE!$L$3:$L$57,MATCH(TRUE,CALC_BASE!$L$3:$L$57<>\"\",0)+COUNTA(VENDAS!$C$9:$C$1058)-1),0),\"\",INDEX(VENDAS!$C$9:$C$1058,MATCH(TRUE,CALC_BASE!$L$3:$L$57>=(ROW()-2),0)))),\"\")","v":"PED-017"},{"$f":"IFERROR(IF(N45=\"\",\"\",(ROW()-2)-(IF(MATCH(TRUE,CALC_BASE!$L$3:$L$57>=(ROW()-2),0)=1,0,INDEX(CALC_BASE!$L$3:$L$57,MATCH(TRUE,CALC_BASE!$L$3:$L$57>=(ROW()-2),0)-1)))),\"\")","v":4},{"$f":"IFERROR(IF(N45=\"\",\"\",INDEX(VENDAS!$S$9:$S$1058,MATCH(TRUE,CALC_BASE!$L$3:$L$57>=(ROW()-2),0))),\"\")","v":4}]
[null,null,{"$f":"TEXT(DATE(RELATORIO_FINANCEIRO!$D$18,7,1),\"YYYY-MM\")","v":"2026-07"},{"$f":"IFERROR(SUMPRODUCT((TEXT(tb_despesas[Data],\"YYYY-MM\")=C46)*IF(OR(rng_filtro_categoria=\"Todas\",rng_filtro_categoria=\"\"),1,(tb_despesas[Categoria]=rng_filtro_categoria))*tb_despesas[Valor]),0)","v":0},{"$f":"IFERROR(SUMPRODUCT((TEXT(tb_vendas[Data Fechamento],\"YYYY-MM\")=C46)*IF(rng_filtro_status=\"Todos\",1,IF(rng_filtro_status=\"\",1,(tb_vendas[Status]=rng_filtro_status)))*tb_vendas[Rendimento/Saldo final]),0)","v":{"v":1356,"d":"R$ 1,356.00"}},null,"Serviços Terceiros",{"$f":"IFERROR(SUMPRODUCT((tb_despesas[Categoria]=G46)*(YEAR(tb_despesas[Data])=RELATORIO_FINANCEIRO!$D$18)*tb_despesas[Valor]),0)","v":{"v":1100,"d":"R$ 1,100.00"}},{"$nulls":3},{"$f":"IFERROR(IF(VENDAS!$C$52=\"\",\"\",L45+SUM(IFERROR(VENDAS!$S$52:$S$52*1,0))),\"\")","v":106},44,{"$f":"IFERROR(IF((ROW()-2)<1,\"\",IF((ROW()-2)>IFERROR(INDEX(CALC_BASE!$L$3:$L$57,MATCH(TRUE,CALC_BASE!$L$3:$L$57<>\"\",0)+COUNTA(VENDAS!$C$9:$C$1058)-1),0),\"\",INDEX(VENDAS!$C$9:$C$1058,MATCH(TRUE,CALC_BASE!$L$3:$L$57>=(ROW()-2),0)))),\"\")","v":"PED-018"},{"$f":"IFERROR(IF(N46=\"\",\"\",(ROW()-2)-(IF(MATCH(TRUE,CALC_BASE!$L$3:$L$57>=(ROW()-2),0)=1,0,INDEX(CALC_BASE!$L$3:$L$57,MATCH(TRUE,CALC_BASE!$L$3:$L$57>=(ROW()-2),0)-1)))),\"\")","v":1},{"$f":"IFERROR(IF(N46=\"\",\"\",INDEX(VENDAS!$S$9:$S$1058,MATCH(TRUE,CALC_BASE!$L$3:$L$57>=(ROW()-2),0))),\"\")","v":3}]
[null,null,{"$f":"TEXT(DATE(RELATORIO_FINANCEIRO!$D$18,8,1),\"YYYY-MM\")","v":"2026-08"},{"$f":"IFERROR(SUMPRODUCT((TEXT(tb_despesas[Data],\"YYYY-MM\")=C47)*IF(OR(rng_filtro_categoria=\"Todas\",rng_filtro_categoria=\"\"),1,(tb_despesas[Categoria]=rng_filtro_categoria))*tb_despesas[Valor]),0)","v":0},{"$f":"IFERROR(SUMPRODUCT((TEXT(tb_vendas[Data Fechamento],\"YYYY-MM\")=C47)*IF(rng_filtro_status=\"Todos\",1,IF(rng_filtro_status=\"\",1,(tb_vendas[Status]=rng_filtro_status)))*tb_vendas[Rendimento/Saldo final]),0)","v":0},null,"Outros",{"$f":"IFERROR(SUMPRODUCT((tb_despesas[Categoria]=G47)*(YEAR(tb_despesas[Data])=RELATORIO_FINANCEIRO!$D$18)*tb_despesas[Valor]),0)","v":{"v":586,"d":"R$ 586.00"}},{"$nulls":3},{"$f":"IFERROR(IF(VENDAS!$C$53=\"\",\"\",L46+SUM(IFERROR(VENDAS!$S$53:$S$53*1,0))),\"\")","v":107},45,{"$f":"IFERROR(IF((ROW()-2)<1,\"\",IF((ROW()-2)>IFERROR(INDEX(CALC_BASE!$L$3:$L$57,MATCH(TRUE,CALC_BASE!$L$3:$L$57<>\"\",0)+COUNTA(VENDAS!$C$9:$C$1058)-1),0),\"\",INDEX(VENDAS!$C$9:$C$1058,MATCH(TRUE,CALC_BASE!$L$3:$L$57>=(ROW()-2),0)))),\"\")","v":"PED-018"},{"$f":"IFERROR(IF(N47=\"\",\"\",(ROW()-2)-(IF(MATCH(TRUE,CALC_BASE!$L$3:$L$57>=(ROW()-2),0)=1,0,INDEX(CALC_BASE!$L$3:$L$57,MATCH(TRUE,CALC_BASE!$L$3:$L$57>=(ROW()-2),0)-1)))),\"\")","v":2},{"$f":"IFERROR(IF(N47=\"\",\"\",INDEX(VENDAS!$S$9:$S$1058,MATCH(TRUE,CALC_BASE!$L$3:$L$57>=(ROW()-2),0))),\"\")","v":3}]
[null,null,{"$f":"TEXT(DATE(RELATORIO_FINANCEIRO!$D$18,9,1),\"YYYY-MM\")","v":"2026-09"},{"$f":"IFERROR(SUMPRODUCT((TEXT(tb_despesas[Data],\"YYYY-MM\")=C48)*IF(OR(rng_filtro_categoria=\"Todas\",rng_filtro_categoria=\"\"),1,(tb_despesas[Categoria]=rng_filtro_categoria))*tb_despesas[Valor]),0)","v":0},{"$f":"IFERROR(SUMPRODUCT((TEXT(tb_vendas[Data Fechamento],\"YYYY-MM\")=C48)*IF(rng_filtro_status=\"Todos\",1,IF(rng_filtro_status=\"\",1,(tb_vendas[Status]=rng_filtro_status)))*tb_vendas[Rendimento/Saldo final]),0)","v":0},{"$nulls":6},{"$f":"IFERROR(IF(VENDAS!$C$54=\"\",\"\",L47+SUM(IFERROR(VENDAS!$S$54:$S$54*1,0))),\"\")","v":110},46,{"$f":"IFERROR(IF((ROW()-2)<1,\"\",IF((ROW()-2)>IFERROR(INDEX(CALC_BASE!$L$3:$L$57,MATCH(TRUE,CALC_BASE!$L$3:$L$57<>\"\",0)+COUNTA(VENDAS!$C$9:$C$1058)-1),0),\"\",INDEX(VENDAS!$C$9:$C$1058,MATCH(TRUE,CALC_BASE!$L$3:$L$57>=(ROW()-2),0)))),\"\")","v":"PED-018"},{"$f":"IFERROR(IF(N48=\"\",\"\",(ROW()-2)-(IF(MATCH(TRUE,CALC_BASE!$L$3:$L$57>=(ROW()-2),0)=1,0,INDEX(CALC_BASE!$L$3:$L$57,MATCH(TRUE,CALC_BASE!$L$3:$L$57>=(ROW()-2),0)-1)))),\"\")","v":3},{"$f":"IFERROR(IF(N48=\"\",\"\",INDEX(VENDAS!$S$9:$S$1058,MATCH(TRUE,CALC_BASE!$L$3:$L$57>=(ROW()-2),0))),\"\")","v":3}]
[null,null,{"$f":"TEXT(DATE(RELATORIO_FINANCEIRO!$D$18,10,1),\"YYYY-MM\")","v":"2026-10"},{"$f":"IFERROR(SUMPRODUCT((TEXT(tb_despesas[Data],\"YYYY-MM\")=C49)*IF(OR(rng_filtro_categoria=\"Todas\",rng_filtro_categoria=\"\"),1,(tb_despesas[Categoria]=rng_filtro_categoria))*tb_despesas[Valor]),0)","v":0},{"$f":"IFERROR(SUMPRODUCT((TEXT(tb_vendas[Data Fechamento],\"YYYY-MM\")=C49)*IF(rng_filtro_status=\"Todos\",1,IF(rng_filtro_status=\"\",1,(tb_vendas[Status]=rng_filtro_status)))*tb_vendas[Rendimento/Saldo final]),0)","v":0},null,"CHECK — Pedidos com Forma_Pagamento preenchida mas SEM parcelas geradas",{"$nulls":4},{"$f":"IFERROR(IF(VENDAS!$C$55=\"\",\"\",L48+SUM(IFERROR(VENDAS!$S$55:$S$55*1,0))),\"\")","v":112},47,{"$f":"IFERROR(IF((ROW()-2)<1,\"\",IF((ROW()-2)>IFERROR(INDEX(CALC_BASE!$L$3:$L$57,MATCH(TRUE,CALC_BASE!$L$3:$L$57<>\"\",0)+COUNTA(VENDAS!$C$9:$C$1058)-1),0),\"\",INDEX(VENDAS!$C$9:$C$1058,MATCH(TRUE,CALC_BASE!$L$3:$L$57>=(ROW()-2),0)))),\"\")","v":"PED-019"},{"$f":"IFERROR(IF(N49=\"\",\"\",(ROW()-2)-(IF(MATCH(TRUE,CALC_BASE!$L$3:$L$57>=(ROW()-2),0)=1,0,INDEX(CALC_BASE!$L$3:$L$57,MATCH(TRUE,CALC_BASE!$L$3:$L$57>=(ROW()-2),0)-1)))),\"\")","v":1},{"$f":"IFERROR(IF(N49=\"\",\"\",INDEX(VENDAS!$S$9:$S$1058,MATCH(TRUE,CALC_BASE!$L$3:$L$57>=(ROW()-2),0))),\"\")","v":2}]
[null,null,{"$f":"TEXT(DATE(RELATORIO_FINANCEIRO!$D$18,11,1),\"YYYY-MM\")","v":"2026-11"},{"$f":"IFERROR(SUMPRODUCT((TEXT(tb_despesas[Data],\"YYYY-MM\")=C50)*IF(OR(rng_filtro_categoria=\"Todas\",rng_filtro_categoria=\"\"),1,(tb_despesas[Categoria]=rng_filtro_categoria))*tb_despesas[Valor]),0)","v":0},{"$f":"IFERROR(SUMPRODUCT((TEXT(tb_vendas[Data Fechamento],\"YYYY-MM\")=C50)*IF(rng_filtro_status=\"Todos\",1,IF(rng_filtro_status=\"\",1,(tb_vendas[Status]=rng_filtro_status)))*tb_vendas[Rendimento/Saldo final]),0)","v":{"v":2029.32,"d":"R$ 2,029.32"}},null,"N° Pedido","Forma_Pagamento","Qtd_Parcelas","Parcelas Geradas","Status Check",{"$f":"IFERROR(IF(VENDAS!$C$56=\"\",\"\",L49+SUM(IFERROR(VENDAS!$S$56:$S$56*1,0))),\"\")","v":116},48,{"$f":"IFERROR(IF((ROW()-2)<1,\"\",IF((ROW()-2)>IFERROR(INDEX(CALC_BASE!$L$3:$L$57,MATCH(TRUE,CALC_BASE!$L$3:$L$57<>\"\",0)+COUNTA(VENDAS!$C$9:$C$1058)-1),0),\"\",INDEX(VENDAS!$C$9:$C$1058,MATCH(TRUE,CALC_BASE!$L$3:$L$57>=(ROW()-2),0)))),\"\")","v":"PED-019"},{"$f":"IFERROR(IF(N50=\"\",\"\",(ROW()-2)-(IF(MATCH(TRUE,CALC_BASE!$L$3:$L$57>=(ROW()-2),0)=1,0,INDEX(CALC_BASE!$L$3:$L$57,MATCH(TRUE,CALC_BASE!$L$3:$L$57>=(ROW()-2),0)-1)))),\"\")","v":2},{"$f":"IFERROR(IF(N50=\"\",\"\",INDEX(VENDAS!$S$9:$S$1058,MATCH(TRUE,CALC_BASE!$L$3:$L$57>=(ROW()-2),0))),\"\")","v":2}]
[null,null,{"$f":"TEXT(DATE(RELATORIO_FINANCEIRO!$D$18,12,1),\"YYYY-MM\")","v":"2026-12"},{"$f":"IFERROR(SUMPRODUCT((TEXT(tb_despesas[Data],\"YYYY-MM\")=C51)*IF(OR(rng_filtro_categoria=\"Todas\",rng_filtro_categoria=\"\"),1,(tb_despesas[Categoria]=rng_filtro_categoria))*tb_despesas[Valor]),0)","v":0},null,null,{"$f":"IFERROR(IF(SUMPRODUCT((tb_vendas[Forma_Pagamento]<>\"\")*1*(COUNTIF(tb_pagamentos[Nr_Pedido],tb_vendas[N° Pedido/Empresa])=0)*1)>0,\"⚠ Pedidos sem parcelas!\",\"✔ Sem inconsistências\"),\"Sem dados para verificar\")","v":"✔ Sem inconsistências"},{"$nulls":4},{"$f":"IFERROR(IF(VENDAS!$C$57=\"\",\"\",L50+SUM(IFERROR(VENDAS!$S$57:$S$57*1,0))),\"\")","v":120},49,{"$f":"IFERROR(IF((ROW()-2)<1,\"\",IF((ROW()-2)>IFERROR(INDEX(CALC_BASE!$L$3:$L$57,MATCH(TRUE,CALC_BASE!$L$3:$L$57<>\"\",0)+COUNTA(VENDAS!$C$9:$C$1058)-1),0),\"\",INDEX(VENDAS!$C$9:$C$1058,MATCH(TRUE,CALC_BASE!$L$3:$L$57>=(ROW()-2),0)))),\"\")","v":"PED-020"},{"$f":"IFERROR(IF(N51=\"\",\"\",(ROW()-2)-(IF(MATCH(TRUE,CALC_BASE!$L$3:$L$57>=(ROW()-2),0)=1,0,INDEX(CALC_BASE!$L$3:$L$57,MATCH(TRUE,CALC_BASE!$L$3:$L$57>=(ROW()-2),0)-1)))),\"\")","v":1},{"$f":"IFERROR(IF(N51=\"\",\"\",INDEX(VENDAS!$S$9:$S$1058,MATCH(TRUE,CALC_BASE!$L$3:$L$57>=(ROW()-2),0))),\"\")","v":3}]
[{"$nulls":11},{"$f":"IFERROR(IF(VENDAS!$C$58=\"\",\"\",L51+SUM(IFERROR(VENDAS!$S$58:$S$58*1,0))),\"\")","v":121},50,{"$f":"IFERROR(IF((ROW()-2)<1,\"\",IF((ROW()-2)>IFERROR(INDEX(CALC_BASE!$L$3:$L$57,MATCH(TRUE,CALC_BASE!$L$3:$L$57<>\"\",0)+COUNTA(VENDAS!$C$9:$C$1058)-1),0),\"\",INDEX(VENDAS!$C$9:$C$1058,MATCH(TRUE,CALC_BASE!$L$3:$L$57>=(ROW()-2),0)))),\"\")","v":"PED-020"},{"$f":"IFERROR(IF(N52=\"\",\"\",(ROW()-2)-(IF(MATCH(TRUE,CALC_BASE!$L$3:$L$57>=(ROW()-2),0)=1,0,INDEX(CALC_BASE!$L$3:$L$57,MATCH(TRUE,CALC_BASE!$L$3:$L$57>=(ROW()-2),0)-1)))),\"\")","v":2},{"$f":"IFERROR(IF(N52=\"\",\"\",INDEX(VENDAS!$S$9:$S$1058,MATCH(TRUE,CALC_BASE!$L$3:$L$57>=(ROW()-2),0))),\"\")","v":3}]
[{"$nulls":11},{"$f":"IFERROR(IF(VENDAS!$C$59=\"\",\"\",L52+SUM(IFERROR(VENDAS!$S$59:$S$59*1,0))),\"\")","v":124},{"$f":"ROW()-2","v":51},{"$f":"IFERROR(IF((ROW()-2)<1,\"\",IF((ROW()-2)>IFERROR(INDEX(CALC_BASE!$L$3:$L$57,MATCH(TRUE,CALC_BASE!$L$3:$L$57<>\"\",0)+COUNTA(VENDAS!$C$9:$C$1058)-1),0),\"\",INDEX(VENDAS!$C$9:$C$1058,MATCH(TRUE,CALC_BASE!$L$3:$L$57>=(ROW()-2),0)))),\"\")","v":"PED-020"},{"$f":"IFERROR(IF(N53=\"\",\"\",(ROW()-2)-(IF(MATCH(TRUE,CALC_BASE!$L$3:$L$57>=(ROW()-2),0)=1,0,INDEX(CALC_BASE!$L$3:$L$57,MATCH(TRUE,CALC_BASE!$L$3:$L$57>=(ROW()-2),0)-1)))),\"\")","v":3},{"$f":"IFERROR(IF(N53=\"\",\"\",INDEX(VENDAS!$S$9:$S$1058,MATCH(TRUE,CALC_BASE!$L$3:$L$57>=(ROW()-2),0))),\"\")","v":3}]
[{"$nulls":11},{"$f":"IFERROR(IF(VENDAS!$C$60=\"\",\"\",L53+SUM(IFERROR(VENDAS!$S$60:$S$60*1,0))),\"\")","v":126},52,{"$f":"IFERROR(IF((ROW()-2)<1,\"\",IF((ROW()-2)>IFERROR(INDEX(CALC_BASE!$L$3:$L$57,MATCH(TRUE,CALC_BASE!$L$3:$L$57<>\"\",0)+COUNTA(VENDAS!$C$9:$C$1058)-1),0),\"\",INDEX(VENDAS!$C$9:$C$1058,MATCH(TRUE,CALC_BASE!$L$3:$L$57>=(ROW()-2),0)))),\"\")","v":"PED-021"},{"$f":"IFERROR(IF(N54=\"\",\"\",(ROW()-2)-(IF(MATCH(TRUE,CALC_BASE!$L$3:$L$57>=(ROW()-2),0)=1,0,INDEX(CALC_BASE!$L$3:$L$57,MATCH(TRUE,CALC_BASE!$L$3:$L$57>=(ROW()-2),0)-1)))),\"\")","v":1},{"$f":"IFERROR(IF(N54=\"\",\"\",INDEX(VENDAS!$S$9:$S$1058,MATCH(TRUE,CALC_BASE!$L$3:$L$57>=(ROW()-2),0))),\"\")","v":2}]
[{"$nulls":11},{"$f":"IFERROR(IF(VENDAS!$C$61=\"\",\"\",L54+SUM(IFERROR(VENDAS!$S$61:$S$61*1,0))),\"\")","v":128},53,{"$f":"IFERROR(IF((ROW()-2)<1,\"\",IF((ROW()-2)>IFERROR(INDEX(CALC_BASE!$L$3:$L$57,MATCH(TRUE,CALC_BASE!$L$3:$L$57<>\"\",0)+COUNTA(VENDAS!$C$9:$C$1058)-1),0),\"\",INDEX(VENDAS!$C$9:$C$1058,MATCH(TRUE,CALC_BASE!$L$3:$L$57>=(ROW()-2),0)))),\"\")","v":"PED-021"},{"$f":"IFERROR(IF(N55=\"\",\"\",(ROW()-2)-(IF(MATCH(TRUE,CALC_BASE!$L$3:$L$57>=(ROW()-2),0)=1,0,INDEX(CALC_BASE!$L$3:$L$57,MATCH(TRUE,CALC_BASE!$L$3:$L$57>=(ROW()-2),0)-1)))),\"\")","v":2},{"$f":"IFERROR(IF(N55=\"\",\"\",INDEX(VENDAS!$S$9:$S$1058,MATCH(TRUE,CALC_BASE!$L$3:$L$57>=(ROW()-2),0))),\"\")","v":2}]
[{"$nulls":11},{"$f":"IFERROR(IF(VENDAS!$C$62=\"\",\"\",L55+SUM(IFERROR(VENDAS!$S$62:$S$62*1,0))),\"\")","v":129},54,{"$f":"IFERROR(IF((ROW()-2)<1,\"\",IF((ROW()-2)>IFERROR(INDEX(CALC_BASE!$L$3:$L$57,MATCH(TRUE,CALC_BASE!$L$3:$L$57<>\"\",0)+COUNTA(VENDAS!$C$9:$C$1058)-1),0),\"\",INDEX(VENDAS!$C$9:$C$1058,MATCH(TRUE,CALC_BASE!$L$3:$L$57>=(ROW()-2),0)))),\"\")","v":"PED-022"},{"$f":"IFERROR(IF(N56=\"\",\"\",(ROW()-2)-(IF(MATCH(TRUE,CALC_BASE!$L$3:$L$57>=(ROW()-2),0)=1,0,INDEX(CALC_BASE!$L$3:$L$57,MATCH(TRUE,CALC_BASE!$L$3:$L$57>=(ROW()-2),0)-1)))),\"\")","v":1},{"$f":"IFERROR(IF(N56=\"\",\"\",INDEX(VENDAS!$S$9:$S$1058,MATCH(TRUE,CALC_BASE!$L$3:$L$57>=(ROW()-2),0))),\"\")","v":1}]
[{"$nulls":11},{"$f":"IFERROR(IF(VENDAS!$C$63=\"\",\"\",L56+SUM(IFERROR(VENDAS!$S$63:$S$63*1,0))),\"\")","v":133},55,{"$f":"IFERROR(IF((ROW()-2)<1,\"\",IF((ROW()-2)>IFERROR(INDEX(CALC_BASE!$L$3:$L$57,MATCH(TRUE,CALC_BASE!$L$3:$L$57<>\"\",0)+COUNTA(VENDAS!$C$9:$C$1058)-1),0),\"\",INDEX(VENDAS!$C$9:$C$1058,MATCH(TRUE,CALC_BASE!$L$3:$L$57>=(ROW()-2),0)))),\"\")","v":"PED-023"},{"$f":"IFERROR(IF(N57=\"\",\"\",(ROW()-2)-(IF(MATCH(TRUE,CALC_BASE!$L$3:$L$57>=(ROW()-2),0)=1,0,INDEX(CALC_BASE!$L$3:$L$57,MATCH(TRUE,CALC_BASE!$L$3:$L$57>=(ROW()-2),0)-1)))),\"\")","v":1},{"$f":"IFERROR(IF(N57=\"\",\"\",INDEX(VENDAS!$S$9:$S$1058,MATCH(TRUE,CALC_BASE!$L$3:$L$57>=(ROW()-2),0))),\"\")","v":2}]
[{"$nulls":12},56,{"$f":"IFERROR(IF((ROW()-2)<1,\"\",IF((ROW()-2)>IFERROR(INDEX(CALC_BASE!$L$3:$L$57,MATCH(TRUE,CALC_BASE!$L$3:$L$57<>\"\",0)+COUNTA(VENDAS!$C$9:$C$1058)-1),0),\"\",INDEX(VENDAS!$C$9:$C$1058,MATCH(TRUE,CALC_BASE!$L$3:$L$57>=(ROW()-2),0)))),\"\")","v":"PED-023"},{"$f":"IFERROR(IF(N58=\"\",\"\",(ROW()-2)-(IF(MATCH(TRUE,CALC_BASE!$L$3:$L$57>=(ROW()-2),0)=1,0,INDEX(CALC_BASE!$L$3:$L$57,MATCH(TRUE,CALC_BASE!$L$3:$L$57>=(ROW()-2),0)-1)))),\"\")","v":2},{"$f":"IFERROR(IF(N58=\"\",\"\",INDEX(VENDAS!$S$9:$S$1058,MATCH(TRUE,CALC_BASE!$L$3:$L$57>=(ROW()-2),0))),\"\")","v":2}]
[{"$nulls":12},57,{"$f":"IFERROR(IF((ROW()-2)<1,\"\",IF((ROW()-2)>IFERROR(INDEX(CALC_BASE!$L$3:$L$57,MATCH(TRUE,CALC_BASE!$L$3:$L$57<>\"\",0)+COUNTA(VENDAS!$C$9:$C$1058)-1),0),\"\",INDEX(VENDAS!$C$9:$C$1058,MATCH(TRUE,CALC_BASE!$L$3:$L$57>=(ROW()-2),0)))),\"\")","v":"PED-024"},{"$f":"IFERROR(IF(N59=\"\",\"\",(ROW()-2)-(IF(MATCH(TRUE,CALC_BASE!$L$3:$L$57>=(ROW()-2),0)=1,0,INDEX(CALC_BASE!$L$3:$L$57,MATCH(TRUE,CALC_BASE!$L$3:$L$57>=(ROW()-2),0)-1)))),\"\")","v":1},{"$f":"IFERROR(IF(N59=\"\",\"\",INDEX(VENDAS!$S$9:$S$1058,MATCH(TRUE,CALC_BASE!$L$3:$L$57>=(ROW()-2),0))),\"\")","v":1}]
[{"$nulls":12},58,{"$f":"IFERROR(IF((ROW()-2)<1,\"\",IF((ROW()-2)>IFERROR(INDEX(CALC_BASE!$L$3:$L$57,MATCH(TRUE,CALC_BASE!$L$3:$L$57<>\"\",0)+COUNTA(VENDAS!$C$9:$C$1058)-1),0),\"\",INDEX(VENDAS!$C$9:$C$1058,MATCH(TRUE,CALC_BASE!$L$3:$L$57>=(ROW()-2),0)))),\"\")","v":"PED-025"},{"$f":"IFERROR(IF(N60=\"\",\"\",(ROW()-2)-(IF(MATCH(TRUE,CALC_BASE!$L$3:$L$57>=(ROW()-2),0)=1,0,INDEX(CALC_BASE!$L$3:$L$57,MATCH(TRUE,CALC_BASE!$L$3:$L$57>=(ROW()-2),0)-1)))),\"\")","v":1},{"$f":"IFERROR(IF(N60=\"\",\"\",INDEX(VENDAS!$S$9:$S$1058,MATCH(TRUE,CALC_BASE!$L$3:$L$57>=(ROW()-2),0))),\"\")","v":4}]
[{"$nulls":12},59,{"$f":"IFERROR(IF((ROW()-2)<1,\"\",IF((ROW()-2)>IFERROR(INDEX(CALC_BASE!$L$3:$L$57,MATCH(TRUE,CALC_BASE!$L$3:$L$57<>\"\",0)+COUNTA(VENDAS!$C$9:$C$1058)-1),0),\"\",INDEX(VENDAS!$C$9:$C$1058,MATCH(TRUE,CALC_BASE!$L$3:$L$57>=(ROW()-2),0)))),\"\")","v":"PED-025"},{"$f":"IFERROR(IF(N61=\"\",\"\",(ROW()-2)-(IF(MATCH(TRUE,CALC_BASE!$L$3:$L$57>=(ROW()-2),0)=1,0,INDEX(CALC_BASE!$L$3:$L$57,MATCH(TRUE,CALC_BASE!$L$3:$L$57>=(ROW()-2),0)-1)))),\"\")","v":2},{"$f":"IFERROR(IF(N61=\"\",\"\",INDEX(VENDAS!$S$9:$S$1058,MATCH(TRUE,CALC_BASE!$L$3:$L$57>=(ROW()-2),0))),\"\")","v":4}]
[{"$nulls":12},60,{"$f":"IFERROR(IF((ROW()-2)<1,\"\",IF((ROW()-2)>IFERROR(INDEX(CALC_BASE!$L$3:$L$57,MATCH(TRUE,CALC_BASE!$L$3:$L$57<>\"\",0)+COUNTA(VENDAS!$C$9:$C$1058)-1),0),\"\",INDEX(VENDAS!$C$9:$C$1058,MATCH(TRUE,CALC_BASE!$L$3:$L$57>=(ROW()-2),0)))),\"\")","v":"PED-025"},{"$f":"IFERROR(IF(N62=\"\",\"\",(ROW()-2)-(IF(MATCH(TRUE,CALC_BASE!$L$3:$L$57>=(ROW()-2),0)=1,0,INDEX(CALC_BASE!$L$3:$L$57,MATCH(TRUE,CALC_BASE!$L$3:$L$57>=(ROW()-2),0)-1)))),\"\")","v":3},{"$f":"IFERROR(IF(N62=\"\",\"\",INDEX(VENDAS!$S$9:$S$1058,MATCH(TRUE,CALC_BASE!$L$3:$L$57>=(ROW()-2),0))),\"\")","v":4}]
[{"$nulls":12},61,{"$f":"IFERROR(IF((ROW()-2)<1,\"\",IF((ROW()-2)>IFERROR(INDEX(CALC_BASE!$L$3:$L$57,MATCH(TRUE,CALC_BASE!$L$3:$L$57<>\"\",0)+COUNTA(VENDAS!$C$9:$C$1058)-1),0),\"\",INDEX(VENDAS!$C$9:$C$1058,MATCH(TRUE,CALC_BASE!$L$3:$L$57>=(ROW()-2),0)))),\"\")","v":"PED-025"},{"$f":"IFERROR(IF(N63=\"\",\"\",(ROW()-2)-(IF(MATCH(TRUE,CALC_BASE!$L$3:$L$57>=(ROW()-2),0)=1,0,INDEX(CALC_BASE!$L$3:$L$57,MATCH(TRUE,CALC_BASE!$L$3:$L$57>=(ROW()-2),0)-1)))),\"\")","v":4},{"$f":"IFERROR(IF(N63=\"\",\"\",INDEX(VENDAS!$S$9:$S$1058,MATCH(TRUE,CALC_BASE!$L$3:$L$57>=(ROW()-2),0))),\"\")","v":4}]
[{"$nulls":12},62,{"$f":"IFERROR(IF((ROW()-2)<1,\"\",IF((ROW()-2)>IFERROR(INDEX(CALC_BASE!$L$3:$L$57,MATCH(TRUE,CALC_BASE!$L$3:$L$57<>\"\",0)+COUNTA(VENDAS!$C$9:$C$1058)-1),0),\"\",INDEX(VENDAS!$C$9:$C$1058,MATCH(TRUE,CALC_BASE!$L$3:$L$57>=(ROW()-2),0)))),\"\")","v":"PED-026"},{"$f":"IFERROR(IF(N64=\"\",\"\",(ROW()-2)-(IF(MATCH(TRUE,CALC_BASE!$L$3:$L$57>=(ROW()-2),0)=1,0,INDEX(CALC_BASE!$L$3:$L$57,MATCH(TRUE,CALC_BASE!$L$3:$L$57>=(ROW()-2),0)-1)))),\"\")","v":1},{"$f":"IFERROR(IF(N64=\"\",\"\",INDEX(VENDAS!$S$9:$S$1058,MATCH(TRUE,CALC_BASE!$L$3:$L$57>=(ROW()-2),0))),\"\")","v":3}]
[{"$nulls":12},63,{"$f":"IFERROR(IF((ROW()-2)<1,\"\",IF((ROW()-2)>IFERROR(INDEX(CALC_BASE!$L$3:$L$57,MATCH(TRUE,CALC_BASE!$L$3:$L$57<>\"\",0)+COUNTA(VENDAS!$C$9:$C$1058)-1),0),\"\",INDEX(VENDAS!$C$9:$C$1058,MATCH(TRUE,CALC_BASE!$L$3:$L$57>=(ROW()-2),0)))),\"\")","v":"PED-026"},{"$f":"IFERROR(IF(N65=\"\",\"\",(ROW()-2)-(IF(MATCH(TRUE,CALC_BASE!$L$3:$L$57>=(ROW()-2),0)=1,0,INDEX(CALC_BASE!$L$3:$L$57,MATCH(TRUE,CALC_BASE!$L$3:$L$57>=(ROW()-2),0)-1)))),\"\")","v":2},{"$f":"IFERROR(IF(N65=\"\",\"\",INDEX(VENDAS!$S$9:$S$1058,MATCH(TRUE,CALC_BASE!$L$3:$L$57>=(ROW()-2),0))),\"\")","v":3}]
[{"$nulls":12},64,{"$f":"IFERROR(IF((ROW()-2)<1,\"\",IF((ROW()-2)>IFERROR(INDEX(CALC_BASE!$L$3:$L$57,MATCH(TRUE,CALC_BASE!$L$3:$L$57<>\"\",0)+COUNTA(VENDAS!$C$9:$C$1058)-1),0),\"\",INDEX(VENDAS!$C$9:$C$1058,MATCH(TRUE,CALC_BASE!$L$3:$L$57>=(ROW()-2),0)))),\"\")","v":"PED-026"},{"$f":"IFERROR(IF(N66=\"\",\"\",(ROW()-2)-(IF(MATCH(TRUE,CALC_BASE!$L$3:$L$57>=(ROW()-2),0)=1,0,INDEX(CALC_BASE!$L$3:$L$57,MATCH(TRUE,CALC_BASE!$L$3:$L$57>=(ROW()-2),0)-1)))),\"\")","v":3},{"$f":"IFERROR(IF(N66=\"\",\"\",INDEX(VENDAS!$S$9:$S$1058,MATCH(TRUE,CALC_BASE!$L$3:$L$57>=(ROW()-2),0))),\"\")","v":3}]
[{"$nulls":12},65,{"$f":"IFERROR(IF((ROW()-2)<1,\"\",IF((ROW()-2)>IFERROR(INDEX(CALC_BASE!$L$3:$L$57,MATCH(TRUE,CALC_BASE!$L$3:$L$57<>\"\",0)+COUNTA(VENDAS!$C$9:$C$1058)-1),0),\"\",INDEX(VENDAS!$C$9:$C$1058,MATCH(TRUE,CALC_BASE!$L$3:$L$57>=(ROW()-2),0)))),\"\")","v":"PED-027"},{"$f":"IFERROR(IF(N67=\"\",\"\",(ROW()-2)-(IF(MATCH(TRUE,CALC_BASE!$L$3:$L$57>=(ROW()-2),0)=1,0,INDEX(CALC_BASE!$L$3:$L$57,MATCH(TRUE,CALC_BASE!$L$3:$L$57>=(ROW()-2),0)-1)))),\"\")","v":1},{"$f":"IFERROR(IF(N67=\"\",\"\",INDEX(VENDAS!$S$9:$S$1058,MATCH(TRUE,CALC_BASE!$L$3:$L$57>=(ROW()-2),0))),\"\")","v":1}]
[{"$nulls":12},66,{"$f":"IFERROR(IF((ROW()-2)<1,\"\",IF((ROW()-2)>IFERROR(INDEX(CALC_BASE!$L$3:$L$57,MATCH(TRUE,CALC_BASE!$L$3:$L$57<>\"\",0)+COUNTA(VENDAS!$C$9:$C$1058)-1),0),\"\",INDEX(VENDAS!$C$9:$C$1058,MATCH(TRUE,CALC_BASE!$L$3:$L$57>=(ROW()-2),0)))),\"\")","v":"PED-028"},{"$f":"IFERROR(IF(N68=\"\",\"\",(ROW()-2)-(IF(MATCH(TRUE,CALC_BASE!$L$3:$L$57>=(ROW()-2),0)=1,0,INDEX(CALC_BASE!$L$3:$L$57,MATCH(TRUE,CALC_BASE!$L$3:$L$57>=(ROW()-2),0)-1)))),\"\")","v":1},{"$f":"IFERROR(IF(N68=\"\",\"\",INDEX(VENDAS!$S$9:$S$1058,MATCH(TRUE,CALC_BASE!$L$3:$L$57>=(ROW()-2),0))),\"\")","v":4}]
[{"$nulls":12},67,{"$f":"IFERROR(IF((ROW()-2)<1,\"\",IF((ROW()-2)>IFERROR(INDEX(CALC_BASE!$L$3:$L$57,MATCH(TRUE,CALC_BASE!$L$3:$L$57<>\"\",0)+COUNTA(VENDAS!$C$9:$C$1058)-1),0),\"\",INDEX(VENDAS!$C$9:$C$1058,MATCH(TRUE,CALC_BASE!$L$3:$L$57>=(ROW()-2),0)))),\"\")","v":"PED-028"},{"$f":"IFERROR(IF(N69=\"\",\"\",(ROW()-2)-(IF(MATCH(TRUE,CALC_BASE!$L$3:$L$57>=(ROW()-2),0)=1,0,INDEX(CALC_BASE!$L$3:$L$57,MATCH(TRUE,CALC_BASE!$L$3:$L$57>=(ROW()-2),0)-1)))),\"\")","v":2},{"$f":"IFERROR(IF(N69=\"\",\"\",INDEX(VENDAS!$S$9:$S$1058,MATCH(TRUE,CALC_BASE!$L$3:$L$57>=(ROW()-2),0))),\"\")","v":4}]
[{"$nulls":12},68,{"$f":"IFERROR(IF((ROW()-2)<1,\"\",IF((ROW()-2)>IFERROR(INDEX(CALC_BASE!$L$3:$L$57,MATCH(TRUE,CALC_BASE!$L$3:$L$57<>\"\",0)+COUNTA(VENDAS!$C$9:$C$1058)-1),0),\"\",INDEX(VENDAS!$C$9:$C$1058,MATCH(TRUE,CALC_BASE!$L$3:$L$57>=(ROW()-2),0)))),\"\")","v":"PED-028"},{"$f":"IFERROR(IF(N70=\"\",\"\",(ROW()-2)-(IF(MATCH(TRUE,CALC_BASE!$L$3:$L$57>=(ROW()-2),0)=1,0,INDEX(CALC_BASE!$L$3:$L$57,MATCH(TRUE,CALC_BASE!$L$3:$L$57>=(ROW()-2),0)-1)))),\"\")","v":3},{"$f":"IFERROR(IF(N70=\"\",\"\",INDEX(VENDAS!$S$9:$S$1058,MATCH(TRUE,CALC_BASE!$L$3:$L$57>=(ROW()-2),0))),\"\")","v":4}]
[{"$nulls":12},69,{"$f":"IFERROR(IF((ROW()-2)<1,\"\",IF((ROW()-2)>IFERROR(INDEX(CALC_BASE!$L$3:$L$57,MATCH(TRUE,CALC_BASE!$L$3:$L$57<>\"\",0)+COUNTA(VENDAS!$C$9:$C$1058)-1),0),\"\",INDEX(VENDAS!$C$9:$C$1058,MATCH(TRUE,CALC_BASE!$L$3:$L$57>=(ROW()-2),0)))),\"\")","v":"PED-028"},{"$f":"IFERROR(IF(N71=\"\",\"\",(ROW()-2)-(IF(MATCH(TRUE,CALC_BASE!$L$3:$L$57>=(ROW()-2),0)=1,0,INDEX(CALC_BASE!$L$3:$L$57,MATCH(TRUE,CALC_BASE!$L$3:$L$57>=(ROW()-2),0)-1)))),\"\")","v":4},{"$f":"IFERROR(IF(N71=\"\",\"\",INDEX(VENDAS!$S$9:$S$1058,MATCH(TRUE,CALC_BASE!$L$3:$L$57>=(ROW()-2),0))),\"\")","v":4}]
[{"$nulls":12},70,{"$f":"IFERROR(IF((ROW()-2)<1,\"\",IF((ROW()-2)>IFERROR(INDEX(CALC_BASE!$L$3:$L$57,MATCH(TRUE,CALC_BASE!$L$3:$L$57<>\"\",0)+COUNTA(VENDAS!$C$9:$C$1058)-1),0),\"\",INDEX(VENDAS!$C$9:$C$1058,MATCH(TRUE,CALC_BASE!$L$3:$L$57>=(ROW()-2),0)))),\"\")","v":"PED-029"},{"$f":"IFERROR(IF(N72=\"\",\"\",(ROW()-2)-(IF(MATCH(TRUE,CALC_BASE!$L$3:$L$57>=(ROW()-2),0)=1,0,INDEX(CALC_BASE!$L$3:$L$57,MATCH(TRUE,CALC_BASE!$L$3:$L$57>=(ROW()-2),0)-1)))),\"\")","v":1},{"$f":"IFERROR(IF(N72=\"\",\"\",INDEX(VENDAS!$S$9:$S$1058,MATCH(TRUE,CALC_BASE!$L$3:$L$57>=(ROW()-2),0))),\"\")","v":2}]
[{"$nulls":12},71,{"$f":"IFERROR(IF((ROW()-2)<1,\"\",IF((ROW()-2)>IFERROR(INDEX(CALC_BASE!$L$3:$L$57,MATCH(TRUE,CALC_BASE!$L$3:$L$57<>\"\",0)+COUNTA(VENDAS!$C$9:$C$1058)-1),0),\"\",INDEX(VENDAS!$C$9:$C$1058,MATCH(TRUE,CALC_BASE!$L$3:$L$57>=(ROW()-2),0)))),\"\")","v":"PED-029"},{"$f":"IFERROR(IF(N73=\"\",\"\",(ROW()-2)-(IF(MATCH(TRUE,CALC_BASE!$L$3:$L$57>=(ROW()-2),0)=1,0,INDEX(CALC_BASE!$L$3:$L$57,MATCH(TRUE,CALC_BASE!$L$3:$L$57>=(ROW()-2),0)-1)))),\"\")","v":2},{"$f":"IFERROR(IF(N73=\"\",\"\",INDEX(VENDAS!$S$9:$S$1058,MATCH(TRUE,CALC_BASE!$L$3:$L$57>=(ROW()-2),0))),\"\")","v":2}]
[{"$nulls":12},72,{"$f":"IFERROR(IF((ROW()-2)<1,\"\",IF((ROW()-2)>IFERROR(INDEX(CALC_BASE!$L$3:$L$57,MATCH(TRUE,CALC_BASE!$L$3:$L$57<>\"\",0)+COUNTA(VENDAS!$C$9:$C$1058)-1),0),\"\",INDEX(VENDAS!$C$9:$C$1058,MATCH(TRUE,CALC_BASE!$L$3:$L$57>=(ROW()-2),0)))),\"\")","v":"PED-030"},{"$f":"IFERROR(IF(N74=\"\",\"\",(ROW()-2)-(IF(MATCH(TRUE,CALC_BASE!$L$3:$L$57>=(ROW()-2),0)=1,0,INDEX(CALC_BASE!$L$3:$L$57,MATCH(TRUE,CALC_BASE!$L$3:$L$57>=(ROW()-2),0)-1)))),\"\")","v":1},{"$f":"IFERROR(IF(N74=\"\",\"\",INDEX(VENDAS!$S$9:$S$1058,MATCH(TRUE,CALC_BASE!$L$3:$L$57>=(ROW()-2),0))),\"\")","v":3}]
[{"$nulls":12},73,{"$f":"IFERROR(IF((ROW()-2)<1,\"\",IF((ROW()-2)>IFERROR(INDEX(CALC_BASE!$L$3:$L$57,MATCH(TRUE,CALC_BASE!$L$3:$L$57<>\"\",0)+COUNTA(VENDAS!$C$9:$C$1058)-1),0),\"\",INDEX(VENDAS!$C$9:$C$1058,MATCH(TRUE,CALC_BASE!$L$3:$L$57>=(ROW()-2),0)))),\"\")","v":"PED-030"},{"$f":"IFERROR(IF(N75=\"\",\"\",(ROW()-2)-(IF(MATCH(TRUE,CALC_BASE!$L$3:$L$57>=(ROW()-2),0)=1,0,INDEX(CALC_BASE!$L$3:$L$57,MATCH(TRUE,CALC_BASE!$L$3:$L$57>=(ROW()-2),0)-1)))),\"\")","v":2},{"$f":"IFERROR(IF(N75=\"\",\"\",INDEX(VENDAS!$S$9:$S$1058,MATCH(TRUE,CALC_BASE!$L$3:$L$57>=(ROW()-2),0))),\"\")","v":3}]
[{"$nulls":12},74,{"$f":"IFERROR(IF((ROW()-2)<1,\"\",IF((ROW()-2)>IFERROR(INDEX(CALC_BASE!$L$3:$L$57,MATCH(TRUE,CALC_BASE!$L$3:$L$57<>\"\",0)+COUNTA(VENDAS!$C$9:$C$1058)-1),0),\"\",INDEX(VENDAS!$C$9:$C$1058,MATCH(TRUE,CALC_BASE!$L$3:$L$57>=(ROW()-2),0)))),\"\")","v":"PED-030"},{"$f":"IFERROR(IF(N76=\"\",\"\",(ROW()-2)-(IF(MATCH(TRUE,CALC_BASE!$L$3:$L$57>=(ROW()-2),0)=1,0,INDEX(CALC_BASE!$L$3:$L$57,MATCH(TRUE,CALC_BASE!$L$3:$L$57>=(ROW()-2),0)-1)))),\"\")","v":3},{"$f":"IFERROR(IF(N76=\"\",\"\",INDEX(VENDAS!$S$9:$S$1058,MATCH(TRUE,CALC_BASE!$L$3:$L$57>=(ROW()-2),0))),\"\")","v":3}]
[{"$nulls":12},75,{"$f":"IFERROR(IF((ROW()-2)<1,\"\",IF((ROW()-2)>IFERROR(INDEX(CALC_BASE!$L$3:$L$57,MATCH(TRUE,CALC_BASE!$L$3:$L$57<>\"\",0)+COUNTA(VENDAS!$C$9:$C$1058)-1),0),\"\",INDEX(VENDAS!$C$9:$C$1058,MATCH(TRUE,CALC_BASE!$L$3:$L$57>=(ROW()-2),0)))),\"\")","v":"PED-031"},{"$f":"IFERROR(IF(N77=\"\",\"\",(ROW()-2)-(IF(MATCH(TRUE,CALC_BASE!$L$3:$L$57>=(ROW()-2),0)=1,0,INDEX(CALC_BASE!$L$3:$L$57,MATCH(TRUE,CALC_BASE!$L$3:$L$57>=(ROW()-2),0)-1)))),\"\")","v":1},{"$f":"IFERROR(IF(N77=\"\",\"\",INDEX(VENDAS!$S$9:$S$1058,MATCH(TRUE,CALC_BASE!$L$3:$L$57>=(ROW()-2),0))),\"\")","v":3}]
[{"$nulls":12},76,{"$f":"IFERROR(IF((ROW()-2)<1,\"\",IF((ROW()-2)>IFERROR(INDEX(CALC_BASE!$L$3:$L$57,MATCH(TRUE,CALC_BASE!$L$3:$L$57<>\"\",0)+COUNTA(VENDAS!$C$9:$C$1058)-1),0),\"\",INDEX(VENDAS!$C$9:$C$1058,MATCH(TRUE,CALC_BASE!$L$3:$L$57>=(ROW()-2),0)))),\"\")","v":"PED-031"},{"$f":"IFERROR(IF(N78=\"\",\"\",(ROW()-2)-(IF(MATCH(TRUE,CALC_BASE!$L$3:$L$57>=(ROW()-2),0)=1,0,INDEX(CALC_BASE!$L$3:$L$57,MATCH(TRUE,CALC_BASE!$L$3:$L$57>=(ROW()-2),0)-1)))),\"\")","v":2},{"$f":"IFERROR(IF(N78=\"\",\"\",INDEX(VENDAS!$S$9:$S$1058,MATCH(TRUE,CALC_BASE!$L$3:$L$57>=(ROW()-2),0))),\"\")","v":3}]
[{"$nulls":12},77,{"$f":"IFERROR(IF((ROW()-2)<1,\"\",IF((ROW()-2)>IFERROR(INDEX(CALC_BASE!$L$3:$L$57,MATCH(TRUE,CALC_BASE!$L$3:$L$57<>\"\",0)+COUNTA(VENDAS!$C$9:$C$1058)-1),0),\"\",INDEX(VENDAS!$C$9:$C$1058,MATCH(TRUE,CALC_BASE!$L$3:$L$57>=(ROW()-2),0)))),\"\")","v":"PED-031"},{"$f":"IFERROR(IF(N79=\"\",\"\",(ROW()-2)-(IF(MATCH(TRUE,CALC_BASE!$L$3:$L$57>=(ROW()-2),0)=1,0,INDEX(CALC_BASE!$L$3:$L$57,MATCH(TRUE,CALC_BASE!$L$3:$L$57>=(ROW()-2),0)-1)))),\"\")","v":3},{"$f":"IFERROR(IF(N79=\"\",\"\",INDEX(VENDAS!$S$9:$S$1058,MATCH(TRUE,CALC_BASE!$L$3:$L$57>=(ROW()-2),0))),\"\")","v":3}]
[{"$nulls":12},78,{"$f":"IFERROR(IF((ROW()-2)<1,\"\",IF((ROW()-2)>IFERROR(INDEX(CALC_BASE!$L$3:$L$57,MATCH(TRUE,CALC_BASE!$L$3:$L$57<>\"\",0)+COUNTA(VENDAS!$C$9:$C$1058)-1),0),\"\",INDEX(VENDAS!$C$9:$C$1058,MATCH(TRUE,CALC_BASE!$L$3:$L$57>=(ROW()-2),0)))),\"\")","v":"PED-032"},{"$f":"IFERROR(IF(N80=\"\",\"\",(ROW()-2)-(IF(MATCH(TRUE,CALC_BASE!$L$3:$L$57>=(ROW()-2),0)=1,0,INDEX(CALC_BASE!$L$3:$L$57,MATCH(TRUE,CALC_BASE!$L$3:$L$57>=(ROW()-2),0)-1)))),\"\")","v":1},{"$f":"IFERROR(IF(N80=\"\",\"\",INDEX(VENDAS!$S$9:$S$1058,MATCH(TRUE,CALC_BASE!$L$3:$L$57>=(ROW()-2),0))),\"\")","v":1}]
[{"$nulls":12},79,{"$f":"IFERROR(IF((ROW()-2)<1,\"\",IF((ROW()-2)>IFERROR(INDEX(CALC_BASE!$L$3:$L$57,MATCH(TRUE,CALC_BASE!$L$3:$L$57<>\"\",0)+COUNTA(VENDAS!$C$9:$C$1058)-1),0),\"\",INDEX(VENDAS!$C$9:$C$1058,MATCH(TRUE,CALC_BASE!$L$3:$L$57>=(ROW()-2),0)))),\"\")","v":"PED-033"},{"$f":"IFERROR(IF(N81=\"\",\"\",(ROW()-2)-(IF(MATCH(TRUE,CALC_BASE!$L$3:$L$57>=(ROW()-2),0)=1,0,INDEX(CALC_BASE!$L$3:$L$57,MATCH(TRUE,CALC_BASE!$L$3:$L$57>=(ROW()-2),0)-1)))),\"\")","v":1},{"$f":"IFERROR(IF(N81=\"\",\"\",INDEX(VENDAS!$S$9:$S$1058,MATCH(TRUE,CALC_BASE!$L$3:$L$57>=(ROW()-2),0))),\"\")","v":2}]
[{"$nulls":12},80,{"$f":"IFERROR(IF((ROW()-2)<1,\"\",IF((ROW()-2)>IFERROR(INDEX(CALC_BASE!$L$3:$L$57,MATCH(TRUE,CALC_BASE!$L$3:$L$57<>\"\",0)+COUNTA(VENDAS!$C$9:$C$1058)-1),0),\"\",INDEX(VENDAS!$C$9:$C$1058,MATCH(TRUE,CALC_BASE!$L$3:$L$57>=(ROW()-2),0)))),\"\")","v":"PED-033"},{"$f":"IFERROR(IF(N82=\"\",\"\",(ROW()-2)-(IF(MATCH(TRUE,CALC_BASE!$L$3:$L$57>=(ROW()-2),0)=1,0,INDEX(CALC_BASE!$L$3:$L$57,MATCH(TRUE,CALC_BASE!$L$3:$L$57>=(ROW()-2),0)-1)))),\"\")","v":2},{"$f":"IFERROR(IF(N82=\"\",\"\",INDEX(VENDAS!$S$9:$S$1058,MATCH(TRUE,CALC_BASE!$L$3:$L$57>=(ROW()-2),0))),\"\")","v":2}]
[{"$nulls":12},81,{"$f":"IFERROR(IF((ROW()-2)<1,\"\",IF((ROW()-2)>IFERROR(INDEX(CALC_BASE!$L$3:$L$57,MATCH(TRUE,CALC_BASE!$L$3:$L$57<>\"\",0)+COUNTA(VENDAS!$C$9:$C$1058)-1),0),\"\",INDEX(VENDAS!$C$9:$C$1058,MATCH(TRUE,CALC_BASE!$L$3:$L$57>=(ROW()-2),0)))),\"\")","v":"PED-034"},{"$f":"IFERROR(IF(N83=\"\",\"\",(ROW()-2)-(IF(MATCH(TRUE,CALC_BASE!$L$3:$L$57>=(ROW()-2),0)=1,0,INDEX(CALC_BASE!$L$3:$L$57,MATCH(TRUE,CALC_BASE!$L$3:$L$57>=(ROW()-2),0)-1)))),\"\")","v":1},{"$f":"IFERROR(IF(N83=\"\",\"\",INDEX(VENDAS!$S$9:$S$1058,MATCH(TRUE,CALC_BASE!$L$3:$L$57>=(ROW()-2),0))),\"\")","v":1}]
[{"$nulls":12},82,{"$f":"IFERROR(IF((ROW()-2)<1,\"\",IF((ROW()-2)>IFERROR(INDEX(CALC_BASE!$L$3:$L$57,MATCH(TRUE,CALC_BASE!$L$3:$L$57<>\"\",0)+COUNTA(VENDAS!$C$9:$C$1058)-1),0),\"\",INDEX(VENDAS!$C$9:$C$1058,MATCH(TRUE,CALC_BASE!$L$3:$L$57>=(ROW()-2),0)))),\"\")","v":"PED-035"},{"$f":"IFERROR(IF(N84=\"\",\"\",(ROW()-2)-(IF(MATCH(TRUE,CALC_BASE!$L$3:$L$57>=(ROW()-2),0)=1,0,INDEX(CALC_BASE!$L$3:$L$57,MATCH(TRUE,CALC_BASE!$L$3:$L$57>=(ROW()-2),0)-1)))),\"\")","v":1},{"$f":"IFERROR(IF(N84=\"\",\"\",INDEX(VENDAS!$S$9:$S$1058,MATCH(TRUE,CALC_BASE!$L$3:$L$57>=(ROW()-2),0))),\"\")","v":4}]
[{"$nulls":12},{"$f":"ROW()-2","v":83},{"$f":"IFERROR(IF((ROW()-2)<1,\"\",IF((ROW()-2)>IFERROR(INDEX(CALC_BASE!$L$3:$L$57,MATCH(TRUE,CALC_BASE!$L$3:$L$57<>\"\",0)+COUNTA(VENDAS!$C$9:$C$1058)-1),0),\"\",INDEX(VENDAS!$C$9:$C$1058,MATCH(TRUE,CALC_BASE!$L$3:$L$57>=(ROW()-2),0)))),\"\")","v":"PED-035"},{"$f":"IFERROR(IF(N85=\"\",\"\",(ROW()-2)-(IF(MATCH(TRUE,CALC_BASE!$L$3:$L$57>=(ROW()-2),0)=1,0,INDEX(CALC_BASE!$L$3:$L$57,MATCH(TRUE,CALC_BASE!$L$3:$L$57>=(ROW()-2),0)-1)))),\"\")","v":2},{"$f":"IFERROR(IF(N85=\"\",\"\",INDEX(VENDAS!$S$9:$S$1058,MATCH(TRUE,CALC_BASE!$L$3:$L$57>=(ROW()-2),0))),\"\")","v":4}]
[{"$nulls":12},84,{"$f":"IFERROR(IF((ROW()-2)<1,\"\",IF((ROW()-2)>IFERROR(INDEX(CALC_BASE!$L$3:$L$57,MATCH(TRUE,CALC_BASE!$L$3:$L$57<>\"\",0)+COUNTA(VENDAS!$C$9:$C$1058)-1),0),\"\",INDEX(VENDAS!$C$9:$C$1058,MATCH(TRUE,CALC_BASE!$L$3:$L$57>=(ROW()-2),0)))),\"\")","v":"PED-035"},{"$f":"IFERROR(IF(N86=\"\",\"\",(ROW()-2)-(IF(MATCH(TRUE,CALC_BASE!$L$3:$L$57>=(ROW()-2),0)=1,0,INDEX(CALC_BASE!$L$3:$L$57,MATCH(TRUE,CALC_BASE!$L$3:$L$57>=(ROW()-2),0)-1)))),\"\")","v":3},{"$f":"IFERROR(IF(N86=\"\",\"\",INDEX(VENDAS!$S$9:$S$1058,MATCH(TRUE,CALC_BASE!$L$3:$L$57>=(ROW()-2),0))),\"\")","v":4}]
[{"$nulls":12},85,{"$f":"IFERROR(IF((ROW()-2)<1,\"\",IF((ROW()-2)>IFERROR(INDEX(CALC_BASE!$L$3:$L$57,MATCH(TRUE,CALC_BASE!$L$3:$L$57<>\"\",0)+COUNTA(VENDAS!$C$9:$C$1058)-1),0),\"\",INDEX(VENDAS!$C$9:$C$1058,MATCH(TRUE,CALC_BASE!$L$3:$L$57>=(ROW()-2),0)))),\"\")","v":"PED-035"},{"$f":"IFERROR(IF(N87=\"\",\"\",(ROW()-2)-(IF(MATCH(TRUE,CALC_BASE!$L$3:$L$57>=(ROW()-2),0)=1,0,INDEX(CALC_BASE!$L$3:$L$57,MATCH(TRUE,CALC_BASE!$L$3:$L$57>=(ROW()-2),0)-1)))),\"\")","v":4},{"$f":"IFERROR(IF(N87=\"\",\"\",INDEX(VENDAS!$S$9:$S$1058,MATCH(TRUE,CALC_BASE!$L$3:$L$57>=(ROW()-2),0))),\"\")","v":4}]
[{"$nulls":12},86,{"$f":"IFERROR(IF((ROW()-2)<1,\"\",IF((ROW()-2)>IFERROR(INDEX(CALC_BASE!$L$3:$L$57,MATCH(TRUE,CALC_BASE!$L$3:$L$57<>\"\",0)+COUNTA(VENDAS!$C$9:$C$1058)-1),0),\"\",INDEX(VENDAS!$C$9:$C$1058,MATCH(TRUE,CALC_BASE!$L$3:$L$57>=(ROW()-2),0)))),\"\")","v":"PED-036"},{"$f":"IFERROR(IF(N88=\"\",\"\",(ROW()-2)-(IF(MATCH(TRUE,CALC_BASE!$L$3:$L$57>=(ROW()-2),0)=1,0,INDEX(CALC_BASE!$L$3:$L$57,MATCH(TRUE,CALC_BASE!$L$3:$L$57>=(ROW()-2),0)-1)))),\"\")","v":1},{"$f":"IFERROR(IF(N88=\"\",\"\",INDEX(VENDAS!$S$9:$S$1058,MATCH(TRUE,CALC_BASE!$L$3:$L$57>=(ROW()-2),0))),\"\")","v":2}]
[{"$nulls":12},87,{"$f":"IFERROR(IF((ROW()-2)<1,\"\",IF((ROW()-2)>IFERROR(INDEX(CALC_BASE!$L$3:$L$57,MATCH(TRUE,CALC_BASE!$L$3:$L$57<>\"\",0)+COUNTA(VENDAS!$C$9:$C$1058)-1),0),\"\",INDEX(VENDAS!$C$9:$C$1058,MATCH(TRUE,CALC_BASE!$L$3:$L$57>=(ROW()-2),0)))),\"\")","v":"PED-036"},{"$f":"IFERROR(IF(N89=\"\",\"\",(ROW()-2)-(IF(MATCH(TRUE,CALC_BASE!$L$3:$L$57>=(ROW()-2),0)=1,0,INDEX(CALC_BASE!$L$3:$L$57,MATCH(TRUE,CALC_BASE!$L$3:$L$57>=(ROW()-2),0)-1)))),\"\")","v":2},{"$f":"IFERROR(IF(N89=\"\",\"\",INDEX(VENDAS!$S$9:$S$1058,MATCH(TRUE,CALC_BASE!$L$3:$L$57>=(ROW()-2),0))),\"\")","v":2}]
[{"$nulls":12},88,{"$f":"IFERROR(IF((ROW()-2)<1,\"\",IF((ROW()-2)>IFERROR(INDEX(CALC_BASE!$L$3:$L$57,MATCH(TRUE,CALC_BASE!$L$3:$L$57<>\"\",0)+COUNTA(VENDAS!$C$9:$C$1058)-1),0),\"\",INDEX(VENDAS!$C$9:$C$1058,MATCH(TRUE,CALC_BASE!$L$3:$L$57>=(ROW()-2),0)))),\"\")","v":"PED-037"},{"$f":"IFERROR(IF(N90=\"\",\"\",(ROW()-2)-(IF(MATCH(TRUE,CALC_BASE!$L$3:$L$57>=(ROW()-2),0)=1,0,INDEX(CALC_BASE!$L$3:$L$57,MATCH(TRUE,CALC_BASE!$L$3:$L$57>=(ROW()-2),0)-1)))),\"\")","v":1},{"$f":"IFERROR(IF(N90=\"\",\"\",INDEX(VENDAS!$S$9:$S$1058,MATCH(TRUE,CALC_BASE!$L$3:$L$57>=(ROW()-2),0))),\"\")","v":3}]
[{"$nulls":12},89,{"$f":"IFERROR(IF((ROW()-2)<1,\"\",IF((ROW()-2)>IFERROR(INDEX(CALC_BASE!$L$3:$L$57,MATCH(TRUE,CALC_BASE!$L$3:$L$57<>\"\",0)+COUNTA(VENDAS!$C$9:$C$1058)-1),0),\"\",INDEX(VENDAS!$C$9:$C$1058,MATCH(TRUE,CALC_BASE!$L$3:$L$57>=(ROW()-2),0)))),\"\")","v":"PED-037"},{"$f":"IFERROR(IF(N91=\"\",\"\",(ROW()-2)-(IF(MATCH(TRUE,CALC_BASE!$L$3:$L$57>=(ROW()-2),0)=1,0,INDEX(CALC_BASE!$L$3:$L$57,MATCH(TRUE,CALC_BASE!$L$3:$L$57>=(ROW()-2),0)-1)))),\"\")","v":2},{"$f":"IFERROR(IF(N91=\"\",\"\",INDEX(VENDAS!$S$9:$S$1058,MATCH(TRUE,CALC_BASE!$L$3:$L$57>=(ROW()-2),0))),\"\")","v":3}]
[{"$nulls":12},90,{"$f":"IFERROR(IF((ROW()-2)<1,\"\",IF((ROW()-2)>IFERROR(INDEX(CALC_BASE!$L$3:$L$57,MATCH(TRUE,CALC_BASE!$L$3:$L$57<>\"\",0)+COUNTA(VENDAS!$C$9:$C$1058)-1),0),\"\",INDEX(VENDAS!$C$9:$C$1058,MATCH(TRUE,CALC_BASE!$L$3:$L$57>=(ROW()-2),0)))),\"\")","v":"PED-037"},{"$f":"IFERROR(IF(N92=\"\",\"\",(ROW()-2)-(IF(MATCH(TRUE,CALC_BASE!$L$3:$L$57>=(ROW()-2),0)=1,0,INDEX(CALC_BASE!$L$3:$L$57,MATCH(TRUE,CALC_BASE!$L$3:$L$57>=(ROW()-2),0)-1)))),\"\")","v":3},{"$f":"IFERROR(IF(N92=\"\",\"\",INDEX(VENDAS!$S$9:$S$1058,MATCH(TRUE,CALC_BASE!$L$3:$L$57>=(ROW()-2),0))),\"\")","v":3}]
[{"$nulls":12},91,{"$f":"IFERROR(IF((ROW()-2)<1,\"\",IF((ROW()-2)>IFERROR(INDEX(CALC_BASE!$L$3:$L$57,MATCH(TRUE,CALC_BASE!$L$3:$L$57<>\"\",0)+COUNTA(VENDAS!$C$9:$C$1058)-1),0),\"\",INDEX(VENDAS!$C$9:$C$1058,MATCH(TRUE,CALC_BASE!$L$3:$L$57>=(ROW()-2),0)))),\"\")","v":"PED-038"},{"$f":"IFERROR(IF(N93=\"\",\"\",(ROW()-2)-(IF(MATCH(TRUE,CALC_BASE!$L$3:$L$57>=(ROW()-2),0)=1,0,INDEX(CALC_BASE!$L$3:$L$57,MATCH(TRUE,CALC_BASE!$L$3:$L$57>=(ROW()-2),0)-1)))),\"\")","v":1},{"$f":"IFERROR(IF(N93=\"\",\"\",INDEX(VENDAS!$S$9:$S$1058,MATCH(TRUE,CALC_BASE!$L$3:$L$57>=(ROW()-2),0))),\"\")","v":1}]
[{"$nulls":12},92,{"$f":"IFERROR(IF((ROW()-2)<1,\"\",IF((ROW()-2)>IFERROR(INDEX(CALC_BASE!$L$3:$L$57,MATCH(TRUE,CALC_BASE!$L$3:$L$57<>\"\",0)+COUNTA(VENDAS!$C$9:$C$1058)-1),0),\"\",INDEX(VENDAS!$C$9:$C$1058,MATCH(TRUE,CALC_BASE!$L$3:$L$57>=(ROW()-2),0)))),\"\")","v":"PED-039"},{"$f":"IFERROR(IF(N94=\"\",\"\",(ROW()-2)-(IF(MATCH(TRUE,CALC_BASE!$L$3:$L$57>=(ROW()-2),0)=1,0,INDEX(CALC_BASE!$L$3:$L$57,MATCH(TRUE,CALC_BASE!$L$3:$L$57>=(ROW()-2),0)-1)))),\"\")","v":1},{"$f":"IFERROR(IF(N94=\"\",\"\",INDEX(VENDAS!$S$9:$S$1058,MATCH(TRUE,CALC_BASE!$L$3:$L$57>=(ROW()-2),0))),\"\")","v":4}]
[{"$nulls":12},93,{"$f":"IFERROR(IF((ROW()-2)<1,\"\",IF((ROW()-2)>IFERROR(INDEX(CALC_BASE!$L$3:$L$57,MATCH(TRUE,CALC_BASE!$L$3:$L$57<>\"\",0)+COUNTA(VENDAS!$C$9:$C$1058)-1),0),\"\",INDEX(VENDAS!$C$9:$C$1058,MATCH(TRUE,CALC_BASE!$L$3:$L$57>=(ROW()-2),0)))),\"\")","v":"PED-039"},{"$f":"IFERROR(IF(N95=\"\",\"\",(ROW()-2)-(IF(MATCH(TRUE,CALC_BASE!$L$3:$L$57>=(ROW()-2),0)=1,0,INDEX(CALC_BASE!$L$3:$L$57,MATCH(TRUE,CALC_BASE!$L$3:$L$57>=(ROW()-2),0)-1)))),\"\")","v":2},{"$f":"IFERROR(IF(N95=\"\",\"\",INDEX(VENDAS!$S$9:$S$1058,MATCH(TRUE,CALC_BASE!$L$3:$L$57>=(ROW()-2),0))),\"\")","v":4}]
[{"$nulls":12},94,{"$f":"IFERROR(IF((ROW()-2)<1,\"\",IF((ROW()-2)>IFERROR(INDEX(CALC_BASE!$L$3:$L$57,MATCH(TRUE,CALC_BASE!$L$3:$L$57<>\"\",0)+COUNTA(VENDAS!$C$9:$C$1058)-1),0),\"\",INDEX(VENDAS!$C$9:$C$1058,MATCH(TRUE,CALC_BASE!$L$3:$L$57>=(ROW()-2),0)))),\"\")","v":"PED-039"},{"$f":"IFERROR(IF(N96=\"\",\"\",(ROW()-2)-(IF(MATCH(TRUE,CALC_BASE!$L$3:$L$57>=(ROW()-2),0)=1,0,INDEX(CALC_BASE!$L$3:$L$57,MATCH(TRUE,CALC_BASE!$L$3:$L$57>=(ROW()-2),0)-1)))),\"\")","v":3},{"$f":"IFERROR(IF(N96=\"\",\"\",INDEX(VENDAS!$S$9:$S$1058,MATCH(TRUE,CALC_BASE!$L$3:$L$57>=(ROW()-2),0))),\"\")","v":4}]
[{"$nulls":12},95,{"$f":"IFERROR(IF((ROW()-2)<1,\"\",IF((ROW()-2)>IFERROR(INDEX(CALC_BASE!$L$3:$L$57,MATCH(TRUE,CALC_BASE!$L$3:$L$57<>\"\",0)+COUNTA(VENDAS!$C$9:$C$1058)-1),0),\"\",INDEX(VENDAS!$C$9:$C$1058,MATCH(TRUE,CALC_BASE!$L$3:$L$57>=(ROW()-2),0)))),\"\")","v":"PED-039"},{"$f":"IFERROR(IF(N97=\"\",\"\",(ROW()-2)-(IF(MATCH(TRUE,CALC_BASE!$L$3:$L$57>=(ROW()-2),0)=1,0,INDEX(CALC_BASE!$L$3:$L$57,MATCH(TRUE,CALC_BASE!$L$3:$L$57>=(ROW()-2),0)-1)))),\"\")","v":4},{"$f":"IFERROR(IF(N97=\"\",\"\",INDEX(VENDAS!$S$9:$S$1058,MATCH(TRUE,CALC_BASE!$L$3:$L$57>=(ROW()-2),0))),\"\")","v":4}]
[{"$nulls":12},96,{"$f":"IFERROR(IF((ROW()-2)<1,\"\",IF((ROW()-2)>IFERROR(INDEX(CALC_BASE!$L$3:$L$57,MATCH(TRUE,CALC_BASE!$L$3:$L$57<>\"\",0)+COUNTA(VENDAS!$C$9:$C$1058)-1),0),\"\",INDEX(VENDAS!$C$9:$C$1058,MATCH(TRUE,CALC_BASE!$L$3:$L$57>=(ROW()-2),0)))),\"\")","v":"PED-040"},{"$f":"IFERROR(IF(N98=\"\",\"\",(ROW()-2)-(IF(MATCH(TRUE,CALC_BASE!$L$3:$L$57>=(ROW()-2),0)=1,0,INDEX(CALC_BASE!$L$3:$L$57,MATCH(TRUE,CALC_BASE!$L$3:$L$57>=(ROW()-2),0)-1)))),\"\")","v":1},{"$f":"IFERROR(IF(N98=\"\",\"\",INDEX(VENDAS!$S$9:$S$1058,MATCH(TRUE,CALC_BASE!$L$3:$L$57>=(ROW()-2),0))),\"\")","v":2}]
[{"$nulls":12},97,{"$f":"IFERROR(IF((ROW()-2)<1,\"\",IF((ROW()-2)>IFERROR(INDEX(CALC_BASE!$L$3:$L$57,MATCH(TRUE,CALC_BASE!$L$3:$L$57<>\"\",0)+COUNTA(VENDAS!$C$9:$C$1058)-1),0),\"\",INDEX(VENDAS!$C$9:$C$1058,MATCH(TRUE,CALC_BASE!$L$3:$L$57>=(ROW()-2),0)))),\"\")","v":"PED-040"},{"$f":"IFERROR(IF(N99=\"\",\"\",(ROW()-2)-(IF(MATCH(TRUE,CALC_BASE!$L$3:$L$57>=(ROW()-2),0)=1,0,INDEX(CALC_BASE!$L$3:$L$57,MATCH(TRUE,CALC_BASE!$L$3:$L$57>=(ROW()-2),0)-1)))),\"\")","v":2},{"$f":"IFERROR(IF(N99=\"\",\"\",INDEX(VENDAS!$S$9:$S$1058,MATCH(TRUE,CALC_BASE!$L$3:$L$57>=(ROW()-2),0))),\"\")","v":2}]
[{"$nulls":12},98,{"$f":"IFERROR(IF((ROW()-2)<1,\"\",IF((ROW()-2)>IFERROR(INDEX(CALC_BASE!$L$3:$L$57,MATCH(TRUE,CALC_BASE!$L$3:$L$57<>\"\",0)+COUNTA(VENDAS!$C$9:$C$1058)-1),0),\"\",INDEX(VENDAS!$C$9:$C$1058,MATCH(TRUE,CALC_BASE!$L$3:$L$57>=(ROW()-2),0)))),\"\")","v":"PED-041"},{"$f":"IFERROR(IF(N100=\"\",\"\",(ROW()-2)-(IF(MATCH(TRUE,CALC_BASE!$L$3:$L$57>=(ROW()-2),0)=1,0,INDEX(CALC_BASE!$L$3:$L$57,MATCH(TRUE,CALC_BASE!$L$3:$L$57>=(ROW()-2),0)-1)))),\"\")","v":1},{"$f":"IFERROR(IF(N100=\"\",\"\",INDEX(VENDAS!$S$9:$S$1058,MATCH(TRUE,CALC_BASE!$L$3:$L$57>=(ROW()-2),0))),\"\")","v":3}]
[{"$nulls":12},99,{"$f":"IFERROR(IF((ROW()-2)<1,\"\",IF((ROW()-2)>IFERROR(INDEX(CALC_BASE!$L$3:$L$57,MATCH(TRUE,CALC_BASE!$L$3:$L$57<>\"\",0)+COUNTA(VENDAS!$C$9:$C$1058)-1),0),\"\",INDEX(VENDAS!$C$9:$C$1058,MATCH(TRUE,CALC_BASE!$L$3:$L$57>=(ROW()-2),0)))),\"\")","v":"PED-041"},{"$f":"IFERROR(IF(N101=\"\",\"\",(ROW()-2)-(IF(MATCH(TRUE,CALC_BASE!$L$3:$L$57>=(ROW()-2),0)=1,0,INDEX(CALC_BASE!$L$3:$L$57,MATCH(TRUE,CALC_BASE!$L$3:$L$57>=(ROW()-2),0)-1)))),\"\")","v":2},{"$f":"IFERROR(IF(N101=\"\",\"\",INDEX(VENDAS!$S$9:$S$1058,MATCH(TRUE,CALC_BASE!$L$3:$L$57>=(ROW()-2),0))),\"\")","v":3}]
[{"$nulls":12},100,{"$f":"IFERROR(IF((ROW()-2)<1,\"\",IF((ROW()-2)>IFERROR(INDEX(CALC_BASE!$L$3:$L$57,MATCH(TRUE,CALC_BASE!$L$3:$L$57<>\"\",0)+COUNTA(VENDAS!$C$9:$C$1058)-1),0),\"\",INDEX(VENDAS!$C$9:$C$1058,MATCH(TRUE,CALC_BASE!$L$3:$L$57>=(ROW()-2),0)))),\"\")","v":"PED-041"},{"$f":"IFERROR(IF(N102=\"\",\"\",(ROW()-2)-(IF(MATCH(TRUE,CALC_BASE!$L$3:$L$57>=(ROW()-2),0)=1,0,INDEX(CALC_BASE!$L$3:$L$57,MATCH(TRUE,CALC_BASE!$L$3:$L$57>=(ROW()-2),0)-1)))),\"\")","v":3},{"$f":"IFERROR(IF(N102=\"\",\"\",INDEX(VENDAS!$S$9:$S$1058,MATCH(TRUE,CALC_BASE!$L$3:$L$57>=(ROW()-2),0))),\"\")","v":3}]
[{"$nulls":12},101,{"$f":"IFERROR(IF((ROW()-2)<1,\"\",IF((ROW()-2)>IFERROR(INDEX(CALC_BASE!$L$3:$L$57,MATCH(TRUE,CALC_BASE!$L$3:$L$57<>\"\",0)+COUNTA(VENDAS!$C$9:$C$1058)-1),0),\"\",INDEX(VENDAS!$C$9:$C$1058,MATCH(TRUE,CALC_BASE!$L$3:$L$57>=(ROW()-2),0)))),\"\")","v":"PED-042"},{"$f":"IFERROR(IF(N103=\"\",\"\",(ROW()-2)-(IF(MATCH(TRUE,CALC_BASE!$L$3:$L$57>=(ROW()-2),0)=1,0,INDEX(CALC_BASE!$L$3:$L$57,MATCH(TRUE,CALC_BASE!$L$3:$L$57>=(ROW()-2),0)-1)))),\"\")","v":1},{"$f":"IFERROR(IF(N103=\"\",\"\",INDEX(VENDAS!$S$9:$S$1058,MATCH(TRUE,CALC_BASE!$L$3:$L$57>=(ROW()-2),0))),\"\")","v":3}]
[{"$nulls":12},102,{"$f":"IFERROR(IF((ROW()-2)<1,\"\",IF((ROW()-2)>IFERROR(INDEX(CALC_BASE!$L$3:$L$57,MATCH(TRUE,CALC_BASE!$L$3:$L$57<>\"\",0)+COUNTA(VENDAS!$C$9:$C$1058)-1),0),\"\",INDEX(VENDAS!$C$9:$C$1058,MATCH(TRUE,CALC_BASE!$L$3:$L$57>=(ROW()-2),0)))),\"\")","v":"PED-042"},{"$f":"IFERROR(IF(N104=\"\",\"\",(ROW()-2)-(IF(MATCH(TRUE,CALC_BASE!$L$3:$L$57>=(ROW()-2),0)=1,0,INDEX(CALC_BASE!$L$3:$L$57,MATCH(TRUE,CALC_BASE!$L$3:$L$57>=(ROW()-2),0)-1)))),\"\")","v":2},{"$f":"IFERROR(IF(N104=\"\",\"\",INDEX(VENDAS!$S$9:$S$1058,MATCH(TRUE,CALC_BASE!$L$3:$L$57>=(ROW()-2),0))),\"\")","v":3}]
[{"$nulls":12},103,{"$f":"IFERROR(IF((ROW()-2)<1,\"\",IF((ROW()-2)>IFERROR(INDEX(CALC_BASE!$L$3:$L$57,MATCH(TRUE,CALC_BASE!$L$3:$L$57<>\"\",0)+COUNTA(VENDAS!$C$9:$C$1058)-1),0),\"\",INDEX(VENDAS!$C$9:$C$1058,MATCH(TRUE,CALC_BASE!$L$3:$L$57>=(ROW()-2),0)))),\"\")","v":"PED-042"},{"$f":"IFERROR(IF(N105=\"\",\"\",(ROW()-2)-(IF(MATCH(TRUE,CALC_BASE!$L$3:$L$57>=(ROW()-2),0)=1,0,INDEX(CALC_BASE!$L$3:$L$57,MATCH(TRUE,CALC_BASE!$L$3:$L$57>=(ROW()-2),0)-1)))),\"\")","v":3},{"$f":"IFERROR(IF(N105=\"\",\"\",INDEX(VENDAS!$S$9:$S$1058,MATCH(TRUE,CALC_BASE!$L$3:$L$57>=(ROW()-2),0))),\"\")","v":3}]
[{"$nulls":12},104,{"$f":"IFERROR(IF((ROW()-2)<1,\"\",IF((ROW()-2)>IFERROR(INDEX(CALC_BASE!$L$3:$L$57,MATCH(TRUE,CALC_BASE!$L$3:$L$57<>\"\",0)+COUNTA(VENDAS!$C$9:$C$1058)-1),0),\"\",INDEX(VENDAS!$C$9:$C$1058,MATCH(TRUE,CALC_BASE!$L$3:$L$57>=(ROW()-2),0)))),\"\")","v":"PED-043"},{"$f":"IFERROR(IF(N106=\"\",\"\",(ROW()-2)-(IF(MATCH(TRUE,CALC_BASE!$L$3:$L$57>=(ROW()-2),0)=1,0,INDEX(CALC_BASE!$L$3:$L$57,MATCH(TRUE,CALC_BASE!$L$3:$L$57>=(ROW()-2),0)-1)))),\"\")","v":1},{"$f":"IFERROR(IF(N106=\"\",\"\",INDEX(VENDAS!$S$9:$S$1058,MATCH(TRUE,CALC_BASE!$L$3:$L$57>=(ROW()-2),0))),\"\")","v":1}]
[{"$nulls":12},105,{"$f":"IFERROR(IF((ROW()-2)<1,\"\",IF((ROW()-2)>IFERROR(INDEX(CALC_BASE!$L$3:$L$57,MATCH(TRUE,CALC_BASE!$L$3:$L$57<>\"\",0)+COUNTA(VENDAS!$C$9:$C$1058)-1),0),\"\",INDEX(VENDAS!$C$9:$C$1058,MATCH(TRUE,CALC_BASE!$L$3:$L$57>=(ROW()-2),0)))),\"\")","v":"PED-044"},{"$f":"IFERROR(IF(N107=\"\",\"\",(ROW()-2)-(IF(MATCH(TRUE,CALC_BASE!$L$3:$L$57>=(ROW()-2),0)=1,0,INDEX(CALC_BASE!$L$3:$L$57,MATCH(TRUE,CALC_BASE!$L$3:$L$57>=(ROW()-2),0)-1)))),\"\")","v":1},{"$f":"IFERROR(IF(N107=\"\",\"\",INDEX(VENDAS!$S$9:$S$1058,MATCH(TRUE,CALC_BASE!$L$3:$L$57>=(ROW()-2),0))),\"\")","v":2}]
[{"$nulls":12},106,{"$f":"IFERROR(IF((ROW()-2)<1,\"\",IF((ROW()-2)>IFERROR(INDEX(CALC_BASE!$L$3:$L$57,MATCH(TRUE,CALC_BASE!$L$3:$L$57<>\"\",0)+COUNTA(VENDAS!$C$9:$C$1058)-1),0),\"\",INDEX(VENDAS!$C$9:$C$1058,MATCH(TRUE,CALC_BASE!$L$3:$L$57>=(ROW()-2),0)))),\"\")","v":"PED-044"},{"$f":"IFERROR(IF(N108=\"\",\"\",(ROW()-2)-(IF(MATCH(TRUE,CALC_BASE!$L$3:$L$57>=(ROW()-2),0)=1,0,INDEX(CALC_BASE!$L$3:$L$57,MATCH(TRUE,CALC_BASE!$L$3:$L$57>=(ROW()-2),0)-1)))),\"\")","v":2},{"$f":"IFERROR(IF(N108=\"\",\"\",INDEX(VENDAS!$S$9:$S$1058,MATCH(TRUE,CALC_BASE!$L$3:$L$57>=(ROW()-2),0))),\"\")","v":2}]
[{"$nulls":12},107,{"$f":"IFERROR(IF((ROW()-2)<1,\"\",IF((ROW()-2)>IFERROR(INDEX(CALC_BASE!$L$3:$L$57,MATCH(TRUE,CALC_BASE!$L$3:$L$57<>\"\",0)+COUNTA(VENDAS!$C$9:$C$1058)-1),0),\"\",INDEX(VENDAS!$C$9:$C$1058,MATCH(TRUE,CALC_BASE!$L$3:$L$57>=(ROW()-2),0)))),\"\")","v":"PED-045"},{"$f":"IFERROR(IF(N109=\"\",\"\",(ROW()-2)-(IF(MATCH(TRUE,CALC_BASE!$L$3:$L$57>=(ROW()-2),0)=1,0,INDEX(CALC_BASE!$L$3:$L$57,MATCH(TRUE,CALC_BASE!$L$3:$L$57>=(ROW()-2),0)-1)))),\"\")","v":1},{"$f":"IFERROR(IF(N109=\"\",\"\",INDEX(VENDAS!$S$9:$S$1058,MATCH(TRUE,CALC_BASE!$L$3:$L$57>=(ROW()-2),0))),\"\")","v":1}]
[{"$nulls":12},108,{"$f":"IFERROR(IF((ROW()-2)<1,\"\",IF((ROW()-2)>IFERROR(INDEX(CALC_BASE!$L$3:$L$57,MATCH(TRUE,CALC_BASE!$L$3:$L$57<>\"\",0)+COUNTA(VENDAS!$C$9:$C$1058)-1),0),\"\",INDEX(VENDAS!$C$9:$C$1058,MATCH(TRUE,CALC_BASE!$L$3:$L$57>=(ROW()-2),0)))),\"\")","v":"PED-046"},{"$f":"IFERROR(IF(N110=\"\",\"\",(ROW()-2)-(IF(MATCH(TRUE,CALC_BASE!$L$3:$L$57>=(ROW()-2),0)=1,0,INDEX(CALC_BASE!$L$3:$L$57,MATCH(TRUE,CALC_BASE!$L$3:$L$57>=(ROW()-2),0)-1)))),\"\")","v":1},{"$f":"IFERROR(IF(N110=\"\",\"\",INDEX(VENDAS!$S$9:$S$1058,MATCH(TRUE,CALC_BASE!$L$3:$L$57>=(ROW()-2),0))),\"\")","v":3}]
[{"$nulls":12},109,{"$f":"IFERROR(IF((ROW()-2)<1,\"\",IF((ROW()-2)>IFERROR(INDEX(CALC_BASE!$L$3:$L$57,MATCH(TRUE,CALC_BASE!$L$3:$L$57<>\"\",0)+COUNTA(VENDAS!$C$9:$C$1058)-1),0),\"\",INDEX(VENDAS!$C$9:$C$1058,MATCH(TRUE,CALC_BASE!$L$3:$L$57>=(ROW()-2),0)))),\"\")","v":"PED-046"},{"$f":"IFERROR(IF(N111=\"\",\"\",(ROW()-2)-(IF(MATCH(TRUE,CALC_BASE!$L$3:$L$57>=(ROW()-2),0)=1,0,INDEX(CALC_BASE!$L$3:$L$57,MATCH(TRUE,CALC_BASE!$L$3:$L$57>=(ROW()-2),0)-1)))),\"\")","v":2},{"$f":"IFERROR(IF(N111=\"\",\"\",INDEX(VENDAS!$S$9:$S$1058,MATCH(TRUE,CALC_BASE!$L$3:$L$57>=(ROW()-2),0))),\"\")","v":3}]
[{"$nulls":12},110,{"$f":"IFERROR(IF((ROW()-2)<1,\"\",IF((ROW()-2)>IFERROR(INDEX(CALC_BASE!$L$3:$L$57,MATCH(TRUE,CALC_BASE!$L$3:$L$57<>\"\",0)+COUNTA(VENDAS!$C$9:$C$1058)-1),0),\"\",INDEX(VENDAS!$C$9:$C$1058,MATCH(TRUE,CALC_BASE!$L$3:$L$57>=(ROW()-2),0)))),\"\")","v":"PED-046"},{"$f":"IFERROR(IF(N112=\"\",\"\",(ROW()-2)-(IF(MATCH(TRUE,CALC_BASE!$L$3:$L$57>=(ROW()-2),0)=1,0,INDEX(CALC_BASE!$L$3:$L$57,MATCH(TRUE,CALC_BASE!$L$3:$L$57>=(ROW()-2),0)-1)))),\"\")","v":3},{"$f":"IFERROR(IF(N112=\"\",\"\",INDEX(VENDAS!$S$9:$S$1058,MATCH(TRUE,CALC_BASE!$L$3:$L$57>=(ROW()-2),0))),\"\")","v":3}]
[{"$nulls":12},111,{"$f":"IFERROR(IF((ROW()-2)<1,\"\",IF((ROW()-2)>IFERROR(INDEX(CALC_BASE!$L$3:$L$57,MATCH(TRUE,CALC_BASE!$L$3:$L$57<>\"\",0)+COUNTA(VENDAS!$C$9:$C$1058)-1),0),\"\",INDEX(VENDAS!$C$9:$C$1058,MATCH(TRUE,CALC_BASE!$L$3:$L$57>=(ROW()-2),0)))),\"\")","v":"PED-047"},{"$f":"IFERROR(IF(N113=\"\",\"\",(ROW()-2)-(IF(MATCH(TRUE,CALC_BASE!$L$3:$L$57>=(ROW()-2),0)=1,0,INDEX(CALC_BASE!$L$3:$L$57,MATCH(TRUE,CALC_BASE!$L$3:$L$57>=(ROW()-2),0)-1)))),\"\")","v":1},{"$f":"IFERROR(IF(N113=\"\",\"\",INDEX(VENDAS!$S$9:$S$1058,MATCH(TRUE,CALC_BASE!$L$3:$L$57>=(ROW()-2),0))),\"\")","v":2}]
[{"$nulls":12},112,{"$f":"IFERROR(IF((ROW()-2)<1,\"\",IF((ROW()-2)>IFERROR(INDEX(CALC_BASE!$L$3:$L$57,MATCH(TRUE,CALC_BASE!$L$3:$L$57<>\"\",0)+COUNTA(VENDAS!$C$9:$C$1058)-1),0),\"\",INDEX(VENDAS!$C$9:$C$1058,MATCH(TRUE,CALC_BASE!$L$3:$L$57>=(ROW()-2),0)))),\"\")","v":"PED-047"},{"$f":"IFERROR(IF(N114=\"\",\"\",(ROW()-2)-(IF(MATCH(TRUE,CALC_BASE!$L$3:$L$57>=(ROW()-2),0)=1,0,INDEX(CALC_BASE!$L$3:$L$57,MATCH(TRUE,CALC_BASE!$L$3:$L$57>=(ROW()-2),0)-1)))),\"\")","v":2},{"$f":"IFERROR(IF(N114=\"\",\"\",INDEX(VENDAS!$S$9:$S$1058,MATCH(TRUE,CALC_BASE!$L$3:$L$57>=(ROW()-2),0))),\"\")","v":2}]
[{"$nulls":12},113,{"$f":"IFERROR(IF((ROW()-2)<1,\"\",IF((ROW()-2)>IFERROR(INDEX(CALC_BASE!$L$3:$L$57,MATCH(TRUE,CALC_BASE!$L$3:$L$57<>\"\",0)+COUNTA(VENDAS!$C$9:$C$1058)-1),0),\"\",INDEX(VENDAS!$C$9:$C$1058,MATCH(TRUE,CALC_BASE!$L$3:$L$57>=(ROW()-2),0)))),\"\")","v":"PED-048"},{"$f":"IFERROR(IF(N115=\"\",\"\",(ROW()-2)-(IF(MATCH(TRUE,CALC_BASE!$L$3:$L$57>=(ROW()-2),0)=1,0,INDEX(CALC_BASE!$L$3:$L$57,MATCH(TRUE,CALC_BASE!$L$3:$L$57>=(ROW()-2),0)-1)))),\"\")","v":1},{"$f":"IFERROR(IF(N115=\"\",\"\",INDEX(VENDAS!$S$9:$S$1058,MATCH(TRUE,CALC_BASE!$L$3:$L$57>=(ROW()-2),0))),\"\")","v":4}]
[{"$nulls":12},114,{"$f":"IFERROR(IF((ROW()-2)<1,\"\",IF((ROW()-2)>IFERROR(INDEX(CALC_BASE!$L$3:$L$57,MATCH(TRUE,CALC_BASE!$L$3:$L$57<>\"\",0)+COUNTA(VENDAS!$C$9:$C$1058)-1),0),\"\",INDEX(VENDAS!$C$9:$C$1058,MATCH(TRUE,CALC_BASE!$L$3:$L$57>=(ROW()-2),0)))),\"\")","v":"PED-048"},{"$f":"IFERROR(IF(N116=\"\",\"\",(ROW()-2)-(IF(MATCH(TRUE,CALC_BASE!$L$3:$L$57>=(ROW()-2),0)=1,0,INDEX(CALC_BASE!$L$3:$L$57,MATCH(TRUE,CALC_BASE!$L$3:$L$57>=(ROW()-2),0)-1)))),\"\")","v":2},{"$f":"IFERROR(IF(N116=\"\",\"\",INDEX(VENDAS!$S$9:$S$1058,MATCH(TRUE,CALC_BASE!$L$3:$L$57>=(ROW()-2),0))),\"\")","v":4}]
[{"$nulls":12},{"$f":"ROW()-2","v":115},{"$f":"IFERROR(IF((ROW()-2)<1,\"\",IF((ROW()-2)>IFERROR(INDEX(CALC_BASE!$L$3:$L$57,MATCH(TRUE,CALC_BASE!$L$3:$L$57<>\"\",0)+COUNTA(VENDAS!$C$9:$C$1058)-1),0),\"\",INDEX(VENDAS!$C$9:$C$1058,MATCH(TRUE,CALC_BASE!$L$3:$L$57>=(ROW()-2),0)))),\"\")","v":"PED-048"},{"$f":"IFERROR(IF(N117=\"\",\"\",(ROW()-2)-(IF(MATCH(TRUE,CALC_BASE!$L$3:$L$57>=(ROW()-2),0)=1,0,INDEX(CALC_BASE!$L$3:$L$57,MATCH(TRUE,CALC_BASE!$L$3:$L$57>=(ROW()-2),0)-1)))),\"\")","v":3},{"$f":"IFERROR(IF(N117=\"\",\"\",INDEX(VENDAS!$S$9:$S$1058,MATCH(TRUE,CALC_BASE!$L$3:$L$57>=(ROW()-2),0))),\"\")","v":4}]
[{"$nulls":12},116,{"$f":"IFERROR(IF((ROW()-2)<1,\"\",IF((ROW()-2)>IFERROR(INDEX(CALC_BASE!$L$3:$L$57,MATCH(TRUE,CALC_BASE!$L$3:$L$57<>\"\",0)+COUNTA(VENDAS!$C$9:$C$1058)-1),0),\"\",INDEX(VENDAS!$C$9:$C$1058,MATCH(TRUE,CALC_BASE!$L$3:$L$57>=(ROW()-2),0)))),\"\")","v":"PED-048"},{"$f":"IFERROR(IF(N118=\"\",\"\",(ROW()-2)-(IF(MATCH(TRUE,CALC_BASE!$L$3:$L$57>=(ROW()-2),0)=1,0,INDEX(CALC_BASE!$L$3:$L$57,MATCH(TRUE,CALC_BASE!$L$3:$L$57>=(ROW()-2),0)-1)))),\"\")","v":4},{"$f":"IFERROR(IF(N118=\"\",\"\",INDEX(VENDAS!$S$9:$S$1058,MATCH(TRUE,CALC_BASE!$L$3:$L$57>=(ROW()-2),0))),\"\")","v":4}]
[{"$nulls":12},117,{"$f":"IFERROR(IF((ROW()-2)<1,\"\",IF((ROW()-2)>IFERROR(INDEX(CALC_BASE!$L$3:$L$57,MATCH(TRUE,CALC_BASE!$L$3:$L$57<>\"\",0)+COUNTA(VENDAS!$C$9:$C$1058)-1),0),\"\",INDEX(VENDAS!$C$9:$C$1058,MATCH(TRUE,CALC_BASE!$L$3:$L$57>=(ROW()-2),0)))),\"\")","v":"PED-049"},{"$f":"IFERROR(IF(N119=\"\",\"\",(ROW()-2)-(IF(MATCH(TRUE,CALC_BASE!$L$3:$L$57>=(ROW()-2),0)=1,0,INDEX(CALC_BASE!$L$3:$L$57,MATCH(TRUE,CALC_BASE!$L$3:$L$57>=(ROW()-2),0)-1)))),\"\")","v":1},{"$f":"IFERROR(IF(N119=\"\",\"\",INDEX(VENDAS!$S$9:$S$1058,MATCH(TRUE,CALC_BASE!$L$3:$L$57>=(ROW()-2),0))),\"\")","v":4}]
[{"$nulls":12},118,{"$f":"IFERROR(IF((ROW()-2)<1,\"\",IF((ROW()-2)>IFERROR(INDEX(CALC_BASE!$L$3:$L$57,MATCH(TRUE,CALC_BASE!$L$3:$L$57<>\"\",0)+COUNTA(VENDAS!$C$9:$C$1058)-1),0),\"\",INDEX(VENDAS!$C$9:$C$1058,MATCH(TRUE,CALC_BASE!$L$3:$L$57>=(ROW()-2),0)))),\"\")","v":"PED-049"},{"$f":"IFERROR(IF(N120=\"\",\"\",(ROW()-2)-(IF(MATCH(TRUE,CALC_BASE!$L$3:$L$57>=(ROW()-2),0)=1,0,INDEX(CALC_BASE!$L$3:$L$57,MATCH(TRUE,CALC_BASE!$L$3:$L$57>=(ROW()-2),0)-1)))),\"\")","v":2},{"$f":"IFERROR(IF(N120=\"\",\"\",INDEX(VENDAS!$S$9:$S$1058,MATCH(TRUE,CALC_BASE!$L$3:$L$57>=(ROW()-2),0))),\"\")","v":4}]
[{"$nulls":12},119,{"$f":"IFERROR(IF((ROW()-2)<1,\"\",IF((ROW()-2)>IFERROR(INDEX(CALC_BASE!$L$3:$L$57,MATCH(TRUE,CALC_BASE!$L$3:$L$57<>\"\",0)+COUNTA(VENDAS!$C$9:$C$1058)-1),0),\"\",INDEX(VENDAS!$C$9:$C$1058,MATCH(TRUE,CALC_BASE!$L$3:$L$57>=(ROW()-2),0)))),\"\")","v":"PED-049"},{"$f":"IFERROR(IF(N121=\"\",\"\",(ROW()-2)-(IF(MATCH(TRUE,CALC_BASE!$L$3:$L$57>=(ROW()-2),0)=1,0,INDEX(CALC_BASE!$L$3:$L$57,MATCH(TRUE,CALC_BASE!$L$3:$L$57>=(ROW()-2),0)-1)))),\"\")","v":3},{"$f":"IFERROR(IF(N121=\"\",\"\",INDEX(VENDAS!$S$9:$S$1058,MATCH(TRUE,CALC_BASE!$L$3:$L$57>=(ROW()-2),0))),\"\")","v":4}]
[{"$nulls":12},120,{"$f":"IFERROR(IF((ROW()-2)<1,\"\",IF((ROW()-2)>IFERROR(INDEX(CALC_BASE!$L$3:$L$57,MATCH(TRUE,CALC_BASE!$L$3:$L$57<>\"\",0)+COUNTA(VENDAS!$C$9:$C$1058)-1),0),\"\",INDEX(VENDAS!$C$9:$C$1058,MATCH(TRUE,CALC_BASE!$L$3:$L$57>=(ROW()-2),0)))),\"\")","v":"PED-049"},{"$f":"IFERROR(IF(N122=\"\",\"\",(ROW()-2)-(IF(MATCH(TRUE,CALC_BASE!$L$3:$L$57>=(ROW()-2),0)=1,0,INDEX(CALC_BASE!$L$3:$L$57,MATCH(TRUE,CALC_BASE!$L$3:$L$57>=(ROW()-2),0)-1)))),\"\")","v":4},{"$f":"IFERROR(IF(N122=\"\",\"\",INDEX(VENDAS!$S$9:$S$1058,MATCH(TRUE,CALC_BASE!$L$3:$L$57>=(ROW()-2),0))),\"\")","v":4}]
[{"$nulls":12},121,{"$f":"IFERROR(IF((ROW()-2)<1,\"\",IF((ROW()-2)>IFERROR(INDEX(CALC_BASE!$L$3:$L$57,MATCH(TRUE,CALC_BASE!$L$3:$L$57<>\"\",0)+COUNTA(VENDAS!$C$9:$C$1058)-1),0),\"\",INDEX(VENDAS!$C$9:$C$1058,MATCH(TRUE,CALC_BASE!$L$3:$L$57>=(ROW()-2),0)))),\"\")","v":"PED-050"},{"$f":"IFERROR(IF(N123=\"\",\"\",(ROW()-2)-(IF(MATCH(TRUE,CALC_BASE!$L$3:$L$57>=(ROW()-2),0)=1,0,INDEX(CALC_BASE!$L$3:$L$57,MATCH(TRUE,CALC_BASE!$L$3:$L$57>=(ROW()-2),0)-1)))),\"\")","v":1},{"$f":"IFERROR(IF(N123=\"\",\"\",INDEX(VENDAS!$S$9:$S$1058,MATCH(TRUE,CALC_BASE!$L$3:$L$57>=(ROW()-2),0))),\"\")","v":1}]
[{"$nulls":12},122,{"$f":"IFERROR(IF((ROW()-2)<1,\"\",IF((ROW()-2)>IFERROR(INDEX(CALC_BASE!$L$3:$L$57,MATCH(TRUE,CALC_BASE!$L$3:$L$57<>\"\",0)+COUNTA(VENDAS!$C$9:$C$1058)-1),0),\"\",INDEX(VENDAS!$C$9:$C$1058,MATCH(TRUE,CALC_BASE!$L$3:$L$57>=(ROW()-2),0)))),\"\")","v":"PED-051"},{"$f":"IFERROR(IF(N124=\"\",\"\",(ROW()-2)-(IF(MATCH(TRUE,CALC_BASE!$L$3:$L$57>=(ROW()-2),0)=1,0,INDEX(CALC_BASE!$L$3:$L$57,MATCH(TRUE,CALC_BASE!$L$3:$L$57>=(ROW()-2),0)-1)))),\"\")","v":1},{"$f":"IFERROR(IF(N124=\"\",\"\",INDEX(VENDAS!$S$9:$S$1058,MATCH(TRUE,CALC_BASE!$L$3:$L$57>=(ROW()-2),0))),\"\")","v":3}]
[{"$nulls":12},123,{"$f":"IFERROR(IF((ROW()-2)<1,\"\",IF((ROW()-2)>IFERROR(INDEX(CALC_BASE!$L$3:$L$57,MATCH(TRUE,CALC_BASE!$L$3:$L$57<>\"\",0)+COUNTA(VENDAS!$C$9:$C$1058)-1),0),\"\",INDEX(VENDAS!$C$9:$C$1058,MATCH(TRUE,CALC_BASE!$L$3:$L$57>=(ROW()-2),0)))),\"\")","v":"PED-051"},{"$f":"IFERROR(IF(N125=\"\",\"\",(ROW()-2)-(IF(MATCH(TRUE,CALC_BASE!$L$3:$L$57>=(ROW()-2),0)=1,0,INDEX(CALC_BASE!$L$3:$L$57,MATCH(TRUE,CALC_BASE!$L$3:$L$57>=(ROW()-2),0)-1)))),\"\")","v":2},{"$f":"IFERROR(IF(N125=\"\",\"\",INDEX(VENDAS!$S$9:$S$1058,MATCH(TRUE,CALC_BASE!$L$3:$L$57>=(ROW()-2),0))),\"\")","v":3}]
[{"$nulls":12},124,{"$f":"IFERROR(IF((ROW()-2)<1,\"\",IF((ROW()-2)>IFERROR(INDEX(CALC_BASE!$L$3:$L$57,MATCH(TRUE,CALC_BASE!$L$3:$L$57<>\"\",0)+COUNTA(VENDAS!$C$9:$C$1058)-1),0),\"\",INDEX(VENDAS!$C$9:$C$1058,MATCH(TRUE,CALC_BASE!$L$3:$L$57>=(ROW()-2),0)))),\"\")","v":"PED-051"},{"$f":"IFERROR(IF(N126=\"\",\"\",(ROW()-2)-(IF(MATCH(TRUE,CALC_BASE!$L$3:$L$57>=(ROW()-2),0)=1,0,INDEX(CALC_BASE!$L$3:$L$57,MATCH(TRUE,CALC_BASE!$L$3:$L$57>=(ROW()-2),0)-1)))),\"\")","v":3},{"$f":"IFERROR(IF(N126=\"\",\"\",INDEX(VENDAS!$S$9:$S$1058,MATCH(TRUE,CALC_BASE!$L$3:$L$57>=(ROW()-2),0))),\"\")","v":3}]
[{"$nulls":12},125,{"$f":"IFERROR(IF((ROW()-2)<1,\"\",IF((ROW()-2)>IFERROR(INDEX(CALC_BASE!$L$3:$L$57,MATCH(TRUE,CALC_BASE!$L$3:$L$57<>\"\",0)+COUNTA(VENDAS!$C$9:$C$1058)-1),0),\"\",INDEX(VENDAS!$C$9:$C$1058,MATCH(TRUE,CALC_BASE!$L$3:$L$57>=(ROW()-2),0)))),\"\")","v":"PED-052"},{"$f":"IFERROR(IF(N127=\"\",\"\",(ROW()-2)-(IF(MATCH(TRUE,CALC_BASE!$L$3:$L$57>=(ROW()-2),0)=1,0,INDEX(CALC_BASE!$L$3:$L$57,MATCH(TRUE,CALC_BASE!$L$3:$L$57>=(ROW()-2),0)-1)))),\"\")","v":1},{"$f":"IFERROR(IF(N127=\"\",\"\",INDEX(VENDAS!$S$9:$S$1058,MATCH(TRUE,CALC_BASE!$L$3:$L$57>=(ROW()-2),0))),\"\")","v":2}]
[{"$nulls":12},126,{"$f":"IFERROR(IF((ROW()-2)<1,\"\",IF((ROW()-2)>IFERROR(INDEX(CALC_BASE!$L$3:$L$57,MATCH(TRUE,CALC_BASE!$L$3:$L$57<>\"\",0)+COUNTA(VENDAS!$C$9:$C$1058)-1),0),\"\",INDEX(VENDAS!$C$9:$C$1058,MATCH(TRUE,CALC_BASE!$L$3:$L$57>=(ROW()-2),0)))),\"\")","v":"PED-052"},{"$f":"IFERROR(IF(N128=\"\",\"\",(ROW()-2)-(IF(MATCH(TRUE,CALC_BASE!$L$3:$L$57>=(ROW()-2),0)=1,0,INDEX(CALC_BASE!$L$3:$L$57,MATCH(TRUE,CALC_BASE!$L$3:$L$57>=(ROW()-2),0)-1)))),\"\")","v":2},{"$f":"IFERROR(IF(N128=\"\",\"\",INDEX(VENDAS!$S$9:$S$1058,MATCH(TRUE,CALC_BASE!$L$3:$L$57>=(ROW()-2),0))),\"\")","v":2}]
[{"$nulls":12},127,{"$f":"IFERROR(IF((ROW()-2)<1,\"\",IF((ROW()-2)>IFERROR(INDEX(CALC_BASE!$L$3:$L$57,MATCH(TRUE,CALC_BASE!$L$3:$L$57<>\"\",0)+COUNTA(VENDAS!$C$9:$C$1058)-1),0),\"\",INDEX(VENDAS!$C$9:$C$1058,MATCH(TRUE,CALC_BASE!$L$3:$L$57>=(ROW()-2),0)))),\"\")","v":"PED-053"},{"$f":"IFERROR(IF(N129=\"\",\"\",(ROW()-2)-(IF(MATCH(TRUE,CALC_BASE!$L$3:$L$57>=(ROW()-2),0)=1,0,INDEX(CALC_BASE!$L$3:$L$57,MATCH(TRUE,CALC_BASE!$L$3:$L$57>=(ROW()-2),0)-1)))),\"\")","v":1},{"$f":"IFERROR(IF(N129=\"\",\"\",INDEX(VENDAS!$S$9:$S$1058,MATCH(TRUE,CALC_BASE!$L$3:$L$57>=(ROW()-2),0))),\"\")","v":2}]
[{"$nulls":12},128,{"$f":"IFERROR(IF((ROW()-2)<1,\"\",IF((ROW()-2)>IFERROR(INDEX(CALC_BASE!$L$3:$L$57,MATCH(TRUE,CALC_BASE!$L$3:$L$57<>\"\",0)+COUNTA(VENDAS!$C$9:$C$1058)-1),0),\"\",INDEX(VENDAS!$C$9:$C$1058,MATCH(TRUE,CALC_BASE!$L$3:$L$57>=(ROW()-2),0)))),\"\")","v":"PED-053"},{"$f":"IFERROR(IF(N130=\"\",\"\",(ROW()-2)-(IF(MATCH(TRUE,CALC_BASE!$L$3:$L$57>=(ROW()-2),0)=1,0,INDEX(CALC_BASE!$L$3:$L$57,MATCH(TRUE,CALC_BASE!$L$3:$L$57>=(ROW()-2),0)-1)))),\"\")","v":2},{"$f":"IFERROR(IF(N130=\"\",\"\",INDEX(VENDAS!$S$9:$S$1058,MATCH(TRUE,CALC_BASE!$L$3:$L$57>=(ROW()-2),0))),\"\")","v":2}]
[{"$nulls":12},129,{"$f":"IFERROR(IF((ROW()-2)<1,\"\",IF((ROW()-2)>IFERROR(INDEX(CALC_BASE!$L$3:$L$57,MATCH(TRUE,CALC_BASE!$L$3:$L$57<>\"\",0)+COUNTA(VENDAS!$C$9:$C$1058)-1),0),\"\",INDEX(VENDAS!$C$9:$C$1058,MATCH(TRUE,CALC_BASE!$L$3:$L$57>=(ROW()-2),0)))),\"\")","v":"PED-054"},{"$f":"IFERROR(IF(N131=\"\",\"\",(ROW()-2)-(IF(MATCH(TRUE,CALC_BASE!$L$3:$L$57>=(ROW()-2),0)=1,0,INDEX(CALC_BASE!$L$3:$L$57,MATCH(TRUE,CALC_BASE!$L$3:$L$57>=(ROW()-2),0)-1)))),\"\")","v":1},{"$f":"IFERROR(IF(N131=\"\",\"\",INDEX(VENDAS!$S$9:$S$1058,MATCH(TRUE,CALC_BASE!$L$3:$L$57>=(ROW()-2),0))),\"\")","v":1}]
[{"$nulls":12},130,{"$f":"IFERROR(IF((ROW()-2)<1,\"\",IF((ROW()-2)>IFERROR(INDEX(CALC_BASE!$L$3:$L$57,MATCH(TRUE,CALC_BASE!$L$3:$L$57<>\"\",0)+COUNTA(VENDAS!$C$9:$C$1058)-1),0),\"\",INDEX(VENDAS!$C$9:$C$1058,MATCH(TRUE,CALC_BASE!$L$3:$L$57>=(ROW()-2),0)))),\"\")","v":"PED-055"},{"$f":"IFERROR(IF(N132=\"\",\"\",(ROW()-2)-(IF(MATCH(TRUE,CALC_BASE!$L$3:$L$57>=(ROW()-2),0)=1,0,INDEX(CALC_BASE!$L$3:$L$57,MATCH(TRUE,CALC_BASE!$L$3:$L$57>=(ROW()-2),0)-1)))),\"\")","v":1},{"$f":"IFERROR(IF(N132=\"\",\"\",INDEX(VENDAS!$S$9:$S$1058,MATCH(TRUE,CALC_BASE!$L$3:$L$57>=(ROW()-2),0))),\"\")","v":4}]
[{"$nulls":12},131,{"$f":"IFERROR(IF((ROW()-2)<1,\"\",IF((ROW()-2)>IFERROR(INDEX(CALC_BASE!$L$3:$L$57,MATCH(TRUE,CALC_BASE!$L$3:$L$57<>\"\",0)+COUNTA(VENDAS!$C$9:$C$1058)-1),0),\"\",INDEX(VENDAS!$C$9:$C$1058,MATCH(TRUE,CALC_BASE!$L$3:$L$57>=(ROW()-2),0)))),\"\")","v":"PED-055"},{"$f":"IFERROR(IF(N133=\"\",\"\",(ROW()-2)-(IF(MATCH(TRUE,CALC_BASE!$L$3:$L$57>=(ROW()-2),0)=1,0,INDEX(CALC_BASE!$L$3:$L$57,MATCH(TRUE,CALC_BASE!$L$3:$L$57>=(ROW()-2),0)-1)))),\"\")","v":2},{"$f":"IFERROR(IF(N133=\"\",\"\",INDEX(VENDAS!$S$9:$S$1058,MATCH(TRUE,CALC_BASE!$L$3:$L$57>=(ROW()-2),0))),\"\")","v":4}]
[{"$nulls":12},132,{"$f":"IFERROR(IF((ROW()-2)<1,\"\",IF((ROW()-2)>IFERROR(INDEX(CALC_BASE!$L$3:$L$57,MATCH(TRUE,CALC_BASE!$L$3:$L$57<>\"\",0)+COUNTA(VENDAS!$C$9:$C$1058)-1),0),\"\",INDEX(VENDAS!$C$9:$C$1058,MATCH(TRUE,CALC_BASE!$L$3:$L$57>=(ROW()-2),0)))),\"\")","v":"PED-055"},{"$f":"IFERROR(IF(N134=\"\",\"\",(ROW()-2)-(IF(MATCH(TRUE,CALC_BASE!$L$3:$L$57>=(ROW()-2),0)=1,0,INDEX(CALC_BASE!$L$3:$L$57,MATCH(TRUE,CALC_BASE!$L$3:$L$57>=(ROW()-2),0)-1)))),\"\")","v":3},{"$f":"IFERROR(IF(N134=\"\",\"\",INDEX(VENDAS!$S$9:$S$1058,MATCH(TRUE,CALC_BASE!$L$3:$L$57>=(ROW()-2),0))),\"\")","v":4}]
[{"$nulls":12},133,{"$f":"IFERROR(IF((ROW()-2)<1,\"\",IF((ROW()-2)>IFERROR(INDEX(CALC_BASE!$L$3:$L$57,MATCH(TRUE,CALC_BASE!$L$3:$L$57<>\"\",0)+COUNTA(VENDAS!$C$9:$C$1058)-1),0),\"\",INDEX(VENDAS!$C$9:$C$1058,MATCH(TRUE,CALC_BASE!$L$3:$L$57>=(ROW()-2),0)))),\"\")","v":"PED-055"},{"$f":"IFERROR(IF(N135=\"\",\"\",(ROW()-2)-(IF(MATCH(TRUE,CALC_BASE!$L$3:$L$57>=(ROW()-2),0)=1,0,INDEX(CALC_BASE!$L$3:$L$57,MATCH(TRUE,CALC_BASE!$L$3:$L$57>=(ROW()-2),0)-1)))),\"\")","v":4},{"$f":"IFERROR(IF(N135=\"\",\"\",INDEX(VENDAS!$S$9:$S$1058,MATCH(TRUE,CALC_BASE!$L$3:$L$57>=(ROW()-2),0))),\"\")","v":4}]

{"sheet":"RELATORIO_FINANCEIRO","index":6,"n_rows":34,"n_cols":11,"rows_kept":34,"hidden":true,"merged":[[9,2,9,8],[13,2,13,4]]}
[]
[]
[]
[]
[null,null,"📊  RELATÓRIO FINANCEIRO"]
[]
[null,null,"FILTROS - RECEITAS"]
[null,null,"Período Inicial:",null,"Período Final:",null,"Status receita:","Todos",null,"Categoria despesa:","Todas"]
[]
[null,null,"INDICADORES - RECEITAS"]
[null,null,"Faturamento Total",null,"Rendimento Total",null,"A Receber Total",null,"R$ em Taxas"]
[null,null,{"$f":"IFERROR(CALC_BASE!D14,0)","v":{"v":167622.55,"d":"R$ 167,622.55"}},null,{"$f":"IFERROR(CALC_BASE!D15,0)","v":{"v":78814.13,"d":"R$ 78,814.13"}},null,{"$f":"IFERROR(CALC_BASE!D16,0)","v":{"v":60490.66999999998,"d":"R$ 60,490.67"}},null,{"$f":"IFERROR(CALC_BASE!D17,0)","v":{"v":14722.390000000003,"d":"R$ 14,722.39"}}]
[]
[null,null,"INDICADORES - DESPESAS"]
[null,null,"Despesas Totais",null,"Maior Categoria",null,"Inadimplência",null,"Parc. Vencer",null,"Parc. Atraso"]
[null,null,{"$f":"IFERROR(CALC_BASE!D23,0)","v":{"v":38401.53,"d":"R$ 38,401.53"}},null,{"$f":"IFERROR(CALC_BASE!D24,\"—\")","v":"Material"},null,{"$f":"IFERROR(CALC_BASE!D18,0)","v":{"v":52119.5,"d":"R$ 52,119.50"}},null,{"$f":"IFERROR(CALC_BASE!D19,0)","v":7},null,{"$f":"IFERROR(CALC_BASE!D20,0)","v":47}]
[]
[null,null,"ANO GRÁFICOS:",2026]
[null,null,"GRÁFICOS — RECEITAS"]
{"$rows_empty":14}
[null,null,"GRÁFICOS — DESPESAS"]